{"text_format":"1","workbook":"xlsx","n_sheets":15,"sheets":["FMIS+eServices","e-Services Stats","FMIS&OBD Stats","DB2014 Good Prac","UN Min","OECD eFiling","PS Employment","FMI&OBD Good Practices","FMIS&OBD Verification","FMIS&OBD Points","INET Codes","Metadata","Index","IDI","Polity"],"not_rendered":{"charts":54,"images":198,"macros":1,"external_links":0,"defined_names":26,"comments":7,"pivot_tables":0},"unopened":[],"bounds":{"document_bytes":16777216,"sheet_cells":100000,"rows_first":2000,"rows_last":500,"rows_between":2000,"halvings":0,"cell_chars":16384,"cell_head_chars":4096},"cells_cut":0,"cells_raw":0,"read":"whole","date_system":"1900"}

{"sheet":"FMIS+eServices","index":0,"n_rows":235,"n_cols":246,"rows_kept":235,"cut":false,"hidden":false,"merged":[[0,241,0,243],[0,29,0,32],[0,67,0,68],[0,61,0,66],[0,106,0,107],[0,118,0,122],[0,108,0,111],[0,112,0,117],[0,81,0,92],[0,20,0,23],[0,55,0,56],[0,57,0,58],[0,59,0,60],[0,147,0,148],[0,128,0,138],[0,73,0,75],[0,0,0,6],[0,140,0,142],[0,33,0,35],[0,36,0,39],[0,40,0,42],[0,43,0,54],[0,24,0,25],[0,71,0,72],[0,76,0,80],[0,26,0,28],[0,93,0,105],[0,7,0,10],[0,124,0,127],[0,11,0,12],[0,69,0,70],[0,13,0,19]]}
["FMIS & e-Services data set",null,null,null,null,null,null,"Q1 > Does the Finance Ministry/Dept have a web site or portal dedicated to publish Public Finance (PF) information?",null,null,null,"Q2 > Is there a web site / doc on FMIS solution?",null,"Q3 > What is the source of information\nfor publishing PF information? ",null,null,null,null,null,null,"Q4 > Is the PF information meaningful to citizens or budget entities?",null,null,null,"Q5 > Is the data str/list of BC/CoA published?",null,"Q6 > Annual budget plans",null,null,"Q7 > Medium-Term Expenditure Framework",null,null,null,"Q8 > Investment plans",null,null,"Q9 > Budget execution results",null,null,null,"Q10 > External audit of budget",null,null,"Q11 > What is the level of detail of the public expenditure / revenue information published online",null,null,null,null,null,null,null,null,null,null,null,"Q12 > Is there an Open Gov/Data web site?",null,"Q13 > FMIS support for Sub-Natl Gov (SNG)",null,"Q14 > Harmonized acct for all levels (incl SNG)",null,"Q15 > Are there other government web sites \nreporing budget results/performance?",null,null,null,null,null,"Q16 > Is there a web site on Access to Info / Std?",null,"Q17 > PFM regulations published?",null,"Q18 > Compliance with intl reporting std?",null,"Q19 > Are there a feedback / monitoring options?",null,null,"Q20 > What languages are used to publish PF data?",null,null,null,null,"FMIS solutions",null,null,null,null,null,null,null,null,null,null,null,"PEFA Performance Indicators",null,null,null,null,null,null,null,null,null,null,null,null,"PEFA Averages",null,"Other indicators",null,null,null,"UN e-Gov 2014 Indices",null,null,null,null,null,"UN e-Gov 2012 Indices",null,null,null,null,"Region","Other Categories",null,null,null,"Open Source Policies adopted by the governments (2010)",null,null,null,null,null,null,null,null,null,null,"Verified by Gov officials","Results: FMIS & OBD\nPractice Groups",null,null,"Extension >>>",null,"e-Services",null,"Aid Mgmt Systems",null,"WDR 2016  > > >",null,"e-Government","e-Gov Online Services",null,null,null,null,null,"e-Gov Institution",null,null,null,"Treasury Single Account",null,null,null,null,null,null,null,null,null,"Tax Administration",null,null,null,null,null,null,null,null,null,"Customs Administration",null,null,null,null,null,null,null,null,null,null,null,null,null,"e-Filing",null,null,null,"e-Payment",null,null,"Digital Signature",null,null,"Public Employment",null,null,null,"HRMIS",null,null,null,null,null,null,null,"Payroll System",null,null,null,null,null,null,null,null,"e-Procurement",null,null,null,null,null,"Public Debt",null,null,null,null,null,null,null,"Integrated PFM e-Services"]
["#","Flag","Economy","Level","Population","GNI","GNIPC","Q1.1  MoF URL","Q1.2  Org Name","Q1.3","Q1.4  PF Data URL","Q2.1","Q2.2 FMIS URL","Q3.1","Q3.2  Dynamic Q","Q3.3","Q3.4  Open Data","Q3.5","Q3.6","Q3.7  Reliability","Q4.1","Q4.2","Q4.3","Q4.4  Ctz Budget","Q5.1","Q5.2  BC/CoA","Q6.1","Q6.2","Q6.3","Q7.1","Q7.2","Q7.3","Q7.4","Q8.1","Q8.2","Q8.3","Q9.1","Q9.2","Q9.3","Q9.4","Q10.1","Q10.2","Q10.3","Q11.1","Q11.2","Q11.3","Q11.4","Q11.5","Q11.6","Q11.7","Q11.8","Q11.9","Q11.10","Q11.11","Q11.12  Other","Q12.1","Q12.2  Open Gov/Open Data","Q13.1","Q13.2  FMIS SNG","Q14.1","Q14.2  Acct SNG","Q15.1","Q15.2  Stats URL","Q15.3  Stats Org","Q15.4  CB URL","Q15.5  Cent Bank","Q15.6  Other URL","Q16.1","Q16.2  ATI","Q17.1","Q17.2  PFM Reg","Q18.1","Q18.2  Other Rep","Q19.1","Q19.2","Q19.3  Feedback","Q20.1","Q20.2","Q20.3","Q20.4","Q20.5","FMIS / TS","FMIS","Tpl","Func","Status","Op Yr","Scope","Type","ASW","ASW Solution","Arch","F_Comb","PEFA Yr","Stat","Rep","PI-5","PI-6","PI-10","PI-12","PI-22","PI-23","PI-24","PI-25","PI-26","D-2","Avg10","Avg","OBI_12","OBI_10","OGP","MTEF","eGov14","eGov","ePart","eOS","eTI","eHC","eGov12","eGov","eOS","eTC","eHC","Region","Zone","OECD","APEC","Fragile","Economies","OSS Gov","R","A","P","M","OSS Loc","R","A","P","M","Verif date","Tot Pts","Score","Group",null,"#","Economy","Code","AMP","DAD","e-Government","eSrv","e-Services","eOSI","Stg-1","Stg-2","Stg-3","Stg-4","Tot","e-Gov Org URL","e-Gov Yr","e-Gov Entity","eG Org","Treasury website","Tre Yr","TSA website","TSA Yr","TSA Type","TSA Scope","Duration","TSA Benefits","TSA Savings","Sav Yr","Tax Adm URL","Tax Yr","TMIS Abbr","TMIS Name","TMIS","TMIS Soln","Tax System URL","TMIS Yr","TMIS Sta","Tax Srv","Customs URL","Cust Yr","WCO Acc","Acc Sta","Customs Abbr","Customs Name","CMIS","CMIS Soln","Customs Sys URL","CMIS Yr","Cust Sta","Cust Srv","e-Sub","SW","e-Filing URL","eFil Yr","eFil Srv","eFiling","ePayment","ePay Yr","ePay Srv","Digital Sign URL","Dsign Yr","Dsign Sta","Public Emp","PE Scope","Pub Emp URL","PE Yr","HRMIS Abbr","HRMIS System","HRM","HRMIS Soln","HRMIS URL","HRM Yr","HRM Sta","HRM Srv","Payroll Abbr","Payroll System","Payr","Payr Soln","Payroll URL","Payr Yr","Payr Sta","Payr Srv","PI-19","eProc System","eProcurement","ePrc Yr","ePrc Sta","ePr Srv","Contr Monitoring","Debt Org / URL","DMS","DMS Soln","DMS URL","DMS Yr","DMS Sta","DM Inst","DM OpSt","Tot Pts","Score","Group","Level","Region"]
[1,null,"Afghanistan","LIC",35320.445,16589.620328129084,470,"http://www.mof.gov.af","Afghanistan Ministry of Finance",2,"http://www.budgetmof.gov.af",2,"http://mof.gov.af/en/page/1149",1,"-",1,"http://www.budgetmof.gov.af/index.php?option=com_content&view=article&id=49&Itemid=76&lang=en",0,0,"http://www.budgetmof.gov.af/index.php?option=com_content&view=article&id=49&Itemid=76&lang=en",1,1,1,"http://www.budgetmof.gov.af/index.php?option=com_content&view=article&id=86&Itemid=126&lang=en",1,"http://www.budgetmof.gov.af/index.php?option=com_content&view=article&id=107&Itemid=99&lang=en",1,1,2005,1,0,3,2010,0,null,"-",1,2,1,2005,0,null,"-",1,1,1,0,0,1,1,0,1,1,0,"-",0,"-",1,"http://www.budgetmof.gov.af/index.php?option=com_content&view=article&id=126%3A-what-is-the-afghanistan-financial-management-information-system-afmis&catid=58%3Aict-issues&Itemid=44&lang=en",1,"http://www.budgetmof.gov.af/index.php?option=com_content&view=article&id=107&Itemid=99&lang=en",3,"http://www.cso.gov.af","Central Statistics Office ","http://www.centralbank.gov.af","Bank of Afghanistan ","http://www.treasury.gov.af",0,"-",1,"http://www.treasury.gov.af/index_files/Page1081.htm",2,"National laws and regulations",1,3,"-","per","eng","-","-",0,"AFMIS","Afghanistan Financial Management Information System","C","T",3,2011,"C+L",4,2,"FreeBalance","CS",{"$f":"IF(CH3=0,0,IF(CG3=\"T\",1,2)+IF(FK3>1,1,0))","v":2},"Aug 2013","Public",3,"C","C","B","C+","B","C","C+","C+","C+","D+",2.35,2.5499999999999998,59,21,null,1,173,0.19003,0.13725000000000001,0.18110000000000001,0.14721999999999999,0.24179999999999999,184,0.1701,0.23530000000000001,5.7299999999999997E-2,0.21779999999999999,"SAR",null,null,null,"F",{"$f":"C3","v":"Afghanistan"},{"$f":"SUM(EA3:ED3)","v":0},null,null,null,null,{"$f":"SUM(EF3:EI3)","v":0},null,null,null,null,null,{"$f":"J3+L3+N3+P3+R3+S3+U3+V3+W3+Y3+AA3+AB3+AD3+AE3+AH3+AI3+AK3+AM3+AO3+AP3","v":15},{"$f":"EK3/26*100","v":57.692307692307686},{"$f":"IF(EL3<25,\"D\",IF(EL3<50,\"C\",IF(EL3<75,\"B\",\"A\")))","v":"B"},null,1,"Afghanistan","AFG",null,"DAD","http://president.gov.af/ps",0,"http://mcit.gov.af/en/page/7081",0.18110000000000001,38,23,5,18,20,null,null,null,null,"http://www.treasury.gov.af/",2002,"http://www.treasury.gov.af/?page_id=1480",2006,2,4,48,"http://www.treasury.gov.af/?page_id=1913","-","-","http://www.ard.gov.af",1965,"SIGTAS","Standard Integrated Government Tax System",2,"SIGTAS","http://www.ard.gov.af/index.php/sigtas-is-coming",2012,3,2,"http://www.customs.mof.gov.af",2004,2004,4,"ASYCUDA World","Automated SYstem for CUstoms DAta",2,"ASYCUDA W","http://customs.mof.gov.af/en/news/20983",2005,3,2,0,0,"-","-",1,0,"-","-",0,"-","-",0,388056,2,"http://cso.gov.af/Content/files/Government%20Civil%20Service%20Employees.pdf",2013,"HRMIS","Human Resources Management Information System",2,"COTS","http://www.csmd.gov.af/index.php/human-resource-management-information-system-hrmis-directorate",2012,3,1,"AFMIS","Afghanistan Financial Management Information System",2,"FreeBalance","http://www.treasury.gov.af/?page_id=1913","-",2,1,"B+","PMIS","http://www.ppu.gov.af",2010,3,1,"http://ards.gov.af","The Afghanistan Ministry of Finance",null,null,null,null,null,null,null,{"$f":"N3+CO3+FZ3+GL3+GQ3+HJ3+HR3+HX3","v":11},{"$f":"IH3/22*100","v":50},{"$f":"IF(II3<25,\"D\",IF(II3<50,\"C\",IF(II3<75,\"B\",\"A\")))","v":"B"},"LIC","SAR"]
[2,null,"Albania","LMIC",3215.9879999999998,12787.50498816531,3980,"http://www.minfin.gov.al","Ministry of Finance of the Republic of Albania",2,"http://www.minfin.gov.al/minfin/Buxheti_1265_1.php",1,"http://www.minfin.gov.al/minfin/Sistemi_AMoFTS_1377_1.php",1,"-",1,"http://www.minfin.gov.al/minfin/Buxheti_2012_1821_1.php",0,0,"http://www.minfin.gov.al/minfin/Sistemi_AMoFTS_1377_1.php",1,1,0,"-",1,"http://www.minfin.gov.al/minfin/Thesari_1269_1.php",1,1,2003,1,1,3,2002,0,null,"-",1,2,1,2002,1,1,2009,1,1,1,0,0,1,1,1,1,1,0,"-",1,"http://open.data.al",0,"-",1,"http://www.minfin.gov.al/minfin/GFS_ne_Vite_1597_1.php",1,"http://www.instat.gov.al","Institute of Statistics","http://www.bankofalbania.org","Bank of Albania","-",1,"http://www.minfin.gov.al/minfin/Kushtet_e_perdorimit_156_1.php",1,"http://www.minfin.gov.al/minfin/Legjislacioni_5_1.php",2,"National budget rules",1,3,"Social media tools: Facebook, Twitter, Youtube","alb","eng","-","-",0,"AMoFTS","Albania Ministry of Finance Treasury System","C","T",3,2010,"C+L",1,2,"Oracle","Web",{"$f":"IF(CH4=0,0,IF(CG4=\"T\",1,2)+IF(FK4>1,1,0))","v":2},"Jan 2012","Public",2,"A","B","B","C+","A","C","C+","A","C+","D+",2.9,2.9482758620689653,47,33,1,2,84,0.50455000000000005,0.52941000000000005,0.44880999999999999,0.3548,0.71,86,0.5161,0.42480000000000001,0.33700000000000002,0.7863,"ECA",null,null,null,null,"Albania",0,null,null,null,null,0,null,null,null,null,"2013-05-02",16,61.53846153846154,"B",null,2,"Albania","ALB",null,null,"http://www.e-albania.al",2,"http://www.e-albania.al/Pages/eServicesList.aspx#.U_x8D4HER8E",0.44879999999999998,88,27,21,44,42,null,null,null,null,"http://www.minfin.gov.al",1991,"http://www.oecd.org/officialdocuments/publicdisplaydocumentpdf/?cote=GOV/PGC/SBO(2013)3/PROV&doclanguage=en",2010,2,4,"-","-","-","-","http://www.tatime.gov.al",1992,"ITS","Integrated Tax System",1,"LDSW","http://www.chemonics.com/OurWork/OurProjects/Documents/Albania%20MCATA%20final%20report-English.pdf",2007,3,2,"http://www.dogana.gov.al",1992,1992,4,"ASYCUDA World","Automated SYstem for CUstoms DAta",2,"ASYCUDA W","http://www.dogana.gov.al/node/212",2008,3,2,1,0,"http://www.tatime.gov.al/sq-al/Sherbimet/eSherbimet/Pages/default.aspx",2007,3,1,"-","-",0,"http://www.akce.gov.al",2008,2,129212,1,"http://www.instat.gov.al/en/themes/labour-market.aspx",2013,"HRMIS","Human Resources Management Information System",1,"LDSW","http://ec.europa.eu/enlargement/pdf/key_documents/2011/package/al_rapport_2011_en.pdf","-",2,2,"HRMIS","Human Rresource Management Information System",1,"LDSW","http://idbr3.com/Albania_HRMIS_Report.pdf","-",2,2,"B+","PPA","https://www.app.gov.al",2008,3,2,"https://www.app.gov.al/ep/Latest_Awarded.aspx","Ministry of Finance of Republic of Albania",2,"DMFAS 5.3",null,1998,3,"MoF","4FT",16,72.727272727272734,"B","LMIC","ECA"]
[3,null,"Algeria","UMIC",35980.192999999999,160814.05416484192,4470,"http://www.mf.gov.dz","Ministère des Finances",1,"http://www.mf.gov.dz/rubriques/58/Publications-et-Rapports.html",1,"http://www-wds.worldbank.org/external/default/WDSContentServer/WDSP/IB/2010/01/13/000334955_20100113020615/Rendered/PDF/ICR113000P06491C0disclosed011111101.pdf",1,"-",0,"-",1,0,"http://www.mf.gov.dz/article_pdf/upl-afdca3db442ba9b939e38a972bfba213.pdf",1,1,0,"-",0,"-",1,1,2001,0,null,"-","-",0,null,"-",1,4,0,2009,0,null,"-",1,1,0,0,0,0,0,0,0,0,0,"-",0,"-",0,"-",0,"-",0,"http://www.ons.dz","National Office of Statistiques","http://www.bank-of-algeria.dz ","Bank of Algeria","-",0,"-",0,"-",2,null,0,3,"-","fre","ara","-","-",0,"IBMIS","Integrated Budget Management Information System","C","F",3,2010,"C",5,1,"LDSW > Oracle","Web",3,"Jul 2010","Final",1,"X","X","X","X","X","X","X","X","X","X",2.3333333333333335,2.6153846153846154,13,1,null,2,136,0.31064000000000003,7.843E-2,7.8740000000000004E-2,0.19885,0.65429999999999999,132,0.36080000000000001,0.25490000000000002,0.1812,0.64629999999999999,"MNA",null,null,null,null,"Algeria",0,null,null,null,null,0,null,null,null,null,null,9,34.615384615384613,"C",null,3,"Algeria","DZA",null,null,"http://www.mptic.dz/fr/?-e-Algerie-2013-",0,"http://www.elmouwatin.dz",7.8700000000000006E-2,16,18,2,9,11,null,null,null,null,"http://www.mf.gov.dz/article/43/Tr%C3%A9sor/190/Pr%C3%A9sentation-de-la-DGT.html",1962,"http://www.mf.gov.dz/article/301/R%C3%A9alisations/281/La-modernisation-des-syst%C3%A8mes-de-paiement-:-une-r%C3%A9forme-exemplaire-port%C3%A9e-par-un-projet-structurant--.html",2007,2,4,"-","-","-","-","http://www.mfdgi.gov.dz",1958,"TRM","Tax and Revenue Management",2,"SAP","https://www.jibayatic.dz",2012,3,2,"http://www.douane.gov.dz",1963,1966,0,"SIGAD","Système d’Information et de Gestion Automatisée des Douanes",1,"LDSW","http://www.douane.gov.dz/pdf/Brochures/sigadfr.pdf",2004,3,2,0,0,"http://www.dge.gov.dz/",2013,2,0,"-","-",0,"http://www.mptic.dz/fr/?e-Algerie-2013,13",2005,1,1851400,{"$f":"IFERROR(VLOOKUP($C5,'PS Employment'!$B$2:$N$107,13,FALSE),\"0\")","v":"0"},"http://unpan1.un.org/intradoc/groups/public/documents/un/unpan023248.pdf",2004,"SIRH","Système d’Information des Ressources Humaines de l’administration publique",1,"LDSW","http://www.dgfp.gov.dz/fr/grh.asp","-",2,2,"SIRH","Système d’Information des Ressources Humaines de l’administration publique",1,"LDSW","http://www.dgfp.gov.dz/fr/grh.asp","-",2,2,"X","-","http://www.mincommerce.gov.dz/?mincom=textmarpub","-",1,0,"-",null,2,"DMFAS 5.3",null,2005,3,"CB",4,14,63.636363636363633,"B","UMIC","MNA"]
[4,null,"Andorra","HIC",86.165000000000006,3712,43080.136946556027,"http://www.finances.ad","Ministeri de Finances, Andorra",2,"http://www.finances.ad/pressupostos-del-govern-d-andorra",1,"http://www.finances.ad/index.php?option=com_content&view=article&id=19&Itemid=26",1,"-",0,"-",0,0,"-",1,1,1,"http://www.tramits.ad/index.php?option=com_content&view=category&id=42&Itemid=69",1,"http://www.finances.ad/images/Pressupostos/Pressupost_2008/00-Index/Indgral.htm",1,0,2008,0,null,"-","-",0,null,"-",1,4,0,2007,0,null,"-",1,1,0,0,0,1,1,0,1,1,0,"-",0,"-",0,"-",0,"-",0,"http://www.estadistica.ad","Department of Studies and Statistics","http://www.inaf.ad","Institut Nacional Andorrà de Finances","-",1,"http://www.finances.ad/index.php?option=com_content&view=article&id=1&Itemid=2",1,"http://www.finances.ad/index.php?option=com_content&view=article&id=16&Itemid=22",0,"National laws and regulations",0,3,"-","cat","-","-","-","-","FMIS","Financial Management Information System","C","F",3,2005,"C",1,1,"LDSW","Web",2,"-","-","-","-","-","-","-","-","-","-","-","-","-","-","-","-","-",null,"-",43,0.64259999999999995,0.43136999999999998,0.43307000000000001,0.76705999999999996,0.72770000000000001,58,0.61719999999999997,0.31369999999999998,0.73150000000000004,0.80630000000000002,null,"EUR",null,null,null,"Andorra",0,null,null,null,null,0,null,null,null,null,null,10,38.461538461538467,"C",null,4,"Andorra","AND",null,null,"http://www.govern.ad",2,"http://www.tramits.ad",0.43309999999999998,78,57,9,24,41,null,null,null,null,"http://www.finances.ad/",1993,"-","-",0,"-","-","-","-","-","http://www.impostos.ad",1993,"Oficina Virtual","Online Tax Payments",2,"COTS","http://isi.govern.ad",2006,3,2,"http://www.duana.ad",1993,1998,0,"-","-",0,"-","-","-",0,1,"-","-","http://isi.govern.ad/cgi-bin/lansaweb?webapp=TBWEB0001+webrtn=Start+ml=LANSA:XHTML+part=H3X+lang=CAT+field(RELOAD)=N",2006,3,0,"http://www.policia.ad/sancionsWeb/pages/main.jsf","-",1,"http://www.govern.ad/component/k2/item/4149-comen%C3%A7a-el-proc%C3%A9s-d%E2%80%99implantaci%C3%B3-de-la-signatura-digital/4149-comen%C3%A7a-el-proc%C3%A9s-d%E2%80%99implantaci%C3%B3-de-la-signatura-digital",2009,1,1850,2,"http://pdfs.wke.es/1/4/2/1/pd0000011421.pdf",2005,"SGRH","Sistemas de Gestión de Recursos Humanos",2,"COTS","http://edirectivos.dev.nuatt.es/articulos/1000000140-innovacion-y-modernizacion-en-la-funcion-publica-del-gobierno-de-andorra",2005,3,2,"SGRH","Sistemas de Gestión de Recursos Humanos",2,"COTS","http://edirectivos.dev.nuatt.es/articulos/1000000140-innovacion-y-modernizacion-en-la-funcion-publica-del-gobierno-de-andorra",2005,3,2,"-","-","https://www.poctefa.eu/arbol/index.jsp?id=9ef49d86-b1e4-4585-aa37-1494dbd4ceb1&ord=1","-",0,0,"-",null,null,null,null,null,null,null,null,13,59.090909090909093,"B","HIC"]
[5,null,"Angola","LMIC",19618.432000000001,75216.450947877951,3830,"http://www.minfin.gv.ao","Ministério das Finanças",2,"http://www.minfin.gv.ao/docs/dspPublications.htm",1,"http://www-wds.worldbank.org/external/default/WDSContentServer/WDSP/IB/2005/03/10/000090341_20050310101310/Rendered/PDF/290360AO.pdf",1,"-",0,"-",1,1,"http://www.minfin.gv.ao/docs/dspRelExecOGE.htm",1,1,0,"-",1,"http://www.minfin.gv.ao/docs/dspPlanContEstd.htm",1,0,2006,0,null,"-","-",1,0,2008,1,4,0,2006,0,null,"-",1,1,1,0,0,1,1,1,1,0,0,"-",0,"-",0,"-",1,"http://www.minfin.gv.ao/docs/dspPlanContEstd.htm",0,"http://www.ine-ao.com","Instituto Nacional de Estatistica (Angola)","http://www.bna.ao","National Bank of Angola","-",0,"-",1,"http://www.minfin.gv.ao/docs/dspGenLeg.htm",0,"-",0,3,"-","por","-","-","-","-","SIGFE","Sistema Integrado de Gestiio das  Finanqas do Estado","C","T",3,2004,"C",1,1,"LDSW > Oracle","Web",2,"-","-","-","-","-","-","-","-","-","-","-","-","-","-","-",28,26,null,0,140,0.29703000000000002,0.23529,0.29920999999999998,9.7780000000000006E-2,0.49409999999999998,142,0.32029999999999997,0.33329999999999999,8.9200000000000002E-2,0.5383,"AFR",null,null,null,"prev","Angola",0,null,null,null,null,0,null,null,null,null,null,12,46.153846153846153,"C",null,5,"Angola","AGO",null,null,"http://www.governo.gov.ao",1,"http://www.cidadao.gov.ao",0.29920000000000002,59,50,0,12,29,null,null,null,null,"http://www.minfin.gv.ao/docs/dspLegTreasPub.htm",1975,"http://www.tcontas.ao/portal/page/portal/Tribunal%20de%20Contas%20de%20Angola/Decretos/SIGFE.pdf",2001,2,4,"-","-","-","-","http://www.minfin.gv.ao/docs/dspDirecNacioImpoEC.htm",1998,"SIT","Sistema Informático Tributário",1,"LDSW ?","http://www.pert.minfin.gv.ao/_relatorio/RelatorioAnual2012.pdf",2012,2,2,"http://www.alfandegas.gv.ao",1975,1990,0,"SIADU","Sistema Integrado Aduaneiro / Trade Information Management System",2,"TIMS","http://www.alfandegas.gv.ao/SiaduLogin.aspx",2011,3,2,1,0,"-","-",1,0,"-","-",0,"-","-",0,500000,2,"http://www.ituc-csi.org/IMG/pdf/Country_Report_No2-Angola_EN.pdf",2007,"SIGFE","Sistema Integrado de Gestiio das  Finanqas do Estado",1,"LDSW","http://www-wds.worldbank.org/external/default/WDSContentServer/WDSP/IB/2005/03/10/000090341_20050310101310/Rendered/PDF/290360AO.pdf",2004,3,2,"SIGFE","Sistema Integrado de Gestiio das  Finanqas do Estado",1,"LDSW","http://www-wds.worldbank.org/external/default/WDSContentServer/WDSP/IB/2005/03/10/000090341_20050310101310/Rendered/PDF/290360AO.pdf",2004,3,2,"-","Procurement Portal","http://www.contratacaopublica.minfin.gv.ao/portalgcp/faces/wcnav_defaultSelection;jsessionid=t5gyJ3TM8p2wbGcyy1LpyRFg21mz00TGD2h1h4P2FvJLy22T7Kml!1519047247?_afrLoop=198043935692070&_afrWindowMode=0&_afrWindowId=null#%40%3F_afrWindowId%3Dnull%26_afrLoop%3D198043935692070%26_afrWindowMode%3D0%26_adf.ctrl-state%3D1bqkikih77_4",2014,2,1,"-","Angolan National Bank",2,"DMFAS 5.3",null,1999,3,"MoF",4,13,59.090909090909093,"B","LMIC","AFR"]
[6,null,"Antigua and Barbuda","UMIC",89.611999999999995,1070.3737310559948,11940,"http://www.antigua.gov.ag","Ministry of Finance, Economy and Public Administration",1,"http://www.antigua.gov.ag/article_details.php?id=64&category=42",2,"http://www.ab.gov.ag/article_details.php?id=1509&category=38",1,"-",0,"-",0,0,"-",1,1,0,"-",0,"-",1,1,2011,0,null,"-","-",0,null,"-",1,4,1,2009,0,null,"-",1,0,0,1,0,1,1,0,0,0,0,"-",0,"-",0,"-",0,"-",0,"http://ab.gov.ag/article_details.php?id=65","Statistics and Reports","http://www.eccb-centralbank.org","East Caribbean Central Bank","-",1,"http://www.antigua.gov.ag/article_details.php?id=201&category=55",0,"-",0,"-",0,3,"Contact information for other ministries. Social media tools: Facebook, Twitter, Youtube","eng","-","-","-","-","IFMS","Integrated Financial Management System","C","F",3,2012,"C",1,2,"FreeBalance","Web",3,"Feb 2014","Final",1,"X","X","X","X","X","X","X","X","X","X",1.4,1.5333333333333334,"-","-",null,0,60,0.59265999999999996,0.50980000000000003,0.41732000000000002,0.59377999999999997,0.76690000000000003,49,0.63449999999999995,0.30719999999999997,0.71919999999999995,0.877,"LCR",null,null,null,null,"Antigua and Barbuda",0,null,null,null,null,0,null,null,null,null,null,10,38.461538461538467,"C",null,6,"Antigua and Barbuda","ATG",null,null,"http://www.ab.gov.ag",1,"http://www.forms.gov.ag",0.4173,78,41,16,29,39,null,null,null,null,"http://www.antigua.gov.ag",1981,"http://www.laws.gov.ag/acts/chapters/cap-168.pdf",1981,2,4,"-","-","-","-","http://antiguabarbuda.gov.ag",1977,"SIGTAS","Standard Integrated Government Tax System",2,"SIGTAS","http://unpan1.un.org/intradoc/groups/public/documents/tasf/unpan023699.pdf",2002,3,2,"http://www.customs.gov.ag",1993,"-",0,"ASYCUDA World","Automated SYstem for CUstoms DAta",2,"ASYCUDA W","http://www.customs.gov.ag/index.php/case_software/asycuda",2007,3,2,0,0,"-","-",1,0,"-","-",0,"http://unpan1.un.org/intradoc/groups/public/documents/tasf/unpan024799.pdf",2006,1,{"$f":"IFERROR(VLOOKUP($C8,'PS Employment'!$B$2:$N$107,12,FALSE)*1000,\"-\")","v":11019},2,"http://laborsta.ilo.org/STP/guest",2008,"HCA","Human Capital Accountability",2,"FreeBalance","http://www.ab.gov.ag/article_details.php?id=1509&category=38","-",2,2,"HCA","Human Capital Accountability",2,"FreeBalance","http://www.ab.gov.ag/article_details.php?id=1509&category=38","-",2,2,"X","-","http://laws.gov.ag/bills/a2011-1.pdf","-",0,0,"-",null,2,"CS-DRMS",null,1988,3,"MoF",null,13,59.090909090909093,"B","UMIC","LCR"]
[7,null,"Argentina","UMIC",40764.561000000002,397095.83350659901,9740,"http://www.mecon.gov.ar","Ministerio de Economía y Finanzas Públicas",2,"http://contenidos.mecon.gov.ar/informacion/",2,"http://administracionfinanciera.mecon.gov.ar",3,"http://sitiodelciudadano.mecon.gov.ar/sici/ejecucion_presupuestaria.html",1,"http://www.mecon.gov.ar/peconomica/basehome/serie_gasto.html",1,1,"http://www.mecon.gov.ar/onp/html/ejectexto/bole_trim_dosuno.html?var1=boletrimdosnueve",2,1,1,"http://sitiodelciudadano.mecon.gov.ar/sici/#4",1,"http://www.mecon.gov.ar/onp/html/presutexto/ley2012/leydosdoce.html",1,1,2001,1,1,3,2003,1,1,2004,1,3,1,1994,1,1,1996,1,1,1,1,0,1,1,1,1,1,1,"http://www.mecon.gov.ar/onp/html/#",1,"http://www.argentina.gob.ar",2,"http://administracionfinanciera.mecon.gov.ar./",1,"http://www.mecon.gov.ar/onp/html/manuales/clasificador03.pdf",3,"http://www.indec.mecon.ar","National Institute of Statistics and Censuses ","http://www.bcra.gov.ar ","Central Bank of Argentina ","http://www.mecon.gov.ar/cfrf/",1,"http://contenidos.mecon.gov.ar/direccion-de-informacion-ciudadana-y-seguimiento-parlamentario/",1,"http://contenidos.mecon.gov.ar/ministerio-de-economia-y-finanzas-publicas/",2,"-",1,3,"-","spa","-","-","-","-","SIDIF","Sistema Integrado de Información Financiera","C","F",3,2006,"C+L",2,1,"LDSW > Oracle","CS",3,"-","-","-","-","-","-","-","-","-","-","-","-","-","-","-",50,56,1,2,46,0.63058999999999998,0.54901,0.55118,0.48347000000000001,0.85709999999999997,56,0.62280000000000002,0.52939999999999998,0.43519999999999998,0.90380000000000005,"LCR",null,null,null,null,"Argentina",6,1,1,null,4,10,1,null,1,8,"2013-04-29",25,96.15384615384616,"A",null,7,"Argentina","ARG",null,null,"http://www.presidencia.gov.ar",2,"http://www.argentina.gob.ar",0.55120000000000002,91,66,26,24,50,null,null,null,null,"http://www.tgn.mecon.gov.ar/tgn/",1946,"http://forotgn.mecon.gov.ar/normativa/tematico/cut/cut.html",1995,3,3,"-","https://eprov.mecon.gov.ar/eprov/login","-","-","http://www.afip.gob.ar",1997,"SIGMA","Sistema Integral de Gestión",1,"LDSW","http://www.afip.gob.ar/Aplicativos",2007,3,3,"http://www.afip.gob.ar",1997,1968,3,"SIM ","Sistema Informático María",1,"LDSW","http://www.afip.gob.ar/Aplicativos/kitMaria/",2006,3,3,1,1,"https://www.afip.gob.ar/claveFiscal/#PF",1999,3,1,"-","-",0,"http://www.afip.gov.ar/firmaDigital/#caracFD",2013,3,{"$f":"IFERROR(VLOOKUP($C9,'PS Employment'!$B$2:$N$107,12,FALSE)*1000,\"-\")","v":1631152},2,"http://www.cippec.org/documents/10179/51827/117+DT+PyGG+Empleo+publico+2013.pdf/f3cb4e4b-0a4f-4f7f-b66e-c5849ea05118",2006,"SIGRHU ","Sistema Integrado de Recursos Humanos",1,"LDSW","http://pmcg.minplan.gov.ar/html/sistemas/sigrhu.php","-",2,2,"PS","PeopleSoft Global Payroll System",2,"Oracle","http://www.oracle.com/lad/corporate/press/press-release-ladmay22-09-334645-esa.html",2009,3,2,"-","Argentina Compra","https://www.argentinacompra.gov.ar",1994,3,2,"https://www.argentinacompra.gov.ar/prod/onc/sitio/Paginas/Contenido/FrontEnd/index2.asp ","Ministry of Economy and Public Finances",2,"DMFAS 6.0",null,1993,3,"MoF","4F",21,95.454545454545453,"A","UMIC","LCR"]
[8,null,"Armenia","LMIC",3100.2359999999999,10408.625928430067,3360,"http://www.minfin.am","Republic of Armenia Ministry of Finance and Economy",2,"http://www.minfin.am/main.php?lang=1&mode=budget&iseng=1&isarm=1",1,"https://www.yumpu.com/en/document/view/15734776/gfims-inception-report/1 ",1,"-",1,"http://www.minfin.am/main.php?lang=1&mode=poakrep&iseng=1&isarm=1",0,0,"-",1,1,2,"https://www.e-gov.am/interactive-budget/",0,"-",1,1,2003,1,1,3,2003,0,null,"-",1,4,1,2007,1,0,2009,1,1,0,0,0,1,1,0,1,0,0,"-",1,"https://www.e-gov.am",0,"-",0,"-",3,"http://www.armstat.am","National Statistical Service","http://www.cba.am   ","Central Bank of Armenia","http://programmebudgeting.am/",0,"-",1,"http://www.minfin.am/main.php?lang=1&mode=charter&id=37&iseng=1&isarm=1",0,"Internal budget reporting rules and guidelines",0,3,"-","arm","eng","-","-",0,"TS","Treasury System","C","T",3,2006,"C+L",1,1,"LDSW","Web",2,"Oct 2008","Public",1,"A","A","A","B","A","C","C+","D+","D+","A",3.05,3.032258064516129,"-","-",1,3,61,0.58969000000000005,0.52941000000000005,0.61416999999999999,0.38890000000000002,0.76600000000000001,94,0.49969999999999998,0.32679999999999998,0.32169999999999999,0.85050000000000003,"ECA",null,null,null,null,"Armenia",0,null,null,null,null,0,null,null,null,null,"2013-05-07",16,61.53846153846154,"B",null,8,"Armenia","ARM",null,"DAD","http://www.gov.am",2,"https://www.e-gov.am",0.61419999999999997,94,61,33,41,56,null,null,null,null,"http://www.minfin.am/index.php?cat=10&lang=1",1996,"http://www.pefa.org/en/assessment/am-may14-pfmpr-public-en",2002,2,4,"-","-","-","-","http://www.taxservice.am",1991,"Taxpayer 3","Integrated Tax System",2,"COTS","http://imagebank.worldbank.org/servlet/WDSContentServer/IW3P/IB/2012/06/15/000386194_20120615021424/Rendered/PDF/667100PAD0P1110Official0Use0Only090.pdf",2009,2,2,"http://www.customs.am",1992,1992,2,"TWM","Trade World Manager",2,"COTS","http://www.webbfontaine.com/projects_armenia.php",2011,3,2,1,1,"http://www.taxservice.am/Content.aspx?itn=OSOnlineReportingSystem",2010,2,1,"https://www.e-payments.am/en/",2012,2,"http://www.ekeng.am/?page_id=69",2012,3,239300,2,"http://armstat.am/file/article/trud_13_6.pdf",2012,"HRMIS","Human Resources Management Information System",1,"LDSW","http://www.csc.am/en/aboutus",2010,3,2,"PS","Payroll System",1,"LDSW","http://pefa.org/en/assessment/am-may14-pfmpr-public-en",2010,3,2,"B","ARMEPS","http://www.procurement.am",2012,3,2,"http://gnumner.am/am/category/30/1.html",null,2,"DMFAS 6.0",null,2011,3,"MoF",4,15,68.181818181818173,"B","LMIC","ECA"]
[9,null,"Australia","HIC",22620.6,1111433.6001647334,49130,"http://www.finance.gov.au","Australia Department of Finance and Deregulation",2,"http://www.budget.gov.au/",2,"http://www.finance.gov.au/cbms/CBMS_redevelopment.html",1,"-",1,"http://www.comlaw.gov.au/Details/C2011B00068/Download",0,0,"-",2,1,0,"-",1,"http://www.abs.gov.au/AUSSTATS/abs@.nsf/DetailsPage/5514.02005?OpenDocument",1,1,1996,1,1,4,1996,1,1,1996,1,4,1,1998,1,1,2001,1,1,1,1,1,1,1,1,1,0,1,"https://www.tenders.gov.au/",1,"http://data.australia.gov.au",0,"-",1,"http://www.finance.gov.au/publications/finance-ministers-orders/docs/2011-12-PRIMA-Forms-FMA-and-CAC.pdf",1,"http://www.abs.gov.au","Australian Bureau of Statistics","http://www.rba.gov.au ","Reserve Bank of Australia","-",1,"http://www.finance.gov.au/contact-us.html",1,"http://www.finance.gov.au/policy-legislation.html",2,"-",0,3,"-","eng","-","-","-","-","CBMS","Central Budget Management System","D","F",3,1997,"C+L",1,2,"SAP","Web",3,"-","-","-","-","-","-","-","-","-","-","-","-","-","-","-","-","-",0,3,2,0.91034000000000004,0.94116999999999995,0.92913000000000001,0.80405000000000004,0.99780000000000002,12,0.83899999999999997,0.86270000000000002,0.65429999999999999,1,null,"PAC","OECD","APEC",null,"Australia",4,1,2,1,null,8,1,2,5,null,null,20,76.923076923076934,"A",null,9,"Australia","AUS",null,null,"http://australia.gov.au",2,"https://my.gov.au/mygov",0.92910000000000004,100,75,88,65,82,null,null,null,null,"http://www.treasury.gov.au/",1901,"http://www.comlaw.gov.au/Details/C2011C00328",1997,2,4,"-","-","-","-","https://www.ato.gov.au",1910,"e-Tax","e-Tax and other portals",2,"SAP","https://www.ato.gov.au/General/Online-services",2002,3,3,"http://www.customs.gov.au",1901,1961,2,"ICS","Integrated Cargo System",2,"COTS","http://www.customs.gov.au/webdata/resources/files/boozallenhamilton_icsreport.pdf",2005,3,3,1,1,"https://www.ato.gov.au/",1990,3,1,"https://frupayonline.nt.gov.au/","-",1,"http://www.finance.gov.au/policy-guides-procurement/gatekeeper-public-key-infrastructure/",2007,3,1891300,2,"www.abs.gov.au/ausstats/abs@.nsf/mf/6248.0.55.002/",2012,"HRMIS","Human Resources Management Information System",2,"Aurion (37) + SAP (17) + PeopleSoft & Other (17)","http://www.finance.gov.au/files/2012/04/Review-of-the-Australian-Governments-Use-of-Information-and-Communication-Technology.pdf",2006,3,1,"HRMIS","Human Rresource Management Information System",2,"Aurion (37) + SAP (17) + PeopleSoft & Other (17)","http://www.anao.gov.au/~/media/Files/Better%20Practice%20Guides/2012%202013/ANAO_BPG_HRMIS.pdf",2006,3,1,"-","AusTender","https://www.tenders.gov.au",2003,3,2,"https://www.tenders.gov.au/?event=public.CN.search","The Australian Office of Financial Management",null,null,null,null,null,null,null,17,77.272727272727266,"A","HIC"]
[10,null,"Austria","HIC",8419,405729.98666061915,48190,"http://www.bmf.gv.at","Federal Ministry of Finance",2,"https://www.bmf.gv.at/budget/_start.htm",1,"http://english.bmf.gv.at/budget/theaustrianfederalb_523/_start.htm",1,"-",1,"https://www.bmf.gv.at/Budget/Budgetsimberblick/Sonstiges/Budgetsimberblick/Budgetentwurf2013/berblick/TabellenDownload/_start.htm",0,0,"-",2,1,0,"-",1,"http://www.rechnungshof.gv.at/berichte/bundesrechnungsabschluss.html",1,1,2003,1,1,5,2009,0,null,"-",1,4,1,2002,0,null,"-",1,1,0,1,0,1,0,1,0,0,1,"http://www.peppol.eu/",1,"http://data.gv.at",0,"-",1,"https://www.bmf.gv.at/BUDGET/budgets/2012/Beilagen/_start_beilagen.htm",1,"http://www.statistik.at","Statistics Austria","http://www.oenb.at   ","Austrian National Bank","https://finanzonline.bmf.gv.at/fon/",1,"http://english.bmf.gv.at/Allgemeines/Impressum/_start.htm",1,"http://english.bmf.gv.at/Ministry/TheTasksoftheFedera_62/DGBudgetPublicFinances/_start.htm",0,"-",0,3,"-","ger","eng","-","-",0,"BAS","Budget and Accounting System","C","T",3,2013,"C+L",1,2,"SAP","Web",2,"-","-","-","-","-","-","-","-","-","-","-","-","-","-","-","-","-",null,3,20,0.79124000000000005,0.62744999999999995,0.74802999999999997,0.75971999999999995,0.86599999999999999,21,0.78400000000000003,0.74509999999999998,0.69769999999999999,0.90910000000000002,null,"EU","OECD",null,null,"Austria",2,null,2,null,null,1,null,null,1,null,null,15,57.692307692307686,"B",null,10,"Austria","AUT",null,null,"http://www.austria.gv.at",2,"https://www.usp.gv.at/Portal.Node/usp/public/content/online_verfahren/48573.html",0.748,100,75,51,44,67,null,null,null,null,"http://www.oebfa.at/",1993,"http://www.ris.bka.gv.at/GeltendeFassung.wxe?Abfrage=Bundesnormen&Gesetzesnummer=20006355",2009,2,4,"-","-","-","-","https://www.bmf.gv.at",1945,"e-Tax","FinanceOnline",1,"LDSW","https://finanzonline.bmf.gv.at",2003,3,3,"http://www.bmf.gv.at",1945,1953,0,"E-Zoll","Electronic Customs Portal",2,"COTS","https://www.bmf.gv.at/zoll/e-zoll/e-zoll.html",2005,3,3,1,1,"https://finanzonline.bmf.gv.at/fon/",2003,3,1,"http://www.digitales.oesterreich.gv.at/site/6519/default.aspx",2007,2,"http://www.digitales.oesterreich.gv.at/site/6520/default.aspx",2005,3,379690,2,"www.statistik.at/web_en/publications_services/statistiches_jahrbuch/index.html",2014,"IHRMS","Integrated Human Resource Management System",2,"SAP","http://www.bka.gv.at/DocView.axd?CobId=44697",2006,3,1,"IHRMS","Integrated Human Resource Management System",2,"SAP","http://www.bka.gv.at/DocView.axd?CobId=44697",2006,3,1,"-","Federal Procurement Portal","http://www.bbg.gv.at ",2002,3,2,"http://www.bbg.gv.at/kunden/produkte-vertraege/vertragsliste","Austrian Federal Financing Agency",null,null,null,null,null,null,null,16,72.727272727272734,"B","HIC"]
[11,null,"Azerbaijan","UMIC",9168,48519.703272087085,5290,"http://www.maliyye.gov.az","Ministry of Finance of the Republic of Azerbaijan",1,"http://www.maliyye.gov.az/node/954",1,"http://www.maliyye.gov.az/en/node/886",1,"-",0,"-",0,0,"-",1,1,0,"-",1,"http://www.maliyye.gov.az/en/node/931",1,1,2000,0,null,"-","-",0,null,"-",1,4,0,2000,0,null,"-",1,1,0,0,0,1,0,0,0,0,0,"-",0,"-",0,"-",1,"http://www.maliyye.gov.az/en/node/931",0,"http://www.azstat.org","Azerbaijan State Statistical Committee","http://www.cbar.az","Central Bank of Azerbaijan Republic","-",1,"http://opendata.az/?page_id=32&lang=en",1,"http://www.maliyye.gov.az/en/node/18",0,"National accounting standards",0,3,"-","aze","eng","-","-",0,"TMIS","Treasury Information Management System","C","T",3,2012,"C+L",1,2,"SAP","Web",2,"Jan 2008","Final",1,"X","X","X","X","X","X","X","X","X","X",2.1,2.6333333333333333,42,43,1,0,68,0.54720000000000002,0.43136999999999998,0.43307000000000001,0.46049000000000001,0.748,96,0.49840000000000001,0.36599999999999999,0.30330000000000001,0.82589999999999997,"ECA",null,null,null,null,"Azerbaijan",0,null,null,null,null,0,null,null,null,null,"2013-04-03",9,34.615384615384613,"C",null,11,"Azerbaijan","AZE",null,null,"http://www.president.az",2,"https://www.e-gov.az",0.43309999999999998,81,36,28,24,41,null,null,null,null,"http://www.maliyye.gov.az/en/node/1058",2009,"http://www.ach.gov.az/?/en/content/347/",1998,3,4,"-","-","-","-","http://www.taxes.gov.az",2000,"AVIS-2","Avtomatlaşdırılmış Vergi İnformasiya Sistemi (AVIS) / Automated Tax Information System",2,"Oracle","http://www.taxes.gov.az/uploads/neshrler/vergiyegirishderslik.pdf",2006,3,2,"http://www.customs.gov.az",1992,1992,3,"AZ Single Window","Single Automated Management System of Customs Service",2,"COTS","http://customs.gov.az/az/sw.html",2009,3,2,1,1,"https://www.e-taxes.gov.az/",2006,3,1,"https://payment.gpp.az/WEBAPUS/Dispatcher",2012,2,"http://www.e-imza.az/e-signer.php?tp=certuse&ide=26&lang=az",2011,3,{"$f":"IFERROR(VLOOKUP($C13,'PS Employment'!$B$2:$N$107,12,FALSE)*1000,\"-\")","v":859500},2,"http://laborsta.ilo.org/STP/guest",2010,"CSR","Civl Service Registry + Candidates + Online Applications + Other locally developed SW",1,"LDSW","http://www.csc.gov.az/aze/index.php?option=com_content&view=article&id=2117%3Akomissiyann-2008-ci-il-rzind-faliyyti-bard-hesabat-&catid=90%3Akomissiyann-faliyyti-bard-illik-hesabatlar-&Itemid=89&lang=en",2008,3,2,"TMIS","Treasury Information Management System",2,"SAP","http://www.maliyye.gov.az/en/node/886",2012,3,2,"X","State Procurement Agency Website","http://www.tender.gov.az ",2010,3,1,"http://tender.gov.az/new/index.php?inc=reestr ",null,null,null,null,null,null,null,null,15,68.181818181818173,"B","UMIC","ECA"]
[12,null,"Bahamas","HIC",347.17599999999999,7778,22403.622370209923,"http://www.bahamas.gov.bs/finance","Ministry of Finance of The Bahamas ",2,"http://www.bahamas.gov.bs/wps/portal/public/NB/Communication/!ut/p/b1/vZTLcpswFIafpQ_gIImbWYIFGGOEzc3AhsHGdsDcUgPCPH3JNDNtM9N000RaafQffTrfaMTETMjEdTrk17TLmzotX9exkLC6be1X3NJaCpwEDOgRA6s7VpfQHIjmAPjLkMHPeqBbsjzX67y9BIYvejuZR0BfAebAhOtoUnBjUFU-JO09qwKpfdm5xmZsCPfc9G17MtNM7cFyAKC2YxIWBqW2zG_ZSg97LAFPOI64pNot10LKl93x3Gv1M0kTnbtIUIs2JE8w4ctHNe5XeTn68BnjRXrG2c5InMBXmmz94j6EHMLWFx_xCcZ2Q1KdTXxY54ZUkgGVrgKv37699ftBQ__wdWDiP5UAAaLXE7ZKsJEgcNFb4AOlZN1UZyaaY-JvN9nK_IyyZy2mBpHPMx4TAi5xi0drTLfJKSbHJF40unhPIT4gSxU94qkP0mXkXqwgVAEgnjxaPkCWqFIvO-6ywPEVeYXvezd-D7SR99rbCgqmzwOXA58NfOfahF8NZL9UqY7BpwPfPZod-u_ADRPnx-qJnqon8MSLgOOWSOAlJHJLiWOCIuJEzBlUM4JkcljIdjfiYrnKq6600tAHpjuU8qBd0ALf-MHLRhHbbkEtb71WR2U_DWWj1JlP91o3DU1smhGVG-RujotCKbfKPUmtxOWQc9VAL152fHvH1Wl7y4J116a9PFVqx_YwC6gF6bHW9EcYK_JCTUbWOLdF0WqEV1WSp_s-pE4TxPGmHwverK-iPlDT_H47jndug4YgumgoS5E8_xFt5Q9bwVmSy69pzRs_ALZ5AFQ!/dl4/d5/L2dBISEvZ0FBIS9nQSEh/",1,"http://www.docstoc.com/docs/111076420/THE-BAHAMAS",1,"-",0,"-",0,0,"-",2,1,0,"-",0,"-",1,1,2001,0,null,"-","-",0,null,"-",1,4,1,2001,0,null,"-",1,1,0,1,1,1,1,0,1,0,0,"-",0,"-",0,"-",0,"-",0,"http://statistics.bahamas.gov.bs","The Department of Statistics","http://centralbankbahamas.com","Central Bank of The Bahamas","-",0,"-",1,"http://www.bahamas.gov.bs/wps/portal/public/",0,"-",0,1,"-","eng","-","-","-","-","TFMS","Treasury Financial Management System","C","T",3,2001,"C",1,1,"LDSW","Web",2,"Mar 2011","Final",1,"X","X","X","X","X","X","X","X","X","X",1.9375,1.8461538461538463,"-","-",null,"-",92,0.49,0.19606999999999999,0.33857999999999999,0.41758000000000001,0.71379999999999999,65,0.57930000000000004,0.47060000000000002,0.45540000000000003,0.81200000000000006,"LCR",null,null,null,null,"Bahamas",0,null,null,null,null,0,null,null,null,null,null,11,42.307692307692307,"C",null,12,"Bahamas","BHS",null,null,"http://www.bahamas.gov.bs",2,"https://www.bahamas.gov.bs",0.33860000000000001,53,34,14,35,33,null,null,null,null,"http://www.bahamas.gov.bs/finance",1914,"http://www.bahamas.gov.bs/wps/wcm/connect/93187cd8-e19b-42c0-9982-25576cc43fff/Chap+9+Finance.pdf?MOD=AJPERES",1978,2,4,"-","-","-","-","http://www.bahamas.gov.bs",1914,"ITAIS","Integrated Tax Administration Information System",2,"Data Torque","https://www.bahamas.gov.bs/wps/myportal/public/PayTax",2011,3,2,"http://www.bahamas.gov.bs/customs",1914,1974,0,"CAS","Customs Automated System",2,"COTS","http://www.iadb.org/en/projects/project-description-title,1303.html?id=BH-L1016",1989,3,2,0,0,"http://www.bahamas.gov.bs/wps/portal/public/gov/government/services/!ut/p/b1/vVbbsqI6EP2W_QGOIeH6iIJcJNzD7YVC8YoIIory9QfnnFMz25k9ex5mTKqoonp1rfTq7nTGyTgaJ8fsuttk7a46ZofHf8KmCChYFGkeKwxggUZsQ7Q5FfImNQ7HkRrfjOkGb2UxvNLn7HCaY7ftj0o_jeOFt1TWnOPhZmUndniq1D1Pa6vrmecjxBaV4TP86Waf6um8vTknI8JMIaqstwXyjLRqHgSJFO4czagtq3Fsawd6xKwut8sNT_eqH17TgowMpo77OJEMc746ZWux3gnb5Y7MNgqRBH12j1sBIf6yXAfuEFA8BAQ-WCJ4H69FTwSgUZJAa7xM8QH3n_8vAF_9FQs708HMs_TD7JuaJNtIEeCzP2ApOAjKGZNAFyjgwd_0_xjw3t8W5YfZMh3KoKwJeuZ_n1CLBr_p_zHg03pJniEW_1DAt0UGAmUKngE_kegr4Fc5_NUprDn8BDCoEA8A7juAITJDmBZjoPmMgoQZ--MI0Km3v9daX_TuvnconxQU3i87ACgd90Zg-jL024zyxPAODnNMzj3uyd2Xlp0pqDifuWTCjxq2F9_engkt6D_yOqXYOWGAN5zoLxM-pWFOvZoQvVRSRQJ_nfCpaGz4xwn1cbJblF-6ZfkFfGE4QNM8ZBkBcjQv0ONgPzTN9Kx1st0FBrqAC8yvbrbRskKYcnLoKWWxMQS9JWm6ItYxB9xtkxykTQyn1uQ-3RxV83CYX1laE8MkBdpsZtLiAhReyshS7qi9UPX5rk0UMXLaEK5uDG8nYlU2Xdv0zTJjJ35ZtXAIpsZX4xLBJovPgpxMbYErDJLRA-DiTqS4LAz_fMrsc1WgeJsfpP68j3h1Zp7xrgQKF93r66irnTt5G5tqVa7-l_qDa8j9UWrQUVhSelMKAZAB8OTeNcnB8PKBZO_qYB8iLANoknaO94l2Fnw7DwatxakN67T-jBC9mJADryZkX034aknNPy_pu_6ECEGKB5AZvhQNHv0ZA0569OfwcHIafIAZqlmpFL0Yw77IboyennWHRTega2Q2ca653CSttMmDyNSH_qTaZlPvpXimSZBW8Oy-i0xHwg17x0YhU67unSxD2ARSMNHuIySIXDnSSXUUroxTh73lbde6xPspW8CyPCxrOxF8sk4EjjGRebS3RFVxY13dmxduR5GeAmUU8TdzdxgFxx8uOz8Ag5hAdD3KAbz7s4F1xz7ucdHdAEc6s-hDkxR3zwwpLFM66AnEZKubhLEwuWH8TcwUxQb8ZEIC5m8Tvh9YYIpeTOj9eUnf1SfiKQEKALAMy1ICzY8D4_GwP-NOejzsd3ewX0QXL9cvu0tVNUs5nc3URUvzVbRAWxz369SGe1iy4sZAyFxwd6WsFFUqA5mb6MiZIdIaiSJJpDr0xEZ0Rykj8eJydtrx8SILOzmLCr9OrpLSbc_uwlxobLO9WSUz7_NQddh6pforqriwQu7OH_OvLq_zxzJYV3Z56ruNtg3zbV_N9b8bi2__ADitGrM!/dl4/d5/L2dBISEvZ0FBIS9nQSEh/",2011,2,0,"http://www.bahamas.gov.bs/wps/portal/public/gov/government/eServices/eservices/eservices/!ut/p/b1/vZDbjqJAEIafxQdwaA5yuES7FVq6m4McbwjoqKAgAovK06-bnWSvxrnZWJVUUslf-er_uYSLuKTOhuKQ9cWlzs5_9kROxRUjzkJSiWrrCJj8hlGHt3g2F5-C-CkA35QO_t6DFdH15_1qBmRg-ral24ohsLXAh","-",1,"http://unpan1.un.org/intradoc/groups/public/documents/caricad/unpan008407.pdf",2003,1,{"$f":"IFERROR(VLOOKUP($C14,'PS Employment'!$B$2:$N$107,12,FALSE)*1000,\"-\")","v":35435},2,"http://laborsta.ilo.org/STP/guest",2008,"HRM","J.D. Edwards Human Resource System",2,"Oracle","http://www.bahamas.gov.bs",2009,3,2,"HRM","J.D. Edwards Human Resource System",2,"Oracle","http://www.bahamas.gov.bs",2009,3,2,"X","-","http://www.bahamas.gov.bs","-",1,0,"-",null,2,"CS-DRMS",null,1992,3,"MoF",null,13,59.090909090909093,"B","HIC","LCR"]
[13,null,"Bahrain","HIC",1323.5350000000001,22950,17339.92678697579,"http://www.mof.gov.bh","Ministry of Finance - Kingdom of Bahrain",2,"http://www.mof.gov.bh/Categorylist.asp?cType=budget",2,"http://www.mof.gov.bh/Categorylist.asp?cType=fmis",1,"-",0,"-",0,0,"-",1,1,0,"-",1,"http://www.mof.gov.bh/Categorylist.asp?cType=fmanual",1,1,2003,1,1,5,1990,0,null,"-",1,4,1,2003,0,null,"-",1,1,0,0,0,1,1,0,1,0,1,"http://www.tenderboard.gov.bh/",1,"http://www.bahrain.bh/wps/portal/data",0,"-",0,"-",0,"http://www.cio.gov.bh","Central Informatics Organization ","http://www.bma.gov.bh ","Central Bank of Bahrain","-",0,"-",1,"http://www.mof.gov.bh/CategoryListImage.asp?cType=organ",0,"National accounting standards",0,3,"-","ara","eng","-","-",0,"CFS","Central Financial System","C","T",3,2006,"C",1,2,"Oracle","Web",1,"-","-","-","-","-","-","-","-","-","-","-","-","-","-","-","-","-",null,1,18,0.80884999999999996,0.82352000000000003,0.93700000000000006,0.70550000000000002,0.78400000000000003,36,0.6946,0.86270000000000002,0.41830000000000001,0.80279999999999996,"MNA",null,null,null,null,"Bahrain",1,null,null,1,null,0,null,null,null,null,null,14,53.846153846153847,"B",null,13,"Bahrain","BHR",null,null,"http://www.bahrain.bh",2,"http://oservices.bahrain.bh",0.93700000000000006,94,80,84,74,82,null,null,null,null,"https://www.mof.gov.bh/topiclist.asp?ctype=organ&id=31&from=organ",1997,"http://www.mof.gov.bh/arb/showdatafile.asp?rid=1257","-",0,"-","-","-","-","-","-","-","-","-",0,"-","-","-",0,0,"http://www.customs.gov.bh",1970,2001,0,"TWM > OFOQ","Trade World Manager",2,"COTS","http://www.bahraincustoms.gov.bh/page.php?SID=WTBkR2JscFVNRFJQUTFwMFVGUlpiV015TURsT2Vtczk%253D",2012,3,2,1,0,"-","-",0,0,"http://www.bahrain.bh/wps/portal/!ut/p/a1/jZHLDoIwEEW_hQVbOhYl1V19gBIbjYpiNwYNVhKgBlB-34JxoRG0u2nOyZ0H4shHPA3ukQiKSKZBXNXcOkwXYHUwwe5i0qNAyZaNnXEXgFkK2CsAGh6FD39tk9p3hn3bBMd8-ZiNOrMudoExZZHhar6xRwAE_5nf4KuAv_yWBn_4O8RrpG2CVqCKeALNO3QRF7E81vfY0_RoEoF4Fp7DLMyMW6a-L0VxzQc66FCWpSGkFHFonGSiwzflIvMC-e8kuiae5_kQLZMdyammPQDWGuYs/dl5/d5/L2dJQSEvUUt3QS80SmlFL1o2X0hPMDYxMjgySk9TRjgwQThWTUdCOUYzMEcz/",2007,2,"https://www.ekey.bh/bnaf-usermgmt/pages/?loc=en",2012,3,56000,1,"http://unpan1.un.org/intradoc/groups/public/documents/un/unpan023174.pdf",2004,"HRPS","Human Resource and Payroll Systems",2,"COTS","https://www.csb.gov.bh ",2006,3,1,"PIPS","Payroll Interface and Payments System ",2,"Oracle","http://www.mof.gov.bh/topiclist.asp?ctype=fmis&id=847 ",2006,3,2,"-","Tender Board website","http://www.tenderboard.gov.bh",2003,3,2,"http://www.tenderboard.gov.bh",null,null,null,null,null,null,null,null,9,40.909090909090914,"C","HIC","MNA"]
[14,null,"Bangladesh","LIC",150493.658,117761.95368496834,780,"http://www.mof.gov.bd","Bangladesh Ministry of Finance",2,"http://www.mof.gov.bd/en/index.php?option=com_content&view=article&id=184&Itemid=1",1,"http://www.mof.gov.bd/en/budget/11_12/digital_bd/digital_bangladesh_en.pdf",1,"http://www.mof.gov.bd/en/index.php?option=com_content&view=article&id=68&Itemid=1",0,"-",0,0,"-",2,1,1,"http://www.mof.gov.bd/en/budget/booklet/booklet_en.pdf",1,"http://www.mof.gov.bd/en/index.php?option=com_content&view=article&id=80&Itemid=1&phpMyAdmin=XRGktGpDJ7v31TJLuZ5xtAQmRx9",1,1,2007,1,1,5,2011,1,1,2011,1,4,1,2007,0,null,"-",1,1,0,1,1,1,1,1,1,0,0,"-",0,"-",0,"-",0,"-",0,"http://www.bbs.gov.bd","Bangladesh Bureau of Statistics","http://www.bangladesh-bank.org ","Bangladesh Bank","-",0,"-",1,"http://www.mof.gov.bd/en/index.php?option=com_content&view=article&id=48&Itemid=1",2,"GFS 1986",1,3,"-","ben","eng","-","-",1,"iBAS","Integrated Budget and Accounting System","C","T",3,2006,"C+L",1,1,"LDSW","Web",2,"Dec 2010","Public",2,"B","B","B","B","B","D","C+","D+","D+","B",2.4500000000000002,2.1166666666666667,58,48,null,1,148,0.27572000000000002,0.39215,0.34644999999999998,9.4140000000000001E-2,0.3866,150,0.29909999999999998,0.44440000000000002,6.4100000000000004E-2,0.38890000000000002,"SAR",null,null,null,null,"Bangladesh",0,null,null,null,null,0,null,null,null,null,"2013-05-05",17,65.384615384615387,"B",null,14,"Bangladesh","BGD",null,null,"http://www.bangladesh.gov.bd",2,"http://www.bangladesh.gov.bd/?q=bn/e-services",0.34649999999999997,75,34,14,18,33,null,null,null,null,"http://www.mof.gov.bd",1971,"http://www.pefa.org/en/assessment/bd-dec10-pfmpr-public-en",2008,2,2,"-","-","-","-","http://www.nbr-bd.org",1972,"IVMS","Integrated VAT Management System",1,"LDSW ?","http://www.worldbank.org/projects/P129770?lang=en","-",2,2,"http://www.nbr-bd.org",1972,1978,4,"ASYCUDA++","Automated SYstem for CUstoms DAta",2,"ASYCUDA ++","http://www.asycuda.org/pdf%20docs/bg_en_update.pdf",1994,3,2,1,0,"-","-",0,0,"http://www.nbrepayment.org/",2012,1,"http://www.cca.gov.bd/",2009,2,{"$f":"IFERROR(VLOOKUP($C16,'PS Employment'!$B$2:$N$107,12,FALSE)*1000,\"-\")","v":2127000},2,"http://laborsta.ilo.org/STP/guest",2005,"HRMIS","Human Resources Management Information System",1,"LDSW","http://www-wds.worldbank.org/external/default/WDSContentServer/WDSP/IB/2010/05/25/000334955_20100525030054/Rendered/INDEX/535490PAD0P090101Official0Use0Only1.txt ","-",3,1,"HRMIS","Human Rresource Management Information System",1,"LDSW","http://www.pefa.org/en/assessment/bd-dec10-pfmpr-public-en","-",3,1,"B","National e-Government Procurement Portal","http://www.eprocure.gov.bd ",2011,3,2,"http://www.eprocure.gov.bd/resources/common/SearchNOA.jsp ",null,2,"DMFAS 6.0",null,1992,3,"MoF","4T",11,50,"B","LIC","SAR"]
[15,null,"Barbados","HIC",273.92500000000001,3685,13452.5873870585,"http://www.gov.bb/bigportal/gov/index.php?method=detail&cat=min&rnum=351&np=3","Barbados Ministry of Finance and Economic Affairs",1,"http://www.economicaffairs.gov.bb",2,"http://treasury.gov.bb/?q=content/about-us",0,"-",0,"-",1,1,"-",0,0,0,"-",0,"-",1,0,2009,0,null,"-","-",0,null,"-",1,4,1,2009,0,null,"-",1,1,0,1,1,1,1,0,1,0,0,"-",0,"-",0,"-",0,"-",2,"http://www.barstats.gov.bb","Barbados Statistical Services","http://www.centralbank.org.bb ","Central Bank of Barbados","http://www.barbadosparliament.com/",0,"-",0,"-",0,"-",0,1,"-","eng","-","-","-","-","FMIS","Financial Management Information System","C","F",3,1999,"C",1,2,"SmartStream","Web",3,"Jul 2010","Final",2,"X","X","X","X","X","X","X","X","X","X",3.1666666666666665,2.7884615384615383,"-","-",null,1,59,0.59330000000000005,9.8030000000000006E-2,0.22047,0.67295000000000005,0.88649999999999995,44,0.65659999999999996,0.3725,0.67400000000000004,0.92320000000000002,"LCR",null,null,null,null,"Barbados",0,null,null,null,null,0,null,null,null,null,"2013-05-03",8,30.76923076923077,"C",null,15,"Barbados","BRB",null,null,"http://www.gov.bb",0,"http://www.gov.bb",0.2205,41,20,12,24,23,null,null,null,null,"http://www.treasury.gov.bb/",1966,"http://www.treasury.gov.bb/sites/default/files/Financial%20Management%20and%20Audit%20Act.pdf",2007,2,4,"-","-","-","-","http://www.barbados.gov.bb/ird",1997,"CIAT","Tax Management System",2,"COTS","http://www.barbados.gov.bb/ird/Tao/index.html",2006,3,2,"http://www.customs.gov.bb",1997,1999,4,"ASYCUDA World","Automated SYstem for CUstoms DAta",2,"ASYCUDA W","http://www.customs.gov.bb/downloads/Downloads.php",2007,3,2,1,0,"https://etax.ird.gov.bb/eTaxIrd/Login.aspx",2007,2,0,"https://www.ezpay.gov.bb/",2012,2,"http://www.commerce.gov.bb/Legislation/Documents/CAP%20308B.PDF",2001,1,18000,1,"http://unpan1.un.org/intradoc/groups/public/documents/un/unpan023192.pdf",2004,"SmartStream","Human Resources Management Information System",2,"SmartStream","http://unpan1.un.org/intradoc/groups/public/documents/caricad/unpan030902.pdf ",1999,3,2,"SmartStream","Human Resources Management Information System",2,"SmartStream","http://www.reform.gov.bb/page/public%20sector%20reform%20in%20barbados.pdf",1999,3,2,"X","-","http://www.iadb.org/en/projects/project-description-title,1303.html?id=ba-l1004","-",1,0,"-","Central Bank",2,"CS-DRMS",null,1992,3,"MoF",null,13,59.090909090909093,"B","HIC","LCR"]
[16,null,"Belarus","UMIC",9473,55236.125763229888,5830,"http://www.minfin.gov.by ","Ministry for Finance of Belarus",2,"http://www.minfin.gov.by/rmenu/execution/month-info/",1,"http://siteresources.worldbank.org/BELARUSEXTN/Resources/PEFA_Belarus_april_2009_english.pdf",1,"-",0,"-",0,0,"-",2,1,0,"-",0,"-",0,null,"-",0,null,"-","-",0,null,"-",1,2,1,2005,0,null,"-",1,1,1,0,1,1,1,1,1,0,0,"-",0,"-",0,"-",1,"http://www.minfin.gov.by/rmenu/gfs/general/",0,"http://www.belstat.gov.by","Belarus Ministry of Statistics and Analysis","http://www.nbrb.by","National Bank of the Republic of Belarus","-",0,"-",1,"http://www.minfin.gov.by/ministerstvo/structure/",2,"-",0,3,"-","rus","-","-","-","-","TS","Treasury System","C","T",3,2002,"C+L",1,1,"LDSW","Web",2,"Apr 2009","Public",1,"A","A","C","D+","A","B","B+","C+","D+","NU",2.8888888888888888,3.0892857142857144,"-","-",null,0,55,0.60528999999999999,0.35293999999999998,0.32283000000000001,0.60690999999999995,0.8861,61,0.60899999999999999,0.4118,0.50329999999999997,0.91200000000000003,"ECA",null,null,null,null,"Belarus",0,null,null,null,null,0,null,null,null,null,null,9,34.615384615384613,"C",null,16,"Belarus","BLR",null,null,"http://www.president.gov.by",2,"https://www.portal.gov.by",0.32279999999999998,81,16,14,26,31,null,null,null,null,"http://www.nbrb.by/",1993,"http://siteresources.worldbank.org/BELARUSEXTN/Resources/PEFA_Belarus_april_2009_english.pdf",1993,2,4,"-","-","-","-","http://www.nalog.gov.by",1990,"Single Window","e-Tax and other portals",2,"COTS","http://www.nalog.gov.by/ru/el-service",2009,3,2,"http://www.customs.gov.by",1991,1993,0,"NASED ","National Automated System of Electronic Declaration",2,"COTS","http://gtk.gov.by/ru/eldeclaration_new/informacija_o_NASED",2008,3,2,1,0,"http://www.portal.nalog.gov.by/web/nalog/home",2009,3,1,"http://www.portal.gov.by",2009,2,"http://www.nces.by/",2012,3,{"$f":"IFERROR(VLOOKUP($C18,'PS Employment'!$B$2:$N$107,12,FALSE)*1000,\"-\")","v":2261700},2,"http://laborsta.ilo.org/STP/guest",2007,"HRMIS","Human Resources Management Information System",1,"LDSW","http://www.pefa.org/en/assessment/jun14-pfmpr-public-en","-",3,1,"PS","Ministry Payroll Systems",1,"LDSW","http://www.pefa.org/en/assessment/jun14-pfmpr-public-en",2003,3,1,"C","Procurement Portal","http://www.goszakupki.by",2012,3,2,"http://www.goszakupki.by/search/auctions ",null,2,"DMFAS",null,1994,0,"MoF",0,14,63.636363636363633,"B","UMIC","ECA"]
[17,null,"Belgium","HIC",11008,506234.97313837998,45990,"http://www.treasury.fgov.be","Belgian Administration of the Treasury",2,"http://www.begroting.be/portal/page/portal/INTERNET_pagegroup/INTERNET_home/TAB149685",1,"http://www.begroting.be/portal/page/portal/INTERNET_pagegroup/INTERNET_fedcom",1,"http://www.begroting.be/portal/page/portal/INTERNET_pagegroup/INTERNET_ontvangst",0,"-",0,0,"-",2,1,0,"-",1,"http://www.begroting.be/portal/page/portal/INTERNET_pagegroup/INTERNET_hergroepering",1,1,2007,1,1,4,2006,0,null,"-",1,4,1,2007,1,1,2007,1,1,1,1,1,1,1,1,1,1,0,"-",1,"http://data.gov.be",0,"-",1,"http://www.begroting.be/portal/page/portal/INTERNET_pagegroup/INTERNET_algemenegegevensbank",2,"http://statbel.fgov.be","Belgium National Institute of Statistics","http://www.bnb.be    ","National Bank of Belgium","http://ccff02.minfin.fgov.be/KMWeb/",1,"http://www.freedominfo.org/wp-content/uploads/documents/global_survey2006.pdf",1,"http://www.begroting.be/portal/page/portal/INTERNET_pagegroup/INTERNET_voorschriften/TAB149685",2,"-",0,3,"-","dut","fre","eng","-",0,"FEDCOM","Federal Public Budget and Management Control","C","T",3,2009,"C+L",1,2,"SAP","Web",2,"-","-","-","-","-","-","-","-","-","-","-","-","-","-","-","-","-",null,1,25,0.75638000000000005,0.62744999999999995,0.67715999999999998,0.69879999999999998,0.89319999999999999,24,0.77180000000000004,0.64710000000000001,0.74199999999999999,0.9264,null,"EU","OECD",null,null,"Belgium",5,1,1,2,1,2,null,null,null,2,null,16,61.53846153846154,"B",null,17,"Belgium","BEL",null,null,"http://www.belgium.be",2,"http://my.belgium.be/login.html?locale=nl",0.67720000000000002,94,64,42,50,61,null,null,null,null,"http://treasury.fgov.be",1970,"http://www.nbb.be/pub/01_00_00_00_00/01_01_00_00_00/01_01_07_00_00.htm?l=en",1988,3,4,"-","-","-","-","http://financien.belgium.be/nl/E-services",2002,"Single Window","MyMinFin, Tax on web",2,"COTS","http://financien.belgium.be/nl/E-services",2002,3,2,"http://www.fiscus.fgov.be",1922,1952,3,"PLDA ","Paperless Douanes et Accises",2,"COTS","http://plda.fgov.be/fr/bienvenue",2006,3,2,1,0,"http://financien.belgium.be/nl/E-services/",2003,3,1,"http://www.fedict.belgium.be/en/online_applications/interactieplatformen/detailfiches/epayment.jsp?referer=tcm:464-125178-64",2011,2,"http://code.google.com/p/eid-dss/",2007,3,{"$f":"IFERROR(VLOOKUP($C19,'PS Employment'!$B$2:$N$107,12,FALSE)*1000,\"-\")","v":840700},2,"http://laborsta.ilo.org/STP/guest",2010,"DeBOHRA","Data Base Oracle for Human Resources Administration",2,"Oracle","http://ceur-ws.org/Vol-570/570-complete.pdf ",2008,3,2,"DeBOHRA","Data Base Oracle for Human Resources Administration",2,"Oracle","http://ceur-ws.org/Vol-570/570-complete.pdf ",2008,3,2,"-","Public Procurement Portal","http://www.publicprocurement.be ",2011,3,2,"https://enot.publicprocurement.be ","Belgium Federal Public Debt Agency",null,null,null,null,null,null,null,16,72.727272727272734,"B","HIC"]
[18,null,"Belize","LMIC",356.6,1322.3939307303237,3710,"http://www.mof.gov.bz","Ministry of Finance of Belize",1,"http://www.belize.gov.bz/index.php/approved-budget-2014-2015",1,"http://sifbelize.org/LinkClick.aspx?fileticket=WJ4Ue5aFZSc%3D&tabid=74",0,"-",0,"-",0,0,"-",1,1,0,"-",0,"http://www.mof.gov.bz/dms20uc/dm_browse.asp?pid=84",1,1,2001,0,null,"-","-",0,null,"-",1,4,0,2012,0,null,"-",1,0,0,0,0,1,1,0,0,0,0,"-",1,"http://www.belize.gov.bz",0,"-",0,"-",0,"http://statisticsbelize.org.bz","Statistical Institute of Belize","http://www.centralbank.org.bz  ","Central Bank of Belize","-",0,"-",1,"http://www.mof.gov.bz/aboutus.asp",0,"-",0,3,"Option for subscription to Ministry of Finance Newsletter","eng ","-","-","-","-","FS","Financial System","C","F",3,1999,"C",1,2,"SmartStream","Web",3,"Jan 2009","Final",1,"X","X","X","X","X","X","X","X","X","X",1.55,1.7741935483870968,"-","-",null,0,120,0.37737999999999999,0.29410999999999998,0.37795000000000001,0.15295,0.60119999999999996,124,0.39229999999999998,0.3987,0.16270000000000001,0.61550000000000005,"LCR",null,null,null,null,"Belize",0,null,null,null,null,0,null,null,null,null,"2013-05-06",7,26.923076923076923,"C",null,18,"Belize","BLZ",null,null,"http://www.belize.gov.bz",1,"http://www.reporter.bz/business/cito-working-towards-e-government",0.378,66,50,16,15,36,null,null,null,null,"http://www.mof.gov.bz",1981,"http://www.cito.gov.bz/GICS.htm",1999,3,4,"-","-","-","-","http://www.incometaxbelize.gov.bz",1924,"SIGTAS","Standard Integrated Government Tax System",2,"SIGTAS","http://siteresources.worldbank.org/EXTSEMCAR/Resources/SEMCAR_Second_Year_Progress_Report.pdf?resourceurlname=SEMCAR_Second_Year_Progress_Report.pdf",2002,3,2,"http://www.customs.gov.bz",1955,2008,4,"ASYCUDA World","Automated SYstem for CUstoms DAta",2,"ASYCUDA W","http://www.customs.gov.bz/asycuda.html",1993,3,2,1,1,"http://www.gst.gov.bz/press/may10_07.html",2007,3,1,"-","-",0,"http://www.wipo.int/wipolex/en/text.jsp?file_id=209489",2003,1,15600,1,"http://idbdocs.iadb.org/wsdocs/getdocument.aspx?docnum=38061144",2011,"HRMIS","Human Resources Management Information System",2,"SmartStream","http://idbdocs.iadb.org/wsdocs/getdocument.aspx?docnum=831589 ",2005,3,2,"FS","Financial System",2,"SmartStream","http://idbdocs.iadb.org/wsdocs/getdocument.aspx?docnum=831589 ",2005,3,2,"X","-","http://www.oas.org/juridico/english/blz_workshop.pdf","-",0,0,"-",null,2,"CS-DRMS",null,1987,3,"MoF",null,14,63.636363636363633,"B","LMIC","LCR"]
[19,null,"Benin","LIC",9099.9220000000005,7119.5677967903339,780,"http://www.finances.bj","Benin Ministry of Economy and Finances",0,"-",2,"http://www.sndi.ci/index.php/component/content/article/35-infosndi/78-sigfip.html",0,"-",0,"-",0,0,"-",1,0,1,"http://www.finances.bj/IMG/pdf/budget_des_citoyens_relatif_au_budget_adopte_2014.pdf",1,"http://www.finances.bj/spip.php?article1169",0,null,"-",0,null,"-","-",0,null,"-",0,null,null,"-",0,null,"-",0,0,0,0,0,0,0,0,0,0,0,"-",0,"-",0,"-",0,"-",0,"http://insae-bj.org ","Institut national de la statistique et de l'analyse économique French (INSAE)","http://www.bceao.int ","Central Bank of West African States (BCEAO)","-",0,"-",0,"-",0,"-",0,1,"-","fre","-","-","-","-","ASTER/SIGFIP","Application des Services du Trésor en Réseau / Système Intégré de Gestion des Finances Publiques","C","T",3,2004,"C",1,1,"LDSW > Oracle","CS",1,"Sep 2007","Public",1,"C","C","C","B+","C","D","C","D+","D","D+",1.85,1.967741935483871,1,"-",null,2,180,0.16850000000000001,0.17646999999999999,0.11022999999999999,0.11964,0.27560000000000001,179,0.2064,0.1961,0.1118,0.31130000000000002,"AFR",null,null,null,null,"Benin",1,null,1,null,null,0,null,null,null,null,null,5,19.230769230769234,"D",null,19,"Benin","BEN",null,null,"http://www.gouv.bj",0,"http://www.gouv.bj/demarches-administratives",0.11020000000000001,47,7,2,6,14,null,null,null,null,"http://www.finances.bj/spip.php?article430",1990,"http://afritacouest.org/images/23coEng.pdf","-",0,"-","-","-","-","-","http://www.impots.finances.gouv.bj/accueil",1967,"-","Forms and information",0,"-","-","-",0,1,"http://www.douanes-benin.net",1993,1998,4,"ASYCUDA++","Automated SYstem for CUstoms DAta",2,"ASYCUDA ++","http://unctad.org/en/PublicationsLibrary/dtlasycuda2011d1_en.pdf",2003,3,2,1,1,"-","-",1,0,"-","-",0,"-","-",0,63000,1,"http://unpan1.un.org/intradoc/groups/public/documents/un/unpan023250.pdf",2005,"SIGFAE","Integrated Management System Officials and Civil Servants",1,"LDSW","https://www.fonctionpublique.egouv.ci/?fp=personnel_pension","-",2,2,"PS","Payroll System",1,"LDSW","http://www.pefa.org/en/assessment/bj-sep07-pfmpr-public-en","-",3,1,"B","SIGMAP","http://www.armp.bj/index.php/13-reformes/42-systeme-actuel-des-marches-publics","-",1,0,"-",null,2,"CS-DRMS",null,1995,3,"CAA",null,8,36.363636363636367,"C","LIC","AFR"]
[20,null,"Bhutan","LMIC",738.26700000000005,1569.4495399427042,2130,"http://www.mof.gov.bt","Bhutan Ministry of Finance",2,"http://www.mof.gov.bt/index.php?deptid=17&id=27",2,"http://www.myrbpems.bt",1,"-",0,"-",0,0,"-",2,1,0,"-",1,"http://www.mof.gov.bt/index.php?deptid=13&id=79",1,1,1993,1,1,3,2007,0,null,"-",1,4,1,1993,0,null,"-",1,1,1,0,0,1,1,1,1,0,0,"-",0,"-",0,"-",1,"http://www.mof.gov.bt/downloads/BudgetReportFY2008-09.pdf",0,"http://www.nsb.gov.bt","Bhutan National Statistics Bureau","http://www.rma.org.bt ","Royal Monetary Authority of Bhutan","-",0,"-",1,"http://www.mof.gov.bt/index.php?deptid=11&id=53",0,"-",0,1,"-","eng","-","-","-","-","PEMS","Public Expenditure Management System","C","F",3,2008,"C+L",1,1,"LDSW","Web",3,"Jun 2010","Public",1,"B","A","B","B+","B","A","D+","C+","B+","D+",2.95,2.9666666666666668,"-","-",null,1,143,0.28284999999999999,0.35293999999999998,0.24409,0.17546,0.42899999999999999,152,0.29420000000000002,0.35289999999999999,0.1143,0.4153,"SAR",null,null,null,null,"Bhutan",0,null,null,null,null,0,null,null,null,null,null,15,57.692307692307686,"B",null,20,"Bhutan","BTN",null,null,"http://www.bhutan.gov.bt",1,"http://www.bhutan.gov.bt",0.24410000000000001,69,23,2,15,25,null,null,null,null,"http://www.mof.gov.bt/content/pageContent.php?id=25",1961,"http://www.mof.gov.bt/publication/files/pub3un3519iz.pdf",2008,2,4,"-","-","-","-","http://www.mof.gov.bt",2001,"RAMIS","Revenue Administration and Management Information System",2,"PACE","http://www.mof.gov.bt/wp-content/uploads/2014/07/nr2011-2012.pdf",2013,3,2,"http://www.mof.gov.bt",2000,2002,0,"BACS ","Bhutan Automated Customs System",1,"LDSW","http://www.mof.gov.bt/wp-content/uploads/2014/07/yong2008.pdf",2004,3,2,0,0,"http://www.mof.gov.bt/pit/",2009,2,0,"-","-",0,"http://www.bicma.gov.bt/ACT/English.pdf",2006,1,13200,1,"http://unpan1.un.org/intradoc/groups/public/documents/un/unpan023230.pdf",2005,"CSIS","Civil service information system",1,"LDSW","http://csis.rcsc.gov.bt/RCSC/WebUI/Default.aspx",2010,3,2,"PEMS","Public Expenditure Management System",1,"LDSW","http://www.mof.gov.bt/wp-content/uploads/2014/07/PEMSEnhancement10012014.pdf",2014,3,2,"C","-","http://www.pppd.gov.bt","-",1,0,"-",null,2,"CS-DRMS",null,2006,3,"MoF",null,14,63.636363636363633,"B","LMIC","SAR"]
[21,null,"Bolivia","LMIC",10088.108,20421.58359994748,2020,"http://www.economiayfinanzas.gob.bo","Ministerio de Economía y Finanzas Públicas",2,"http://www.economiayfinanzas.gob.bo/index.php?opcion=com_indicadores&ver=indicadores&idc=585",2,"http://www.sigma.gob.bo/php/index.php",2,"http://vmpc.economiayfinanzas.gob.bo/financiera0.asp",1,"http://www.economiayfinanzas.gob.bo/index.php?opcion=com_indicadores&ver=indicadores&idc=582",1,1,"http://medios.economiayfinanzas.gob.bo/MH/documentos/ppto2011/index.htm",2,1,0,"-",1,"http://vmpc.economiayfinanzas.gob.bo/modelos_c.asp",1,1,2001,0,null,"-","-",0,null,"-",1,4,1,2001,1,1,2001,1,1,1,0,0,1,1,1,1,1,0,"-",0,"-",2,"http://www.sigma.gob.bo/pgn/sfpm2011/index.htm?&id_item=527",1,"http://www.economiayfinanzas.gob.bo/index.php?opcion=com_contenido&ver=contenido&id=2094&id_item=625&id_item=489",1,"http://www.ine.gob.bo","National Institute of Statistics","http://www.bcb.gob.bo   ","Central Bank of Bolivia","-",1,"http://www.economiayfinanzas.gob.bo/index.php?opcion=com_contenido&ver=contenido&id=834&id_item=464",1,"http://www.economiayfinanzas.gob.bo/institucion/estorgpdf.php?sw=0",0,"National laws and regulations",1,3,"-","spa","eng","-","-",0,"SIGMA","Sistema Integrado de Gestión y Modernización Administrativa","C","F",3,2003,"C+L",1,1,"LDSW > Oracle","Web",3,"Oct 2009","Public",2,"A","C","B","C","B","D","C+","D+","D+","C",2.25,2.5172413793103448,12,13,null,0,103,0.45617000000000002,0.41176000000000001,0.39369999999999999,0.23241999999999999,0.74239999999999995,106,0.46579999999999999,0.4118,0.17860000000000001,0.80720000000000003,"LCR",null,null,null,null,"Bolivia",1,null,null,1,null,0,null,null,null,null,null,19,73.076923076923066,"B",null,21,"Bolivia","BOL",null,null,"http://www.bolivia.gob.bo",2,"http://www.adsib.gob.bo/adsibnueva",0.39369999999999999,69,39,16,32,37,null,null,null,null,"http://www.economiayfinanzas.gob.bo/index.php?id_portal=VTCP",1993,"http://www.economiayfinanzas.gob.bo/index.php?opcion=com_contenido&ver=contenido&id=1620&seccion=315&categoria=458",2000,3,4,"-","-","-","-","http://www.impuestos.gob.bo",2000,"e-Tax","Virtual Office",2,"COTS","http://ov.impuestos.gob.bo/Login.aspx",2010,3,2,"http://www.aduana.gob.bo",1990,1997,4,"ASYCUDA++","Automated SYstem for CUstoms DAta",2,"ASYCUDA ++","http://www.sidunea.aduana.gob.bo/",2004,3,2,1,0,"http://ov.impuestos.gob.bo/Login.aspx",2010,2,0,"-","-",0,"http://www.redipd.org/documentacion/legislacion/common/legislacion/Bolivia/proyecto_ley_080_2007.pdf",2007,1,245000,1,"http://www.pefa.org/en/assessment/bo-oct09-pfmpr-public-en",2008,"SIGMA","Sistema Integrado de Gestión y Modernización Administrativa",1,"LDSW","https://www.pefa.org/en/assessment/bo-oct09-pfmpr-public-en ",2003,3,2,"SIGMA","Sistema Integrado de Gestión y Modernización Administrativa",1,"LDSW","http://www.sigma.gob.bo/php/index.php ",2003,3,2,"B","SICOES","http://www.sicoes.gob.bo",2003,3,1,"https://www.sicoes.gob.bo/general/frames.php?direccion=../incumplimiento/pacno.php",null,2,"DMFAS 5.3",null,1993,3,"MoF","4T",16,72.727272727272734,"B","LMIC","LCR"]
[22,null,"Bosnia and Herzegovina","UMIC",3752.2280000000001,17950.881762669222,4780,"http://www.fmf.gov.ba","Bosnia and Herzegovina Ministry of Finance",2,"http://www.fmf.gov.ba/",1,"http://www.fiscalreform.net/pdfs/bosnia_treasury_and_payment_bureaus.pdf",1,"-",0,"-",0,0,"-",1,1,0,"-",1,"http://www.fmf.gov.ba/zakoni/2010/bosanski/pravilnici/Pravilnik%20o%20kontnom%20okviru,sadrzaju%20konta%20i%20primjeni%20kontnog%20okvira%20za%20banke%20i%20druge%20financijske%20organizacije.pdf",1,1,2000,1,1,3,2008,0,null,"-",1,4,0,2006,1,0,2011,1,1,0,0,0,1,1,1,1,0,0,"-",0,"-",0,"-",0,"-",0,"http://www.bhas.ba","Bosnia and Herzegovina Agency for Statistics","http://www.cbbh.ba ","Central Bank of Bosnia and Herzegovina ","-",0,"-",1,"http://www.fmf.gov.ba/publikacije/Unutarnje_ustrojstvo.pdf",0,"National laws and regulations",0,2,"-","hrv","bos","eng","-",0,"FMIS","Financial Management Information System","D","F",3,2004,"C+L",1,2,"Oracle","Web",3,"Nov 2013","Draft","-","-","-","-","-","-","-","-","-","-","-","-","-",50,44,null,2,97,0.47069,0.23529,0.28345999999999999,0.39979999999999999,0.7288,79,0.53280000000000005,0.3725,0.39169999999999999,0.83409999999999995,"ECA",null,null,null,"F","Bosnia and Herzegovina",0,null,null,null,null,0,null,null,null,null,null,13,50,"B",null,22,"Bosnia and Herzegovina","BIH",null,null,"http://www.fbihvlada.gov.ba",0,"http://www.esrpska.com",0.28349999999999997,56,41,7,12,28,null,null,null,null,"http://www.vijeceministara.gov.ba/ministarstva/finansije_i_trezor/default.aspx?id=108&langTag=en-US",1995,"http://www.mft.gov.ba/bos/images/stories/ministarstvo/STRATEGIJA_PIFC_konacno_22012010_EN.pdf",2004,3,4,"-","-","-","-","http://www.pufbih.ba",2003,"ALICE","A Logical Integrated Computerized Environment",1,"LDSW ?","http://www.uino.gov.ba/en/IT_sektor/ALICE.html",2005,3,2,"http://www.uino.gov.ba",2003,2008,4,"ASYCUDA++","Automated SYstem for CUstoms DAta",2,"ASYCUDA ++","http://www.uino.gov.ba/en/IT_sektor/Asycuda.html",2003,3,2,1,1,"http://81.93.76.226/SiteCir/Ppo.aspx",2012,2,1,"-","-",0,"-","-",0,210700,2,"http://unpan1.un.org/intradoc/groups/public/documents/un/unpan023209.pdf",2003,"HRMIS","HRM Information System",2,"COTS","http://www.adsfbih.gov.ba/index.php?lang=ba&sel=165 ","-",2,2,"FMIS","Financial Management Information System",2,"Oracle","http://www.pefa.org/en/assessment/ba-bih-may14-pfmpr-public-en",2004,3,2,"-","Go-Procure","http://javnenabavke.ba",2011,3,1,"http://javnenabavke.ba","Federal Ministry of Finance",null,null,null,null,null,null,null,15,68.181818181818173,"B","UMIC","ECA"]
[23,null,"Botswana","UMIC",2030.7380000000001,15175.777449291219,7470,"http://www.finance.gov.bw","Botswana - Ministry of Finance and Development Planning",2,"http://www.finance.gov.bw/index.php?option=com_content1&parent_id=334&id=336",1,"http://www.oag.org.bw/wp-content/uploads/2008/11/GovernmentAccountingandBudgetingSystem%20_GABS_%202007.pdf",1,"-",0,"-",0,0,"-",1,1,0,null,0,"-",0,null,"-",0,null,"-","-",0,null,"-",1,4,0,2005,1,1,2002,1,1,0,0,0,1,1,0,0,0,0,"-",0,"-",0,"-",0,"-",0,"http://www.cso.gov.bw","Botswana Central Statistics Office ","http://www.bankofbotswana.bw ","Bank of Botswana","-",0,"-",0,"-",0,"-",0,3,"-","eng","-","-","-","-","GABS","Government Accounting and Budgeting System","C","F",3,2004,"C+L",1,2,"Oracle","Web",2,"Aug 2013","Public",2,"C","A","B","D+","C","A","A","C+","C+","D",2.65,2.62,50,51,null,1,112,0.41983999999999999,0.31372,0.30708000000000002,0.29693999999999998,0.65549999999999997,121,0.41860000000000003,0.35949999999999999,0.18729999999999999,0.70909999999999995,"AFR",null,null,null,null,"Botswana",0,null,null,null,null,0,null,null,null,null,"2013-05-06",9,34.615384615384613,"C",null,23,"Botswana","BWA",null,null,"http://www.gov.bw",1,"http://www.gov.bw",0.30709999999999998,72,36,5,15,30,null,null,null,null,"http://www.finance.gov.bw/index.php?option=com_content1&parent_id=184&pparent=187&cat_id=304&id=318",2009,"http://ec.europa.eu/europeaid/what/economic-support/public-finance/documents/botswana_pefa_report_2009_en.pdf","-",0,"-","-","-","-","-","www.burs.org.bw",2004,"TMS","Tax Management System",2,"COTS","http://www.burs.org.bw/?option=com_content&view=article&id=48&Itemid=161",2011,3,2,"http://www.burs.org.bw",2004,1978,4,"ASYCUDA++","Automated SYstem for CUstoms DAta",2,"ASYCUDA ++","http://www.burs.org.bw/index.php?option=com_content&view=article&id=95&Itemid=243",2002,3,2,1,0,"http://www.burs.org.bw/",2014,3,0,"-","-",0,"http://article.wn.com/view/2014/04/10/ELECTRONIC_COMMUNICATIONS_AND_TRANSACTIONS_BILL_PASSES_Gover/",2014,1,{"$f":"IFERROR(VLOOKUP($C25,'PS Employment'!$B$2:$N$107,12,FALSE)*1000,\"-\")","v":146952},2,"http://laborsta.ilo.org/STP/guest",2010,"HCMS","Oracle Human Capital Management System",2,"Oracle","http://www.dcdmconsulting.com/?q=node/252",2014,3,2,"GPPP","Government Payroll, Passages and Pensions",2,"Oracle","http://www.pefa.org/en/assessment/bw-aug13-pfmpr-public-en",2005,3,2,"B+","IPMS","http://www.ppadb.co.bw",2013,3,1,"http://ipms.ppadb.co.bw/login ",null,2,"CS-DRMS",null,1986,3,"MoF",null,15,68.181818181818173,"B","UMIC","AFR"]
[24,null,"Brazil","UMIC",196655.014,2107744.9665087764,10720,"http://www.fazenda.gov.br","Ministry of Finance of Brazil",2,"http://www.stn.fazenda.gov.br",2,"https://www.tesouro.fazenda.gov.br/pt/siafi",3,"https://www.tesouro.fazenda.gov.br/index.php?option=com_content&view=article&layout=subhome&id=234&Itemid=436&lang=pt",1,"https://www.tesouro.fazenda.gov.br/pt/servicos/series-historicas",1,1,"http://consulta.tesouro.fazenda.gov.br/cofin_novosite/dotacao_vs_desp_param.asp",2,1,2,"http://www.portaldatransparencia.gov.br/",1,"http://www.stn.fazenda.gov.br/contabilidade_governamental/plano_contas.asp",1,1,1980,1,1,3,2003,1,1,2003,1,2,1,1980,1,1,2004,1,1,1,0,1,1,1,1,1,1,1,"http://www.portaldatransparencia.gov.br/",1,"http://dados.gov.br",2,"http://manualsiafi.tesouro.fazenda.gov.br/150000",1,"http://www.fazenda.gov.br/",3,"http://www.ibge.gov.br/english/default.php ","Brazilian Institute of Geography and Statistics (IBGE)","http://www.bcb.gov.br ","Central Bank of Brazil","http://www.bcb.gov.br/?INDECO; http://www.stn.fazenda.gov.br/hp/resultado.asp",1,"http://www.fazenda.gov.br/acessoainformacao/",1,"http://www.fazenda.gov.br/",2,"National laws and regulations",1,3,"Youtube, Twitter","por","eng","-","-",0,"SIAFI + SIOP","Sistema Integrado de Administração Financeira do Governo Federal","C","F",3,1987,"C+L",1,1,"LDSW + OSS","Web",3,"Dec 2009","Public",1,"A","A","A","B","A","A","A","C+","C+","NU",3.5555555555555554,3.5178571428571428,73,71,1,1,57,0.60082000000000002,0.70587999999999995,0.59841999999999995,0.46681,0.73719999999999997,59,0.61670000000000003,0.67320000000000002,0.35680000000000001,0.82030000000000003,"LCR",null,null,null,null,"Brazil",9,4,1,2,2,11,2,null,8,1,null,26,100,"A",null,24,"Brazil","BRA",null,null,"http://www.brazil.gov.br",2,"http://www.servicos.gov.br",0.59840000000000004,100,68,28,26,54,null,null,null,null,"http://www.tesouro.fazenda.gov.br/",1986,"http://www.tesouro.fazenda.gov.br/web/stn/sobre-o-tesouro-nacional",1988,3,4,"-","-","-","-","http://www.receita.fazenda.gov.br",2007,"SIEF","Sistema Integrado de Informações Econômico Fiscais, Receitanet, and more",1,"LDSW","https://www.serpro.gov.br/conteudo-solucoes/produtos/fazenda-publica",1997,3,3,"http://www.receita.fazenda.gov.br",2007,1981,3,"SISCOMEX","Foreign Trade Integrated System",2,"COTS","http://portalsiscomex.gov.br",1993,3,3,1,1,"http://www.receita.fazenda.gov.br/aplicacoes/atbhe/tus/default.aspx?/p/1/a/10",1997,3,1,"http://www.receita.fazenda.gov.br/aplicacoes/atbhe/tus/default.aspx?/p/1/a/10","-",1,"http://www.iti.gov.br/certificacao-digital/beneficios",2001,3,{"$f":"IFERROR(VLOOKUP($C26,'PS Employment'!$B$2:$N$107,12,FALSE)*1000,\"-\")","v":11474008},2,"http://laborsta.ilo.org/STP/guest",2009,"SIAPE","Integrated Human Resources Management System",1,"LDSW","https://www.pefa.org/en/assessment/br-dec09-pfmpr-public-en ",1990,3,1,"SIAFI","Integrated System of Financial Administration of the Federal Government",1,"LDSW","http://www.stn.fazenda.gov.br/siafi",1987,3,1,"B+","Compras Net ","http://www.comprasgovernamentais.gov.br",2001,3,2,"http://www.comprasgovernamentais.gov.br","Brazilian National Treasury Secretariat",1,"LDSW",null,null,null,null,null,19,86.36363636363636,"A","UMIC","LCR"]
[25,null,"Brunei Darussalam","HIC",405.93799999999999,16360,40301.720952460717,"http://www.mof.gov.bn","Ministry of Finance",0,"-",2,"http://www.mof.gov.bn/index.php/departments/treasury",0,"-",0,"-",0,0,"-",0,0,0,"-",0,"-",0,null,"-",0,null,"-","-",0,null,"-",0,null,null,"-",0,null,"-",0,0,0,0,0,0,0,0,0,0,0,"-",0,"-",0,"-",0,"-",0,"http://www.depd.gov.bn/dept_dos.html","Dept of Econ Planning and Dev - Dept of Statistics","http://www.mof.gov.bn/English/BCMB/Pages/default.aspx","Brunei Currency and Monetary Board","-",0,"-",1,"http://www.mof.gov.bn/English/Administration/AboutUs/OrganisationalStructure/Pages/default.aspx",0,"-",0,0,"-","eng","-","-","-","-","TAFIS","Treasury Accounting and Financial Information System","C","T",3,2002,"C",1,1,"LDSW > Oracle","Web",2,"-","-","-","-","-","-","-","-","-","-","-","-","-","-","-","-","-",null,"-",86,0.50424000000000002,5.8819999999999997E-2,0.36220000000000002,0.36897999999999997,0.78149999999999997,54,0.625,0.5948,0.45500000000000002,0.82530000000000003,null,"PAC",null,"APEC",null,"Brunei Darussalam",0,null,null,null,null,0,null,null,null,null,null,2,7.6923076923076925,"D",null,25,"Brunei Darussalam","BRN",null,null,"http://www.gov.bn",1,"http://www.brunei.gov.bn",0.36220000000000002,34,39,28,38,35,null,null,null,null,"http://www.mof.gov.bn/index.php/treasury-background",1984,"http://www.mof.gov.bn/attachments/article/93/pembayaran%20notes%20-%20mei%202009v1.pdf",2009,2,3,"-","-","-","-","http://www.mof.gov.bn/index.php/divisions/revenue",1950,"STARS","System of Tax Administration and Revenue Services.",2,"COTS","http://www.stars.gov.bn ",2012,3,2,"http://www.customs.gov.bn",1906,1996,0,"E- Customs + NSW","Electronic Customs Portal + National Single Window",1,"LDSW","https://ecustoms.mof.gov.bn/SignIn.aspx",2007,3,2,1,0,"https://www.stars.gov.bn/eServices/Public/Login.aspx",2012,3,0,"-","-",0,"http://unpan1.un.org/intradoc/groups/public/documents/apcity/unpan006031.pdf",2000,1,47419,1,"http://www.oecd.org/site/seao/Brunei%20Darussalam.pdf",2010,"HRMIS","Human Resource Management Information system",2,"COTS","http://www.bruneiresources.com/pdf/accsm12_brunei_technicalpaper.pdf",2002,3,2,"TAFIS","Treasury Accounting and Financial Information System",1,"LDSW","http://www.mof.gov.bn/index.php/departments/treasury ",2002,3,2,"-","-","http://www.mof.gov.bn/index.php/general-information-state-tender-board","-",0,0,"-",null,null,null,null,null,null,null,null,13,59.090909090909093,"B","HIC"]
[26,null,"Bulgaria","UMIC",7476,48818.742595797827,6530,"http://www.minfin.bg","Ministry of Finance of the Republic of Bulgaria",2,"http://www.minfin.bg/bg/page/4",2,"http://www.minfin.bg/en/documents/?cat=1&vid=-1&dq=FMIS",1,"-",1,"http://www.minfin.bg/bg/statistics/7",0,0,"-",1,1,0,"-",0,"-",1,1,1997,1,1,3,2007,0,null,"-",1,2,1,2002,0,null,"-",1,1,0,0,0,1,1,1,0,0,0,"-",1,"http://parliament.yurukov.net/index_en.html",0,"-",1,"http://www.minfin.bg/bg/statistics/11",1,"http://www.nsi.bg","Bulgaria National Statistical Institute","http://www.bnb.bg ","Bulgarian National Bank","-",0,"-",0,"-",2,"National laws and regulations",0,3,"There is a provision for reporting corruption alerts","bul","eng","-","-",0,"FMIS","Financial Management Information System","C","T",3,2009,"C",1,1,"LDSW","Web",2,"-","-","-","-","-","-","-","-","-","-","-","-","-","-","-",65,56,1,3,73,0.54208999999999996,0.25490000000000002,0.23622000000000001,0.59406000000000003,0.79600000000000004,60,0.61319999999999997,0.49020000000000002,0.50060000000000004,0.84860000000000002,"ECA","EU",null,null,null,"Bulgaria",3,2,null,null,1,0,null,null,null,null,null,14,53.846153846153847,"B",null,26,"Bulgaria","BGR",null,null,"http://www.government.bg",1,"http://www.egov.bg",0.23619999999999999,59,30,0,15,24,null,null,null,null,"http://www.minfin.bg/en/page/58",1879,"http://www.minfin.bg/en/page/26",2001,3,4,"-","-","-","-","http://www.nap.bg",1991,"RMS","Revenue Management System",2,"COTS ?","http://documents.worldbank.org/curated/en/2009/12/11691797/bulgaria-revenue-administration-reform-project",2008,3,2,"http://www.customs.bg",1879,1973,3,"BICIS ","Bulgarian Integrated Customs Information System",2,"COTS","https://ecustoms.bg/eportal/",2003,3,2,1,1,"https://inetdec.nra.bg/index.html",2008,3,1,"https://pay.egov.bg/main/en/",2009,2,"http://www.mvr.bg/en/CSCA/default.htm",2013,3,{"$f":"IFERROR(VLOOKUP($C28,'PS Employment'!$B$2:$N$107,12,FALSE)*1000,\"-\")","v":603200},2,"http://laborsta.ilo.org/STP/guest",2009,"HeRMeS","Integrated information system for human resources management",1,"LDSW","http://www.technologica.com/en/projects",2006,3,2,"HeRMeS","Integrated information system for human resources management",1,"LDSW","http://www.technologica.com/en/projects",2006,3,2,"-","Public Procurement Portal","http://www.aop.bg",2014,2,1,"-","Ministry of Finance",null,null,null,null,null,null,null,15,68.181818181818173,"B","UMIC","ECA"]
[27,null,"Burkina Faso","LIC",16967.845000000001,9695.861998877208,570,"http://www.finances.gov.bf","Burkina Faso - Ministère de l'économie et des finances",2,"http://www.dgb.gov.bf/documents.php",2,"http://www.tresor.bf/spip.php?page=articleS&id_article=29",1,"-",0,"-",0,0,"-",1,1,0,"-",1,"http://www.finances.gov.bf/IMG/pdf/Budget_Entier.pdf",1,0,2009,1,0,3,2011,0,null,"-",1,4,0,2009,0,null,"-",1,1,0,0,0,1,1,0,0,1,0,"-",1,"http://data.gov.bf",2,"http://www.tresor.bf/pages/infor_collectivites.htm",1,"http://www.finances.gov.bf/IMG/pdf/Budget_Entier.pdf",2,"http://www.insd.bf","Institut national de la statistique et de la démographie (INSD) ","http://www.bceao.int ","Central Bank of West African States (BCEAO)","http://www.tresor.bf",0,"-",1,"http://www.finances.gov.bf/spip.php?article7",2,"-",1,3,"There is webmail access to the Ministry of Finance website","fre","-","-","-","-","CID","Circuit Informatisé de la Dépense / Integrated Expenditure System","C","T",3,2000,"C",1,2,"Oracle","CS",2,"Jun 2010","Public",2,"A","A","C","B+","C+","D","A","B+","D+","C+",2.85,2.7903225806451615,23,5,null,3,178,0.18043000000000001,0.13725000000000001,0.29920999999999998,8.4229999999999999E-2,0.1578,185,0.1578,0.29409999999999997,4.5400000000000003E-2,0.1338,"AFR",null,null,null,null,"Burkina Faso",0,null,null,null,null,0,null,null,null,null,null,11,42.307692307692307,"C",null,27,"Burkina Faso","BFA",2008,null,"http://www.gouvernement.gov.bf",0,"-",0.29920000000000002,38,41,9,32,29,null,null,null,null,"http://www.tresor.bf/",1960,"http://www.tresor.bf/spip.php?page=articleS&id_article=75",2003,3,3,"72...312","-","-","-","http://www.finances.gov.bf",1993,"SINTAX","Revenue Management System",2,"COTS ?","http://www.dgi.gov.bf/dgi/page2_3b.php",2005,3,2,"http://www.douanes.bf",1960,1966,4,"ASYCUDA++","Automated SYstem for CUstoms DAta",2,"ASYCUDA ++","http://www.douanes.bf/index.php/en/dedouanement-informatise/le-sydonia",1991,3,2,1,0,"-","-",0,0,"-","-",0,"http://www.arce.bf/spip.php?article169",2011,2,{"$f":"IFERROR(VLOOKUP($C29,'PS Employment'!$B$2:$N$107,12,FALSE)*1000,\"-\")","v":76762},2,"http://laborsta.ilo.org/STP/guest",2007,"SIGASPE","The Integrated Administrator and Staff Employee of the State System",1,"LDSW","http://www.aib.bf/m-201-la-decongestion-des-actes-de-gestion-pour-un-traitement-des-dossiers-avec-celerite.html",2006,3,2,"SIGASPE","The Integrated Administrator and Staff Employee of the State System",1,"LDSW","http://www.aib.bf/m-201-la-decongestion-des-actes-de-gestion-pour-un-traitement-des-dossiers-avec-celerite.html",2006,3,2,"B","SIMP","http://www.dgmp.gov.bf ",2008,3,1,"http://www.dcmp.bf/SiteDcmp/statistiques-marches-publics/statistiques-des-marches.jsp ",null,2,"DMFAS 5.3",null,1997,3,"MoF","4F",12,54.54545454545454,"B","LIC","AFR"]
[28,null,"Burundi","LIC",8575.1720000000005,2158.1281950012471,250,"http://www.finances.gov.bi","Ministère des Finances et de la Planification du Développement Economique",2,"http://www.finances.gov.bi/index.php?option=com_content&view=category&layout=blog&id=82&Itemid=134",2,"http://www.page.bi/spip.php?article35",1,"-",0,"-",0,0,"-",0,0,0,"-",0,"-",0,null,"-",0,null,"-","-",0,null,"-",0,null,null,"-",0,null,"-",0,0,0,0,0,0,0,0,0,0,0,"-",0,"-",0,"-",0,"-",0,"http://burundistats.org","Institut de Statistiques et Des Etudes Economiques du Burundi","http://www.brb-bi.net ","Bank of the Republic of Burundi","-",0,"-",0,"-",0,"-",0,0,"-","fre","-","-","-","-","SIGEFI","Système Intégré de Gestion des Finances / Integrated Public Financial Management System","C","T",3,2004,"C",1,1,"LDSW > MS SQL","Web",2,"Mar 2012","Public",2,"A","B","B","C+","A","C","C+","B+","D+","D+",2.75,2.4137931034482758,"-","-",null,1,172,0.19278000000000001,5.8819999999999997E-2,1.5740000000000001E-2,2.332E-2,0.5393,173,0.2288,0.15029999999999999,1.7299999999999999E-2,0.51880000000000004,"AFR",null,null,null,"F","Burundi",0,null,null,null,null,0,null,null,null,null,null,5,19.230769230769234,"D",null,28,"Burundi","BDI",null,null,"http://www.burundi-gov.bi",0,"-",1.5699999999999999E-2,19,7,0,0,6,null,null,null,null,"http://www.finances.gov.bi/",1997,"http://www-wds.worldbank.org/external/default/WDSContentServer/WDSP/IB/2012/10/01/000350881_20121001113803/Rendered/PDF/723340CAS0P1280Official0Use0Only090.pdf",2011,3,4,"-","-","-","-","http://www.obr.bi",2009,"SIGTAS","Standard Integrated Government Tax System",2,"SIGTAS","http://www.obr.bi/index.php/publications/actualites/202-formation-des-contribuables-sur-la-procedure-de-declaration-de-la-tva-par-sigtas",2002,3,2,"http://www.obr.bi",2009,1964,4,"ASYCUDA World","Automated SYstem for CUstoms DAta",2,"ASYCUDA W","http://unctad.org/en/PublicationsLibrary/dtlasycuda2011d1_en.pdf",1992,3,2,1,0,"-","-",1,0,"-","-",0,"-","-",0,80000,1,"http://www.arib.info/index.php?option=com_content&task=view&id=7000",2013,"HRMIS","Human Resources Management Information System",1,"LDSW > OS","http://www-wds.worldbank.org/external/default/WDSContentServer/WDSP/IB/2013/11/07/000350881_20131107090154/Rendered/INDEX/822490PGD0P144010Box379865B00OUO090.txt ",2013,3,2,"HRMIS","Human Rresource Management Information System",1,"LDSW > OS","http://documents.worldbank.org/curated/en/2011/11/15495967/burundi-fifth-economic-reform-support-grant-program",2013,3,2,"C+","PMIS","http://www.armp.bi","-",1,0,"-",null,2,"DMFAS 6.0",null,1987,3,"MoF",4,12,54.54545454545454,"B","LIC","AFR"]
[29,null,"Cambodia","LIC",14305.183000000001,11673.477784457325,820,"http://www.mef.gov.kh","Ministry of Economy and Finance of Cambodia",1,"http://www.mef.gov.kh/tofe.html",2,"http://fmis.mef.gov.kh/contents/uploads/2014/05/FMIS-Newsletter-001-English.pdf",1,"-",0,"-",0,0,"-",0,0,0,"-",1,"http://www.mef.gov.kh/budget.html",1,0,2010,1,0,4,2010,0,null,"-",1,2,1,2009,0,null,"-",0,0,0,0,0,0,0,0,0,0,0,"-",1,"http://www.opendevelopmentcambodia.net",1,"http://fmis.mef.gov.kh/fmis-project/fmis-project-plan.html",0,"-",2,"http://www.nis.gov.kh","Cambodia National Institute of Statistics ","http://www.nbc.org.kh ","National Bank of Cambodia","http://www.treasury.gov.kh",0,"-",1,"http://www.mef.gov.kh/about-ministry.html",2,"-",0,2,"-","khm","eng","-","-",0,"FMIS","Financial Management Information System","C","T",3,2011,"C+L",2,2,"People Soft, Oracle","Web",2,"Nov 2011","Public",1,"C","B","C","B","C","C","C+","D+","D+","D",2.0499999999999998,2.1896551724137931,15,15,null,2,139,0.29986000000000002,0.19606999999999999,0.17322000000000001,0.20745,0.51890000000000003,155,0.29020000000000001,0.1895,8.14E-2,0.59970000000000001,"EAP",null,null,null,null,"Cambodia",3,null,null,3,null,0,null,null,null,null,null,9,34.615384615384613,"C",null,29,"Cambodia","KHM",null,null,"http://www.information.gov.kh",0,"-",0.17319999999999999,50,18,5,9,19,null,null,null,null,"http://www.treasury.gov.kh/",1990,"http://www-wds.worldbank.org/external/default/WDSContentServer/WDSP/IB/2012/06/15/000356161_20120615033527/Rendered/PDF/699640WP0P1206070023B0PFM0Web0Final.pdf",2011,2,4,"-","-","-","-","http://www.tax.gov.kh",1993,"-","Forms and information",0,"-","-","-",0,1,"http://www.customs.gov.kh",1993,2001,4,"ASYCUDA World","Automated SYstem for CUstoms DAta",2,"ASYCUDA W","http://unctad.org/en/PublicationsLibrary/dtlasycuda2011d1_en.pdf",2007,3,2,1,0,"-","-",1,0,"-","-",0,"-","-",0,295800,2,"http://unpan1.un.org/intradoc/groups/public/documents/un/unpan023231.pdf",2004,"HRMIS","Human Resources Management Information System",2,"COTS","http://fmis.mef.gov.kh/contents/uploads/2014/05/FMIS-Newsletter-001-English.pdf","-",2,2,"HRMIS","Human Rresource Management Information System",2,"COTS","http://fmis.mef.gov.kh/contents/uploads/2014/05/FMIS-Newsletter-001-English.pdf","-",2,2,"C","-","http://www.mef.gov.kh/old/procurement/bid-advertisement.php",2013,2,1,"-",null,2,"DMFAS 5.3",null,2007,3,"MoF","4T",12,54.54545454545454,"B","LIC","EAP"]
[30,null,"Cameroon","LMIC",20030.362000000001,24137.505192463417,1210,"http://www.spm.gov.cm/fr/administrations-publiques/economie-et-finances.html","Cameroon Ministry of Finance and Economy",0,"-",1,"http://www-wds.worldbank.org/external/default/WDSContentServer/WDSP/IB/2008/09/04/000334955_20080904030253/Rendered/PDF/433690PAD0P0841LY10IDA1R20081019311.pdf",0,"-",0,"-",0,0,"-",0,0,1,"http://cameroon.openspending.org/en/index.html",0,"-",0,null,"-",0,null,"-","-",0,null,"-",0,null,null,"-",0,null,"-",0,0,0,0,0,0,0,0,0,0,0,"-",0,"-",0,"-",0,"-",0,"http://www.statistics-cameroon.org","Cameron Institut National de la Statistique","http://www.beac.int ","Bank of Central African States","-",0,"-",0,"-",0,"-",0,0,"-","fre","eng","-","-",0,"SIGEFI","Système Intégré de Gestion des Finances / Integrated Public Financial Management System","C","T",3,2004,"C",1,1,"LDSW > MS SQL","Web",2,"Jan 2008","Final",1,"X","X","X","X","X","X","X","X","X","X",1.9,2,10,2,null,1,144,0.27822999999999998,0.15686,0.19685,9.579E-2,0.54210000000000003,147,0.307,0.30070000000000002,6.4899999999999999E-2,0.5554,"AFR",null,null,null,null,"Cameroon",0,null,null,null,null,0,null,null,null,null,null,2,7.6923076923076925,"D",null,30,"Cameroon","CMR",null,"DAD","http://www.spm.gov.cm",0,"-",0.19689999999999999,47,25,7,9,21,null,null,null,null,"http://www.dgtcfm.cm/",2005,"http://www.dgtcfm.cm/index.php/fr/mutuelle-des-personnels-du-tresor-cameroun/2-uncategorised/394-conference-annuelle-2012-sous-theme-le-compte-unique-du-tresor-enjeux-et-perspectives.html",2007,3,4,"-","https://www.cameroon-tribune.cm/index.php?option=com_content&view=article&id=81636:le-tresor-public-fait-ses-comptes&catid=4:societe&Itemid=3","-","-","http://www.impots.cm",1983,"Web services","Online services and forms",1,"LDSW","http://teledeclaration-dgi.cm/modules/Common/Account/Login.aspx?s=t",2008,3,2,"http://www.douanescustoms-cm.net",1960,1965,4,"ASYCUDA++","Automated SYstem for CUstoms DAta",2,"ASYCUDA ++","http://unctad.org/en/PublicationsLibrary/dtlasycuda2011d1_en.pdf",2007,3,2,1,1,"-","-",1,0,"-","-",0,"http://egov.cm/index.php/nationale/8-pages-accueil/331-la-gestion-et-lexploitation-du-centre-pki-officiellement-confiees-a-lantic",2012,2,40000,1,"http://www.egov4dev.org/transparency/case/sigipes.shtml",2003,"SIGIPES II","Personnel Management System",2,"SAP","http://www-wds.worldbank.org/external/default/WDSContentServer/WDSP/IB/2008/09/04/000334955_20080904030253/Rendered/PDF/433690PAD0P0841LY10IDA1R20081019311.pdf ",2002,2,2,"SIGIPES II > ANTILOPE","Payroll Management System",2,"SAP","http://www-wds.worldbank.org/external/default/WDSContentServer/WDSP/IB/2008/09/04/000334955_20080904030253/Rendered/PDF/433690PAD0P0841LY10IDA1R20081019311.pdf ",2002,2,2,"X","ARMP Website","http://www.armp.cm",2014,3,1,"http://www.armp.cm/Marches_signes.php#tzM3 ","Autonomous Sinking Fund of Cameroon",2,"CS-DRMS",null,1995,3,"CAA",null,12,54.54545454545454,"B","LMIC","AFR"]
[31,null,"Canada","HIC",34482.779000000002,1570886.1278538189,45560,"http://www.fin.gc.ca","Canada Department of Finance",2,"http://www.fin.gc.ca/access/budinfo-eng.asp",2,"http://www.freebalance.com/customers/north_america.asp",1,"-",0,"-",0,0,"-",2,1,0,"-",0,"-",1,1,1990,1,1,5,1995,0,null,"-",1,4,1,1995,1,1,2004,1,1,0,0,1,1,1,1,1,0,0,null,1,"http://www.data.gc.ca/default.asp?lang=En",0,"-",0,"-",1,"http://www.statcan.gc.ca","Statistics Canada","http://www.bankofcanada.ca","Bank of Canada - Banque du Canada","-",1,"http://www.fin.gc.ca/admin/notices-avis-eng.asp",1,"http://www.fin.gc.ca/afc/index-eng.asp",0,"-",0,3,"Availability of FAQs (Frequently Asked Questions)","eng","fre","-","-",1,"GFMIS","Government Financial Management Information System","D","F",3,1994,"C+L",1,2,"FreeBalance","Web",3,"-","-","-","-","-","-","-","-","-","-","-","-","-","-","-","-","-",1,3,11,0.84177000000000002,0.82352000000000003,0.91337999999999997,0.71675999999999995,0.8952,11,0.84299999999999997,0.88890000000000002,0.71630000000000005,0.92379999999999995,null,"AME","OECD","APEC",null,"Canada",1,null,1,null,null,1,null,1,null,null,null,16,61.53846153846154,"B",null,31,"Canada","CAN",null,null,"http://www.canada.ca",2,"http://www.servicecanada.gc.ca/eng/online/mysca.shtml",0.91339999999999999,100,73,84,68,80,null,null,null,null,"http://www.tbs-sct.gc.ca/tbs-sct/index-eng.asp",1869,"http://laws-lois.justice.gc.ca/eng/acts/F-11/page-13.html#h-12",1985,2,4,"-","-","-","-","http://www.cra-arc.gc.ca",2003,"e-Tax","Gov of Canada Portal",2,"COTS","http://www.cra-arc.gc.ca/esrvc-srvce/tx/psssrvcs/menu-eng.html",2013,3,3,"http://www.cbsa-asfc.gc.ca",2003,1971,3,"ACROSS","Accelerated Commercial Release Operations Support System",1,"LDSW","http://www.cbsa-asfc.gc.ca/eservices/ogd-amg/across-eng.html",1999,3,3,1,1,"http://www.cra-arc.gc.ca/esrvc-srvce/tx/prprrs/menu-eng.html",1992,3,1,"http://www.canada.ca/en/index.html","-",1,"http://www.cra-arc.gc.ca/esrvc-srvce/pki-icp/menu-eng.html",2000,3,{"$f":"IFERROR(VLOOKUP($C33,'PS Employment'!$B$2:$N$107,12,FALSE)*1000,\"-\")","v":3609274},2,"http://laborsta.ilo.org/STP/guest",2010,"GC HRMS","Government of Canada Human Resources Management System",2,"COTS","http://www.psc-cfp.gc.ca/abt-aps/inta-veri/2010/ahrsp-vpsrh/index-eng.htm ",2006,3,2,"Phoenix","Phoenix",2,"COTS","http://www.tpsgc-pwgsc.gc.ca/remuneration-compensation/projets-projects/tpai-itap/index-eng.html ","-",2,1,"-","Buy & Sell","https://buyandsell.gc.ca",2013,3,2,"https://buyandsell.gc.ca/procurement-data/contract-history ","Canadian Ministry of Finance",null,null,null,null,null,null,null,18,81.818181818181827,"A","HIC"]
[32,null,"Cape Verde","LMIC",500.58499999999998,1772.9461953581128,3540,"http://www.minfin.gov.cv","Ministério das Finanças e do Planeamento",2,"http://www.minfin.gov.cv/index.php?option=com_docman&Itemid=165",2,"http://www.nosi.cv/index.php?option=com_content&view=article&id=92&Itemid=125&lang=en",1,"-",0,"-",0,0,"-",2,1,0,"-",1,"http://www.minfin.gov.cv/",1,0,2006,1,1,3,2006,1,0,2010,1,3,1,2006,0,null,"-",1,1,1,0,0,1,0,1,0,0,0,"-",0,"-",2,"http://www.nosi.cv/index.php?option=com_content&view=article&id=93&Itemid=124&lang=en",1,"http://www.oge2011.gov.cv/index.php?option=com_docman&Itemid=58",2,"http://www.ine.cv","National Statistical Institute","http://www.bcv.cv","Banco de Cabo Verde","http://www.bcv.cv/vPT/Paginas/Homepage.aspx",0,"-",1,"http://www.minfin.gov.cv/",0,"-",0,3,"-","por","-","-","-","-","SIGOF","Sistema Integrado de Gestão Orçamental e Financeira","C","T",3,2002,"C",1,1,"LDSW > Oracle","CS",2,"Dec 2008","Public",1,"B","A","C","C+","B+","D","C+","C+","D+","D",2.35,2.661290322580645,"-","-",null,2,127,0.35504999999999998,9.8030000000000006E-2,0.16535,0.29658000000000001,0.60319999999999996,118,0.42970000000000003,0.43790000000000001,0.2268,0.62450000000000006,"AFR",null,null,null,null,"Cape Verde",0,null,null,null,null,0,null,null,null,null,null,15,57.692307692307686,"B",null,32,"Cape Verde","CPV",null,"DAD","http://www.governo.cv",1,"https://portoncv.gov.cv",0.16539999999999999,34,16,12,15,18,null,null,null,null,"http://www.minfin.gov.cv/index.php/dgt2/dgt-aprs",1996,"http://www.pefa.org/en/assessment/cv-dec08-pfmpr-public-en-0",1998,2,3,"-","-","-","-","http://www.dgci.gov.cv",1975,"SIGOF","Sistema Integrado de Gestão Orçamental e Financeira",1,"LDSW ?","http://www.dgci.gov.cv/index.php/a-dgci/organizacao/servicos-centrais",2002,3,2,"http://www.alfandegas.cv",1960,1992,4,"ASYCUDA++","Automated SYstem for CUstoms DAta",2,"ASYCUDA ++","http://unctad.org/en/PublicationsLibrary/dtlasycuda2011d1_en.pdf",2003,3,2,1,0,"https://portoncv.gov.cv/portonprd/portoncv?p=C8A8A6B0A5C4BDB9C7AEABC4C4",2013,2,0,"https://portoncv.gov.cv/portonprd/portoncv?p=AACEC7BDB7C4BCBAADABA0BCBEACBEB2C4C4",2013,2,"http://www.anac.cv/index.php?option=com_content&view=article&id=150%3Aanac-promove-formacao-em-certificacao-digital&catid=37%3Aeventos&Itemid=64&lang=pt",2013,2,25000,1,"http://unpan1.un.org/intradoc/groups/public/documents/un/unpan023255.pdf",2004,"SIGOF","Integrated System of Budget and Financial Management",1,"LDSW","http://www.nosi.cv/index.php/pt/solucoes-v15-121/sigof ",2002,3,2,"SIGOF","Integrated System of Budget and Financial Management",1,"LDSW","http://www.nosi.cv/index.php/pt/solucoes-v15-121/sigof ","-",3,2,"B","National Procurement Portal","http://www.arap.cv",2009,3,1,"http://www.arap.cv/index.php/estatisticas/compras-publicas",null,2,"CS-DRMS",null,1997,3,"MoF",null,14,63.636363636363633,"B","LMIC","AFR"]
[33,null,"Central African Republic","LIC",4486.8370000000004,2139.3816636337942,480,"http://www.afdevinfo.com/htmlreports/org/org_38461.html","Ministry of Finance",0,"-",1,"http://www-wds.worldbank.org/external/default/WDSContentServer/WDSP/IB/2010/12/08/000333037_20101208231702/Rendered/PDF/ICR16820ICR0P11OFFICIAL0USE0ONLY191.pdf",0,"-",0,"-",0,0,"-",0,0,0,"-",0,"-",0,null,"-",0,null,"-","-",0,null,"-",0,null,null,"-",0,null,"-",0,0,0,0,0,0,0,0,0,0,0,"-",0,"-",0,"-",0,"-",1,"http://www.stat-centrafrique.com","Institut centrafricain des statistiques, des études économiques et sociales (ICASEES)","http://www.beac.int ","Bank of Central African States","-",0,"-",0,"-",0,"-",0,0,"-","fre","eng","-","-",0,"GFMIS","Government Financial Management Information System / GES'CO","C","T",3,2010,"C",1,1,"LDSW","Web",2,"Jul 2010","Public",2,"B","C","C","D+","D","D","D+","D+","D","D",1.55,1.6774193548387097,"-","-",null,0,187,0.12573999999999999,3.9210000000000002E-2,3.9370000000000002E-2,2.7990000000000001E-2,0.30990000000000001,"-","-","-","-","-","AFR",null,null,null,"F",{"$f":"C35","v":"Central African Republic"},{"$f":"SUM(EA35:ED35)","v":0},null,null,null,null,{"$f":"SUM(EF35:EI35)","v":0},null,null,null,null,null,{"$f":"J35+L35+N35+P35+R35+S35+U35+V35+W35+Y35+AA35+AB35+AD35+AE35+AH35+AI35+AK35+AM35+AO35+AP35","v":1},{"$f":"EK35/26*100","v":3.8461538461538463},{"$f":"IF(EL35<25,\"D\",IF(EL35<50,\"C\",IF(EL35<75,\"B\",\"A\")))","v":"D"},null,33,"Central African Republic","CAF",null,"DAD","http://www.centrafricaine.info/",0,"-",3.9399999999999998E-2,13,11,5,3,8,null,null,null,null,"http://www.afdevinfo.com/htmlreports/org/org_38461.html",2004,"http://www.modernghana.com/news/376475/1/central-africa-republic-briefing-note-from-the-min.html",2012,2,2,"-","-","-","-","http://www.afdevinfo.com/htmlreports/org/org_38461.html",2004,"SYSTEMIF","Tax Management System",2,"COTS","http://www.pefa.org/en/assessment/car-jul10-pfmpr-public-en",2008,3,2,"http://www.douane-rca.org",2004,1986,0,"ASYCUDA++","Automated SYstem for CUstoms DAta",2,"ASYCUDA ++","http://unctad.org/en/PublicationsLibrary/dtlasycuda2011d1_en.pdf",2007,3,2,0,"-","-","-",0,0,"-","-",0,"-","-",0,25000,1,"http://www.pefa.org/en/assessment/car-jul10-pfmpr-public-en",2010,"-","-",0,"-","http://www.pefa.org/en/assessment/car-jul10-pfmpr-public-en","-",1,0,"-","-",0,"-","http://www.pefa.org/en/assessment/car-jul10-pfmpr-public-en","-",1,0,"A","-","http://www.pefa.org/en/assessment/car-jul10-pfmpr-public-en","-",0,0,"-",null,2,"DMFAS 5.3",null,1995,2,"MoF",1,{"$f":"N35+CO35+FZ35+GL35+GQ35+HJ35+HR35+HX35","v":6},{"$f":"IH35/22*100","v":27.27272727272727},{"$f":"IF(II35<25,\"D\",IF(II35<50,\"C\",IF(II35<75,\"B\",\"A\")))","v":"C"},"LIC","AFR"]
[34,null,"Chad","LIC",11525.495999999999,8005.9149955398452,690,"http://www.presidencetchad.org","Ministry of Finance",0,"-",1,"http://www-wds.worldbank.org/external/default/WDSContentServer/WDSP/IB/2007/09/19/000020439_20070919084700/Rendered/PDF/32710.pdf",0,"-",0,"-",0,0,"-",0,0,0,"-",0,"-",0,null,"-",0,null,"-","-",0,null,"-",0,null,null,"-",0,null,"-",0,0,0,0,0,0,0,0,0,0,0,"-",0,"-",0,"-",0,"-",0,"http://www.inseed-tchad.org","Institut national de la statistique, des études économiques et démographiques (INSEED)","http://www.beac.int","Bank of Central African States","-",0,"-",0,"-",0,"-",0,0,"-","fre","ara","-","-",0,"CID","Circuit Informatisé de la Dépense / Integrated Expenditure System","C","T",3,2000,"C",1,2,"Oracle","CS",1,"Jul 2009","Final",1,"X","X","X","X","X","X","X","X","X","X",1.95,1.9166666666666667,3,0,null,2,189,0.10761,7.843E-2,4.7239999999999997E-2,4.1459999999999997E-2,0.2341,189,0.10920000000000001,9.8000000000000004E-2,2.9100000000000001E-2,0.20030000000000001,"AFR",null,null,null,"F","Chad",0,null,null,null,null,0,null,null,null,null,null,1,3.8461538461538463,"D",null,34,"Chad","TCD",null,null,"http://www.presidencetchad.org",0,"-",4.7199999999999999E-2,19,11,5,0,8,null,null,null,null,"http://www.presidencetchad.org",1996,"-","-",0,"-","-","-","-","-","http://dgitchad-finances-gouv.org",1969,"TAS","Tax Automation Solutions",1,"LDSW","http://dgitchad-finances-gouv.org/index.php/nos-missions",1996,3,2,"http://dgitchad-finances-gouv.org",1969,2005,0,"ASYCUDA++","Automated SYstem for CUstoms DAta",2,"ASYCUDA ++","http://unctad.org/en/PublicationsLibrary/dtlasycuda2011d1_en.pdf",2007,3,2,0,0,"-","-",0,0,"-","-",0,"-","-",0,58800,2,"http://unpan1.un.org/intradoc/groups/public/documents/un/unpan023258.pdf",2004,"SIGASPE","The Integrated System Administrator and Staff Employee of the State",1,"LDSW","http://www.pamfip.org","-",2,2,"SIGASPE","The Integrated System Administrator and Staff Employee of the State",1,"LDSW","http://www.pamfip.org","-",2,2,"X","SIGMP","http://www.imf.org/external/np/loi/2014/tcd/fra/072114f.pdf",2014,2,1,"-",null,2,"DMFAS 5.3",null,2000,3,"MoF",3,10,45.454545454545453,"C","LIC","AFR"]
[35,null,"Chile","UMIC",17269.525000000001,212003.23986325794,12280,"http://www.minhda.cl","Chile Ministry of Finance",2,"http://www.hacienda.cl/documentos.html",2,"http://sigfe.sigfe.cl",2,"http://sigfe.sigfe.cl/",1,"http://www.dipres.gob.cl/574/multipropertyvalues-15459-21327.html",0,0,"-",2,1,0,"-",1,"http://www.dipres.gob.cl/572/propertyvalue-15494.html",1,1,1989,0,null,"-","-",0,null,"-",1,2,1,2003,1,1,2003,1,1,0,0,0,1,1,1,1,0,0,"-",1,"http://datos.gob.cl",0,"-",1,"http://www.dipres.gob.cl/572/propertyvalue-15954.html",2,"http://www.ine.cl","Instituto Nacional de Estadísticas","http://www.bcentral.cl","Central Bank of Chile","http://www.dipres.gob.cl/572/channel.html",1,"http://creativecommons.org/licenses/by/3.0/cl/",1,"http://www.minhda.cl/documentos/leyes-y-normas.html",2,"-",0,3,"Availability of FAQs (Frequently Asked Questions), Twitter, Youtube","spa","eng","-","-",0,"SIGFE II","Sistema de Información para la Gestión Financiera del Estado","C","F",3,2007,"C",1,1,"LDSW > Oracle","Web",3,"-","-","-","-","-","-","-","-","-","-","-","-","-","-","-",66,72,1,1,33,0.71216000000000002,0.94116999999999995,0.81889000000000001,0.49396000000000001,0.8236,39,0.67689999999999995,0.75160000000000005,0.40010000000000001,0.87880000000000003,"LCR",null,"OECD","APEC",null,"Chile",3,null,2,null,1,0,null,null,null,null,null,17,65.384615384615387,"B",null,35,"Chile","CHL",null,null,"http://www.gobiernodechile.cl",2,"http://www.chileatiende.cl",0.81889999999999996,100,57,70,71,73,null,null,null,null,"http://www.tesoreria.cl/web/index.jsp",1927,"http://documents.worldbank.org/curated/en/2007/01/7299376/reforming-payments-securities-settlement-systems-latin-america-caribbean",1963,2,3,"-","-","-","-","http://www.sii.cl",1902,"SII Online","e-Tax Portal",2,"COTS","http://www.sii.cl/botonera/interior_factura.htm",2000,3,3,"http://www.aduana.cl",1844,1966,2,"CONAF Single Window","CONAF + Sistema Integrado de Comercio Exterior / Integrated System of Foreign Trade",2,"COTS","http://www.aduana.cl/aduana/site/edic/base/port/tramites_linea.html",2013,3,3,1,1,"http://www.sii.cl/botonera/interior_iva.htm",2000,3,1,"https://www.registrocivil.cl/OficinaInternet/servlet/VentaCertificadoVehiculo","-",1,"http://www.chileatiende.cl/fichas/ver/21201",2009,3,{"$f":"IFERROR(VLOOKUP($C37,'PS Employment'!$B$2:$N$107,12,FALSE)*1000,\"-\")","v":652900},2,"http://laborsta.ilo.org/STP/guest",2008,"SIAPER","Human Resources Management Information System",1,"LDSW","http://siaper.contraloria.cl/opencms/opencms/siaper/index.html",2011,3,2,"SIAPER","Human Resources Management Information System",1,"LDSW","http://siaper.contraloria.cl/opencms/opencms/siaper/index.html",2011,3,2,"-","Chile Compra","http://www.chilecompra.cl",1999,3,2,"https://www.mercadopublico.cl/Portal/login.aspx ","Ministry of Finance – Public Debt Office",2,"DMFAS 5.3",null,2003,3,"CB",4,20,90.909090909090907,"A","UMIC","LCR"]
[36,null,"China","UMIC",1344130,6643241.1275996398,4940,"http://www.mof.gov.cn","Ministry of Finance of the People's Republic of China",2,"http://yss.mof.gov.cn/",2,"http://www.bjcz.gov.cn/english/Golden%20Finance%20Project.htm",2,"http://www.mof.gov.cn/mofhome/gp/index.html",0,"-",0,0,"-",1,1,0,"-",1,"http://yss.mof.gov.cn/zhengwuxinxi/caizhengshuju/",1,1,2010,0,null,"-","-",0,null,"-",1,4,1,2003,0,null,"-",1,1,0,0,0,1,1,1,1,0,0,"-",1,"http://govinfo.nlc.gov.cn",0,"-",1,"http://www.casc.gov.cn/kjfg/kjf/200607/t20060703_337029.htm",0,"http://www.stats.gov.cn","China National Bureau of Statistics","http://www.pbc.gov.cn","The People's Bank of China","-",1,"http://www.mof.gov.cn/zhengwuxinxi/gongkaimulu/zhengfuxinxigongkaiguiding/",1,"http://yss.mof.gov.cn/zhengwuxinxi/zhengceguizhang/",0,"Internal budget rules",0,3,"Online surveys also provided","chi","-","-","-","-","GFMIS","Government Financial Management Information System","C","F",3,2002,"C",1,1,"LDSW > Sybase","CS",3,"-","-","-","-","-","-","-","-","-","-","-","-","-","-","-",11,13,null,0,70,0.54500999999999999,0.64705000000000001,0.60629,0.35539999999999999,0.6734,78,0.53590000000000004,0.52939999999999998,0.3039,0.77449999999999997,"EAP",null,null,"APEC",null,"China",5,2,3,null,null,0,null,null,null,null,null,13,50,"B",null,36,"China","CHN",null,null,"http://www.gov.cn",2,"http://www.gov.cn/fuwu",0.60629999999999995,100,57,37,32,55,null,null,null,null,"http://gks.mof.gov.cn/",2000,"http://gks.mof.gov.cn/zhengfuxinxi/guojijiejian/201007/t20100721_329034.html",2002,2,4,"-","http://gks.mof.gov.cn/zhengfuxinxi/guojijiejian/200901/t20090105_105908.html","-","-","http://www.chinatax.gov.cn",1958,"Golden Tax","Integrated Tax Management System",2,"COTS ?","http://www.chinatax.gov.cn/n2925/n2957/n2958/c674819/content.html",1994,3,3,"http://www.customs.gov.cn",1958,1983,3,"H2010 / Golden Customs","Customs Management System / e-Customs + e-Port + …",2,"COTS","http://www.customs.gov.cn/publish/portal0/tab49564/?id=NTit03_con",1999,3,3,1,1,"http://www.szgs.gov.cn/internet/zwgk/tszt/ybs/dzbs/t20120202_338401.htm",2001,3,1,"-","-",0,"http://www.bjca.org.cn/about_bjca/gong-si-jian-jie",2001,2,14051000,2,"http://unpan1.un.org/intradoc/groups/public/documents/un/unpan023305.pdf",2006,"HRMIS","Human Resources Management Information System",1,"LDSW","http://www.mohrss.gov.cn","-",3,1,"HRMIS","Human Resources Management Information System",1,"LDSW","http://www.mohrss.gov.cn ","-",3,1,"-","CCGP Website","http://www.ccgp.gov.cn  ",2000,3,1,"http://new.ccgp.gov.cn/login","The People's Bank of China",2,"CS-DRMS",null,2005,3,"MoF",null,17,77.272727272727266,"A","UMIC","EAP"]
[37,null,"Colombia","UMIC",46927.125,284923.51438865036,6070,"http://www.minhacienda.gov.co","Colombia Ministry of Finance and Public Credit",2,"http://www.minhacienda.gov.co/HomeMinhacienda/elministerio/Presupuestal",2,"http://www.minhacienda.gov.co/HomeMinhacienda/siif",3,"http://www.pte.gov.co",1,"http://www.minhacienda.gov.co/HomeMinhacienda/siif/Estadisticas/Presupuesto",1,1,"http://www.pte.gov.co/WebsitePTE/ConsultasPersonalizadasBootstrap.aspx",1,1,1,"http://www.pte.gov.co/",1,"http://www.minhacienda.gov.co/HomeMinhacienda/elministerio/InformacionContable",1,1,2000,1,1,4,2007,1,1,2007,1,1,1,2000,1,1,1995,1,1,0,0,0,1,1,1,1,1,0,"-",1,"http://datos.gov.co",1,"http://www.minhacienda.gov.co/HomeMinhacienda/asistenciaentidadesterritoriales",1,"http://www.minhacienda.gov.co/HomeMinhacienda/elministerio/InformacionContable/Info.ContableTesoroNal/2012",1,"http://www.dane.gov.co","Colombia National Administrative Department of Statistics (DANE) ","http://www.banrep.gov.co","Bank of the Republic","-",1,"http://www.pte.gov.co",1,"http://www.minhacienda.gov.co/HomeMinhacienda/elministerio/NormativaMinhacienda/2012",0,"National laws and regulations",0,3,"Availability of FAQs (Frequently Asked Questions), online chat also provided, twitter","spa","-","-","-","-","SIIF","Sistema Integrado de Información Financiera","C","F",3,2009,"C",2,1,"LDSW > MS SQL","Web",3,"Jun 2009","Public",1,"C","A","B","B+","NR","B","C+","A","B","NU",3.125,2.9629629629629628,58,61,1,2,50,0.61729999999999996,0.88234999999999997,0.78739999999999999,0.32971,0.73480000000000001,43,0.65720000000000001,0.84309999999999996,0.28939999999999999,0.83909999999999996,"LCR",null,null,null,null,"Colombia",1,null,1,null,null,0,null,null,null,null,"2013-04-30",24,92.307692307692307,"A",null,37,"Colombia","COL",null,null,"https://www.gobiernoenlinea.gov.co",2,"https://www.gobiernoenlinea.gov.co",0.78739999999999999,88,75,56,65,70,null,null,null,null,"http://www.irc.gov.co/irc/en/nationaltreasury",1923,"http://documents.worldbank.org/curated/en/2007/01/7299376/reforming-payments-securities-settlement-systems-latin-america-caribbean",2000,3,4,"-","-","-","-","http://www.dian.gov.co",1992,"e-Tax","Tax and Customs Portal",2,"COTS ?","http://www.dian.gov.co/contenidos/servicios/guia.html",2008,3,3,"http://www.dian.gov.co",1992,1993,0,"SYGA y SALIDA DE MERCANCIAS","Tax and Customs Portal",2,"COTS","http://www.dian.gov.co/contenidos/servicios/guia.html",2008,3,3,1,1,"http://www.dian.gov.co/contenidos/servicios/guia.html",2008,3,1,"https://www.simit.org.co/","-",1,"https://www.gobiernoenlinea.gov.co/web/guest/home/-/government-services/T179/maximized",2012,3,{"$f":"IFERROR(VLOOKUP($C39,'PS Employment'!$B$2:$N$107,12,FALSE)*1000,\"-\")","v":806600},2,"http://laborsta.ilo.org/STP/guest",2010,"SIGEP","Management Information System and Public Employment",1,"LDSW","http://www.sigep.gov.co/home",2010,3,2,"SIGEP","Management Information System and Public Employment",1,"LDSW","http://www.sigep.gov.co/home",2010,3,2,"B","e-Procurement System","http://www.colombiacompra.gov.co",2011,3,2,"https://www.contratos.gov.co","Colombia General Directorate of Public Credit",2,"DMFAS",null,2001,0,"MoF",0,21,95.454545454545453,"A","UMIC","LCR"]
[38,null,"Comoros","LIC",753.94299999999998,580.99270557354544,770,"http://www.beit-salam.km","Ministry of Finance, Budget, Economy and Planning",0,"-",1,"http://siteresources.worldbank.org/INTDEBTDEPT/PreliminaryDocuments/22539668/ComorosPD.pdf",0,"-",0,"-",0,0,"-",0,0,0,"-",0,"-",0,null,"-",0,null,"-","-",0,null,"-",0,null,null,"-",0,null,"-",0,0,0,0,0,0,0,0,0,0,0,"-",0,"-",0,"-",0,"-",0,"-","Direction de la Statistique","http://www.banque-comores.km","Central Bank of Comoros","-",0,"-",0,"-",0,"-",0,0,"-","fre","ara","-","-",0,"SIGIFE","Système Intégré de Gestion de l’Informations Financière de l’Etat","C","F",1,2016,"C",1,0,"?","-",2,"Jul 2013","Public",2,"C","D","B","C","D","D","D+","D+","NR","D",1.56,1.62,"-","-",null,1,177,0.18076999999999999,3.9210000000000002E-2,1.5740000000000001E-2,6.037E-2,0.4662,171,0.23580000000000001,7.8399999999999997E-2,4.36E-2,0.58530000000000004,"AFR",null,null,null,"F","Comoros",0,null,null,null,null,0,null,null,null,null,null,1,3.8461538461538463,"D",null,38,"Comoros","COM",null,null,"http://www.beit-salam.km",0,"-",1.5699999999999999E-2,19,7,0,0,6,null,null,null,null,"http://www.beit-salam.km/article.php3?id_article=24",1999,"-","-",0,"-","-","-","-","-","http://comoros.eregulations.org/media/code%20des%20impots.pdf",2014,"-","Forms and information",0,"-","-","-",0,1,"http://www.douanes.km",1892,1993,4,"ASYCUDA++","Automated SYstem for CUstoms DAta",2,"ASYCUDA ++","http://www.douanes.km/v1/index.php/la-douane-et-vous/sydonia",2008,3,2,1,0,"-","-",0,0,"-","-",0,"-","-",0,13164,1,"http://www.alwatwan.net/index.php/index.php?home=actu.php&title=Fonction-publique-La-masse-salariale-a-atteint-1-8-milliard-depuis-fA-vrier&actu_id=6566",2014,"HRMIS > GISE","Gestion Intégrée des Structures et des Effectifs / Human Resources Management Information System",1,"LDSW","http://www-wds.worldbank.org/external/default/WDSContentServer/WDSP/AFR/2014/06/10/090224b0824e2cd5/1_0/Rendered/INDEX/Comoros000Econ0Report000Sequence005.txt ","-",2,2,"GISE","Computerized wage payment system ",1,"LDSW","http://www.imf.org/external/pubs/ft/scr/2013/cr1327.pdf ",2011,3,2,"D+","CREF Website","http://www.cref.gouv.km ",2012,3,1,"http://www.abge.org/produits/index.php ",null,null,null,null,null,null,null,null,10,45.454545454545453,"C","LIC","AFR"]
[39,null,"Congo, Rep.","LMIC",4139.7479999999996,9315.5497488248584,2250,"http://www.mefb-cg.org","Ministry of Economy, Finance, and Budget",1,"http://www.mefb-cg.org/loi_de_finances/lois_2010.html",1,"http://www.worldbank.org/ifa/rosc_aa_cgo_eng_0310.pdf",1,"-",0,"-",0,0,"-",1,1,0,"-",0,"-",0,null,"-",0,null,"-","-",0,null,"-",1,4,0,2005,0,null,"-",0,0,0,0,0,1,1,0,0,0,0,"-",0,"-",0,"-",0,"-",1,"http://www.cnsee.org","National Institute of Statistics","http://www.beac.int","Congo:  Bank of Central African States","-",0,"-",0,"-",0,"-",0,0,"-","fre","-","-","-","-","SYSCOHADA","OHADA Accounting System","C","T",3,2000,"C",1,1,"LDSW + OSS","Web",1,"Mar 2006","Public",1,"C","B","D","D+","D+","D","C+","D+","D","A",1.9,2,"-","-",null,1,160,0.25696000000000002,9.8030000000000006E-2,0.10236000000000001,0.14526,0.52329999999999999,157,0.28089999999999998,7.8399999999999997E-2,0.1275,0.63690000000000002,"AFR",null,null,null,"prev","Congo, Rep.",0,null,null,null,null,0,null,null,null,null,null,6,23.076923076923077,"D",null,39,"Congo, Rep.","COG",null,null,"http://www.congo-site.com",0,"-",0.1024,22,16,9,6,13,null,null,null,null,"http://www.armp.cg/",1997,"-","-",0,"-","-","-","-","-","http://www.mefb-cg.org",2002,"-","Forms and information",0,"-","-","-",0,1,"http://www.douanes.gouv.cg",1954,1975,4,"ASYCUDA++","Automated SYstem for CUstoms DAta",2,"ASYCUDA ++","http://douanes.gouv.cg/projets/?page=psydonia#",2005,3,2,0,"-","-","-",0,0,"-","-",0,"-","-",0,500000,1,"http://www.encyclopedia.com/topic/Republic_of_the_Congo.aspx",1998,"HR-Payroll","HRMIS and Payroll System",1,"LDSW","http://www.pefa.org/en/assessment/cg-jun14-pfmpr-public-en","-",3,1,"SIBEC","Computer System Budge and Economy of the Congo",1,"LDSW","http://fichiers.acteurspublics.com/redac/pdf/Septembre/rapport_final%20congo.pdf ",2002,3,2,"D+","ARMP Website","http://armp.cg",2012,3,1,"http://armp.cg/en-us/statistics/procurementdelegation/approvedprocurement.aspx",null,2,"DMFAS 6.0",null,2003,3,"SDMO","4T",9,40.909090909090914,"C","LMIC","AFR"]
[40,null,"Congo, Dem. Rep.","LIC",67757.577000000005,13103.733450840975,190,"http://minfinrdc.com/minfin","Ministry of Finance",2,"http://www.budget.gouv.cd/",1,"http://www.pefa.org/en/assessment/drc-mar08-pfmpr-public-en",0,"-",0,"-",0,0,"-",2,1,1,"http://www.budget.gouv.cd/budget-citoyen/",0,"-",1,1,2010,0,null,"-","-",0,null,"-",1,4,1,2011,0,null,"-",1,1,1,0,0,1,1,1,1,1,0,"-",0,"-",0,"-",0,"-",2,"-"," ","http://www.beac.int","Congo:  Bank of Central African States","-",0,"-",0,"-",0,"-",0,0,"-","fre","-","-","-","-","FMIS","Financial Management Information System","C","T",3,2003,"C+L",1,2,"MS Navision","Web",1,"Mar 2008","Public",1,"A","B","D","D","C","D","C+","C+","D+","D+",2,1.6,18,6,null,1,183,0.15514,1.9599999999999999E-2,4.7239999999999997E-2,3.3689999999999998E-2,0.38450000000000001,174,0.22800000000000001,0.17649999999999999,1.83E-2,0.48930000000000001,"AFR",null,null,null,"F","Congo, Dem. Rep.",0,null,null,null,null,0,null,null,null,null,null,11,42.307692307692307,"C",null,40,"Congo, Dem. Rep.","COD",2008,null,"http://www.presidentrdc.cd",0,"-",4.7199999999999999E-2,25,5,2,6,8,null,null,null,null,"http://minfinrdc.com/minfin/",2001,"-","-",0,"-","-","-","-","-","http://dgi.gouv.cd",1988,"TMS","Tax Management System + Other Automation Solutions",1,"LDSW","http://dgi.gouv.cd/index.php/presentation-de-la-dgi/historique",1999,3,2,"http://www.douanesrdc.com",1960,1972,4,"ASYCUDA World","Automated SYstem for CUstoms DAta",2,"ASYCUDA W","http://www.douanes.gouv.cd/index.php/2013-12-05-18-10-38",2011,3,2,1,1,"-","-",1,0,"-","-",0,"-","-",0,603936,1,"http://documents.worldbank.org/curated/en/2013/04/17611399/congo-democratic-republic-governance-capacity-enhancement-project",2007,"HRMIS","Human Resources Management Information System",1,"LDSW","http://www.pefa.org/en/assessment/drc-mar08-pfmpr-public-en","-",2,2,"HRMIS > PTS","Human Rresource Management Information System",1,"LDSW","http://documents.worldbank.org/curated/en/2013/04/17611399/congo-democratic-republic-governance-capacity-enhancement-project","-",2,2,"D","Public Procurement Website","http://www.budget.gouv.cd/marches-publics/avis-dappel-doffres/",2013,3,1,"http://www.budget.gouv.cd/marches-publics/contrats/2013-2/",null,2,"DMFAS 6.0",null,2005,3,"SDMO","4FT",11,50,"B","LIC","AFR"]
[41,null,"Costa Rica","UMIC",4726.5749999999998,36114.030298751582,7640,"http://www.hacienda.go.cr","Costa Rica Ministry of Finance",2,"http://www.hacienda.go.cr/contenido/12487-presupuesto-de-la-republica",2,"http://www.hacienda.go.cr/contenido/12668-sigaf-sistema-integrado-de-gestion-de-administracion-financiera",1,"-",1,"https://www.hacienda.go.cr/Msib21/Espanol/Secretaria+Tecnica+de+la+Autoridad+Presupuestaria/Ingresos+y+Gastos+Gobierno.htm",1,0,"http://www.hacienda.go.cr/contenido/139-cifras-mensuales-de-ingresos-gastos-y-financiamiento-del-gobierno-central",1,1,0,"-",1,"https://www.hacienda.go.cr/Msib21/Espanol/Contabilidad+Nacional/Estructuraestadosfinancieros.htm",1,0,2003,1,0,5,2009,0,null,"-",1,4,1,2004,0,null,"-",1,1,0,0,0,1,1,0,1,0,0,"-",1,"http://www.gobiernofacil.go.cr/e-gob/weblinks/index.aspx",0,"-",0,"-",2,"http://www.inec.go.cr","Costa Rica Instituto Nacional de Estadística y Censos","http://www.bccr.fi.cr","Central Bank of Costa Rica","https://www.hacienda.go.cr/msib21/espanol/Miscelaneos/Indices/ge_informacionespecializada.htm?vnode=16",0,"-",1,"https://www.hacienda.go.cr/msib21/espanol/Acerca%20del%20Ministerio/InformaciondelMinisterio.htm",2,"National laws and regulations",0,1,"-","spa","-","-","-","-","SFP + SIGAF","Sistema de Formulación / Sistema Integrado de Gestión para la Administración Financiera","C","F",3,2007,"C+L",1,2,"MS SQL + SAP","Web",3,"Oct 2010","Public",1,"A","A","B","C+","A","B","B+","C+","B+","C",3.2,3.1774193548387095,50,47,1,0,54,0.60614000000000001,0.82352000000000003,0.61416999999999999,0.44607000000000002,0.75819999999999999,77,0.53969999999999996,0.49669999999999997,0.3135,0.80889999999999995,"LCR",null,null,null,null,"Costa Rica",2,null,null,2,null,0,null,null,null,null,null,14,53.846153846153847,"B",null,41,"Costa Rica","CRI",null,null,"http://www.gobiernofacil.go.cr",2,"http://www.gobiernofacil.go.cr",0.61419999999999997,94,55,37,44,56,null,null,null,null,"http://www.hacienda.go.cr/contenido/585-direccion-general-de-hacienda",1962,"http://documents.worldbank.org/curated/en/2007/01/7299376/reforming-payments-securities-settlement-systems-latin-america-caribbean",2002,2,4,"-","-","-","-","http://www.hacienda.go.cr",1917,"e-Tax","e-Tax and other portals",2,"COTS ?","http://www.hacienda.go.cr/contenido/12493-tributacion-digital",2007,3,2,"http://www.hacienda.go.cr",1915,2001,3,"TICA","Tecnología de la Información para el Control Aduanero ",2,"COTS","http://www.hacienda.go.cr/tica/consultas/hCnConsVariasE.aspx",2006,3,2,1,1,"http://tributaciondirecta.hacienda.go.cr/tributaciondirecta/guia.jsp",2008,3,1,"-","-",0,"http://controlpas.go.cr/",2014,3,288500,2,"http://laborsta.ilo.org/STP/guest",2010,"INTEGRA","The database of personnel and payroll",1,"LDSW","https://www.pefa.org/en/assessment/cr-oct10-pfmpr-public-en ",2005,3,2,"INTEGRA","The database of personnel and payroll",1,"LDSW","https://www.pefa.org/en/assessment/cr-oct10-pfmpr-public-en ",2005,3,2,"D+","Mer-Link / CompraRED > KONEPS","https://www.hacienda.go.cr/scripts/criiiext.dll?UTILREQ=COMPRARED",2010,3,2,"https://www.hacienda.go.cr/scripts/criiiext.dll?UTILREQ=MENUCRUCEVARIABLES","Ministry of Treasury",2,"DMFAS 5.3",null,1988,3,"MoF","4T",17,77.272727272727266,"A","UMIC","LCR"]
[42,null,"Côte d'Ivoire","LMIC",20152.894,22064.566053897823,1090,"http://www.finances.gouv.ci","Côte d'Ivoire Ministry of Economy & Finance",1,"http://www.finances.gouv.ci/index.php/fr/elements-de-gouvernance/execution-budgetaire.html",2,"http://www.sndi.ci/index.php/component/content/article/35-infosndi/78-sigfip.html",1,"-",0,"-",0,0,"-",1,1,0,"-",1,"http://www.tresor.gov.ci/reformes/instructions-comptables/instructions-comptables-2011.html",0,null,"-",1,0,3,2011,0,null,"-",1,3,1,2008,1,1,1999,0,1,0,0,0,1,1,0,0,0,1,"http://www.dmp.finances.gouv.ci/",0,"-",0,"-",0,"-",0,"http://www.ins.ci","Côte d'Ivoire Institut national de la statistique (INS)","http://www.bceao.int ","Central Bank of West African States (BCEAO)","-",0,"-",1,"http://www.finances.gouv.ci/index.php/fr/ministere/grandes-directions.html",0,"-",0,3,"-","fre","-","-","-","-","ASTER/SIGFIP","Application des Services du Trésor en Réseau / Système Intégré de Gestion des Finances Publiques","C","T",3,1999,"C",1,1,"LDSW","CS",1,"Nov 2008","Public",1,"B","C","C","D","C+","D","D+","C+","D","D+",1.8,1.7777777777777777,"-","-",null,0,171,0.20385,0.17646999999999999,0.17322000000000001,0.13916999999999999,0.29920000000000002,166,0.25800000000000001,0.33329999999999999,0.1019,0.33879999999999999,"AFR",null,null,null,"F","Côte d'Ivoire",0,null,null,null,null,0,null,null,null,null,null,12,46.153846153846153,"C",null,42,"Côte d'Ivoire","CIV",2014,null,"http://www.gouv.ci",0,"-",0.17319999999999999,38,25,5,12,19,null,null,null,null,"http://www.tresor.gov.ci/",1962,"http://www.tresor.gov.ci/documentation/actualites/revue-de-presse/item/828-tracabilite-des-operations-financieres-de-l%E2%80%99etat-la-cr%C3%A9ation-d%E2%80%99un-compte-unique-du-tr%C3%A9sor-adopt%C3%A9-en-conseil-de-ministre.html",2015,1,"-","-","-","-","-","http://www.dgi.gouv.ci",1959,"-","Forms and information",0,"-","-","-",0,1,"http://www.douanes.ci",1964,1963,4,"ASYCUDA World","Automated SYstem for CUstoms DAta",2,"ASYCUDA W","http://www.douanes.ci/sydamworld/index.php",2007,3,2,0,1,"-","-",1,0,"-","-",0,"http://lactuwebdedith.wordpress.com/2013/06/24/cote-divoire-la-loi-sur-les-transactions-electroniques-adoptee/",2013,1,137000,1,"http://unpan1.un.org/intradoc/groups/public/documents/un/unpan028168.pdf",2004,"SIGFAE","Systeme Integre de Gestion des Fonctionnaires et Agents de I’Etat / Integrated System for the Management o f the Civil Servants’ Records",1,"LDSW","https://www.fonctionpublique.egouv.ci/sigfae/",2012,3,2,"SIGFAE","Systeme Integre de Gestion des Fonctionnaires et Agents de I’Etat / Integrated System for the Management o f the Civil Servants’ Records",1,"LDSW","http://www.pefa.org/en/assessment/ci-nov08-pemfar-public-en ",2012,3,2,"C","SIGMAP ","http://www.anrmp.ci",2006,3,1,"http://www.budget.gouv.ci/assets/files/ccm/4-marches-publics-fin-mars-2014-annexe-liste-marches-par-ministere-par-mode.pdf",null,2,"DMFAS 5.3",null,1998,3,"MoF",4,11,50,"B","LMIC","AFR"]
[43,null,"Croatia","HIC",4407,59617.667212374159,13530,"http://www.mfin.hr","Croatia Ministry of Finance",2,"http://www.mfin.hr/hr/proracun",1,"http://www.mfin.hr/adminmax/docs/strategija2007_eng.pdf",1,"-",1,"http://www.mfin.hr/hr/drzavni-proracun-2013-godina",0,0,"-",1,1,0,"-",1,"http://www.mfin.hr/hr/drzavni-proracun-arhiva",1,1,1998,1,1,3,2010,0,null,"-",1,4,1,1998,0,null,"-",1,1,0,0,0,1,1,0,1,1,0,"-",1,"http://www.mojauprava.hr",0,"-",1,"http://www.mfin.hr/hr/proracunsko-racunovodstvo",0,"http://www.dzs.hr","Croatia Central Bureau of Statistics","http://www.hnb.hr","Croatian National Bank","-",1,"http://www.mfin.hr/hr/odnosi-s-javnoscu",1,"http://www.mfin.hr/hr/zakonodavstvo?id=16&type=zakon",2,"National laws and regulations",0,3,"There is a provision for newsletter subscriptions","hrv","eng","-","-",0,"IFMIS","Integrated Financial Management Information System","D","F",3,2011,"C+L",1,2,"SAP","Web",3,"-","-","-","-","-","-","-","-","-","-","-","-","-","-","-",61,57,1,2,47,0.62817000000000001,0.33333000000000002,0.46455999999999997,0.62710999999999995,0.79279999999999995,30,0.73280000000000001,0.64049999999999996,0.69650000000000001,0.86150000000000004,"ECA",null,null,null,null,"Croatia",1,null,null,1,null,0,null,null,null,null,"2013-04-19",14,53.846153846153847,"B",null,43,"Croatia","HRV",null,null,"https://www.vlada.hr",2,"https://www.gov.hr",0.46460000000000001,59,68,26,18,43,null,null,null,null,"http://www.mfin.hr/en/state-treasury",1990,"http://www.mfin.hr/en/financial-management-information-systems-fmis-review-and-integration",2007,2,4,"-","-","-","-","http://www.porezna-uprava.hr/Stranice/Naslovnica.aspx",1990,"e-Porezna","Electronic Tax Services",2,"COTS ?","http://www.porezna-uprava.hr/bi/Stranice/ElektronickeUsluge.aspx",2005,3,2,"http://www.carina.hr",1990,1993,0,"e-Customs / NCTS","New Computerized Transit System",2,"COTS","http://www.carina.hr/e_carina/G2B.aspx",2010,3,2,1,0,"https://e-porezna.porezna-uprava.hr/Prijava.aspx?ReturnUrl=%2f",2013,2,1,"-","-",0,"http://www.fina.hr/Default.aspx?sec=1714",2010,3,481800,2,"http://laborsta.ilo.org/STP/guest",2008,"RegZap","Register of employment in the public sector",1,"LDSW","http://www.fina.hr/Default.aspx?sec=1169",2008,3,2,"COP","Centralized Payroll and Human Resources Management",2,"COTS","https://uprava.gov.hr/centralni-obracun-placa/12961","-",2,2,"-","Public Procurement Portal","http://www.javnanabava.hr",2012,2,1,"-","Ministry of Finance",null,null,null,null,null,null,null,15,68.181818181818173,"B","HIC","ECA"]
[44,null,"Cuba","UMIC",11253.665000000001,60810,5403.5729693393214,"http://www.mfp.cu","Cuba Ministry of Finance",1,"http://www.mfp.cu/docs/Ley%20Presupuesto%20Anual%202011.pdf",1,"http://www.cepal.org/publicaciones/xml/0/13430/SYC_29.pdf",1,"-",0,"-",0,0,"-",1,0,0,"-",0,"-",1,0,2014,0,null,"-","-",0,null,"-",0,null,null,"-",0,null,"-",0,0,0,0,0,0,0,0,0,0,1,"http://www.ain.cu",0,"-",0,"-",0,"-",0,"http://www.one.cu","Cuba Office of National Statistics","http://www.bc.gov.cu","Central Bank of Cuba","-",0,"-",0,"-",0,"-",0,1,"-","spa","-","-","-","-","FMIS","Financial Management Information System","C","F",3,2002,"C+L",1,1,"LDSW","Web",2,"-","-","-","-","-","-","-","-","-","-","-","-","-","-","-","-","-",null,"-",116,0.39165,0.35293999999999998,0.22833999999999999,9.6869999999999998E-2,0.84970000000000001,110,0.44879999999999998,0.30719999999999997,7.0900000000000005E-2,0.96840000000000004,null,"OTH",null,null,null,"Cuba",2,1,null,1,null,0,null,null,null,null,null,5,19.230769230769234,"D",null,44,"Cuba","CUB",null,null,"http://www.cubagob.cu",0,"-",0.2283,69,18,7,9,24,null,null,null,null,"http://www.mfp.cu/html_inicio/i_mfp.php",1983,"-","-",0,"-","-","-","-","-","http://www.mfp.cu/html_semp/se_onat_mv.php",1995,"ITS","Tax Management System > Integrated Tax System",1,"LDSW","http://www.ecured.cu/index.php/ONAT",1995,3,2,"http://www.aduana.co.cu",1996,1988,3,"Customs Portal / SADEM","CADI > Customs Portal / Automated System for Release of Goods (SADEM)",1,"LDSW","http://www.ecured.cu/index.php/Centro_de_Automatizaci%C3%B3n_para_la_Direcci%C3%B3n_y_la_Informaci%C3%B3n",2001,3,2,"-","-","-","-",0,0,"-","-",0,"-","-",0,4112300,2,"http://laborsta.ilo.org/STP/guest",2008,"-","-",0,"-","http://www.mfp.cu/html_inicio/i_mfp.php","-",0,0,"-","-",0,"-","http://www.mfp.cu/html_inicio/i_mfp.php","-",0,0,"-","-","-","-",0,0,"-",null,null,null,null,null,null,null,null,7,31.818181818181817,"C","UMIC"]
[45,null,"Cyprus","HIC",1116.5640000000001,24690,22112.480789278536,"http://www.mof.gov.cy","Cyprus Ministry of Finance",2,"http://www.mof.gov.cy/mof/mof.nsf/page16_gr/page16_gr?OpenDocument",1,"http://www.treasury.gov.cy/treasury/treasury.nsf/financial_en/financial_en?OpenDocument",1,"-",0,"-",0,0,"-",1,1,0,"-",0,"-",1,1,2010,0,null,"-","-",0,null,"-",1,3,1,2004,1,1,2001,1,1,1,0,0,1,1,1,1,1,0,"-",1,"http://www.cyprus.gov.cy/portal/portal.nsf/citizen_en?OpenForm&access=0&SectionId=citizen&CategoryId=none&SelectionId=home&print=0&lang=en ",0,"-",0,"-",1,"http://www.cystat.gov.cy/mof/cystat/statistics.nsf/index_en/index_en?OpenDocument ","Cyprus Statistical Service of the Republic of Cyprus ","http://www.centralbank.gov.cy","Central Bank of Cyprus","-",1,"http://www.mof.gov.cy/mof/mof.nsf/disclaimer_gr/disclaimer_gr?OpenDocument",1,"http://www.mof.gov.cy/mof/mof.nsf/page07_gr/page07_gr?OpenDocument",0,"-",1,3,"-","gre","eng","-","-",0,"FIMAS","Financial Information and Management Accounting System ","C","F",3,2003,"C",1,2,"SAP","Web",2,"-","-","-","-","-","-","-","-","-","-","-","-","-","-","-","-","-",null,0,58,0.59575999999999996,0.31372,0.47244000000000003,0.53203,0.78280000000000005,45,0.65080000000000005,0.56210000000000004,0.51529999999999998,0.87509999999999999,null,"EU",null,null,null,"Cyprus",0,null,null,null,null,0,null,null,null,null,"2013-06-19",12,46.153846153846153,"C",null,45,"Cyprus","CYP",null,null,"http://www.cyprus.gov.cy",2,"http://www.cyprus.gov.cy",0.47239999999999999,59,43,37,38,44,null,null,null,null,"http://www.treasury.gov.cy",2004,"-","-",0,"-","-","-","-","-","http://www.mof.gov.cy/mof/ird/ird.nsf/dmlindex_gr/dmlindex_gr?OpenDocument",1960,"TAXISNET","Tax Management System",2,"COTS","https://taxisnet.mof.gov.cy/displayWelcome.do",2003,3,2,"http://www.mof.gov.cy/ce",1960,1967,0,"e-Customs > THESEAS ","Customs and Excise Electronic Systems",2,"COTS","http://www.mof.gov.cy/mof/customs/customs.nsf/ced12_gr/ced12_gr?OpenDocument",2008,3,2,1,0,"https://taxisnet.mof.gov.cy/displayWelcome.do",2004,3,1,"https://www.jccsmart.com",2006,1,"http://www.mcw.gov.cy/mcw/dec/dec.nsf/DMLresponsibilities_en/DMLresponsibilities_en?OpenDocument#",2013,2,71200,2,"http://laborsta.ilo.org/STP/guest",2010,"HRMIS","Human Resource Management Information system",2,"COTS","http://www.mof.gov.cy/mof/papd/papd.nsf/page41_gr/page41_gr?OpenDocument","-",2,2,"HRMIS","Human Resource Management Information system",2,"COTS","http://www.mof.gov.cy/mof/papd/papd.nsf/page41_gr/page41_gr?OpenDocument","-",2,2,"-","e-PS","https://www.eprocurement.gov.cy/ceproc/home.do ",2009,3,2,"https://www.eprocurement.gov.cy","Ministry of Finance of Republic of Cyprus",2,"CS-DRMS",null,1986,0,"MoF",0,16,72.727272727272734,"B","HIC"]
[46,null,"Czech Republic","HIC",10546,196323.5053196238,18620,"http://www.mfcr.cz","Ministry of Finance of the Czech Republic",2,"http://www.mfcr.cz/cps/rde/xchg/mfcr/xsl/fin_stat.html",2,"http://www.statnipokladna.cz/cs/KC-Zakladni-popis.html",1,"-",0,"-",0,0,"-",1,1,0,"-",1,"http://www.mfcr.cz/cps/rde/xchg/mfcr/xsl/plneni_stat_rozp.html",1,0,2003,1,1,3,2012,0,null,"-",1,2,0,2003,1,0,2010,1,1,0,0,0,1,1,1,1,0,0,"-",1,"http://www.opendata.cz",2,"http://www.statnipokladna.cz/cs/Podpora-Kompetencni-centrum-KC.html",1,"http://www.statnipokladna.cz/cs/Podpora-Kompetencni-centrum-KC.html",2,"http://www.czso.cz","Czech Statistical Office","http://www.cnb.cz","Czech National Bank","http://www.statnipokladna.cz/cs/",1,"http://www.mfcr.cz/cps/rde/xchg/mfcr/xsl/index_7661.html",1,"http://www.mfcr.cz/cps/rde/xchg/mfcr/xsl/zakon_o_sr.html",2,"Eurostat methodology. National laws and regulations.",0,3,"There is a provision for newsletter subscriptions","cze","eng","-","-",0,"IISSP","Integrovaného informačního systému Státní pokladny / State Treasury Integrated Information System","D","F",3,2011,"C+L",1,2,"SAP","Web",3,"-","-","-","-","-","-","-","-","-","-","-","-","-","-","-",75,62,1,2,53,0.60694999999999999,0.25490000000000002,0.37007000000000001,0.57532000000000005,0.87549999999999994,46,0.64910000000000001,0.54249999999999998,0.5151,0.88980000000000004,"ECA","EU","OECD",null,null,"Czech Republic",1,null,1,null,null,0,null,null,null,null,null,13,50,"B",null,46,"Czech Republic","CZE",null,null,"http://www.vlada.cz",2,"http://portal.gov.cz",0.37009999999999998,53,45,23,21,35,null,null,null,null,"http://www.mfcr.cz/en/about-ministry/organisation-chart/section-04-financial-management-and-audi/dept-54-state-treasury-public-sector-con",2005,"http://www.mfcr.cz/cs/verejny-sektor/regulace/statni-pokladna",2011,2,4,"-","-","-","-","http://www.financnisprava.cz",1992,"e-Tax","e-Tax Portal",1,"LDSW ?","http://adisspr.mfcr.cz/adistc/adis/idpr_pub/dpr/uvod.faces",2010,3,2,"http://www.celnisprava.cz",1992,1993,0,"e-Dovoz / AIS / ECS","e-Imports / Automated Import System / Export Control System",2,"COTS","http://www.celnisprava.cz/en/applications/Pages/default.aspx",2010,3,2,1,0,"http://www.financnisprava.cz/cs/dane-elektronicky/danovy-portal/elektronicka-podani-pro-financni-spravu",2004,2,1,"http://www.praha.eu/jnp/cz/potrebuji_resit/zivotni_situace/poplatky/index.html",2006,1,"http://www.mvcr.cz/mvcren/article/electronic-signature-773488.aspx?q=Y2hudW09Mw%3d%3d",2010,3,1672039,2,"http://laborsta.ilo.org/STP/guest",2010,"HR Portal","Human Resource Portal",1,"LDSW","http://www.mvcr.cz/clanek/portal-lidskych-zdroju.aspx","-",2,2,"ISP","Information System for Promoters/Salaries",1,"LDSW","http://www.mfcr.cz/cs/o-ministerstvu/zakladni-informace/informacni-systemy/is-o-platech",2006,3,2,"-","ISPC","http://www.isvz.cz ",2006,3,2,"http://www.isvz.cz/ISVZ/RKS/Filter.aspx ","Czech Republic Ministry of Finance",null,null,null,null,null,null,null,16,72.727272727272734,"B","HIC","ECA"]
[47,null,"Denmark","HIC",5574,335102.50889877998,60120,"http://uk.fm.dk","Denmark Ministry of Finance",2,"http://uk.fm.dk/publications/",2,"http://www.oes.dk/Systemer/Navision-Stat",2,"http://www.oes-cs.dk/olapdatabase/regnskab/index.cgi",1,"http://www.oes-cs.dk/olapdatabase/regnskab/index.cgi",0,0,"-",2,1,0,"-",1,"http://fm.dk/publikationer/2010/budgetvejledning-2011/",1,1,1996,1,1,2,1998,0,null,"-",1,3,1,1996,0,null,"-",1,1,0,0,0,1,1,1,0,0,1,"http://www.peppol.eu/",1,"http://digitaliser.dk/resource/432461",0,"-",0,"-",1,"http://www.dst.dk","Statistics Denmark","http://www.nationalbanken.dk","National Bank of Denmark","http://www.digst.dk/",1,"http://fm.dk/om-os/privatlivspolitik/",1,"http://fm.dk/om-os/lov_-og-folketingsstof/",0,"National laws and regulations",1,3,"There is a provision for newsletter subscriptions","dan","eng","-","-",0,"FMIS","Financial Management Information System","D","F",3,1998,"C+L",1,2,"MS Navision","Web",3,"-","-","-","-","-","-","-","-","-","-","-","-","-","-","-","-","-",1,3,16,0.81620000000000004,0.54901,0.66141000000000005,0.87402999999999997,0.91320000000000001,4,0.88890000000000002,0.85619999999999996,0.86150000000000004,0.94889999999999997,null,"EU","OECD",null,null,"Denmark",5,1,3,null,1,1,1,null,null,null,null,17,65.384615384615387,"B",null,47,"Denmark","DNK",null,null,"http://www.denmark.dk",2,"https://www.borger.dk",0.66139999999999999,97,70,33,44,59,null,null,null,null,"http://www.fm.dk/om-os/historie/den-roede-bygning/",1721,"http://www.fm.dk/publikationer/2006/introduktion-til-et-omkostningsbaseret-bevillingssystem-april-2006/3-den-nye-bevillingsmodel/",2002,2,4,"-","-","-","-","http://www.skm.dk",1902,"TastSelv","e-Tax Portal",1,"LDSW ?","https://www.tastselv.skat.dk",1995,3,3,"https://www.skat.dk",1902,1952,3,"ICSsystemet","e-Customs / Customs Mgmt System",2,"COTS","https://www.skat.dk/SKAT.aspx?oId=1970723",2008,3,3,1,1,"http://skat.dk/data.aspx?oId=80112&vId=0",1995,3,1,"https://betalingsservice.nets.eu/Pages/default.aspx","-",1,"http://www.digst.dk/Servicemenu/English/Digitisation/Digital-Signature",2003,3,952800,2,"http://laborsta.ilo.org/STP/guest",2010,"Moderniseringsstyrelsen","Agency for the Modernisation of Public Administration",1,"LDSW","http://hr.modst.dk/Toolbox.aspx ",2011,3,2,"ISOLA","Information on pay and employment conditions",1,"LDSW","http://hr.modst.dk/Arbejdspladsen/Saet%20tal%20paa%20HR/Lonstyring/ISOLA.aspx",1999,3,2,"-","UDBUD / ETHICS","http://www.innovasion.dk",2003,3,2,"http://www.udbudsavisen.dk/","Denmark's National bank",null,null,null,null,null,null,null,20,90.909090909090907,"A","HIC"]
[48,null,"Djibouti","LMIC",905.56399999999996,1049,1158.3941057727561,"http://www.ministere-finances.dj","Djibouti Ministry of Finance",2,"http://www.ministere-finances.dj/TOFE.html",1,"http://documents.worldbank.org/curated/en/2006/04/6756520/djibouti-public-expenditure-review-making-public-finances-work-growth-poverty-reduction",1,"-",0,"-",0,0,"-",1,1,0,"-",1,"http://www.ministere-finances.dj/Publications/decr0224pr01.htm",1,1,1996,0,null,"-","-",1,1,2004,1,4,1,2006,0,null,"-",0,1,0,0,0,1,1,0,0,0,0,"-",0,"-",0,"-",1,"http://www.ministere-finances.dj/Publications/decr0224pr01.htm",1,"http://www.ministere-finances.dj","Djibouti Direction des statistiques et des études démographiques ","http://www.banque-centrale.dj","Central Bank of Djibouti","-",0,"-",1,"http://www.ministere-finances.dj/ORGANISATION.html",0,"-",0,3,"-","fre","eng","-","-",0,"TS","Treasury System","C","T",3,2001,"C",1,1,"LDSW","CS",1,"-","-","-","-","-","-","-","-","-","-","-","-","-","-","-","-","-",null,0,184,0.14560000000000001,7.843E-2,6.2990000000000004E-2,5.5570000000000001E-2,0.31819999999999998,176,0.2228,0.1961,4.8800000000000003E-2,0.42359999999999998,"MNA",null,null,null,null,"Djibouti",0,null,null,null,null,0,null,null,null,null,null,13,50,"B",null,48,"Djibouti","DJI",null,null,"http://www.presidence.dj",0,"-",6.3E-2,25,7,0,12,10,null,null,null,null,"http://www.tresor.economie.gouv.fr/pays/djibouti",1998,"-",2016,1,"-","-","-","-","-","http://www.ministere-finances.dj/FISCALITEE.html",1977,"Tax System","Tax Management System",1,"LDSW","http://documents.worldbank.org/curated/en/2006/04/6756520/djibouti-public-expenditure-review-making-public-finances-work-growth-poverty-reduction",2001,3,2,"http://www.douanes.dj",1977,2008,0,"ASYCUDA World","Automated SYstem for CUstoms DAta",2,"ASYCUDA W","http://unctad.org/en/PublicationsLibrary/dtlasycuda2011d1_en.pdf",2012,3,2,1,0,"-","-",1,0,"-","-",0,"-","-",0,70700,1,"http://unpan1.un.org/intradoc/groups/public/documents/un/unpan023257.pdf",2005,"UPR","Unique Personnel Registry",1,"LDSW","http://www.ministere-finances.dj/REFORMES%20PROJETS%20FICHIER%20UNIQUE.html",2008,3,2,"PS","Payroll System",1,"LDSW","http://www-wds.worldbank.org/external/default/WDSContentServer/WDSP/IB/2006/04/28/000012009_20060428084124/Rendered/PDF/346240rev0DJI.pdf",2006,3,2,"-","-","-","-",0,0,"-",null,2,"DMFAS 5.3",null,1986,3,"MoF",3,11,50,"B","LMIC","MNA"]
[49,null,"Dominica","UMIC",67.674999999999997,475.45866443590268,7030,"http://finance.gov.dm","Ministry of Finance",1,"http://finance.gov.dm/index.php/budget/information/17-2013-2014-budget-for-ministries",1,"http://ddp-ext.worldbank.org/EdStats/DMAper05.pdf",1,"-",0,"-",0,0,"-",1,1,0,"-",1,"http://www.dominica.gov.dm/cms/?q=node/1402",1,1,2011,1,0,2,2010,0,null,"-",1,4,0,2009,1,1,2008,1,1,0,1,0,1,1,0,0,0,0,"-",0,"-",0,"-",0,"-",1,"http://www.dominica.gov.dm/cms/?q=node/7","Ministry of Finance - Central Statistical Office","http://www.eccb-centralbank.org","East Caribbean Central Bank","-",0,"-",1,"http://www.dominica.gov.dm/cms/index.php?q=node/411",0,"-",0,2,"-","eng","-","-","-","-","SIGFIS","Standardized Integrated Government Financial Information System","C","F",3,2012,"C+L",2,2,"SmartStream","Web",3,"Jun 2010","Final",2,"X","X","X","X","X","X","X","X","X","X",2.5499999999999998,2.5161290322580645,"-","-",null,1,110,0.43380000000000002,0.11763999999999999,0.18897,0.44236999999999999,0.67010000000000003,73,0.55610000000000004,0.29409999999999997,0.62209999999999999,0.752,"LCR",null,null,null,null,"Dominica",0,null,null,null,null,0,null,null,null,null,null,12,46.153846153846153,"C",null,49,"Dominica","DMA",null,null,"http://www.dominica.gov.dm",1,"http://www.dominica.gov.dm/services",0.189,38,30,9,6,20,null,null,null,null,"http://finance.gov.dm/index.php/about-us/departments/18-treasury-division",1978,"http://www.dominica.gov.dm/laws/1994/act4-1994.pdf",1994,2,4,"-","-","-","-","http://ird.gov.dm",1990,"SIGTAS","Standard Integrated Government Tax System",2,"SIGTAS","http://ird.gov.dm/index.php?option=com_content&view=article&id=116:systems-section&catid=36:about-us&Itemid=59",1996,3,2,"http://customs.gov.dm",1990,"-",0,"ASYCUDA World","Automated SYstem for CUstoms DAta",2,"ASYCUDA W","http://customs.gov.dm/about-customs/asycuda-world",1991,3,2,1,0,"https://eservices.gov.dm/taxefs/auth/Public/LogOn.aspx?ReturnUrl=%2ftaxefs%2fonline%2fdefault.aspx",2013,3,0,"-","-",0,"-",2005,1,4759,2,"http://laborsta.ilo.org/STP/guest",2005,"HRIS","Human Resource Information System",1,"LDSW","http://establishment.gov.dm/",2012,3,2,"SIGFIS","Standardized Integrated Government Financial Information System",2,"SmartStream","http://www.caricad.net/UserFiles/File/casestudydominica.pdf",2012,3,2,"X","e-PPS","https://procurement.oecs.org/epps/home.do",2012,1,0,"-",null,2,"CS-DRMS",null,1988,3,"MoF",null,15,68.181818181818173,"B","UMIC","LCR"]
[50,null,"Dominican Republic","UMIC",10056.181,52646.788693078764,5240,"http://www.hacienda.gov.do","Dominican Republic Ministry of Finance",2,"http://www.digepres.gob.do/",2,"http://www.hacienda.gov.do/sigef/sigef.htm",1,"-",0,"-",1,1,"http://www.digepres.gob.do/LinkClick.aspx?fileticket=VkzSW7GtziU%3d&tabid=133&mid=576",1,1,2,"http://www.portaldelciudadano.gov.do/",1,"http://www.digepres.gob.do/Estad%c3%adsticasPresup/SeriesHist%c3%b3ricas199010/tabid/135/Default.aspx",1,1,1990,0,null,"-","-",1,0,2004,1,2,1,1990,0,null,"-",1,1,0,0,0,1,0,0,1,0,0,"-",1,"http://www.one.gob.do",0,"-",0,"-",0,"http://www.one.gob.do","Dominican Republic Oficina Nacional de Estadistica","http://www.bancentral.gov.do","Central Bank of the Dominican Republic","-",1,"http://www.digepres.gob.do/Inicio/tabid/36/ctl/Terms/Default.aspx",1,"http://www.hacienda.gov.do/transparencia/leyes_decretos.htm",0,"National laws and regulations",1,3,"-","spa","-","-","-","-","SIGEF","Sistema Integrado de Gestion Financiera","C","F",3,2004,"C+L",1,1,"LDSW > Oracle","Web",3,"Nov 2012","Public",4,"B","B","B","C+","B+","B","C+","C+","C+","C+",2.8,2.4500000000000002,29,14,1,0,107,0.44807999999999998,0.33333000000000002,0.38582,0.29449999999999998,0.66390000000000005,89,0.51300000000000001,0.53590000000000004,0.26319999999999999,0.73980000000000001,"LCR",null,null,null,null,"Dominican Republic",0,null,null,null,null,0,null,null,null,null,null,17,65.384615384615387,"B",null,50,"Dominican Republic","DOM",null,null,"http://www.dominica.gov.dm",2,"http://www.portaldelciudadano.gov.do",0.38579999999999998,53,50,21,24,37,null,null,null,null,"http://www.tesoreria.gov.do/",1934,"http://www.tesoreria.gov.do/index.php/component/phocadownload/category/30",2012,3,4,"-","-","-","-","http://www.dgii.gov.do",1935,"e-Tax","Virtual Office + Web Services",1,"LDSW","http://www.dgii.gov.do/pst/Paginas/default.aspx",2011,3,2,"http://www.aduanas.gob.do",1959,2004,3,"SIGA > Single Window","Integrated Customs Management System + Single Window",2,"COTS","https://www.aduanas.gob.do/descargas/files/instructivos/manual-pago-electronico-SIGA.pdf",2010,3,2,1,1,"http://www.dgii.gov.do/pst/Paginas/default.aspx",2006,3,1,"-","-",0,"http://www.indotel.gob.do/index.php/sector-de-las-telecomunicaciones/comercio-electronico/descripcion-firma-digital",2006,2,350000,1,"http://www.pefa.org/en/assessment/do-oct12-pfmpr-public-en",2010,"SASP","Sistema de Administración de Servidores Públicos / Civil Servant Administration System",1,"LDSW","http://map.gob.do/sasp/",2012,3,2,"SASP","Sistema de Administración de Servidores Públicos / Civil Servant Administration System",1,"LDSW","http://map.gob.do/sasp/",2012,3,2,"D+","Compras Dominicana","http://www.comprasdominicana.gov.do",2012,3,1,"https://acceso.comprasdominicana.gov.do/compras/publicaciones/consultas/procesosdecompras/consulta.jsp?hiddenTipoConsulta=FINALIZADOS ",null,2,"DMFAS 6.0",null,1996,3,"MoF","4F",16,72.727272727272734,"B","UMIC","LCR"]
[51,null,"Ecuador","UMIC",14666.055,61651.763916788332,4200,"http://finanzas.gob.ec","Ecuador Ministry of Economy and Finance",2,"http://www.finanzas.gob.ec/estados-financieros/",2,"http://integrador.finanzas.gob.ec/sigefWebConsulta2011/Jsp/LoginPage.jsp;jsessionid=1FFD43DE0BF758EB3ADD163C29CE3C52",2,"http://gpr.informatica.gob.ec/gpr_ecuador/n1",0,"-",1,1,"http://www.finanzas.gob.ec/wp-content/uploads/downloads/2012/09/Reporte+de+Ingresos.pdf",2,1,1,"http://www.secretariatransparencia.gob.ec/",0,"-",1,1,2004,1,0,4,2012,1,1,2006,1,2,1,2004,1,1,2006,1,1,0,0,0,1,1,0,1,0,1,"http://www.compraspublicas.gob.ec/compraspublicas/",1,"http://www.gobiernoelectronico.gov.ec",0,"-",0,"-",2,"http://www.inec.gov.ec","Ecuador Instituto Nacional de Estadística y Censos","http://www.bce.fin.ec ","Central Bank of Ecuador","http://www.bce.fin.ec/contenido.php?CNT=ARB0000003",1,"http://www.finanzas.gob.ec/transparencia/",0,"-",0,"-",0,0,"-","spa","eng","-","-",0,"SIGEF","Sistema Integrado de Gestion Financiera","C","F",3,2008,"C+L",2,1,"LDSW > Oracle","Web",3,"Mar 2010","Draft",1,"X","X","X","X","X","X","X","X","X","X",1.9,2.370967741935484,31,31,null,0,83,0.50529000000000002,0.49019000000000001,0.48031000000000001,0.33184000000000002,0.70369999999999999,102,0.4869,0.45750000000000002,0.2482,0.75490000000000002,"LCR",null,null,null,null,"Ecuador",1,null,null,null,1,0,null,null,null,null,null,21,80.769230769230774,"A",null,51,"Ecuador","ECU",null,null,"http://www.presidencia.gob.ec",2,"http://www.administracionpublica.gob.ec/servicios-de-gobierno-electronico-3",0.4803,88,52,19,26,44,null,null,null,null,"https://www.aduanas.gob.do/",1944,"http://documents.worldbank.org/curated/en/2007/01/7299376/reforming-payments-securities-settlement-systems-latin-america-caribbean",2008,2,4,"-","-","-","-","http://www.sri.gob.ec/web/guest/home",1997,"e-Tax","Web Services",1,"LDSW ?","https://declaraciones.sri.gob.ec/tuportal-internet/",2013,3,2,"http://www.aduana.gob.ec",1975,1997,2,"ECUAPASS","Web Services",2,"COTS","https://portal.aduana.gob.ec",2013,3,2,1,0,"https://declaraciones.sri.gob.ec/tuportal-internet/",2013,3,1,"-","-",0,"https://www.eci.bce.ec/paso_3",2008,2,492444,2,"http://laborsta.ilo.org/STP/guest",2006,"SIGEF","The Integrated Financial Management System",1,"LDSW","http://www.finanzas.gob.ec/",2002,3,2,"SIGEF","The Integrated Financial Management System",1,"LDSW","http://www.finanzas.gob.ec/",2002,3,2,"X","SERCOP","http://portal.compraspublicas.gob.ec/incop",2013,3,2,"https://www.compraspublicas.gob.ec/ProcesoContratacion/compras/PC/buscarProceso.cpe?sg=1#","Ministry of Economy and Finance",2,"DMFAS 5.3",null,1995,2,"MoF",4,18,81.818181818181827,"A","UMIC","LCR"]
[52,null,"Egypt","LMIC",82536.77,214683.55955663044,2600,"http://www.mof.gov.eg","Egypt Ministry of Finance",2,"http://www.mof.gov.eg/English/Papers_and_Studies/Pages/The-State-Budget.aspx",1,"http://www.mof.gov.eg/MOFGallerySource/English/Reports/December2004.pdf",1,"-",0,"-",0,0,"-",2,1,0,"-",1,"http://www.mof.gov.eg/English/Papers_and_Studies/Pages/budget11-12.aspx",0,null,"-",0,null,"-","-",0,null,"-",1,4,1,2006,0,null,"-",0,1,1,1,0,1,1,1,0,0,0,"-",1,"http://www.egypt.gov.eg/arabic/general/Open_Gov_Data_Initiative.aspx",0,"-",1,"http://www.mof.gov.eg/English/Papers_and_Studies/Pages/The-State-Budget.aspx",0,"http://www.capmas.gov.eg","Egypt Central Agency for Public Mobilization and Statistics","http://www.cbe.org.eg","Central Bank of Egypt","-",0,"-",1,"http://www.mof.gov.eg/English/About%20MOF/Pages/MinistryGoals.aspx",0,"-",0,3,"-","ara","eng","-","-",0,"AGES / GFMIS","Automated Government Expenditure System","C","F",3,2012,"C",1,2,"Oracle","Web",3,"Oct 2009","Final",1,"X","X","X","X","X","X","X","X","X","X",2.5,2.4464285714285716,13,49,null,0,80,0.51293,0.54901,0.59055000000000002,0.35704999999999998,0.59119999999999995,107,0.46110000000000001,0.60129999999999995,0.22320000000000001,0.55879999999999996,"MNA",null,null,null,"prev","Egypt",0,null,null,null,null,0,null,null,null,null,null,10,38.461538461538467,"C",null,52,"Egypt","EGY",null,null,"http://www.egypt.gov.eg",2,"http://www.egypt.gov.eg",0.59060000000000001,81,52,33,56,54,null,null,null,null,"http://www.mof.gov.eg/English/Ministry%20Activities/Pages/TreasuryAuctionPage.aspx",1958,"http://www.pefa.org/sites/pefa.org/files/attachments/Eng%20-%20Vol%202550610v20ESW0P1rview0Part0II0Final.pdf",2009,3,4,"-","-","-","-","http://www.incometax.gov.eg",1977,"e-Tax","Tax Automation Solutions",1,"LDSW ?","http://www.incometax.gov.eg/e-signature.asp",1998,3,2,"http://www.customs.gov.eg",1953,1956,0,"CIS","Customs Information System",2,"COTS","http://www.customs.gov.eg/NewCustomSerives.aspx?Id=28",2005,3,2,1,0,"http://www.egypt.gov.eg/services/LoadxtrServices.aspx?PgURL=63853&section=subjects",2005,2,0,"-","-",0,"http://www.itida.gov.eg/EN/OURPROGRAMS/INDUSTRYINFRASTRUCTURE/E-SIGNATURE/Pages/default.aspx",2009,2,6379000,2,"http://laborsta.ilo.org/STP/guest",2010,"HRMIS","Human Resource Management Information system",1,"LDSW","http://www.caoa.gov.eg",2005,3,2,"HRMIS","Human Resource Management Information system",1,"LDSW","http://www.sis.gov.eg",2005,3,2,"X","Government Procurement Portal","http://etenders.gov.eg",2007,3,2,"http://etenders.gov.eg/en/index.php","Ministry of Finance",2,"DMFAS 6.0",null,1986,3,"MoF","4T",16,72.727272727272734,"B","LMIC","MNA"]
[53,null,"El Salvador","LMIC",6227.491,21670.423333830084,3480,"http://www.mh.gob.sv","El Salvador Ministry of Finance",2,"http://www.mh.gob.sv/portal/page/portal/PTF/Presupuestos_Publicos",1,"http://www.mh.gob.sv/portal/page/portal/PMH/Novedades/Calendario/Capacitaciones:Capacitaciones_2012:safi2012",2,"http://www.transparenciafiscal.gob.sv/portal/page/portal/PTF/Consulte_nuestra_Base_de_Datos/ConsulteNuestraBaseDeDatosEjecucionPresupuesto",1,"http://www.transparenciafiscal.gob.sv/portal/page/portal/PTF/Consulte_nuestra_Base_de_Datos/ConsulteNuestraBaseDeDatosEjecucionPresupuesto",1,1,"http://www.transparenciafiscal.gob.sv/CT_proyectos/htdocs/tabla/ejecucion.jsp",2,1,2,"http://www.transparenciafiscal.gob.sv/portal/page/portal/PTF/Presupuestos_Publicos",1,"http://www.transparenciafiscal.gob.sv/portal/page/portal/PTF/Marco_Normativo/Administracion_Financiera?_piref496_2086330_496_2086268_2086268.tabstring=catalogo",1,1,2002,1,1,5,2010,1,1,2004,1,2,1,2002,0,null,"-",1,1,0,0,0,1,1,1,1,1,1,"http://www.comprasal.gob.sv/moddiv/HTML/",1,"http://www.gobiernoabierto.gob.sv",0,"-",1,"http://www.transparenciafiscal.gob.sv/portal/page/portal/PTF/Marco_Normativo/Administracion_Financiera?_piref496_2086330_496_2086268_2086268.tabstring=catalogo",1,"http://www.minec.gob.sv","El Salvador General Directorate of Statistics and Censuses ","http://www.bcr.gob.sv","Central Reserve Bank of El Salvador","-",1,"http://www.mh.gob.sv/portal/page/portal/PMH/LAIP",1,"http://www.mh.gob.sv/portal/page/portal/PMH/Institucion/Estructura_Organizativa/Organigrama_del_Ministerio_de_Hacienda",0,"-",0,3,"-","spa","eng","-","-",0,"SAFI II","Sistema de Administración Financiera Integrado","C","F",3,2001,"C+L",2,1,"LDSW > Informix","CS",3,"Aug 2013","Public",2,"C","B","B","C+","B+","B","B+","B+","D+","D",2.65,2.73,43,37,1,0,88,0.49885000000000002,0.60784000000000005,0.53542999999999996,0.31974999999999998,0.64139999999999997,74,0.55130000000000001,0.67320000000000002,0.26379999999999998,0.71689999999999998,"LCR",null,null,null,null,"El Salvador",0,null,null,null,null,0,null,null,null,null,"2013-05-02",22,84.615384615384613,"A",null,53,"El Salvador","SLV",null,null,"http://www.presidencia.gob.sv",2,"http://portaldgii.mh.gob.sv/ssc/home",0.53539999999999999,94,55,30,24,49,null,null,null,null,"http://www.mh.gob.sv/portal/page/portal/MH_Fin_OLD/MH_TESORERIA",1948,"http://documents.worldbank.org/curated/en/2007/01/7299376/reforming-payments-securities-settlement-systems-latin-america-caribbean",1995,3,2,"-","-","-","-","http://www.mh.gob.sv/portal/page/portal/PMH/Institucion/Marco_Institucional/Autoridades",1990,"e-Tax","Web Services",1,"LDSW ?","http://www.mh.gob.sv/portal/page/portal/PMH/Servicios/En_Linea/Ciudadano",2013,3,2,"http://www.mh.gob.sv/portal/page/portal/PMH/Temas/Aduana",1936,2005,4,"ASYCUDA++ > World","Automated SYstem for CUstoms Data + Single Window (in 2015)",2,"ASYCUDA ++","http://www.mh.gob.sv/portal/page/portal/PMH/Temas/Operaciones_Aduaneras/Introduccion/Sistema_Informatico_Aduanero",2011,3,2,1,1,"http://portaldgii.mh.gob.sv/ssc/home",2004,3,0,"-","-",0,"http://firmaelectronica.egob.sv/?page_id=486",2012,2,130800,1,"http://idbdocs.iadb.org/wsdocs/getdocument.aspx?docnum=997811",1999,"SIRH","Sistema de Información de Recursos Humanos / Human resource management system",1,"LDSW","https://www.pefa.org/en/assessment/sv-aug13-pfmpr-public-en ",1994,3,2,"SIRH","Sistema de Información de Recursos Humanos / Human resource management system",1,"LDSW","https://www.pefa.org/en/assessment/sv-aug13-pfmpr-public-en ",1994,3,2,"B","Comprasal","http://www.comprasal.gob.sv ",2004,3,2,"https://www.comprasal.gob.sv/comprasal_web/det_procesos_01.jsf",null,2,"DMFAS 6.0",null,1988,3,"MoF",4,18,81.818181818181827,"A","LMIC","LCR"]
[54,null,"Equatorial Guinea","HIC",720.21299999999997,11287.654871035402,15670,"http://www.guineaecuatorialpress.com","Equatorial Guinea Ministry of Finance & Budget",0,"-",0,"https://www.devex.com/projects/tenders/projet-d-appui-a-la-gestion-des-finances-publiques-pagfp-prequalification-des-firmes-pour-une-assistance-technique-en-vue-de-la-definition-d-un-schema-directeur-informatique-du-systeme-d-information-de-gestion-des-finances-publiques-et-de-l/135855",0,"-",0,"-",0,0,"-",0,0,0,"-",0,"-",0,null,"-",0,null,"-","-",0,null,"-",0,null,null,"-",0,null,"-",0,0,0,0,0,0,0,0,0,0,0,"-",0,"-",0,"-",0,"-",0,"http://www.dgecnstat-ge.org","Equatorial Guinea Direction Générale des Statistiques","http://www.beac.int ","Bank of Central African States","-",0,"-",0,"-",0,"-",0,1,"-","spa","eng","-","-",0,"-","-","C","-",0,"-","-","-",0,"-","-",0,"-","-","-","-","-","-","-","-","-","-","-","-","-","-","-",0,0,null,1,168,0.22675000000000001,1.9599999999999999E-2,3.1489999999999997E-2,0.11996,0.52880000000000005,151,0.29549999999999998,9.8000000000000004E-2,8.8300000000000003E-2,0.70009999999999994,"AFR",null,null,null,null,"Equatorial Guinea",0,null,null,null,null,0,null,null,null,null,null,0,0,"D",null,54,"Equatorial Guinea","GNQ",null,null,"http://www.guineaecuatorialpress.com/",0,"-",3.15E-2,9,14,0,6,7,null,null,null,null,"-","-","-","-",0,"-","-","-","-","-","-","-","-","-",0,"-","-","-",0,0,"-","-","-",0,"-","-",0,"-","-","-",0,0,0,0,"-","-",0,0,"-","-",0,"-","-",0,"-",0,"-","-","-","-",0,"-","http://documents.worldbank.org/curated/en/2010/01/15553341/equatorial-guinea-public-expenditure-review","-",0,0,"-","-",0,"-","http://documents.worldbank.org/curated/en/2010/01/15553341/equatorial-guinea-public-expenditure-review","-",0,0,"-","-","-","-",0,0,"-",null,null,null,null,null,null,null,null,0,0,"D","HIC","AFR"]
[55,null,"Eritrea","LIC",5415.28,2313.0604519744402,430,"http://www.shabait.com","Ministry of Finance",0,"-",0,"http://www.er.undp.org/content/dam/eritrea/docs/MDGs/AfricanEconomicOutlookEritrea2014.pdf",0,"-",0,"-",0,0,"-",0,0,0,"-",0,"-",0,null,"-",0,null,"-","-",0,null,"-",0,null,null,"-",0,null,"-",0,0,0,0,0,0,0,0,0,0,0,"-",0,"-",0,"-",0,"-",0,"-","Ministry of Natl Dev - Statistics Dept","http://www.boe.gov.er","Bank of Eritrea","-",0,"-",0,"-",0,"-",0,1,"-","ara","-","-","-","-","-","-","C","-",0,"-","-","-",0,"-","-",0,"-","-","-","-","-","-","-","-","-","-","-","-","-","-","-","-","-",null,0,192,9.0749999999999997E-2,0,0,0,0.27229999999999999,180,0.20430000000000001,0.2092,1.32E-2,0.39069999999999999,"AFR",null,null,null,"F","Eritrea",0,null,null,null,null,0,null,null,null,null,null,0,0,"D",null,55,"Eritrea","ERI",null,null,"http://www.shabait.com",0,"-",0,9,9,0,0,5,null,null,null,null,"-","-","http://www.eastafritac.org/images/uploads/documents_storage/2013-10_Cash_Management_Workshop_-_Day_1_Presentations.pdf","-",0,"-","-","-","-","-","http://www.shabait.com/news/local-news/6953-meeting-of-ministerial-cabinet-concluded-",1993,"-","-",0,"-","-","-",0,0,"-","-",1995,0,"ASYCUDA++","Automated SYstem for CUstoms DAta",2,"ASYCUDA ++","http://unctad.org/en/PublicationsLibrary/dtlasycuda2011d1_en.pdf",2007,3,2,1,0,"-","-",0,0,"-","-",0,"-","-",0,"-",0,"-","-","-","-",0,"-","http://documents.worldbank.org/curated/en/2008/03/16215845/eritrea-health-education-sectors-public-expenditure-review","-",0,0,"-","-",0,"-","http://documents.worldbank.org/curated/en/2008/03/16215845/eritrea-health-education-sectors-public-expenditure-review","-",0,0,"-","-","-","-",0,0,"-",null,null,null,null,null,null,null,null,2,9.0909090909090917,"D","LIC","AFR"]
[56,null,"Estonia","HIC",1340,20447.947864508893,15260,"http://www.fin.ee","Eesti Vabarigiigi Rahandusministeerium - Ministry of Finance, Estonia",2,"http://www.fin.ee/riigieelarve",1,"http://www.mindware.ee/en/Portfolio/Finance-and-Insurance",3,"http://pub.stat.ee/px-web.2001/Database/Majandus/14Rahandus/08Valitsemissektori_rahandus/08Valitsemissektori_tulud_kulud/08Valitsemissektori_tulud_kulud.asp",1,"http://www.fin.ee/riigieelarve-2011",0,0,"-",2,1,0,"-",1,"http://www.fin.ee/index.php?id=7544",1,1,2008,1,1,4,2003,0,null,"-",1,2,1,1995,1,0,2005,1,1,1,0,0,1,1,1,1,1,1,"https://riigihanked.riik.ee/lr1/web/guest/index",1,"http://pub.stat.ee/px-web.2001/Dialog/statfile1.asp",0,"-",1,"http://www.fin.ee/index.php?id=79938",0,"http://www.stat.ee","Statistical Office of Estonia ","http://www.bankofestonia.info","Bank of Estonia","-",0,"-",1,"http://www.fin.ee/index.php?id=243",2,"-",0,3,"-","est","eng","rus","-",0,"FMIS","Financial Management Information System","C","F",3,2001,"C+L",1,2,"SAP","Web",3,"-","-","-","-","-","-","-","-","-","-","-","-","-","-","-","-","-",1,2,15,0.81796000000000002,0.76470000000000005,0.77164999999999995,0.79337000000000002,0.88890000000000002,20,0.79869999999999997,0.82350000000000001,0.66420000000000001,0.90849999999999997,"ECA","EU","OECD",null,null,"Estonia",0,null,null,null,null,0,null,null,null,null,null,18,69.230769230769226,"B",null,56,"Estonia","EST",null,null,"http://www.riik.ee",2,"https://www.eesti.ee/eng",0.77170000000000005,100,66,56,59,69,null,null,null,null,"http://www.fin.ee/state-treasury",1918,"https://www.imf.org/external/pubs/ft/fandd/2000/09/pdf/potter.pdf",1997,3,4,"-","-","-","-","http://www.emta.ee",1995,"e-Tax","Tax and Customs Portal",2,"COTS","http://www.emta.ee/index.php?id=29761",2000,3,3,"http://www.emta.ee",1995,1992,3,"e-Customs > COMPLEX","Web Services / Customs Declarations …",2,"COTS","http://www.emta.ee/index.php?id=21472",2006,3,3,1,0,"http://www.emta.ee/index.php?id=29761",2000,3,1,"https://www.eesti.ee/portaal/portaal.sisene?level=30&loc=%2Feng%2Fmydata",2000,2,"http://www.id.ee/?lang=en&id=",2003,3,159700,2,"http://laborsta.ilo.org/STP/guest",2010,"HRMS","Human Resource Management System",2,"SAP","http://www.rtk.ee/",2014,3,1,"PS","Payroll System",2,"SAP","http://www.rtk.ee/",2014,3,1,"-","E-Procurement Estonia","https://riigihanked.riik.ee",2011,3,2,"https://riigihanked.riik.ee/register/RegisterHanked.html ","Ministry of Finance",null,null,null,null,null,null,null,19,86.36363636363636,"A","HIC","ECA"]
[57,null,"Ethiopia","LIC",84734.262000000002,30963.634534093431,370,"http://www.mofed.gov.et","Ethiopia Ministry of Finance and Economic Development",2,"http://www.mofed.gov.et/English/Resources/Pages/ResourcesByTopic.aspx",1,"http://www.hks.harvard.edu/m-rcbg/ethiopia/Publications/ARD%20Final%20Draft.pdf",1,"-",0,"-",0,0,"-",1,1,0,"-",0,"-",0,null,"-",1,0,5,2010,0,null,"-",1,4,0,2001,0,null,"-",0,1,1,1,1,1,1,1,0,0,1,"http://www.ppa.gov.et/",0,"-",0,"-",0,"-",1,"http://www.csa.gov.et","Central Statistics Agency of Ethiopia","http://www.nbe.gov.et ","National Bank of Ethiopia","-",1,"http://www.mofed.gov.et/English/Pages/Accessibility.aspx",1,"http://www.mofed.gov.et/English/Information/Pages/OrganizationalStructure.aspx",0,"-",0,3,"-","eng","amh","tig","afo",0,"IBEX","Integrated Budget and Expenditure System","C","F",3,2007,"C",1,1,"LDSW > MS Access","CS",2," May 2014","Public",3,"B","B","C","C+","A","NA","C+","C+","B+","D",2.67,2.8,"-","-",null,1,157,0.25888,0.25490000000000002,0.45668999999999998,2.6589999999999999E-2,0.29339999999999999,172,0.2306,0.47060000000000002,9.2999999999999992E-3,0.21190000000000001,"AFR",null,null,null,null,"Ethiopia",0,null,null,null,null,0,null,null,null,null,null,8,30.76923076923077,"C",null,57,"Ethiopia","ETH",2006,null,"http://www.ethiopia.gov.et",2,"http://www.eservices.gov.et/eserviceportaleth/Services.aspx",0.45669999999999999,53,48,28,44,42,null,null,null,null,"http://www.mofed.gov.et/",1905,"http://www-wds.worldbank.org/external/default/WDSContentServer/WDSP/IB/2014/01/13/000461832_20140113152214/Rendered/PDF/839410WP0P14490Box0382124B00PUBLIC0.pdf",2015,1,"-","-","-","-","-","http://www.erca.gov.et",2008,"SIGTAS","Standard Integrated Government Tax System",2,"SIGTAS","http://crcsogema.com/fiches/69/475/Ethiopia-The-SIGTAS-Regional-Deployment-and-E-Tax-platform.html",2013,3,2,"http://www.erca.gov.et",2008,1973,4,"ASYCUDA++","Automated SYstem for CUstoms DAta",2,"ASYCUDA ++","http://unctad.org/en/PublicationsLibrary/dtlasycuda2011d1_en.pdf",2005,3,2,1,0,"https://www.etax.gov.et",2013,2,0,"-","-",0,"-","-",0,611723,2,"http://laborsta.ilo.org/STP/guest",2004,"HRIS","Human Resource Management Information system",1,"LDSW","http://www.mocis.gov.et/human-resource-management-information-system-directorate","-",3,1,"IBEX","Integrated Budget and Expenditure System",1,"LDSW","http://www.hks.harvard.edu/m-rcbg/ethiopia/Publications/ARD%20Final%20Draft.pdf ",2007,3,2,"C+","FPPA Website","http://www.ppa.gov.et ",2010,3,1,"http://www.ppa.gov.et ","Ministry of Finance of Republic of Ethiopia",2,"DMFAS 5.3",null,1988,3,"MoF",4,13,59.090909090909093,"B","LIC","AFR"]
[58,null,"Fiji","LMIC",868.40599999999995,3231.4199546465802,3720,"http://www.finance.gov.fj","Fiji Ministry of Finance",2,"http://www.finance.gov.fj/s.html",2,"http://www.finance.gov.fj/sections/financial-and-asset-management/fmis.html",1,"-",0,"-",0,0,"-",2,1,0,"-",0,"-",0,null,"-",1,1,3,2004,0,null,"-",1,4,1,2009,0,null,"-",0,1,0,0,0,1,1,0,1,0,0,"-",0,"-",0,"-",0,"-",1,"http://www.statsfiji.gov.fj","Fiji Statistics Bureau ","http://www.reservebank.gov.fj","Reserve Bank of Fiji","-",1,"http://www.fiji.gov.fj/index.php?option=com_content&view=article&id=583:accessiblity&catid=80",0,"-",0,"-",0,3,"-","eng","-","-","-","-","FMIS","Financial Management Information System","C","F",3,2008,"C+L",1,2,"Infor FMS","Web",3,"Jun 2005","Final",1,"X","X","X","X","X","X","X","X","X","X",1.85,1.9193548387096775,6,0,null,1,85,0.50436999999999999,0.39215,0.39369999999999999,0.28719,0.83220000000000005,105,0.4672,0.35949999999999999,0.24340000000000001,0.79859999999999998,"EAP",null,null,null,null,"Fiji",0,null,null,null,null,0,null,null,null,null,null,12,46.153846153846153,"C",null,58,"Fiji","FJI",null,null,"http://www.fiji.gov.fj",2,"https://www.egov.gov.fj/default.aspx",0.39369999999999999,75,36,21,24,37,null,null,null,null,"http://www.finance.gov.fj/sections/financial-and-asset-management/treasury.html",1982,"http://www.finance.gov.fj/legislation.html",2008,2,2,"-","-","-","-","http://www.frca.org.fj",1999,"Tax Portal","Tax Automation Solutions",1,"LDSW ?","http://taxportal.frca.org.fj",2009,3,2,"http://www.frca.org.fj",1999,1997,4,"ASYCUDA++","Automated SYstem for CUstoms DAta",2,"ASYCUDA ++","http://unctad.org/en/PublicationsLibrary/dtlasycuda2011d1_en.pdf",1999,3,2,1,1,"-","-",0,0,"-","-",0,"https://www.egov.gov.fj/_layouts/images/egovFiji/eGOVdocs/Promulgation_26_Electronic_Transactions.pdf",2008,1,38397,2,"http://laborsta.ilo.org/STP/guest",2008,"CHRIS","Computerized Human Resources Information System",1,"LDSW","http://www.planning.gov.fj/index.php/chris",1997,3,2,"FMIS","Financial Management Information System",2,"Infor FMS","http://www.finance.gov.fj/sections/financial-and-asset-management/fmis.html ",2008,3,2,"X","FPO Website","http://www.fpo.gov.fj",2012,2,1,"-","Ministry of Finance of The Republic of The Fiji Islands",2,"CS-DRMS",null,1987,3,"MoF",null,13,59.090909090909093,"B","LMIC","EAP"]
[59,null,"Finland","HIC",5387,257342.8030655185,47770,"http://www.vm.fi/vm/fi/01_etusivu","Valtioneuvosto - Ministry of Finance, Finland",2,"http://www.vm.fi/vm/fi/04_julkaisut_ja_asiakirjat/01_julkaisut/01_budjetit/index.jsp",2,"http://www.valtiokonttori.fi/fi-FI/Virastoille_ja_laitoksille/Kiekun_kayttoonotto_valtionhallinnossa",3,"http://www.netra.fi",1,"http://www.netra.fi",0,0,"-",1,1,0,"-",1,"http://www.vm.fi/vm/fi/04_julkaisut_ja_asiakirjat/03_muut_asiakirjat/24229/24230_fi.pdf",1,1,2002,1,1,4,2004,0,null,"-",1,4,1,2001,1,1,2001,1,1,0,1,0,1,1,1,1,0,1,"http://www.peppol.eu/",1,"http://www.suomi.fi/suomifi/tyohuone/yhteiset_palvelut/avoin_data",0,"-",0,"http://www.vm.fi/vm/en/15_municipal_affairs/01_legislation/07_act/index.jsp",2,"http://www.stat.fi","Statistics Finland","http://www.bof.fi","Bank of Finland ","http://www.valtiokonttori.fi",0,"-",1,"http://www.vm.fi/vm/en/02_ministry/index.jsp",2,"GFS 2001 + National laws and regulations",0,1,"-","fin","swe","eng","-",0,"KIEKU","Government Financial and HR Administration System","D","F",3,2011,"C",1,2,"SAP + Logica","Web",2,"-","-","-","-","-","-","-","-","-","-","-","-","-","-","-","-","-",1,3,10,0.84491000000000005,0.70587999999999995,0.77164999999999995,0.85940000000000005,0.90369999999999995,9,0.85050000000000003,0.88239999999999996,0.72250000000000003,0.94669999999999999,null,"EU","OECD",null,null,"Finland",4,1,2,1,null,1,1,null,null,null,"2013-04-04",19,73.076923076923066,"B",null,59,"Finland","FIN",null,null,"http://valtioneuvosto.fi",2,"http://www.suomi.fi",0.77170000000000005,100,70,47,65,69,null,null,null,null,"http://www.treasuryfinland.fi/",1876,"http://www.finlex.fi/fi/laki/ajantasa/1988/19880423","-",0,"-","-","-","-","-","http://www.vero.fi",1809,"e-Tax","e-Tax and other portals",2,"GenTax","http://www.vero.fi/fi-FI/Asioi_verkossa",1993,3,2,"http://www.tulli.fi",1812,1961,0,"ITU","Integrated Clearance System",2,"COTS","http://www.tulli.fi/fi/yrityksille/sahkoinenasiointi/internet/index.jsp",1994,3,2,1,0,"http://www.vero.fi/fi-FI/Asioi_verkossa",2006,3,1,"http://www.suomi.fi/suomifi/english/eservices/frequently_asked_questions/index.html#howdoIpay",2006,2,"http://www.fineid.fi/?site=10",2006,3,611700,2,"http://laborsta.ilo.org/STP/guest",2010,"KIEKU","Human Resources Management",2,"SAP","http://www.valtiokonttori.fi/fi-FI/Virastoille_ja_laitoksille/Kiekun_kayttoonotto_valtionhallinnossa/Kiekuhanke/Teknista_tietoa",2014,3,2,"KIEKU","Salaries",2,"CGI","http://www.valtiokonttori.fi/fi-FI/Virastoille_ja_laitoksille/Kiekun_kayttoonotto_valtionhallinnossa/Kiekuhanke/Teknista_tietoa",2014,3,2,"-","HILMA","http://www.hankintailmoitukset.fi/fi/",2006,3,2,"http://www.hankintailmoitukset.fi/fi/docs/hakuohje/","Finnish State Treasury",null,null,null,null,null,null,null,18,81.818181818181827,"A","HIC"]
[60,null,"France","HIC",65436.552000000003,2775664.2076101578,42420,"http://www.economie.gouv.fr","France Ministre du Budget, des Comptes publics, de la Fonction publique et de la Réforme de l'État",2,"http://www.performance-publique.budget.gouv.fr/",2,"http://www.economie.gouv.fr/aife/agence-pour-linformatique-financiere-letat-0",1,"-",0,"-",0,0,"-",2,1,1,"http://www.cyber-budget.fr",1,"http://www.performance-publique.budget.gouv.fr/la-gestion-publique/la-gestion-budgetaire/lessentiel/les-nomenclatures-du-budget-de-letat-une-meilleure-identification-des-engagements-et-des-depenses.html",1,1,2004,1,1,3,2008,0,null,"-",1,4,1,2006,1,1,2004,1,1,0,0,0,1,1,0,1,0,1,"http://www.peppol.eu/",1,"http://data.gouv.fr",0,"-",0,"-",3,"http://www.insee.fr","National Institute of Statistics and Economic Studies (INSEE)","http://www.banque-france.fr","Bank of France","http://www.aft.gouv.fr/articles/2005-draft-budget-bill_872.html",1,"http://www.budget.gouv.fr/budget/accessibilite",1,"http://www.economie.gouv.fr/le-ministere/services-ministere-leconomie-et-des-finances",0,"-",0,1,"-","fre","-","-","-","-","CHORUS","Government Financial Information System","C","F",3,2011,"C+L",1,2,"SAP","Web",3,"-","-","-","-","-","-","-","-","-","-","-","-","-","-","-",83,87,null,3,4,0.89383999999999997,0.96077999999999997,1,0.80028999999999995,0.88119999999999998,6,0.86350000000000005,0.87580000000000002,0.79020000000000001,0.9244,null,"EU","OECD",null,null,"France",12,6,2,3,1,5,1,1,2,1,null,18,69.230769230769226,"B",null,60,"France","FRA",null,null,"http://www.premier-ministre.gouv.fr",2,"http://service-public.fr",1,100,73,91,91,88,null,null,null,null,"http://www.aft.gouv.fr",2001,"http://www.aft.gouv.fr/documents/%7BC3BAF1F0-F068-4305-821D-B8B2BF4F9AF6%7D/publication/attachments/317.pdf",1959,3,4,"-","http://www.aft.gouv.fr/rubriques/objectifs_188.html","-","-","http://www.impots.gouv.fr",2008,"My Space","e-Tax and other portals",2,"COTS","https://cfspart.impots.gouv.fr",2001,3,3,"http://www.douane.gouv.fr",1791,1952,3,"Pro Douane","Web Services + DELTA (Dédouanement En Ligne par Traitement Automatisé)",2,"COTS","https://pro.douane.gouv.fr",2005,3,3,1,1,"http://www.impots.gouv.fr/pro/pro.html",2002,3,1,"http://vosdroits.service-public.fr/particuliers/R11026.xhtml",2009,2,"http://www.chambersign.fr/cadre-juridique-autorite-certification/",2004,3,6718000,2,"http://laborsta.ilo.org/STP/guest",2006,"CHORUS","Human Resource Management System integrated with CHORUS",2,"SAP","http://www.economie.gouv.fr/aife/agence-pour-linformatique-financiere-letat-0",2012,3,2,"CHORUS","Payroll System",2,"SAP","http://www.economie.gouv.fr/aife/agence-pour-linformatique-financiere-letat-0",2012,3,2,"-","E-Procurement","https://www.marches-publics.gouv.fr",2010,3,2,"https://www.marches-publics.gouv.fr/?page=entreprise.EntrepriseAdvancedSearch&AvisAttribution ","Agence France Trésor",null,null,null,null,null,null,null,19,86.36363636363636,"A","HIC"]
[61,null,"Gabon","UMIC",1534.2619999999999,12397.299627471075,8080,"http://www.budget.gouv.ga","Gabon Ministère du Budget, des Comptes Publics, de la Fonction Publique, Charge de la Réforme de l'État",2,"http://bop.dgb.ga/",1,"http://ddp-ext.worldbank.org/EdStats/GABpemfar06.pdf",1,"-",0,"-",0,0,"-",2,1,0,"-",1,"http://www.budget.gouv.ga/47-textes-juridiques/344-decrets-et-arretes-/",1,0,2001,0,null,"-","-",1,1,2000,1,4,1,2000,0,null,"-",0,1,1,1,1,1,0,1,0,0,0,"-",0,"-",0,"-",1,"http://www.finances.gouv.ga/budget/IMG/pdf/DGB_Nom_Guide_2007.pdf",1,"http://www.stat-gabon.org","Gabon Direction générale de la statistique et des études économiques (DGSEE)","http://www.beac.int ","Bank of Central African States","-",0,"-",1,"http://www.budget.gouv.ga/47-textes-juridiques/344-decrets-et-arretes-/",2,"-",0,0,"-","fre","-","-","-","-","ASTER/SIGFIP","Application des Services du Trésor en Réseau / Système Intégré de Gestion des Finances Publiques","C","T",3,1999,"C",1,1,"LDSW > Oracle","CS",1,"Sep 2006","Public",1,"C","C","C","D","D","NU","C","C","B","NU",1.875,1.9565217391304348,"-","-",null,0,131,0.32940000000000003,0.21568000000000001,9.4479999999999995E-2,0.22600999999999999,0.66769999999999996,129,0.36870000000000003,0.1895,0.1595,0.75719999999999998,"AFR",null,null,null,null,"Gabon",0,null,null,null,null,0,null,null,null,null,null,13,50,"B",null,61,"Gabon","GAB",null,null,"http://www.gouvernement.ga/",0,"-",9.4500000000000001E-2,31,16,2,3,12,null,null,null,null,"http://www.tresor.ga/",1912,"http://www.tresor.ga/r/attributions/loi585.htm#T2C4S1","-",0,"-","-","-","-","-","http://www.dgi.ga",2002,"-","Forms and information",0,"-","-","-",0,1,"http://www.douanes.ga",1960,1965,4,"ASYCUDA++","Automated SYstem for CUstoms DAta",2,"ASYCUDA ++","http://unctad.org/en/PublicationsLibrary/dtlasycuda2011d1_en.pdf",2003,3,2,1,0,"-","-",1,0,"-","-",0,"http://aninf.ga/acn.php#close",2013,2,50000,1,"http://www.nouvellesdugabon.com/?link=details_art&id=364&type=Soci%E9t%E9",2012,"-","-",0,"-","http://www.budget.gouv.ga/9-actualites/258-les-decisions-presidentielles-et-gouvernementales-/","-",1,0,"-","-",0,"-","http://www.budget.gouv.ga/9-actualites/258-les-decisions-presidentielles-et-gouvernementales-/","-",1,0,"C","DGMP Website","http://www.dgmp.ga",2014,3,1,"http://www.dgmp.ga/all-offres.twg?dir=resultatsOffres ",null,2,"DMFAS 6.0",null,2001,3,"MoE",4,7,31.818181818181817,"C","UMIC","AFR"]
[62,null,"Gambia","LIC",1776.1030000000001,889.2791724548938,500,"http://www.mofea.gov.gm","The Gambia Ministry of Finance and Economic Affairs ",2,"http://www.mofea.gov.gm/index.php?option=com_content&view=article&id=16&Itemid=24",2,"http://www.mofea.gov.gm/index.php?option=com_content&view=article&id=10&Itemid=13",1,"-",0,"-",1,1,"http://www.mofea.gov.gm/index.php?option=com_content&view=article&id=16&Itemid=24",1,1,1,"http://www.mofea.gov.gm/images/stories/pdf/final.pdf",0,"-",0,null,"-",0,null,"-","-",0,null,"-",1,2,1,2011,0,null,"-",0,1,0,0,0,1,1,0,0,0,0,"-",0,"-",0,"-",0,"-",0,"http://www.gbos.gm","The Gambia Central Statistics Department","http://www.cbg.gm","Central Bank of The Gambia","-",0,"-",1,"http://www.mofea.gov.gm/index.php?option=com_content&view=article&id=17&Itemid=20",0,"-",0,3,"-","eng","-","-","-","-","IFMIS","Integrated Financial Management Information System","C","F",3,2007,"C",1,2,"Epicor","CS",2,"Apr 2010","Final",1,"X","X","X","X","X","X","X","X","X","X",1.8888888888888888,2.06,"-","-",null,0,167,0.22850999999999999,0.21568000000000001,0.20472000000000001,0.14815999999999999,0.33260000000000001,161,0.26879999999999998,0.32029999999999997,0.13439999999999999,0.35189999999999999,"AFR",null,null,null,null,"Gambia",0,null,null,null,null,0,null,null,null,null,null,12,46.153846153846153,"C",null,62,"Gambia","GMB",null,null,"http://www.statehouse.gm",0,"http://www.gambia.gov.gm",0.20469999999999999,56,23,2,12,22,null,null,null,null,"http://www.mofea.gov.gm/index.php?option=com_content&view=article&id=4&Itemid=7",1996,"-","-",0,"-","-","-","-","-","http://www.gra.gm",1996,"GAMTAX Net","Tax Management System",1,"LDSW","http://eeas.europa.eu/delegations/gambia/documents/about_us/page_2012_2015_en.pdf",2008,3,2,"http://www.gra.gm",1996,1987,4,"ASYCUDA++","Automated SYstem for CUstoms DAta",2,"ASYCUDA ++","http://unctad.org/en/PublicationsLibrary/dtlasycuda2011d1_en.pdf",2011,3,2,1,1,"-","-",0,0,"-","-",0,"http://www.wipo.int/wipolex/en/text.jsp?file_id=238414",2009,1,13500,1,"http://unpan1.un.org/intradoc/groups/public/documents/un/unpan023265.pdf",2004,"HRIS","Human Resource Information System",2,"NAS.DNA","http://www.pmo.gov.gm/index.php?option=com_content&view=article&id=59&Itemid=81",2011,3,2,"IFMIS Payroll","Integrated Financial Management Information System",2,"NAS.DNA","http://www.newgambia.gm/nrs.htm ",2011,3,2,"X","GPPA Website","http://www.gppa.gm","-",1,0,"-",null,2,"CS-DRMS",null,1994,3,"MoF",null,11,50,"B","LIC","AFR"]
[63,null,"Georgia","LMIC",4486,12848.997206086504,2860,"http://www.mof.ge","Ministry of Finance of Georgia",2,"http://www.mof.ge/4905",2,"http://fas.ge/en/Completed",2,"http://treasury.gov.ge/4960",0,"-",0,0,"-",2,1,1,"http://www.mof.ge/common/get_doc.aspx?doc_id=8983",1,"http://www.mof.ge/show_law.aspx?id=647",1,1,2004,1,1,4,2006,1,1,2012,1,2,1,2004,0,null,"-",1,1,1,0,0,1,1,1,0,1,0,"-",0,"-",0,"-",0,"-",3,"http://www.geostat.ge/index.php?action=0&lang=geo","Georgia State Department for Statistics ","http://www.nbg.gov.ge","National Bank of Georgia","http://treasury.gov.ge/en/40",0,"-",0,"-",2,"GFS 2001",0,0,"-","geo","eng","-","-",0,"PFMIS","Public Financial Management Information System","C","F",3,2013,"C+L",1,1,"LDSW > Oracle","Web",3,"Sep 2013","Public",2,"A","A","A","B+","B+","B","A","C+","B+","C",3.4,3.27,55,55,1,2,56,0.60468,0.58823000000000003,0.59841999999999995,0.42613000000000001,0.78949999999999998,72,0.55630000000000002,0.60129999999999995,0.23280000000000001,0.83479999999999999,"ECA",null,null,null,"prev","Georgia",0,null,null,null,null,0,null,null,null,null,null,19,73.076923076923066,"B",null,63,"Georgia","GEO",null,"DAD","http://www.government.gov.ge",2,"https://www.my.gov.ge",0.59840000000000004,91,57,44,29,54,null,null,null,null,"http://treasury.gov.ge/",1998,"http://www.treasury.gov.ge/4974",2011,3,4,"-","-","-","-","http://www.rs.ge",2011,"e-Tax","e-Tax and other portals",1,"LDSW","https://eservices.rs.ge",2011,3,2,"http://www.rs.ge",2011,1993,4,"ASYCUDA World","Automated SYstem for CUstoms Data World 4.2.1 RC",2,"ASYCUDA W","http://asycuda.rs.ge",1998,3,2,0,1,"http://www.rs.ge/4297",2011,3,1,"http://www.e-government.ge/index.php?lang=4",2011,2,"https://www.my.gov.ge/public/",2008,3,360300,2,"http://laborsta.ilo.org/STP/guest",2006,"HRMIS","Human Resources Management Information System",1,"LDSW","http://www.fas.ge/4133#auc",2012,3,2,"HRMIS","Human Rresource Management Information System",1,"LDSW","http://www.mof.ge/en/3645 ",2012,3,2,"A","Ge-GP","https://tenders.procurement.gov.ge",2011,3,2,"http://tenders.gov.ge/app/login.php?lang=en ","Ministry of Finance",2,"DMFAS 6.0",null,1998,3,"MoF",4,18,81.818181818181827,"A","LMIC","ECA"]
[64,null,"Germany","HIC",81726,3617712.8627064456,44270,"http://www.bundesfinanzministerium.de","Bundesministerium der Finanzen",2,"http://www.bundesfinanzministerium.de",2,"http://www.zivit.de/DE/ITLoesungen/Haushaltsverfahren/Haushaltsverfahren_node.html",3,"www.bundeshaushalt-info.de",1,"http://www.bundeshaushalt-info.de/download.html",0,0,"-",2,1,1,"http://www.finanzforscher.de/",1,"http://www.bundesfinanzministerium.de/Content/DE/Standardartikel/Themen/Oeffentliche_Finanzen/Bundeshaushalt/Haushaltsrecht_und_Haushaltssystematik/das-system-der-oeffentlichen-haushalte-anl.pdf?__blob=publicationFile&v=2",1,1,2006,1,1,5,2006,0,null,"-",1,2,1,2004,1,1,2000,1,1,1,1,1,1,1,0,1,0,1,"http://www.peppol.eu/",1,"https://www.govdata.de",0,"-",0,"-",1,"http://www.destatis.de","Germany Federal Statistical Office","http://www.bundesbank.de","Deutsche Bundesbank ","-",1,"http://www.bfdi.bund.de/cae/servlet/contentblob/412040/publicationFile/24681/TextIFG_EN.pdf",1,"http://www.bundesfinanzministerium.de/Web/DE/Service/Gesetze/gesetze.html",0,"European System of National Accounts - ESA 95",0,2,"BMF Application, Twitter, Facebook","ger","fre","eng","-",0,"HKR","Haushalts, Kassen und Rechnungswesen ","D","F",3,1999,"C+L",1,2,"SAP","Web",2,"-","-","-","-","-","-","-","-","-","-","-","-","-","-","-",71,68,null,1,21,0.78639999999999999,0.70587999999999995,0.66929000000000005,0.80376999999999998,0.88619999999999999,17,0.80789999999999995,0.75160000000000005,0.77500000000000002,0.89710000000000001,null,"EU","OECD",null,null,"Germany",7,1,3,3,null,6,null,null,5,1,null,21,80.769230769230774,"A",null,64,"Germany","DEU",null,null,"http://www.bundesregierung.de",2,"http://www.bund.de",0.66930000000000001,97,68,47,32,60,null,null,null,null,"http://www.bundesfinanzministerium.de",1949,"-","-",0,"-","-","-","-","-","http://www.steuerliches-info-center.de",1990,"e-Tax","e-Tax and other portals",2,"COTS","https://www.elsteronline.de/bportal/Oeffentlich.tax",2006,3,3,"http://www.zoll.de",1992,1952,3,"ATLAS ","Automatisiertes Tarif- und Lokales Zoll- Abwicklungs-System",2,"COTS","http://www.zoll.de/DE/Fachthemen/Zoelle/ATLAS/atlas_node.html",2004,3,3,1,1,"https://www.elster.de/",1999,3,1,"http://www.bund.de/DE/Leistungen/XYZ/Zahlungsverkehrsplattform-des-Bundes-ePayment-BMF-ZIVIT.html?nn=42",2005,2,"https://www.bsi.bund.de/DE/Service/FAQ/ElektrSIgnatur/faq_node.html",2002,3,5981000,2,"http://laborsta.ilo.org/STP/guest",2010,"HRMS","Human Resource Management System",2,"COTS","http://www.bva.bund.de/DE/Home/_module/themennavigation/Produkte/_function/formular.html?nn=4509208&cl2Categories_Themen=BVA&cl2Categories_Themen=BIT&cl2Categories_Themen=DLZ&cl2Categories_Themen=ZFA&cl2Categories_Themen=Beratungsportal&documentType_.HASH=c940125f5b71707b0d81&cl2Categories_Themen.GROUP=1&resultsPerPage=12&documentType_=Task&templateQueryString=SUCHE+IN+PRODUKTEN&resultsPerPage.GROUP=1",2006,3,2,"Payroll KIDICAP","Payroll system",2,"COTS","http://www.zivit.de/DE/ITLoesungen/Personalwesen/kidicap/kidicap_node.html ",2006,3,2,"-","e-Vergabe","http://www.evergabe-online.de",2006,3,2,"http://www.bund.de/DE/Ausschreibungen/Ausschreibungen-VergebeneAuftraege/ausschreibungen_node.html ","German Federal Republic Finance Agency GmbH",null,null,null,null,null,null,null,20,90.909090909090907,"A","HIC"]
[65,null,"Ghana","LMIC",24965.815999999999,35109.949998869954,1410,"http://www.mofep.gov.gh","Ghana Ministry of Finance and Economic Planning",2,"http://www.mofep.gov.gh/?q=budget-statements",2,"http://www.cagd.gov.gh/gifmis/index.php?option=com_content&view=article&id=28&Itemid=2&showall=1",1,"-",0,"-",0,0,"-",2,1,1,"http://www.mofep.gov.gh/?q=publications/150708",1,"http://cagd.gov.gh/portal/index.php?option=com_content&view=article&id=47&Itemid=48",1,1,1998,1,1,3,1999,0,null,"-",1,2,0,2008,1,0,2009,1,1,0,0,0,1,1,1,1,0,0,"-",1,"http://data.gov.gh",0,"-",1,"http://cagd.gov.gh/portal/index.php?option=com_content&view=article&id=47&Itemid=48&limitstart=1",0,"http://www.statsghana.gov.gh","Ghana Statistical Service ","http://www.bog.gov.gh","Bank of Ghana","-",0,"-",0,"-",2,"-",0,1,"-","eng","-","-","-","-","GIFMIS","Government Integrated Financial Management Information System","C","F",3,2013,"C",1,2,"Oracle","CS",3,"Jun 2013","Public",4,"C","C","B","C+","D+","D","C","C+","C+","C+",2.15,2.02,50,54,1,2,123,0.37353999999999998,0.39215,0.31496000000000002,0.24437999999999999,0.56130000000000002,145,0.31590000000000001,0.30070000000000002,0.1111,0.53600000000000003,"AFR",null,null,null,null,{"$f":"C67","v":"Ghana"},{"$f":"SUM(EA67:ED67)","v":1},null,1,null,null,{"$f":"SUM(EF67:EI67)","v":0},null,null,null,null,"2013-05-03",{"$f":"J67+L67+N67+P67+R67+S67+U67+V67+W67+Y67+AA67+AB67+AD67+AE67+AH67+AI67+AK67+AM67+AO67+AP67","v":16},{"$f":"EK67/26*100","v":61.53846153846154},{"$f":"IF(EL67<25,\"D\",IF(EL67<50,\"C\",IF(EL67<75,\"B\",\"A\")))","v":"B"},null,65,"Ghana","GHA",null,null,"http://www.ghana.gov.gh",2,"http://www.eservices.gov.gh/",0.315,78,18,19,18,31,null,null,null,null,"http://cagd.gov.gh/portal/",2003,"http://cagd.gov.gh/gifmis/index.php/milestones/treasury-single-account-tsa",2014,2,4,"-","Measurement started in 2014","-","-","http://www.gra.gov.gh",2009,"TRIPS","Total Revenue Integrated Processing System",2,"COTS","http://gegov.com.gh/CMSPages/GetFile.aspx?guid=c390530f-085f-4377-a3f2-d863ead54282",2011,3,2,"http://www.gra.gov.gh",2009,1968,3,"GCMS","Ghana Customs Management System",1,"LDSW","http://www.gra.gov.gh/index.php?option=com_content&view=article&id=30&Itemid=92",2003,3,2,1,1,"-","-",1,0,"http://www.epay.gov.gh/epay/the-portal.html",2013,2,"http://nca.org.gh/downloads/regdocs/NCA_Electronic_Transactions_Act_772.pdf",2008,1,539000,1,"http://unpan1.un.org/intradoc/groups/public/documents/un/unpan023266.pdf",2004,"HRMIS","Human Resources Management Information System",2,"Oracle","http://cagd.gov.gh/gifmis/index.php/implementation/key-achievements?showall=1&limitstart=","-",2,2,"IPPD 2"," Integrated Personnel Payroll Database",1,"LDSW","http://www.cagd.gov.gh/portal/index.php/organisation/financial-management-services-division",1995,3,2,"C","PPA Website","http://www.ppbghana.org ",2012,3,1,"http://www.ppbghana.org/contracts_main.asp ","Ministry of Finance",2,"CS-DRMS",null,1989,3,"MoF",null,{"$f":"N67+CO67+FZ67+GL67+GQ67+HJ67+HR67+HX67","v":14},{"$f":"IH67/22*100","v":63.636363636363633},{"$f":"IF(II67<25,\"D\",IF(II67<50,\"C\",IF(II67<75,\"B\",\"A\")))","v":"B"},"LMIC","AFR"]
[66,null,"Greece","HIC",11304,276747.99507922638,24480,"http://www.minfin.gr","Ministry of Finance",2,"http://www.minfin.gr/portal/el/resource/contentObject/contentTypes/genericContentResourceObject,fileResourceObject,arrayOfFileResourceTypeObject/topicNames/budget/resourceRepresentationTemplate/contentObjectListAlternativeTemplate",0,"-",1,"-",0,"-",0,0,"-",2,1,0,"-",1,"http://www.minfin.gr/portal/el/resource/contentObject/contentTypes/genericContentResourceObject,fileResourceObject,arrayOfFileResourceTypeObject/topicNames/budget/pageNumber/2/resourceRepresentationTemplate/contentObjectListAlternativeTemplate",1,1,2000,1,0,4,2012,0,null,"-",1,2,0,2010,0,null,"-",1,1,0,0,0,1,0,1,1,1,1,"http://www.peppol.eu/",1,"http://geodata.gov.gr/geodata",0,"-",0,"-",0,"http://www.statistics.gr","Greece National Statistical Service ","http://www.bankofgreece.gr","Bank of Greece","-",0,"-",1,"http://www.minfin.gr/portal/en/resource/contentObject/contentTypes/genericContentResourceObject,fileResourceObject,arrayOfFileResourceTypeObject/topicNames/actOfLaw/resourceRepresentationTemplate/contentObjectListAlternativeTemplate#fragment-2",2,"National laws and regulations",0,3,"-","gre","eng","-","-",0,"MIS","Managament Information System","C","F",3,2013,"C",1,2,"SAP","Web",{"$f":"IF(CH68=0,0,IF(CG68=\"T\",1,2)+IF(FK68>1,1,0))","v":3},"-","-","-","-","-","-","-","-","-","-","-","-","-","-","-","-","-",1,1,34,0.71175999999999995,0.80391999999999997,0.60629,0.65486999999999995,0.87409999999999999,37,0.68720000000000003,0.57520000000000004,0.55310000000000004,0.93320000000000003,null,"EU","OECD",null,null,"Greece",0,null,null,null,null,0,null,null,null,null,null,11,42.307692307692307,"C",null,66,"Greece","GRC",null,null,"http://www.government.gr",2,"http://www.ermis.gov.gr",0.60629999999999995,81,59,42,41,55,null,null,null,null,"http://www.minfin.gr/",1967,"http://eprints.lse.ac.uk/29097/1/GreeSE_No37.pdf",2006,2,2,"-","-","-","-","http://www.gsis.gr",1974,"myTAXISnet","e-Tax and other portals",2,"COTS","http://www.gsis.gr/gsis/info/gsis_site/PublicIssue/wnsp.html",2010,3,2,"http://www.gsis.gov.gr",1974,1952,0,"ICIS-net","Customs Portal",2,"COTS","https://portal.gsis.gr/portal/page/portal/ICISnet",2013,3,2,1,0,"https://login.gsis.gr/sso/pages/login.jsp",2000,2,1,"http://www.gsis.gr/gsis/info/gsis_site/index.html",2013,2,"http://www.eett.gr/opencms/opencms/EETT_EN/Electronic_Communications/DigitalSignatures/",2007,3,1022121,2,"http://laborsta.ilo.org/STP/guest",2008,"HRMIS","Human Resources Management Information System",2,"COTS","http://www.opengovpartnership.org/country/commitment/enhance-public-resources-management","-",3,1,"HRMIS","Human Resources Management Information System",2,"COTS","http://www.opengovpartnership.org/country/commitment/enhance-public-resources-management","-",3,1,"-","Procurement Portal","http://www.eprocurement.gov.gr/",2012,3,2,"http://www.eprocurement.gov.gr/webcenter/faces/oracle/webcenter/page/scopedMD/sd0cb90ef_26cf_4703_99d5_1561ceff660f/Page119.jspx?_afrLoop=2967417921458341#%2Foracle%2Fwebcenter%2Fwebcenterapp%2Fview%2Fpages%2Fnavigation%2Fnavigation-renderer.jspx%40%3Fwc.contextURL%3D%2Fspaces%2Fprod_ministry%26_adf.ctrl-state%3Dq6yeobp47_4","Hellenic Republic Ministry of Economy and Finance",null,null,null,null,null,null,null,14,63.636363636363633,"B","HIC"]
[67,null,"Grenada","UMIC",104.89,770.89636336087574,7350,"http://www.gov.gd/ministries/finance.html","Ministry of Finance, Planning, Economy, Energy & Cooperatives",2,"http://www.gov.gd/documents.html",1,"http://ec.europa.eu/europeaid/what/economic-support/public-finance/documents/grenada_pefa_report_en.pdf",1,"-",0,"-",0,0,"-",1,1,0,"-",0,"-",1,1,2003,0,null,"-","-",0,null,"-",0,null,null,"-",1,0,2006,1,1,0,0,0,1,1,0,0,0,0,"-",0,"-",0,"-",0,"-",0,"-","MoF, Central Statistics Office","http://www.eccb-centralbank.org","East Caribbean Central Bank","-",0,"-",1,"http://www.gov.gd/ministries/finance.html",0,"-",0,3,"Facebook, Twitter, Youtube, VIMEO","eng","-","-","-","-","SIGFIS","Standard Integrated Government Financial Information System","C","F",3,2012,"C+L",2,2,"SmartStream","Web",3,"Mar 2010","Public",2,"C","A","B","C","B","D","C+","C+","B+","D",2.4500000000000002,2.2166666666666668,"-","-",null,0,78,0.52197000000000005,0.39215,0.34644999999999998,0.40289000000000003,0.81659999999999999,75,0.54790000000000005,0.35289999999999999,0.40139999999999998,0.88949999999999996,"LCR",null,null,null,null,"Grenada",0,null,null,null,null,0,null,null,null,null,null,9,34.615384615384613,"C",null,67,"Grenada","GRD",null,null,"http://www.gov.gd",2,"http://www.gov.gd",0.34649999999999997,75,41,7,18,33,null,null,null,null,"http://www.gov.gd/ministries/finance.html",1998,"http://laws.gov.gd",2007,2,4,"-","-","-","-","http://www.ird.gov.gd",1998,"SIGTAS","Standard Integrated Government Tax System",2,"SIGTAS","http://www.ird.gov.gd/index.php?option=com_content&view=category&layout=blog&id=56&Itemid=142",2012,3,2,"http://www.customs.gov.gd",1998,"-",0,"ASYCUDA World","Automated SYstem for CUstoms DAta",2,"ASYCUDA W","http://asycuda.customs.gov.gd/awclient/index.php",2012,3,2,1,1,"https://eservices.gov.gd/taxefs/auth/Public/LogOn.aspx?ReturnUrl=%2ftaxefs%2fonline%2fdefault.aspx",2014,3,0,"-","-",0,"http://www.gov.gd/egov/docs/other/eTransactionsAct.pdf",2008,1,5250,2,"http://www.gov.gd/egov/pdf/vacancies/DPA_staffing_%20expenditure_reviews_human_resource_audit_TOR.pdf",2008,"SIGFIS","Standard Integrated Government Financial Information System",2,"SmartStream","https://www.pefa.org/en/assessment/gd-mar10-pfmpr-public-en ",2012,3,2,"SIGFIS","Standard Integrated Government Financial Information System",2,"SmartStream","https://www.pefa.org/en/assessment/gd-mar10-pfmpr-public-en ",2012,3,2,"C+","e-PPS","https://procurement.oecs.org/epps/home.do",2012,1,0,"-",null,2,"CS-DRMS",null,1985,3,"MoF",null,15,68.181818181818173,"B","UMIC","LCR"]
[68,null,"Guatemala","LMIC",14757.316000000001,42358.507991845676,2870,"http://www.minfin.gob.gt","Guatemala Ministry of Public Finance",2,"http://www.minfin.gob.gt/",2,"http://www.minfin.gob.gt/frame.php?url=https://sicoin.minfin.gob.gt/sicoinweb/login/frmlogin.htm",1,"-",1,"http://www.minfin.gob.gt/",0,0,null,2,1,2,"http://www.minfin.gob.gt/index.php/?option=com_content&view=article&id=38&Itemid=327",1,"http://www.minfin.gob.gt/manuales/files.html?folder=manuales_presupuestarios",1,1,2003,1,1,3,2012,1,1,2007,1,2,1,2003,0,null,"-",1,1,0,0,0,1,1,1,0,1,0,"-",0,"-",2,"http://www.minfin.gob.gt/archivos/prensa/notas_informativas/notinfo30_070809.pdf",1,"http://www.minfin.gob.gt/presupaprobado/presupaprobados/files.html?folder=2012\\Segunda%20Parte%20Detalle%20Cuantitativo\\presupuesto_de_egresos_por_institucion&start=15",0,"http://www.ine.gob.gt","Guatemala Instituto Nacional de Estadistica","http://www.banguat.gob.gt ","Bank of Guatemala","-",1,"http://www.minfin.gob.gt/laip_mfp/4.html",1,"http://www.minfin.gob.gt/leyespresupuesto.html",2,"National laws and regulations",1,3,"Facebook, Twitter, Youtube","spa","-","-","-","-","SIAF","Sistema Integrado de Administración Financiera","C","F",3,2011,"C+L",2,1,"LDSW > Oracle","Web",3,"Feb 2013","Public",2,"A","B","A","C+","B+","C","C+","D+","NR","D+",2.72,2.5,51,50,1,0,133,0.31602999999999998,0.19606999999999999,0.14960000000000001,0.27124999999999999,0.5272,112,0.439,0.46410000000000001,0.22470000000000001,0.62839999999999996,"LCR",null,null,null,null,"Guatemala",0,null,null,null,null,0,null,null,null,null,null,20,76.923076923076934,"A",null,68,"Guatemala","GTM",null,"DAD","http://www.guatemala.gob.gt/",0,"-",0.14960000000000001,25,27,9,6,17,null,null,null,null,"http://www.minfin.gob.gt/index.php/acerca-del-ministerio/estructura-organica",1945,"http://www.minfin.gob.gt/downloads/leyes_acuerdos/acuerdogub540_030114.pdf",1998,2,2,"-","-","-","-","http://portal.sat.gob.gt/sitio",1997,"SAT Online","e-Tax and other portals",1,"LDSW","http://portal.sat.gob.gt/sitio/index.php/esat/servicios-electronicos/sat-en-linea-ingreso.html",2013,3,2,"http://www.sat.gob.gt",1997,1985,0,"Paperless Customs","Customs Portal",2,"COTS","http://portal.sat.gob.gt/sitio/index.php/tramites-o-gestiones/aduanas/28-documentaci-asistencia-aduanera/8451-aduanas-sin-papeles.html",2014,3,2,1,1,"http://portal.sat.gob.gt/sitio/",2001,3,1,"http://portal.sat.gob.gt/sitio/",2001,2,"http://www.firma-e.com.gt/",2012,2,191394,2,"http://laborsta.ilo.org/STP/guest",2004,"GUATENOMINA","Sistema de Nómina y Registro de Personal",1,"LDSW","https://nomina.minfin.gob.gt/RHWeb/login/frmlogin.aspx",2011,3,2,"GUATENOMINA","Sistema de Nómina y Registro de Personal",1,"LDSW","https://nomina.minfin.gob.gt/RHWeb/login/frmlogin.aspx",2011,3,2,"D+","GUATECOMPRAS","http://www.guatecompras.gt",2004,3,2,"http://www.guatecompras.gt/concursos/consultaConAvanz.aspx","Ministry of Finance",2,"DMFAS 6.0",null,1988,3,"MoF","4FT",17,77.272727272727266,"A","LMIC","LCR"]
[69,null,"Guinea","LIC",10221.808000000001,4417.7819249793574,430,"http://www.finances.gov.gn","Ministry of Economy and Finance",0,"-",1,"http://www.imf.org/external/np/otm/2009/110109a.pdf",0,"-",0,"-",0,0,"-",0,0,0,"-",0,"-",0,null,"-",0,null,"-","-",0,null,"-",0,null,null,"-",0,null,"-",0,0,0,0,0,0,0,0,0,0,0,"-",0,"-",0,"-",0,"-",0,"http://www.stat-guinee.org","Guinea National Statistics Directorate ","http://www.bcrg.gov.gn","Central Bank of the Republic of Guinea","-",0,"-",0,"-",0,"-",0,0,"-","fre","-","-","-","-","CBMS","Computerized Budget Management System","C","F",3,2012,"C",1,2,"Oracle","Web",3,"Jul 2007","Final",1,"X","X","X","X","X","X","X","X","X","X",1.85,1.6129032258064515,"-","-",null,2,190,9.5430000000000001E-2,1.9599999999999999E-2,0,5.0439999999999999E-2,0.2359,"-","-","-","-","-","AFR",null,null,null,"prev","Guinea",0,null,null,null,null,0,null,null,null,null,null,1,3.8461538461538463,"D",null,69,"Guinea","GIN",null,null,"http://www.guinee.gov.gn",0,"-",0,9,7,0,3,5,null,null,null,null,"http://www.finances.gov.gn/index.php/ministeres/ministere-de-leconomie-et-des-finances/directions-technique/direction-nationale-du-tresor-et-de-la-comptabilite",1958,"http://www.finances.gov.gn/index.php/lois-et-textes-reglementaires/les-textes-organiques/func-startdown/212/",2013,2,2,"-","-","-","-","http://www.finances.gov.gn/index.php/direction-nationale-des-impots",1990,"-","Forms and information",0,"-","-","-",0,1,"http://www.douanesguinee.gov.gn",1990,1991,4,"ASYCUDA++","Automated SYstem for CUstoms DAta",2,"ASYCUDA ++","http://www.douanesguinee.gov.gn/sysinfo.htm",2007,3,2,1,"-","-","-",0,0,"-","-",0,"-","-",0,105756,2,"http://www-wds.worldbank.org/external/default/WDSContentServer/WDSP/AFR/2014/11/07/090224b0828432ef/1_0/Rendered/PDF/Guinea000Econo0Report000Sequence005.pdf",2014,"HRMIS","Government Human Resource Management System",1,"LDSW","http://documents.worldbank.org/curated/en/2012/02/15883613/guinea-economic-governance-technical-assistance-capacity-building-project","-",2,2,"HRMIS","Government Human Resource Management System",1,"LDSW","http://documents.worldbank.org/curated/en/2012/02/15883613/guinea-economic-governance-technical-assistance-capacity-building-project","-",2,2,"X","MoEF Website","http://www.finances.gov.gn/","-",1,0,"-",null,2,"CS-DRMS",null,2003,3,"MoF",null,10,45.454545454545453,"C","LIC","AFR"]
[70,null,"Guinea-Bissau","LIC",1547.0609999999999,930.98296589537881,600,"http://minfin-gov.bissau.net","Ministerio das Financas da Guine Bissau",2,"http://minfin-gov.bissau.net/index.php?option=com_content&view=article&id=78&Itemid=93",2,"http://www.sndi.ci/index.php/component/content/article/35-infosndi/78-sigfip.html",1,"-",0,"-",0,0,"-",1,1,0,"-",0,"-",1,1,2007,0,null,"-","-",0,null,"-",1,4,1,2007,0,null,"-",0,1,1,1,1,1,1,0,0,0,0,"-",0,"-",0,"-",0,"-",0,"http://www.stat-guinebissau.com","Guinea-Bissau National Institute of Statistics and Censuses","http://www.bceao.int ","Central Bank of West African States (BCEAO)","-",0,"-",1,"http://minfin-gov.bissau.net/index.php?option=com_content&view=article&id=62&Itemid=69",0,"-",1,1,"-","por","-","-","-","-","SIGFIP","Système Intégré de Gestion des Finances Publiques","C","F",3,2010,"C+L",2,1,"LDSW > Oracle","Web",3,"May 2009","Public",2,"D","B","D","D+","NA","D","D","D+","D","D",1.3333333333333333,1.2777777777777777,"-","-",null,0,182,0.16084999999999999,1.9599999999999999E-2,7.8700000000000003E-3,8.7760000000000005E-2,0.38690000000000002,182,0.19450000000000001,0.1046,5.11E-2,0.42780000000000001,"AFR",null,null,null,"F","Guinea-Bissau",0,null,null,null,null,0,null,null,null,null,null,11,42.307692307692307,"C",null,70,"Guinea-Bissau","GNB",2010,null,"http://www.governo.bissau.net/",0,"-",7.9000000000000008E-3,9,7,2,3,5,null,null,null,null,"http://minfin-gov.bissau.net",1973,"http://www.afdb.org/fileadmin/uploads/afdb/Documents/Project-and-Operations/Guinea%20Bissau_PAURB_EN.pdf",2007,2,2,"-","-","-","-","http://minfin-gov.bissau.net",1973,"-","Forms and information",0,"-","-","-",0,1,"http://www.minfin-gov.bissau.net/dga",1973,2010,4,"ASYCUDA++","Automated SYstem for CUstoms DAta",2,"ASYCUDA ++","http://unctad.org/en/PublicationsLibrary/dtlasycuda2011d1_en.pdf",1999,3,2,1,0,"-","-",0,0,"-","-",0,"-","-",0,12000,1,"http://www.pefa.org/en/assessment/gw-may09-pfmpr-public-en",2008,"SIGRHAP","Integrated System for Human Resource Management in Public Administration",1,"LDSW","http://www.imf.org/external/pubs/ft/scr/2014/cr14318.pdf",2011,3,2,"SIGRHAP","Integrated System for Human Resource Management in Public Administration",1,"LDSW","http://www.imf.org/external/pubs/ft/scr/2014/cr14318.pdf",2011,3,2,"D","-","http://www.pefa.org/en/assessment/gw-may09-pfmpr-public-en","-",0,0,"-",null,2,"DMFAS 5.3",null,1997,3,"MoF",4,11,50,"B","LIC","AFR"]
[71,null,"Guyana","LMIC",756.04,2577,3408.5498121792498,"http://www.finance.gov.gy","Guyana Ministry of Finance",2,"http://www.finance.gov.gy/publications/budget-speeches",2,"http://www.finance.gov.gy/about-us/organisation/ag",1,"-",0,"-",0,0,"-",1,1,0,"-",0,"-",1,0,2008,0,null,"-","-",0,null,"-",1,4,0,2008,0,null,"-",1,1,1,0,0,1,1,0,1,1,1,"http://eprocure.gov.gy/index.php?option=com_content&view=category&layout=blog&id=81&Itemid=111",0,"-",0,"-",0,"-",0,"http://www.statisticsguyana.gov.gy","Guyana Bureau of Statistics","http://www.bankofguyana.org.gy","Bank of Guyana","-",0,"-",1,"http://www.finance.gov.gy/about-us/organisation/ob",0,"National laws and regulations",0,2,"-","eng","-","-","-","-","IFMAS","Integrated Financial Management and Accounting System","C","T",3,2004,"C",1,2,"FreeBalance","CS",2,"Dec 2007","Draft",1,"X","X","X","X","X","X","X","X","X","X",2.4,2.25,"-","-",null,0,124,0.36952000000000002,0.33333000000000002,0.24409,0.23436999999999999,0.63009999999999999,109,0.45490000000000003,0.25490000000000002,0.25359999999999999,0.85619999999999996,"LCR",null,null,null,null,"Guyana",0,null,null,null,null,0,null,null,null,null,null,9,34.615384615384613,"C",null,71,"Guyana","GUY",null,null,"http://www.op.gov.gy",0,"-",0.24410000000000001,63,30,5,9,25,null,null,null,null,"http://www.finance.gov.gy/about-us/organisation/ag",1970,"http://www.finance.gov.gy/images/Docs/Legislation/Fiscal%20Management%20and%20Accountability%20Act%202003.pdf",2004,3,4,"-","-","-","-","http://www.gra.gov.gy",2000,"TRIPS","Total Revenue Integrated Processing System",2,"TRIPS","http://www.gina.gov.gy/archive/daily/b061228.html",2006,3,2,"http://www.gra.gov.gy",2000,1976,0,"SWAPS + TRIPS ","Total Revenue Integrated Processing System +  Single Window Automated Processing System",2,"TRIPS","http://www.crownagents.com/our-work/projects/detail/guyana-swaps",2014,3,2,0,0,"-","-",1,0,"-","-",0,"http://unpan1.un.org/intradoc/groups/public/documents/tasf/unpan024395.pdf",2005,1,40000,2,"http://www.ilo.org/wcmsp5/groups/public/---americas/---ro-lima/---sro-port_of_spain/documents/meetingdocument/wcms_306325.pdf",2002,"HRMIS","Human Resources Management Information System",2,"SmartStream","http://www.freebalance.com/customers/latin_america.asp",2008,3,2,"HRMIS","Human Resources Management Information System",2,"SmartStream","http://www.finance.gov.gy/about-us/organisation/ag",2008,3,2,"X","e-Procure","http://eprocure.gov.gy/","-",1,0,"-",null,2,"CS-DRMS",null,1988,3,"MoF",null,12,54.54545454545454,"B","LMIC","LCR"]
[72,null,"Haiti","LIC",10123.787,7050.2233105556106,700,"http://www.mefhaiti.gouv.ht","Ministère de l'Economie et des Finances",1,"http://mefhaiti.gouv.ht/?page_id=918",1,"http://www-wds.worldbank.org/external/default/WDSContentServer/WDSP/IB/2008/07/10/000333037_20080710023439/Rendered/PDF/446510PUB0HT0P101Official0Use0Only1.pdf",1,"-",1,"http://mefhaiti.gouv.ht/?page_id=918",0,0,"-",1,1,0,"-",1,"http://www.mefhaiti.gouv.ht/",1,1,2001,0,null,"-","-",1,0,2009,1,4,1,2001,0,null,"-",1,1,0,0,0,1,1,0,1,1,1,"http://www.mefhaiti.gouv.ht/marche_public.htm",0,"-",0,"-",0,"-",0,"http://www.ihsi.ht","Institut Haïtien de Statistique et d’Informatique","http://www.brh.net","Central Bank of Haiti","-",0,"-",0,"-",0,"National laws and regulations",1,1,"-","fre","-","-","-","-","SYSDEP","Système d’Informatisation des Dépenses / Expenditure Management System","C","F",3,2005,"C",1,1,"LDSW > Oracle","CS",2,"Jan 2012","Public",2,"C","C","D","D+","D","D","D","D+","NR","D",1.3333333333333333,1.48,"-","-",null,0,176,0.18085999999999999,0.17646999999999999,0.11022999999999999,9.5210000000000003E-2,0.3372,187,0.1512,9.1499999999999998E-2,6.9800000000000001E-2,0.29220000000000002,"LCR",null,null,null,"F","Haiti",0,null,null,null,null,0,null,null,null,null,null,12,46.153846153846153,"C",null,72,"Haiti","HTI",2009,"DAD","http://primature.gouv.ht/",0,"-",0.11020000000000001,28,16,2,12,14,null,null,null,null,"http://www.mefhaiti.gouv.ht",1987,"http://issuu.com/mefhaiti/docs/pre__sentation_du_compte_unique_du_",2016,1,"-","-","-","-","-","http://www.dgi.gouv.ht",1915,"-","Forms and information",0,"-","-","-",0,1,"http://www.douane.gouv.ht",1961,1958,4,"ASYCUDA World","Automated SYstem for CUstoms DAta",2,"ASYCUDA W","http://www.douane.gouv.ht/index.php?option=com_wrapper&view=wrapper&Itemid=233",2008,3,2,1,0,"https://edeclaration.dgi.gouv.ht/edeclaration/",2013,2,0,"-","-",0,"-","-",0,80100,1,"http://www.pefa.org/en/assessment/ht-jan12-pfmpr-public-en",2011,"-","-",0,"-","http://www.haitilibre.com/article-12102-haiti-politique-la-republique-dominicaine-collabore-a-la-modernisation-de-la-fonction-publique-d-haiti.html","-",1,0,"SYSPAY"," Payroll of civil servants",1,"LDSW","http://www.pefa.org/en/assessment/ht-jan12-pfmpr-public-en","-",3,1,"D+","CNMP Website","http://www.cnmp.gouv.ht",2014,3,1,"http://www.cnmp.gouv.ht/marchespublicssanspassation/","Ministry of Economy and Finance",2,"DMFAS 5.3","http://mefhaiti.gouv.ht/?page_id=182",1985,3,"MoF",3,10,45.454545454545453,"C","LIC","LCR"]
[73,null,"Honduras","LMIC",7754.6869999999999,15381.732016855245,1980,"http://www.sefin.gob.hn","Honduras Secretaría de Finanzas",2,"http://www.sefin.gob.hn/?page_id=196",2,"http://www.sefin.gob.hn/?page_id=17",1,"-",0,"-",0,0,"-",1,1,1,"http://www.sefin.gob.hn",1,"http://www.sefin.gob.hn/bisefin",1,1,2007,1,0,3,2012,1,1,2008,1,3,1,2007,1,1,2007,1,1,1,1,0,1,1,1,1,0,1,"http://www.sefin.gob.hn/?page_id=8248",0,"-",2,"http://www.sefin.gob.hn/wp-content/uploads/SAMI/index.html",1,"http://www.sefin.gob.hn/?page_id=2398",0,"http://www.ine-hn.org","Honduras Instituto Nacional de Estadistica ","http://www.bch.hn","Central Bank of Honduras","-",0,"-",1,"http://www.sefin.gob.hn/?page_id=5395",0,"National laws and regulations",0,2,"-","spa","-","-","-","-","SIAFI","Sistema de Administración Financiera Integrada","C","F",3,2006,"C+L",2,1,"LDSW > Oracle","Web",3,"Mar 2013","Public",4,"A","A","B","C+","A","B","C+","D+","D+","D+",2.75,2.71,53,11,1,1,114,0.40826000000000001,0.33333000000000002,0.40156999999999998,0.19514000000000001,0.62809999999999999,117,0.43409999999999999,0.37909999999999999,0.21729999999999999,0.70599999999999996,"LCR",null,null,null,null,"Honduras",0,null,null,null,null,0,null,null,null,null,null,18,69.230769230769226,"B",null,73,"Honduras","HND",2011,"DAD","http://www.presidencia.gob.hn",2,"http://sinaip.iaip.gob.hn",0.40160000000000001,59,48,26,21,38,null,null,null,null,"http://www.sefin.gob.hn/?page_id=2257",1995,"http://www.sefin.gob.hn/?page_id=2257",2006,3,4,"-","-","-","-","http://www.dei.gob.hn",1994,"DEI Online","Web Services",2,"COTS","http://deienlinea.dei.gob.hn",2010,3,2,"http://www.dei.gob.hn",1994,2005,0,"SARAH + VUCEH","Sistema Aduanero Automatizado de Rentas Aduaneras de Honduras + Ventanilla Única de Comercio Exterior de Honduras",2,"COTS","http://sarahweb.dei.gob.hn",2010,3,2,1,0,"http://deienlinea.dei.gob.hn/",2010,3,0,"-","-",0,"http://www.latribuna.hn/movil/2014/01/23/en-vigencia-ley-sobre-firmas-electronicas/",2013,1,145891,2,"http://laborsta.ilo.org/STP/guest",2004,"SIAFI","Sistema de Administración Financiera Integrada",1,"LDSW","http://www.sefin.gob.hn/?p=3505 ",2006,3,2,"SIAFI","Sistema de Administración Financiera Integrada",1,"LDSW","http://www.sefin.gob.hn/?p=3505 ",2006,3,2,"C","Hondu Compras","http://www.honducompras.gob.hn ",2005,3,2,"http://www.honducompras.gob.hn/Procesos/BusquedaHistorico.aspx",null,2,"DMFAS 6.0",null,1988,3,"MoF","4FT",17,77.272727272727266,"A","LMIC","LCR"]
[74,null,"Hong Kong SAR, China","HIC",7071.6,254625.28234284907,36010,"http://www.fstb.gov.hk","Hong Kong Financial Services and the Treasury Bureau",2,"http://www.budget.gov.hk/2013/index.html",2,"http://www.try.gov.hk/internet/ehabou_serv_pledge3.html",1,"-",0,"-",0,0,"-",2,1,0,"-",1,"http://www.budget.gov.hk/2013/eng/estimates.html",1,1,1997,1,1,5,1997,1,1,2000,1,2,1,2002,0,null,"-",1,1,"n/a",0,0,1,1,"n/a",1,1,1,"http://www.fstb.gov.hk/tb/eng/procurement/tender02.html",1,"http://www.gov.hk/en/theme/psi/datasets","n/a","-","n/a","-",1,"http://www.info.gov.hk/censtatd","Hong Kong Special Administrative Region Census and Statistics Department","http://www.hkma.gov.hk","Hong Kong Monetary Authority","-",1,"http://www.fstb.gov.hk/tb/eng/access/content.html",0,"-",1,"-",0,3,"-","chi","eng","-","-",1,"GFMIS","Government Financial Management Information System","D","F",3,2009,"C",1,2,"Oracle","Web",2,"-","-","-","-","-","-","-","-","-","-","-","-","-","-","-","-","-",null,1,"-","-","-","-","-","-","-","-","-","-","-","EAP",null,null,"APEC",null,"Hong Kong SAR, China",3,1,2,null,null,0,null,null,null,null,"2013-05-06",17,65.384615384615387,"B",null,74,"Hong Kong SAR, China","HKG",null,null,"http://www.gov.hk",2,"http://www.gov.hk/","-","-","-","-","-","-",null,null,null,null,"http://www.try.gov.hk",2002,"-","-",0,"-","-","-","-","-","http://www.ird.gov.hk",1948,"e-Tax","e-Tax and other portals",2,"COTS","http://www.gov.hk/en/residents/taxes/etax/index.htm",2001,3,3,"http://www.customs.gov.hk",1909,1987,3,"e-Customs > ACCS / ROCARS ","Air Cargo Clearance System; Road Cargo System; Electronic Submission of Cargo Manifests",2,"COTS ?","http://www.customs.gov.hk/en/electronic_services/index.html",1997,3,3,1,1,"http://www.gov.hk/en/residents/taxes/etax/",2001,3,1,"http://www.gov.hk/en/residents/onlineservices/ or http://www.try.gov.hk/internet/ehcoll_paym_pps.html",2006,2,"http://www.ogcio.gov.hk/en/regulation/eto/digital_cert/cert_user_journey/",2000,3,245800,2,"http://laborsta.ilo.org/STP/guest",2010,"GovHRMS","Government Human Resources Management Services",1,"LDSW","http://www.ogcio.gov.hk/en/strategies/initiatives/shrms ","-",2,2,"e-Payroll"," ePayroll & Benefits system",1,"LDSW","http://www.ogcio.gov.hk/en/infrastructure/e_government/ccgo",2003,3,2,"-","Gov Procurement","http://www.gov.hk/en/theme/eprocurement ",2009,3,3,"https://www.gldpcms.gov.hk/etb_prod/jsp_public/cn/scn00101.jsp","Monetary Authority HKMA",null,null,null,null,null,null,null,19,86.36363636363636,"A","HIC","EAP"]
[75,null,"Hungary","HIC",9971,126920.98043358022,12730,"http://www.kormany.hu/hu/nemzetgazdasagi-miniszterium","Nemzetgazdasági Minisztérium / Ministry for National Economy",2,"http://ngmszakmaiteruletek.kormany.hu/koltsegvetes",1,"http://www-wds.worldbank.org/external/default/WDSContentServer/WDSP/IB/2003/03/07/000094946_0301180408511/Rendered/PDF/multi0page.pdf",1,"-",0,"-",0,0,"-",1,1,0,"-",0,"-",1,1,2003,0,null,"-","-",0,null,"-",1,4,1,2003,1,1,2001,1,1,1,0,0,1,1,1,1,1,0,"-",0,"-",0,"-",0,"-",1,"http://portal.ksh.hu","Hungarian Central Statistical Office","http://www.mnb.hu","Magyar Nemzeti Bank ","-",0,"-",1,"http://www.kormany.hu/hu/kulugyminiszterium/szervezet",0,"-",0,3,"-","hun","eng","-","-",0,"GFMIS","Government Financial Management Information System","C","F",3,2002,"C+L",1,1,"LDSW > Oracle","Web",3,"-","-","-","-","-","-","-","-","-","-","-","-","-","-","-","-","-",1,1,39,0.66374,0.45097999999999999,0.55905000000000005,0.56535999999999997,0.86680000000000001,31,0.72009999999999996,0.68630000000000002,0.56769999999999998,0.90649999999999997,"ECA","EU","OECD",null,null,"Hungary",0,null,null,null,null,0,null,null,null,null,null,12,46.153846153846153,"C",null,75,"Hungary","HUN",null,null,"http://www.kormany.hu",2,"https://magyarorszag.hu",0.55910000000000004,88,70,37,9,51,null,null,null,null,"http://www.allamkincstar.gov.hu/",1996,"http://www.allamkincstar.gov.hu/english?print=1",1997,3,4,"-","-","-","-","http://www.nav.gov.hu",2011,"e-Tax","e-Tax and other portals",2,"COTS","http://clo.apeh.hu/ese_page.php",2010,3,2,"http://www.nav.gov.hu",2011,1968,0,"e-Customs > AIS HU / AES HU ","Automated Import System Hungary;  Automated Export System Hungary",2,"COTS","https://kkk.nav.gov.hu/eles/2/evp/",2004,3,2,1,1,"http://en.nav.gov.hu/e_services/E_returns_extra",2003,2,1,"http://www.epractice.eu/en/news/292523",2010,2,"http://nmhh.hu/tart/index/924/Elektronikus_alairas",2011,3,846000,2,"http://laborsta.ilo.org/STP/guest",2009,"IHRMS","Integrated Human Resource Management system",1,"LDSW","http://njt.hu/cgi_bin/njt_doc.cgi?docid=142936.266559",2013,3,2,"GFMIS","Government Financial Management Information System",1,"LDSW","http://www-wds.worldbank.org/external/default/WDSContentServer/WDSP/IB/2003/03/07/000094946_0301180408511/Rendered/PDF/multi0page.pdf ",2002,3,2,"-","Procurement Authority Website","http://www.kozbeszerzes.hu/",2008,3,2,"http://www.kozbeszerzes.hu/adatbazis/keres/hirdetmeny ","Hungarian Government Debt Management Agency",null,null,null,null,null,null,null,16,72.727272727272734,"B","HIC","ECA"]
[76,null,"Iceland","HIC",319,11108.216317566747,34820,"http://www.ministryoffinance.is","Fjármálaráðuneytið - Ministry of Finance, Iceland",2,"http://www.ministryoffinance.is/government-finance/fiscal-budget/",2,"http://hamar.stjr.is",1,"-",0,"-",0,0,"-",1,1,0,"-",0,"-",1,1,2002,1,1,4,2004,0,null,"-",0,null,null,"-",1,1,2002,1,1,1,1,0,1,1,0,1,0,0,"-",0,"-",0,"-",0,"-",1,"http://www.statice.is","Statistics Iceland ","http://www.sedlabanki.is ","Central Bank of Iceland","-",0,"-",1,"http://www.fjarmalaraduneyti.is/log_og_reglugerdir/",1,"-",0,2,"-","ice","eng","-","-",0,"HAMAR","Government Accounting and Planning System","C","F",3,2003,"C+L",1,2,"Oracle","Web",3,"-","-","-","-","-","-","-","-","-","-","-","-","-","-","-","-","-",null,1,19,0.79700000000000004,0.49019000000000001,0.61416999999999999,0.85906000000000005,0.91779999999999995,22,0.78349999999999997,0.54249999999999998,0.87719999999999998,0.93100000000000005,null,"EUR","OECD",null,null,"Iceland",1,null,null,1,null,0,null,null,null,null,null,13,50,"B",null,76,"Iceland","ISL",null,null,"http://www.government.is",2,"https://www.island.is/",0.61419999999999997,84,57,49,35,56,null,null,null,null,"http://www.fjarmalaraduneyti.is/greidsluafkoma/",1917,"http://www.althingi.is",2001,3,4,"-","-","-","-","https://www.rsk.is",1969,"e-Tax","e-Tax and other portals",2,"COTS","https://www.nordisketax.net",1997,3,2,"http://www.tollur.is",1929,1971,0,"Tollakerfið","Customs IT System",2,"COTS","http://www.tollur.is/displayer.asp?cat_id=1706",2000,3,2,1,0,"https://secure.rsk.is/Thjonustusidur/Vefur/",1997,2,1,"http://eng.forsaetisraduneyti.is/media/utgefidefni/Iceland_the_eNation.pdf",2000,2,"http://skilriki.is/#tab1",2008,3,18300,1,"http://eng.fjarmalaraduneyti.is/state_personnel/",2008,"OHRM","Oracle Human Resource Management System",2,"Oracle","http://www.oecd.org/gov/pem/OECD%20HRM%20Profile%20-%20Iceland.pdf",2010,3,1,"OHRM","Oracle Human Resource Management System",2,"Oracle","http://www.oecd.org/gov/pem/OECD%20HRM%20Profile%20-%20Iceland.pdf","-",3,1,"-","RÍKISKAUP","http://www.rikiskaup.is",2002,3,1,"http://www.rikiskaup.is/utbod/lokid/","Iceland National Debt Management Agency",null,null,null,null,null,null,null,13,59.090909090909093,"B","HIC"]
[77,null,"India","LMIC",1241491.96,1746476.2972166166,1410,"http://www.finmin.nic.in","India Ministry of Finance",2,"http://www.finmin.nic.in/reports/annualreport.asp",2,"https://elekha.nic.in",2,"http://cga.nic.in/default.aspx",0,"-",1,1,"http://www.finmin.nic.in/the_ministry/dept_expenditure/cca/cca_exp_stat.asp",2,1,1,"http://cga.nic.in/Forms/contentpage.aspx?Lid=2531",1,"http://indiabudget.nic.in/afs.asp",1,1,1996,1,1,3,2004,0,null,"-",1,3,1,2004,1,1,1999,1,1,0,0,0,1,1,0,1,1,1,"http://eprocure.gov.in/cppp/",1,"https://www.data.gov.in",0,"-",1,"http://www.cga.nic.in/",3,"http://mospi.nic.in","India Ministry of Statistics and Programme Implementation","http://www.rbi.org.in ","Reserve Bank of India","http://indiabudget.nic.in/index.asp",0,"-",1,"http://finmin.nic.in/law/index.asp",0,"-",0,2,"Facebook","hin","eng","-","-",0,"IFMIS","Integrated Financial Management Information System","D","T",3,2007,"C+L",1,1,"LDSW > MS SQL","Web",2,"Mar 2010","Public",1,"A","A","A","D","B","A","C+","C+","D+","NU",2.9444444444444446,2.75,68,67,null,1,118,0.38342999999999999,0.62744999999999995,0.54330000000000001,0.13722999999999999,0.4698,125,0.38290000000000002,0.53590000000000004,0.11020000000000001,0.50249999999999995,"SAR",null,null,null,null,"India",6,2,2,2,null,6,2,1,3,null,null,21,80.769230769230774,"A",null,77,"India","IND",null,"DAD","http://india.gov.in",2,"http://india.gov.in",0.54330000000000001,97,59,21,29,50,null,null,null,null,"http://www.cga.nic.in",1947,"http://www.cga.nic.in/writereaddata/b3.pdf",1963,3,4,"-","-","-","-","http://dor.gov.in",1922,"e-Tax","e-Tax and other portals",1,"LDSW","https://www.tin-nsdl.com/about-us.php",1981,3,2,"http://www.cbec.gov.in",1944,1971,2,"ICES ","Indian Customs EDI System",1,"LDSW","http://www.cbec.gov.in/online-services.htm",1997,3,2,1,0,"http://incometaxindia.gov.in/eGov_initiatives.asp",2005,3,1,"https://gepg.nic.in",2011,1,"http://www.mca.gov.in/MCA21/dca/dsc/certifying-new.html",2008,3,18006600,2,"http://laborsta.ilo.org/STP/guest",2005,"HRMIS","Human Resources Management Information System",1,"LDSW","http://ihrms.raj.nic.in/FirstPages/AboutUs.aspx","-",3,1,"HRMIS","Human Resources Management Information System",1,"LDSW","http://www.pefa.org/en/assessment/mar10-pfmpr-public-en","-",3,1,"NR","CPPP","http://eprocure.gov.in/cppp ",2007,3,2,"http://eprocure.gov.in/eprocure/app?page=ResultOfTenders&service=page ","India Ministry of Finance",2,"CS-DRMS",null,1987,3,"MoF",4,15,68.181818181818173,"B","LMIC","SAR"]
[78,null,"Indonesia","LMIC",242325.63800000001,712737.21185342083,2940,"http://www.depkeu.go.id","Ministry of Finance of Republic of Indonesia",2,"http://www.depkeu.go.id/Ind/others/InformasiPublik/default.asp",2,"http://www.span.depkeu.go.id",1,"-",0,"-",0,0,"-",1,1,0,"-",0,"-",1,0,2012,1,1,5,2010,0,null,"-",1,4,1,2010,1,1,2005,0,0,1,0,0,1,1,1,1,1,1,"http://www.lkpp.go.id/v3/",1,"http://satupemerintah.net",0,"-",1,"http://www.sjdih.depkeu.go.id/fullText/2011/238~PMK.05~2011Per.HTM",0,"http://www.bps.go.id","Statistics Indonesia","http://www.bi.go.id ","Bank Indonesia","-",0,"-",1,"http://www.depkeu.go.id/Ind/Organization/?prof=tupoksi",0,"-",1,3,"-","ind","eng","-","-",0,"SPAN","Sistem Perbendaharaan dan Anggaran Negara / State Treasury and Budgetary System","C","F",3,2013,"C+L",1,2,"Oracle","Web",3,"Dec 2012","Public",2,"A","A","A","C+","B","D","C+","B+","B+","D+",2.95,2.77,62,51,1,1,106,0.44874000000000003,0.29410999999999998,0.36220000000000002,0.30543999999999999,0.67859999999999998,97,0.49490000000000001,0.49669999999999997,0.18970000000000001,0.79820000000000002,"EAP",null,null,"APEC",null,"Indonesia",4,2,null,2,null,0,null,null,null,null,"2013-05-02",14,53.846153846153847,"B",null,78,"Indonesia","IDN",null,"DAD","http://www.indonesia.go.id",2,"http://www.indonesia.go.id",0.36220000000000002,69,34,9,35,35,null,null,null,null,"https://www.djkn.kemenkeu.go.id/",1945,"http://www.pefa.org/en/assessment/id-dec12-pfmpr-public-en",2008,3,4,"-","http://www.kemenkeu.go.id/sites/default/files/pdf-peraturan/UU%20No%2023%20Tahun%202013.pdf",539,2013,"http://www.pajak.go.id",1945,"e-Tax","e-Tax and other portals",2,"COTS","http://www.pajak.go.id/e-spt",2008,3,2,"http://www.beacukai.go.id",1955,1957,3,"Single Window + CEISA ","Customs-Excise Information System and Automation",2,"COTS","https://customer.beacukai.go.id/index.html?page=features",2007,3,2,1,1,"https://efiling.pajak.go.id/index",2012,3,0,"-","-",0,"http://www.bu.edu/bucflp/laws/law-no-11-concerning-electronic-information-and-transactions/",2008,1,3542000,2,"http://laborsta.ilo.org/STP/guest",2003,"IHRMIS","Integrated Human Resources Management Information System ",2,"COTS","http://documents.worldbank.org/curated/en/2004/11/5495769/indonesia-government-financial-management-revenue-administration-project","-",3,1,"IHRMIS","Integrated Human Resources Management Information System ",2,"COTS","https://www.pefa.org/en/assessment/id-dec12-pfmpr-public-en ","-",3,1,"C","LKPP Website","http://www.lkpp.go.id",2008,3,2,"http://www.lkpp.go.id/v3/#/publikasi","Directorate of Government Securities Management",2,"DMFAS 6.0",null,1988,3,"MoF","4FT",15,68.181818181818173,"B","LMIC","EAP"]
[79,null,"Iran","UMIC",74798.599000000002,331000,4425.2165739093589,"http://www.mefa.gov.ir","Iran Ministry of Economy and Finance Affairs",1,"http://www.mefa.gov.ir/Portal/Home/ShowPage.aspx?Object=EVENT&CategoryID=105f2ea5-2e88-47bd-acfa-8bfe5731d984&WebPartID=066c8d89-97db-4f84-8440-1141e6724fea",1,"http://it.mefa.ir/portfolio_page/%D8%B3%D9%8A%D8%B3%D8%AA%D9%85-%D9%8A%D9%83%D9%BE%D8%A7%D8%B1%DA%86%D9%87-%D9%85%D8%AF%D9%8A%D8%B1%D9%8A%D8%AA-%D9%85%D9%86%D8%A7%D8%A8%D8%B9-%D8%B3%D8%A7%D8%B2%D9%85%D8%A7%D9%86%D9%8A-erp-2",1,"-",0,"-",0,0,"-",0,0,0,"-",0,"-",0,null,"-",0,null,"-","-",0,null,"-",0,null,null,"-",0,null,"-",0,0,0,0,0,0,0,0,0,0,0,"-",0,"-",0,"-",0,"-",0,"http://www.sci.org.ir","Statistics Center of Iran","http://www.cbi.ir","The Central Bank of the Islamic Republic of Iran","-",0,"-",1,"http://www.mefa.gov.ir/Portal/Home/Default.aspx?CategoryID=89dbf90c-b08e-4dc8-80b6-aef25da59441",0,"-",0,1,"-","per","eng","-","-",0,"IERP","Integrated Enterprise Resource Planning System","C","F",3,2012,"C",1,1,"LDSW","Web",3,"-","-","-","-","-","-","-","-","-","-","-","-","-","-","-","-","-",null,0,105,0.45074999999999998,0.29410999999999998,0.37007000000000001,0.29400999999999999,0.68820000000000003,100,0.48759999999999998,0.49020000000000002,0.26379999999999998,0.70889999999999997,"MNA",null,null,null,null,"Iran",0,null,null,null,null,0,null,null,null,null,null,3,11.538461538461538,"D",null,79,"Iran","IRN",null,null,"http://www.president.ir",2,"http://www.eservice.iran.ir",0.37009999999999998,59,48,19,18,35,null,null,null,null,"http://www.mefa.gov.ir",1934,"http://www.mefa.ir/portal/Home/Default.aspx?CategoryID=0ba8abcd-554c-4b11-8a9b-dffd8f97c207",2002,3,2,"-","-","-","-","http://www.intamedia.ir",2001,"e-Tax","e-Tax and other portals",2,"COTS ","http://www.tax.gov.ir/Entrance/",2013,3,2,"http://www.irica.ir",1957,1959,4,"ASYCUDA World","Automated SYstem for CUstoms DAta",2,"ASYCUDA W","http://www.irica.ir/Portal/File/ShowFile.aspx?ID=e628887e-a90b-472f-b4e5-bb12c35a0015",1997,3,2,0,0,"-","-",0,0,"-","-",0,"http://www.rca.gov.ir/",2007,2,3934400,2,"http://laborsta.ilo.org/STP/guest",2008,"-","-",0,"-","http://documents.worldbank.org/curated/en/2005/11/6527795/iran-report-public-financial-management-procurement-expenditure-systems-iran","-",0,0,"-","-",0,"-","http://documents.worldbank.org/curated/en/2005/11/6527795/iran-report-public-financial-management-procurement-expenditure-systems-iran","-",0,0,"-","SETAD","http://www.setadiran.ir/eproc/welcome.do",2010,2,1,"-",null,2,"DMFAS 5.3",null,1997,3,"CB","4F",9,40.909090909090914,"C","UMIC","MNA"]
[80,null,"Iraq","LMIC",32961.959000000003,86976.461987870891,2640,"http://www.mof.gov.iq","Iraq Ministry of Finance",2,"http://www.mof.gov.iq/default.aspx",1,"http://documents.worldbank.org/curated/en/2010/06/13215703/public-financial-management-reform-middle-east-north-africa-overview-regional-experience-vol-1-2-overview-summary",1,"-",0,"-",0,0,"-",1,0,0,"-",0,"-",1,1,2007,0,null,"-","-",0,null,"-",0,null,null,"-",0,null,"-",0,0,0,0,0,0,0,0,0,0,0,"-",0,"-",0,"-",0,"-",0,"http://cosit.gov.iq","Central Organization for Statistics","http://www.cbi.iq","Central Bank of Iraq","-",0,"-",0,"-",0,"-",1,1,"-","ara","-","-","-","-","IFMIS","Iraq Financial Management Information System","C","F",1,2016,"C",1,0,"?","-",2,"Jun 2008","Final",1,"X","X","X","X","X","X","X","X","X","X",1.35,1.6,4,0,null,1,134,0.31413999999999997,0.13725000000000001,0.19685,0.21726999999999999,0.52829999999999999,137,0.34089999999999998,0.28760000000000002,0.1201,0.61509999999999998,"MNA",null,null,null,"F","Iraq",0,null,null,null,null,0,null,null,null,null,null,7,26.923076923076923,"C",null,80,"Iraq","IRQ",null,"DAD","http://www.cabinet.iq",1,"http://www.egov.gov.iq",0.19689999999999999,41,25,5,18,21,null,null,null,null,"http://www.mof.gov.iq/pages/ar/AccountingServices.aspx",2003,"http://documents.worldbank.org/curated/en/2010/06/13215703/public-financial-management-reform-middle-east-north-africa-overview-regional-experience-vol-1-2-overview-summary",2016,1,"-","-","-","-","-","http://tax.mof.gov.iq",1982,"-","Forms and information",0,"-","-","-",0,1,"http://customs.mof.gov.iq",1987,1990,0,"-","-",0,"-","-","-",0,1,0,0,"-","-",0,0,"-","-",0,"http://goingglobaleastmeetswest.blogspot.com/2013/05/law-iraq-law-of-electronic-signature.html",2012,1,"-",0,"-","-","-","-",0,"-","http://www.imf.org/external/pubs/ft/scr/2013/cr13217.pdf","-",0,0,"-","-",0,"-","http://www.imf.org/external/pubs/ft/scr/2013/cr13217.pdf","-",0,0,"X","-","http://www.mop.gov.iq/mop/index.jsp?sid=1&id=580&pid=","-",1,0,"-",null,2,"DMFAS 6.0",null,2005,3,"MoF",3,5,22.727272727272727,"D","LMIC","MNA"]
[81,null,"Ireland","HIC",4487,179152.61458095984,39930,"http://www.finance.gov.ie","Ireland Department of Finance",2,"http://budget.gov.ie/budgets/2013/2013.aspx",1,"http://oldwww.finance.gov.ie/documents/publications/other/mifpireport.pdf",1,"-",1,"http://www.irelandstat.gov.ie",0,0,"-",2,1,1,"http://budget.gov.ie/budgets/2013/Documents/Budget%202013%20Leaflet.pdf",1,"http://govacc.per.gov.ie/accounting/",1,1,1996,1,1,5,2000,1,1,2004,1,2,1,1996,1,1,1996,1,1,0,0,1,1,1,0,1,1,1,"http://www.procurement.ie/",1,"http://www.statcentral.ie",0,"-",0,"-",2,"http://www.cso.ie","Ireland Central Statistics Office","http://www.centralbank.ie","Central Bank and Financial Services Authority of Ireland","http://databank.per.gov.ie/#",0,"-",1,"http://per.gov.ie/organisation-chart/",2,"GFS + ESA 95",0,2,"-","eng","irs","-","-",0,"FMIS","Financial Management Information System","D","F",3,2005,"C+L",1,2,"UNIT4 > Agresso","Web",3,"-","-","-","-","-","-","-","-","-","-","-","-","-","-","-","-","-",0,1,22,0.78100000000000003,0.64705000000000001,0.67715999999999998,0.70391000000000004,0.96189999999999998,34,0.71489999999999998,0.53590000000000004,0.65529999999999999,0.95350000000000001,null,"EU","OECD",null,null,"Ireland",1,1,null,null,null,0,null,null,null,null,"2013-05-03",20,76.923076923076934,"A",null,81,"Ireland","IRL",null,null,"http://www.gov.ie",2,"http://www.gov.ie/services",0.67720000000000002,91,64,42,53,61,null,null,null,null,"http://www.finance.gov.ie",1919,"http://www.financialregulator.ie/publications/Documents/Payment%20Oversight%20Report.pdf",1997,2,4,"-","-","-","-","http://www.revenue.ie",1923,"ROS","Revenue Online Services",2,"COTS","http://www.revenue.ie/en/online/ros/index.html",2002,3,2,"http://www.revenue.ie",1923,1952,3,"e-Customs / AEP / NCTS","Automated Entry Processing / New Computerised Transit System",2,"COTS","http://www.revenue.ie/en/customs/ecustoms/index.html",1991,3,2,1,0,"http://www.revenue.ie/en/online/index.html",2000,3,1,"http://www.gov.ie/tag/pay-for-it/","-",1,"http://www.ros.ie/PublisherServlet/info/setupnewcust",2000,3,402100,2,"http://laborsta.ilo.org/STP/guest",2010,"HRSSC","Human Resources Shared Service Center",2,"COTS","http://www.per.gov.ie/government-announces-plans-for-a-civil-service-wide-human-resources-shared-service-centre-hrssc/","-",2,2,"HRSSC","Human Resources Shared Service Center",2,"COTS","http://www.per.gov.ie/government-announces-plans-for-a-civil-service-wide-human-resources-shared-service-centre-hrssc/","-",2,2,"-","eTenders","http://www.etenders.gov.ie/ ",2012,3,2,"https://irl.eu-supply.com/ctm/supplier/publictenders ","National Treasury Management Agency",null,null,null,null,null,null,null,17,77.272727272727266,"A","HIC"]
[82,null,"Israel","HIC",7765.7,224684.21817451186,28930,"http://www.mof.gov.il","Israel Ministry of Finance",2,"http://www.mof.gov.il/BudgetSite/Pages/BudgetSiteHP.aspx",1,"http://www.ctg.albany.edu/publications/reports/proi_case_merkava?chapter=4&section=2",1,"-",0,"-",0,0,"-",1,1,0,"-",1,"http://www.ag.mof.gov.il/AccountantGeneral/AccountantGeneral/AccountantGeneralTopNav/AGSubjects/moneyinformation/Report2011",1,1,1996,1,0,3,2009,0,null,"-",1,2,1,1996,0,null,"-",1,1,0,0,0,1,1,0,1,1,1,"http://vehicle.mof.gov.il/Mof/Rechev/MofRechevTopNav/MofRechevBuy/MofRechevLastBuy",1,"http://www.data.gov.il",0,"-",0,"-",1,"http://www.cbs.gov.il","Israel Central Bureau of Statistics","http://www.bankisrael.gov.il ","Bank of Israel","-",0,"-",1,"http://www.mof.gov.il/ABOUT/Pages/AboutPage.aspx",0,"National laws and regulations",0,1,"Facebook, Linkedin, Twitter, Youtube","heb","eng","-","-",0,"MERKAVA","Financial Management Information System","D","F",3,2010,"C+L",1,2,"SAP","Web",3,"-","-","-","-","-","-","-","-","-","-","-","-","-","-","-","-","-",1,1,17,0.81615000000000004,0.86273999999999995,0.87400999999999995,0.71997999999999995,0.85450000000000004,16,0.81,0.84970000000000001,0.68589999999999995,0.89449999999999996,"MNA",null,"OECD",null,null,"Israel",4,1,1,1,1,0,null,null,null,null,null,12,46.153846153846153,"C",null,82,"Israel","ISR",null,null,"http://www.gov.il",2,"https://my.gov.il",0.874,97,73,88,50,77,null,null,null,null,"http://www.ag.mof.gov.il/AccountantGeneral/AccountantGeneral_eng",1948,"http://www.boi.org.il/en/PaymentSystem/LawsAndRegulations/Pages/Default.aspx",2010,3,4,"-","-","-","-","http://taxes.gov.il",2003,"Web Services","Online services and forms",2,"COTS","http://taxes.gov.il/Pages/ShirutimBeClick.aspx",2003,3,2,"http://taxes.gov.il/customs",2003,1958,3,"TRACK","Customs Foreign Trade System",2,"COTS","http://taxes.gov.il/customs/CommercialImport/Pages/CustomsMaslul.aspx",2003,3,2,1,1,"http://taxes.gov.il/Services/Pages/ShirutimKubiyot.aspx?sugShirut=Dochot",2003,3,0,"http://www.gov.il/firstgov/ecom/",2001,2,"http://www.justice.gov.il/MOJEng/Certification+Authorities+Registrar/",2003,2,502900,2,"http://laborsta.ilo.org/STP/guest",2010,"MERKAVA > HRM","FMIS > Human Resources Management Module",2,"SAP","http://www.csc.gov.il/Units/System/Pages/default.aspx",2010,3,2,"MERKAVA > HRM","FMIS > Human Resources Management Module",2,"SAP","http://www.csc.gov.il/Units/System/Pages/default.aspx",2010,3,2,"-","Procurement Portal","http://www.mr.gov.il",2009,3,2,"http://www.mr.gov.il/OfficesTenders/Pages/SearchOfficeTenders.aspx","Israeli Ministry of Finance Debt Office",null,null,null,null,null,null,null,17,77.272727272727266,"A","HIC","MNA"]
[83,null,"Italy","HIC",60770,2144710.8107860144,35290,"http://www.mef.gov.it","Ministry of Economy and Finance",2,"http://www.tesoro.it/doc-finanza-pubblica/",2,"http://www.rgs.mef.gov.it/ENGLISH-VE/SIOPE1",1,"-",0,"-",0,0,"-",2,1,0,"-",0,"-",1,1,1998,1,1,3,1998,0,null,"-",1,4,1,2007,0,null,"-",1,1,0,0,0,1,0,1,1,1,1,"http://www.peppol.eu/",1,"http://www.dati.gov.it",0,"-",1,"http://www.rgs.mef.gov.it/VERSIONE-I/RGS-sul-te/",0,"http://www.istat.it","Italy National Statistical Institute","http://www.bancaditalia.it","Bank of Italy","-",1,"http://legislationline.org/topics/topic/3",1,"http://www.mef.gov.it/ministero/di-piu-mef/funzioni-organizzazione.asp",0,"-",0,3,"-","ita","eng","-","-",0,"SIOPE","Sistema Informativo sulle Operazioni degli enti Pubblici / Information System on the Operations of Government Bodies","D","T",3,2006,"C",1,2,"SAP","Web",2,"-","-","-","-","-","-","-","-","-","-","-","-","-","-","-",60,58,1,2,23,0.75929999999999997,0.78430999999999995,0.74802999999999997,0.67473000000000005,0.85519999999999996,32,0.71899999999999997,0.57520000000000004,0.66969999999999996,0.91200000000000003,null,"EU","OECD",null,null,"Italy",9,2,3,3,1,8,3,null,5,null,null,14,53.846153846153847,"B",null,83,"Italy","ITA",null,null,"http://www.governo.it",2,"http://www.italia.gov.it",0.748,97,66,51,59,67,null,null,null,null,"https://www.bancaditalia.it/serv_pubblico/elenco-dei-servizi/tesoreria;internal&action=_setlanguage.action?LANGUAGE=en",1893,"http://www.bancaditalia.it/pubblicazioni/econo/quest_ecofin_2/qef169/QEF_169.pdf",1980,3,4,"-","http://www.bancaditalia.it/pubblicazioni/econo/quest_ecofin_2/qef169/QEF_169.pdf",80,2009,"http://www.agenziaentrate.gov.it/wps/portal/entrate/home",2001,"Web Services","Online services and forms",2,"COTS","http://www.agenziaentrate.gov.it/wps/portal/entrate/servizi_online",2006,3,2,"http://www.agenziadoganemonopoli.gov.it",1946,1952,3,"AIDA","Integrated Automation Customs Excises",2,"COTS","http://www.agenziadogane.gov.it/wps/wcm/connect/Internet/ed/Operatore/ecustoms+aida/AIDA/",2003,3,2,1,0,"http://www.agenziaentrate.gov.it/wps/content/Nsilib/Nsi/Home/Servizi+online/Servizi+fiscali/",1998,3,1,"http://www.italia.gov.it/servizi-online?param3=pagamenti+online&searchItaliagov=","-",1,"https://www.postacertificata.gov.it/home/index.dot",2001,3,3479100,2,"http://laborsta.ilo.org/STP/guest",2010,"SICO","Public Administration Personnel Analysis System ",1,"LDSW","http://www.rgs.mef.gov.it/ENGLISH-VE/SICO/",2002,3,2,"SICO","The Public Administration Personnel Analysis System ",1,"LDSW","http://www.rgs.mef.gov.it/ENGLISH-VE/SICO/",2002,3,2,"-","MEPA","https://www.acquistinretepa.it  ",2003,3,2,"https://www.acquistinretepa.it/opencms/opencms/main/pa/strumenti/convenzioni.jsp?orderBy=attivazione&sort=desc&pagina=1&__element=paginazione ","Italian Treasury - Public Debt Directorate",null,null,null,null,null,null,null,16,72.727272727272734,"B","HIC"]
[84,null,"Jamaica","UMIC",2709.3,14440,5329.7899826523453,"http://www.mof.gov.jm","Jamaica Ministry of Finance and Planning",2,"http://www.mof.gov.jm/budget",2,"http://www.fsl.org.jm/systems/financial-management-information-system",1,"-",0,"-",0,0,"-",1,1,0,"-",0,"-",1,1,2004,0,null,"-","-",0,null,"-",0,null,null,"-",0,null,"-",1,1,0,0,0,1,1,0,1,0,0,"-",0,"-",0,"-",0,"-",0,"http://www.statinja.com","Statistical Institute of Jamaica","http://www.boj.org.jm ","Bank of Jamaica","-",0,"-",0,"-",0,"-",0,1,"-","eng","-","-","-","-","FMIS","Financial Management Information System","C","T",3,2002,"C+L",2,1,"LDSW > Informix","CS",2,"May 2007","Public",1,"A","C","B","C+","D+","C","C+","D+","C+","C",2.35,2.4333333333333331,"-","-",null,0,109,0.43881999999999999,0.19606999999999999,0.31496000000000002,0.27533000000000002,0.72619999999999996,108,0.45519999999999999,0.30719999999999997,0.26679999999999998,0.79159999999999997,"LCR",null,null,null,null,"Jamaica",0,null,null,null,null,0,null,null,null,null,null,9,34.615384615384613,"C",null,84,"Jamaica","JAM",null,null,"http://www.cabinet.gov.jm",1,"http://www.jis.gov.jm",0.315,53,36,21,15,31,null,null,null,null,"http://www.mof.gov.jm",1959,"http://www.mof.gov.jm/ctms",2015,2,2,"-","http://www.mof.gov.jm/sites/default/files/CTMS_Presentation_Web_version.pdf","-","-","http://www.jamaicatax.gov.jm/",1869,"ICTAS","Integrated Computerized Tax Administration System",2,"GenTax","http://www.jamaicatax.gov.jm/index.php/2012-05-11-17-26-05/history-of-taj#ictas",1999,3,2,"http://www.jacustoms.gov.jm",1868,1963,0,"i-CASE","Customs Automated SErvices",2,"COTS","http://apps.jacustoms.gov.jm/icase/",2002,3,2,1,0,"http://www.jamaicatax-online.gov.jm/",2012,3,0,"http://www.jamaicatax.gov.jm/index.php/2012-05-11-17-48-08/2012-05-11-17-49-42",2004,2,"http://moj.gov.jm/laws/electronic-transactions-act",2007,1,100000,2,"https://www.pefa.org/en/assessment/jm-may07-pfmpr-public-en ",2007,"HRMIS","Human Resource Management Information system",1,"LDSW","http://www.worldbank.org/projects/P007457/financial-program-management-improvement-project?lang=en","-",3,1,"BizPay","Payroll System",2,"COTS","https://www.pefa.org/en/assessment/jm-may07-pfmpr-public-en ",2003,3,1,"C","Procurement Notice Board","http://www.procurement.gov.jm/procurement/index.php ",2003,2,1,"-",null,2,"CS-DRMS",null,1986,3,"MoF",null,13,59.090909090909093,"B","UMIC","LCR"]
[85,null,"Japan","HIC",127817.277,5739473.8339573797,44900,"http://www.mof.go.jp","Ministry of Finance of Japan",2,"http://www.mof.go.jp/budget/index.html",1,"http://www.cao.go.jp/sasshin/koukyo-service/publication/110428/puroguramu_english.pdf",2,"http://www.bb.mof.go.jp/YDS/search/YDSG010;jsessionid=JNCPISKP937B9E84FCULEPTFD60EI1QVF8V6KLEKFCE851LQOK8HBNAU44S020001C000000.yds_001",1,"http://www.bb.mof.go.jp/hdocs/bxss010bh24.html",0,0,"-",2,1,0,"-",0,"-",1,1,1998,1,0,5,2001,1,1,2005,0,null,null,"-",0,null,"-",1,1,1,0,0,1,1,0,1,0,0,"-",1,"http://www.data.go.jp",1,"http://www.hca.org.vn/su_kien/sk_HCA/toan_canh_CNTT/nam2011/hoithao_vio11/tranvannam.pdf",0,"-",0,"http://www.stat.go.jp","Japan Statistics Bureau ","http://www.boj.or.jp","Bank of Japan","-",0,"-",1,"http://www.mof.go.jp/english/about_mof/index.html",0,"-",0,1,"Facebook, Google+, Twitter, Youtube","jpn","eng","-","-",0,"ADAMS","Governmental Accounting Affairs Data Communication Management Systems","C","T",3,2009,"C+L",1,2,"SAP","Web",2,"-","-","-","-","-","-","-","-","-","-","-","-","-","-","-","-","-",null,1,6,0.88744000000000001,0.96077999999999997,0.94488000000000005,0.85533000000000003,0.86209999999999998,18,0.80189999999999995,0.86270000000000002,0.64600000000000002,0.89690000000000003,"EAP",null,"OECD","APEC",null,"Japan",3,3,null,null,null,2,null,null,2,null,null,14,53.846153846153847,"B",null,85,"Japan","JPN",null,null,"http://www.e-gov.go.jp",2,"http://www.e-gov.go.jp",0.94489999999999996,97,73,79,88,83,null,null,null,null,"http://www.mof.go.jp/exchequer/index.html",1949,"http://www.mof.go.jp/english/budget/budget/fy2002/brief/2002-23.htm",2001,2,4,"-","-","-","-","http://www.nta.go.jp",1949,"e-Tax","e-Tax and other portals",2,"COTS","http://www.e-tax.nta.go.jp/",2004,3,3,"http://www.customs.go.jp",1946,1964,3,"Single Window > NACCS ","Nippon Automated Cargo and Port Consolidated System",2,"COTS","http://www.naccs.jp/",1977,3,3,1,1,"http://www.e-tax.nta.go.jp/",2004,3,1,"https://www.boj.or.jp/en/announcements/release_2001/un0111a.htm/",2004,2,"https://www.gpki.go.jp/",2005,3,4449900,2,"http://laborsta.ilo.org/STP/guest",2006,"HRPS","Human Resources and Payroll System",1,"LDSW","http://ssl.jinji.go.jp/en/infonpa/whats_npa.html",2010,3,2,"HRPS","Human Resources and Payroll System",1,"LDSW","http://ssl.jinji.go.jp/en/infonpa/whats_npa.html",2010,3,2,"-","JACIC","http://www.i-ppi.jp ",2001,3,2,"http://www.i-ppi.jp/Search/Web/Index.htm ","Ministry of Finance",null,null,null,null,null,null,null,19,86.36363636363636,"A","HIC","EAP"]
[86,null,"Jordan","UMIC",6181,27082.325064720673,4380,"http://www.mof.gov.jo","Jordan Ministry of Finance",2,"http://www.gbd.gov.jo",2,"http://www.gfmis.gov.jo/ar",1,"-",0,"-",0,0,"-",1,1,0,"-",0,"-",1,1,2002,1,1,3,2008,0,null,"-",1,2,1,2002,0,null,"-",1,1,0,0,0,1,1,0,1,0,0,"-",1,"http://www.jordan.gov.jo/wps/portal",0,"-",0,"-",0,"http://www.dos.gov.jo","Jordan Department of Statistics","http://www.cbj.gov.jo ","Central Bank of Jordan","-",0,"-",1,"http://www.mof.gov.jo/ar/Pages.php?page=OpPage&id=32",0,"IMF Observance of Standards and Codes (ROSC)",0,1,"-","ara","eng","-","-",0,"GFMIS","Government Financial Management Information System","C","F",3,2013,"C+L",1,2,"Oracle","Web",3,"Sep 2011","Draft",2,"A","A","C","A","B+","D","D+","C+","C+","D+",2.65,2.6,57,50,1,2,79,0.51673999999999998,0.47058,0.51968000000000003,0.31035000000000001,0.72019999999999995,98,0.4884,0.39219999999999999,0.2717,0.80130000000000001,"MNA",null,null,null,null,"Jordan",1,null,1,null,null,0,null,null,null,null,null,13,50,"B",null,86,"Jordan","JOR",null,null,"http://www.jordan.gov.jo",2,"http://www.jordan.gov.jo",0.51970000000000005,91,41,21,50,48,null,null,null,null,"http://www.mof.gov.jo/en-us/abouttheministry/theministry%E2%80%99sdirectorates/thepublictreasurydirectorate.aspx",1920,"http://www.pefa.org/en/assessment/jo-sep11-pfmpr-public-en",2011,3,4,"-","-","-","-","http://www.istd.gov.jo",2004,"Web Services","Online services and forms",2,"COTS","http://www.istd.gov.jo/ISTD/Arabic/E-Government/E-GovernmentServices/E-GovernmentServices.html",2005,3,2,"http://www.customs.gov.jo",1922,1964,4,"ASYCUDA World","Automated SYstem for CUstoms DAta",2,"ASYCUDA W","http://asyw.customs.gov.jo",1999,3,2,1,1,"https://etax.istd.gov.jo/Login.aspx",2009,3,0,"http://siteresources.worldbank.org/EXTEDEVELOPMENT/Resources/ShireenEgov.pdf",2008,2,"http://www.mit.gov.jo",2001,1,300500,2,"http://laborsta.ilo.org/STP/guest",2009,"GHRMIS","Government Human Resource Management Information system",2,"Oracle","http://hrmis.csb.gov.jo/index.php/en",2007,3,2,"GHRMIS","Government Human Resource Management Information system",2,"Oracle","http://hrmis.csb.gov.jo/index.php/en/2013-05-06-05-51-46/17-2013-05-05-08-31-20 ",2007,3,2,"C+","-","http://www.gtd.gov.jo ",2009,2,1,"-","Jordanian Central bank",2,"DMFAS 5.3",null,1998,3,"MoF","4FT",16,72.727272727272734,"B","UMIC","MNA"]
[87,null,"Kazakhstan","UMIC",16558.458999999999,136727.21161794054,8260,"http://www.minfin.kz","Kazakhstan Ministry of Finance",2,"http://www.minfin.gov.kz/irj/portal/anonymous?NavigationTarget=ROLES://portal_content/prototype_mf/roles/com.saprun.mf_anonymous_roles/com.saprun.mf_anonymous_en/Information_about_budget_performance/State-budget-of-the-Republic-of-Kazakhstan/Consolidated-budget",1,"http://www-wds.worldbank.org/external/default/WDSContentServer/WDSP/IB/2003/06/27/000112742_20030627113447/Rendered/PDF/257110ICR0.pdf",1,"-",1,"http://www.minfin.gov.kz/irj/portal/anonymous?NavigationTarget=ROLES://portal_content/prototype_mf/roles/com.saprun.mf_anonymous_roles/com.saprun.mf_anonymous_kk/info_for_grajdan/for_abkzmasa/for_bakzmasa",0,0,"-",1,1,0,"-",0,"-",1,1,2006,1,0,3,2010,0,null,"-",1,2,1,2006,0,null,"-",1,1,1,0,0,1,1,1,1,0,0,"-",0,"-",0,"-",1,"http://www.minfin.gov.kz/irj/portal/anonymous?NavigationTarget=ROLES://portal_content/prototype_mf/roles/com.saprun.mf_anonymous_roles/com.saprun.mf_anonymous_en/Information_about_budget_performance/State-budget-of-the-Republic-of-Kazakhstan/Local-budgets",0,"http://www.stat.kz","Kazakhstan Agency of Statistics","http://www.nationalbank.kz","National Bank of Kazakhstan","-",0,"-",1,"http://www.minfin.gov.kz/irj/portal/anonymous?NavigationTarget=ROLES://portal_content/prototype_mf/roles/com.saprun.mf_anonymous_roles/com.saprun.mf_anonymous_en/about_ministr/reg_min",0,"IFRSPS  International Public Sector Financial Reporting ",0,1,"Blog of the Minister","kaz","rus","eng","-",0,"Treasury","Treasury System","C","T",3,2002,"C+L",1,2,"Oracle","Web",2,"Jun 2009","Final",1,"X","X","X","X","X","X","X","X","X","X",2.7777777777777777,3.0535714285714284,48,38,null,1,28,0.72826999999999997,0.76470000000000005,0.74802999999999997,0.57487999999999995,0.8619,38,0.68440000000000001,0.7843,0.35549999999999998,0.91339999999999999,"ECA",null,null,null,null,"Kazakhstan",0,null,null,null,null,0,null,null,null,null,null,12,46.153846153846153,"C",null,87,"Kazakhstan","KAZ",null,"DAD","http://www.government.kz",2,"http://egov.kz",0.748,94,45,77,56,67,null,null,null,null,"http://www.minfin.gov.kz/irj/portal/anonymous?NavigationTarget=ROLES://portal_content/mf/kz.ecc.roles/kz.ecc.anonymous/kz.ecc.anonymous/kz.ecc.anonym_about_mininstry/about_ministry/structure_fldr/committees_fldr",1994,"http://adilet.zan.kz/eng/docs/K080000095_",1995,3,4,"-","-","-","-","http://www.salyk.gov.kz",2004,"ITIS","Integrated Tax Information System",2,"COTS","http://www.salyk.kz/RU/ITSYSTEM/Pages/default.aspx",2004,3,2,"http://www.customs.kz",1991,1992,2,"ACIS","Automated Customs Information System",2,"COTS","http://www.worldbank.org/projects/P096998/customs-development-project?lang=en","-",2,2,1,0,"http://cabinet.salyk.kz/sonowebinfo/",2010,3,1,"http://egov.kz/wps/portal/ContentOnline?contentPath=/EgovContent/e_services/citizenryservices",2010,2,"http://egov.kz/wps/portal/EDSRegistration?lang=en",2008,3,838000,1,"http://unpan1.un.org/intradoc/groups/public/documents/un/unpan023235.pdf",2004,"e-kyzmet","Personnel Management System",2,"COTS","http://www.eurasialegal.info/index.php?option=com_content&view=article&id=2240:2013-05-29-05-31-24&catid=2:right-of-the-countries-cis&Itemid=1","-",2,2,"e-kyzmet","Personnel Management System",2,"COTS","http://www.eurasialegal.info/index.php?option=com_content&view=article&id=2240:2013-05-29-05-31-24&catid=2:right-of-the-countries-cis&Itemid=1","-",2,2,"X","Public Procurement Website","http://www.goszakup.gov.kz ",2009,3,2,"http://portal.goszakup.gov.kz/portal/index.php/ru/publictrade/openbuys ","National Analytical Centre of the Government of Kazakhstan",2,"DMFAS",null,1996,0,"MoF",0,16,72.727272727272734,"B","UMIC","ECA"]
[88,null,"Kenya","LIC",41609.728000000003,34103.593965641696,820,"http://www.treasury.go.ke","Kenya Ministry of Finance and Planning",2,"http://www.treasury.go.ke/index.php?option=com_docman&Itemid=86",2,"http://www.ifmis.go.ke",1,"-",0,"-",0,0,"-",1,1,0,"-",1,"http://budget.treasury.go.ke/",1,1,2008,1,0,3,2009,0,null,"-",0,null,null,"-",1,1,2008,1,1,0,0,0,1,1,0,1,0,0,"-",1,"http://opendata.go.ke",0,"-",1,"http://www.treasury.go.ke/index.php?option=com_docman&task=cat_view&gid=110&Itemid=86",0,"http://www.cbs.go.ke","Kenya National Bureau of Statistics","http://www.centralbank.go.ke","Central Bank of Kenya","-",0,"-",0,"-",1,"-",0,3,"-","eng","-","-","-","-","IFMIS","Integrated Financial Management Information System","C","F",2,2011,"C",5,2,"Oracle","Web",2,"Aug 2012","Public",3,"C","C","B","C+","D","D","C+","D+","D+","D",1.8,2.2400000000000002,49,49,1,2,119,0.38053999999999999,0.64705000000000001,0.42519000000000001,0.16120000000000001,0.55520000000000003,119,0.42120000000000002,0.43140000000000001,0.1212,0.71089999999999998,"AFR",null,null,null,null,"Kenya",0,null,null,null,null,0,null,null,null,null,null,13,50,"B",null,88,"Kenya","KEN",null,"DAD","http://www.president.go.ke",2,"http://www.e-government.go.ke",0.42520000000000002,94,32,23,21,40,null,null,null,null,"http://www.treasury.go.ke/",1963,"http://blog-pfm.imf.org/pfmblog/2013/06/kenyas-bold-course-in-pfm-reform.html",2015,1,"-","-","-","-","-","http://www.revenue.go.ke",1995,"iTax > ITMS","Integrated Tax Management System",2,"COTS","https://itax.kra.go.ke/KRA-Portal/",2010,3,2,"http://www.kra.go.ke",1995,1965,0,"SIMBA 2005","Web based customs automation system",2,"COTS","http://www.kentrade.go.ke/",2005,3,2,1,1,"https://mapato1.kra.go.ke/itms/",2010,2,0,"-","-",0,"http://www.govca.go.ke/index.html",2010,2,712000,2,"http://unpan1.un.org/intradoc/groups/public/documents/un/unpan023269.pdf",2000,"GHRIS","Government Human Resource Information System",1,"LDSW","https://www.ghris.go.ke ",2010,3,2,"GHRIS","Government Human Resource Information System",1,"LDSW","https://www.ghris.go.ke ",2012,3,2,"C+","PPOA Website","http://www.ppoa.go.ke",2014,3,1,"http://www.tenders.go.ke/index.php/public/contracts","Ministry of Finance",2,"CS-DRMS",null,1988,3,"MoF",null,14,63.636363636363633,"B","LIC","AFR"]
[89,null,"Kiribati","LMIC",101.093,204.84968558234118,2030,"http://www.mfed.gov.ki","Ministry of Finance and Economic Development",2,"http://www.mfed.gov.ki/?page_id=61",1,"http://www2.adb.org/Documents/TARs/KIR/43418-012-kir-tar.pdf",1,"-",0,"-",0,0,"-",0,0,0,"-",0,"-",1,0,2010,0,null,"-","-",0,null,"-",0,null,null,"-",0,null,"-",1,1,0,0,0,0,0,0,0,0,0,"-",0,"-",0,"-",0,"-",1,"http://www.spc.int/prism/Country/KI/Stats","Kiribati Statistics Office","http://www.anz.com/kiribati","Bank of Kiribati","-",0,"-",0,"-",0,"-",0,1,"-","eng","-","-","-","-","FMIS","Financial Management Information System","C","T",3,2004,"C",1,2,"Attaché","Web",1,"Dec 2009","Draft",1,"X","X","X","X","X","X","X","X","X","X",1.5,1.8275862068965518,"-","-",null,"-",132,0.3201,0.29410999999999998,0.21259,6.6540000000000002E-2,0.68120000000000003,149,0.29980000000000001,6.54E-2,4.6899999999999997E-2,0.78710000000000002,"EAP",null,null,null,"F","Kiribati",0,null,null,null,null,0,null,null,null,null,null,5,19.230769230769234,"D",null,89,"Kiribati","KIR",null,null,"http://www.parliament.gov.ki",0,"-",0.21260000000000001,44,27,12,9,22,null,null,null,null,"http://www.mfed.gov.ki",1979,"http://aid.dfat.gov.au/countries/pacific/kiribati/Documents/kiribati-pfm-performance-report.pdf",2004,1,"-","-","-","-","-","http://www.mfed.gov.ki",1990,"-","Forms and information",0,"-","-","-",0,1,"http://www.mfed.gov.ki",2005,"-",0,"-","-",0,"-","-","-",0,1,0,0,"-","-",0,0,"-","-",0,"-","-",0,"-",0,"-","-","-","-",0,"-","http://www.mfed.gov.ki/wp-content/uploads/2012/03/DPF-2.4-Civil-Service-Reform-Strategies-Final.pdf","-",1,0,"-","-",0,"-","http://www.mfed.gov.ki/wp-content/uploads/2012/03/DPF-2.4-Civil-Service-Reform-Strategies-Final.pdf","-",1,0,"X","-","http://www.mfed.gov.ki","-",0,0,"-",null,null,null,null,null,null,null,null,4,18.181818181818183,"D","LMIC","EAP"]
[90,null,"Korea, DPR","LIC",24451.285,"-","-","http://www.korea-dpr.com","Ministry of Finance",0,"-",0,"-",0,"-",0,"-",0,0,"-",0,0,0,"-",0,"-",0,null,"-",0,null,"-","-",0,null,"-",0,null,null,"-",0,null,"-",0,0,0,0,0,0,0,0,0,0,0,"-",0,"-",0,"-",0,"-",0,"-","Central Bureau of Statistics","-","Central Bank of the Democratic People's Republic of Korea","-",0,"-",0,"-",0,"-",0,0,"-","kor","eng","-","-",0,"-","-","C","-",0,"-","-","-",0,"-","-",0,"-","-","-","-","-","-","-","-","-","-","-","-","-","-","-","-","-",null,"-",149,0.27526,1.9599999999999999E-2,7.8700000000000003E-3,1.7250000000000001E-2,0.80069999999999997,131,0.36159999999999998,0.1176,1.12E-2,0.95599999999999996,null,"OTH",null,null,null,"Korea, DPR",0,null,null,null,null,0,null,null,null,null,null,0,0,"D",null,90,"Korea, Dem. Rep.","PRK",null,null,"http://korea-dpr.com",0,"-",7.9000000000000008E-3,9,7,2,3,5,null,null,null,null,"-","-","-","-",0,"-","-","-","-","-","-","-","-","-",0,"-","-","-",0,0,"-","-","-",0,"-","-",0,"-","-","-",0,0,"-","-","-","-",0,"-","-","-",0,"-","-",0,1500000,2,"http://unpan1.un.org/intradoc/groups/public/documents/un/unpan024187.pdf",2004,"-","-",0,"-","-","-",0,0,"-","-",0,"-","-","-",0,0,"-","-","-","-",0,0,"-",null,null,null,null,null,null,null,null,0,0,"D","LIC"]
[91,null,"Korea, Rep.","HIC",49779,1038981.4293501173,20870,"http://www.mosf.go.kr","Ministry of Strategy and Finance of the Republic of Korea",2,"http://www.mosf.go.kr/lib/lib02.jsp",2,"https://www.digitalbrain.go.kr",3,"http://www.mosf.go.kr/lib/lib01a.jsp",1,"https://www.digitalbrain.go.kr/kor/view/statis/statis03_01_01.jsp?code=DB0103",1,1,"https://www.digitalbrain.go.kr/kor/view/statis/statis01_01_01.jsp?code=DB0101",2,1,2,"http://www.mosf.go.kr/policy/policy01_total.jsp?boardType=general&hdnBulletRunno=&cvbnPath=&sub_category=&hdnFlag=&cat=&hdnDiv=&hdnSubject=%EB%82%98%EB%9D%BC%EC%82%B4%EB%A6%BC&&skey=policy&actionType=list&hdnPage=4",1,"http://www.mosf.go.kr/_upload/bbs/79/attach/2010_statistics.pdf",1,1,1991,1,1,5,2005,1,1,1991,1,4,1,1991,1,1,2003,1,1,1,1,1,1,1,1,1,1,0,"-",1,"http://www.data.go.kr",2,"http://lofin.mopas.go.kr/lofin_intro/HojoIntro.jsp",1,"https://www.digitalbrain.go.kr/kor/view/statis/statis03_03_01.jsp?code=DB010303",0,"http://kostat.go.kr/portal/korea/index.action","Korea National Statistical Office","http://eng.bok.or.kr ","Bank of Korea","-",1,"http://www.mosf.go.kr/open/open02a.jsp",1,"http://www.mosf.go.kr/info/info03a.jsp",2,"-",1,3,"-","kor","eng","-","-",0,"DBAS","Digital Budget and Accounting System","C","F",3,2007,"C+L",1,1,"LDSW > Oracle","Web",3,"-","-","-","-","-","-","-","-","-","-","-","-","-","-","-",75,71,1,3,1,0.94623000000000002,1,0.97636999999999996,0.93503000000000003,0.92730000000000001,1,0.92830000000000001,1,0.83560000000000001,0.94940000000000002,"EAP",null,"OECD","APEC",null,"Korea, Rep.",7,1,null,6,null,0,null,null,null,null,"2013-05-05",26,100,"A",null,91,"Korea, Rep.","KOR",null,null,"http://www.korea.go.kr",2,"http://www.korea.go.kr",0.97640000000000005,100,82,77,88,86,null,null,null,null,"http://english.mosf.go.kr/abo/organ3.do?bcd=AO003",1948,"https://eng.digitalbrain.go.kr/en/view/datacenter/data_view.jsp?brdi_no=000002&curPage=1&code=DB0302",2005,3,4,"-","-","-","-","http://www.nts.go.kr",1966,"e-Tax > TIS / HOMETAX","Tax Integration System / Comprehensive Tax System",2,"COTS","http://korea.go.kr/eng/sub/about_egov02.jsp",2005,3,3,"http://www.customs.go.kr",1907,1968,3,"UNIPASS","Electronic Customs Clearance System",2,"COTS","http://korea.go.kr/eng/sub/about_egov02.jsp",2003,3,3,1,1,"http://www.hometax.go.kr/home/eaeehpe3.jsp",2000,3,1,"http://www.korea.go.kr/main.do",2002,2,"https://www.itu.int/ITU-D/finance/work-cost-tariffs/events/tariff-seminars/vietnam09-tas/pdf/Doc7_Lim_PKI_kisa_korea.pdf",2002,3,1897000,2,"http://unpan1.un.org/intradoc/groups/public/documents/un/unpan023315.pdf",2004,"PPSS","Personnel Policy Support System",1,"LDSW","http://www.mospa.go.kr/eng/a01/engMain.do",2003,3,2,"PPSS","Personnel Policy Support System",1,"LDSW","http://www.mospa.go.kr/eng/a01/engMain.do",2003,3,2,"-","KONEPS","http://www.pps.go.kr ",2002,3,3,"http://www.pps.go.kr/eng/jsp/information/award/domestic.eng ","Ministry of Strategy and Finance – Government Bond Policy division",null,null,null,null,null,null,null,22,100,"A","HIC","EAP"]
[92,null,"Kosovo","LMIC",1794.3030000000001,6321.6824103347235,3520,"http://mf.rks-gov.net/fillimi.aspx","Ministry of Finance",2,"http://mf.rks-gov.net/fillimi.aspx",1,"http://www.mfe-ks.org/old/Shqip/English/mefwww/departamentet/pmakroekonomike/PEFA/pefaangmakro.pdf",1,"-",1,"http://mf.rks-gov.net/sq-al/ministriaefinancave/buxhetiirepublikessekosoves/buxhetiqendrore.aspx",0,0,"-",1,1,0,"-",1,"http://mf.rks-gov.net/en-us/ministriaefinancave/buxhetiirepublikessekosoves/buxhetiqendrore.aspx",1,0,2009,1,0,3,2011,0,null,"-",1,2,0,2011,0,null,"-",1,1,0,0,0,1,1,1,0,0,0,"-",0,"-",0,"-",0,"-",0,"http://esk.rks-gov.net","Kosovo Agency of Statistics","http://www.bqk-kos.org","Central Bank of the Republic of Kosovo","-",0,"-",0,"-",0,"IFRS, http://mf.rks-gov.net/Zyrat/SekretariatiiKKRFse/StandardetNderkombetareteRaportimitFinanciar.aspx",0,3,"-","alb","ser","eng","-",0,"FMIS","Financial Management Information System","C","T",3,2006,"C",1,2,"FreeBalance","CS",2,"May 2009","Public",2,"A","B","B","C","B+","D","B+","A","B","D",2.8,2.774193548387097,"-","-",null,2,"-","-","-","-","-","-","-","-","-","-","-","ECA",null,null,null,"F","Kosovo",0,null,null,null,null,0,null,null,null,null,null,11,42.307692307692307,"C",null,92,"Kosovo","KSV",2009,null,"http://www.rks-gov.net",1,"http://www.rks-gov.net","-","-","-","-","-","-",null,null,null,null,"http://mf.rks-gov.net/sq-al/departamentet/departamentiithesarit.aspx",2003,"http://www.pefa.org/en/assessment/kcb-may09-pfmpr-public-en",2006,2,4,"-","-","-","-","http://www.atk-ks.org",2000,"SIGTAS","Standard Integrated Government Tax System",2,"SIGTAS","http://www.atk-ks.org/2010/08/te-arriturat-e-atk-per-periudhen-janar-%E2%80%93-korrik-2010-2/",2001,3,2,"http://dogana.rks-gov.net",1999,"-","-","ASYCUDA World","Automated SYstem for CUstoms DAta",2,"ASYCUDA W","http://www.asycuda.org/dispcountry.asp?name=Kosovo",2012,3,2,1,1,"https://edeklarimi.atk-ks.org/",2011,2,0,"-","-",0,"-","-",0,"-",0,"-","-","HRMIS","Human Resource Management Information system",2,"COTS","http://www.worldbank.org/projects/P101614/public-sector-modernization?lang=en",2013,3,2,"HRMIS","Human Resource Management Information system",2,"COTS","http://www.worldbank.org/projects/P101614/public-sector-modernization?lang=en",2013,3,2,"B","PPRC","http://krpp.rks-gov.net ",2007,3,1,"http://krpp.rks-gov.net/Default.aspx?PID=Notices&LID=2&PCID=-1&CtlID=SearchNotices&ind=1&PPRCMenu_OpenNode=63 ",null,null,null,null,null,null,null,null,14,63.636363636363633,"B","LMIC","ECA"]
[93,null,"Kuwait","HIC",2818.0419999999999,176600,62667.625251859274,"http://www.mof.gov.kw","Kuwait Ministry of Finance",2,"http://www.mof.gov.kw/MofBudget/MofBudgetDetail.aspx#mofBudget2",0,"-",1,"-",0,"-",0,0,"-",1,1,1,"http://www.mof.gov.kw/MOFServices/MOFCitizenServDetail.aspx#CitizenServ6",0,"-",1,0,2008,0,null,"-","-",0,null,"-",0,null,null,"-",0,null,"-",1,1,0,0,0,1,0,0,0,0,1,"http://www.ctc.gov.kw",0,"-",0,"-",0,"-",0,"http://www.csb.gov.kw","Central Statistical Bureau","http://www.cbk.gov.kw","Central Bank of Kuwait","http://www.e.gov.kw/sites/KGOArabic/portal/Pages/PortalMain.aspx",0,"-",1,"http://en.mof.gov.kw/MOFInfo/MOFStrcture/Default.aspx",2,"GFS published by CSB; National laws and regulations",0,3,"Facebook, Twitter","ara","eng","-","-",0,"IFS","Integrated Financial System","C","F",3,1997,"C",1,1,"LDSW > Oracle","Web",2,"Aug 2010","Final",1,"X","X","X","X","X","X","X","X","X","X",2.7222222222222223,2.9464285714285716,"-","-",null,1,49,0.62680000000000002,0.43136999999999998,0.57479999999999998,0.58620000000000005,0.71940000000000004,63,0.59599999999999997,0.58169999999999999,0.41789999999999999,0.78849999999999998,"MNA",null,null,null,null,"Kuwait",0,null,null,null,null,0,null,null,null,null,null,7,26.923076923076923,"C",null,93,"Kuwait","KWT",null,null,"http://www.e.gov.kw",2,"http://www.e.gov.kw",0.57479999999999998,84,52,37,41,52,null,null,null,null,"http://www.mof.gov.kw",1979,"http://en.mof.gov.kw/Desicions/Decree/Exec-Decree-Curr/Exec-Decree-Curr.aspx",2008,1,"-","-","-","-","-","-","-","-","-",0,"-","-","-",0,0,"http://www.customs.gov.kw",1963,1993,0,"e-Customs","Electronic Customs Portal",2,"PORTAL","http://www.customs.gov.kw/Ecustoms.aspx","-",2,2,0,0,"-","-",0,0,"http://www.e.gov.kw/sites/KGOArabic/portal/Pages/PortalMain.aspx",2010,2,"http://www.paci.gov.kw/index.php/2012-03-22-08-41-49/2012-03-22-08-43-20",2009,2,292000,2,"http://unpan1.un.org/intradoc/groups/public/documents/un/unpan023178.pdf",2004,"CSIS","Civil Service Integrated System",1,"LDSW","http://www.ebeshara.com/",2008,3,2,"CSIS","Civil Service Integrated System",1,"LDSW","http://www.ebeshara.com/",2008,3,2,"X","-","http://web.worldbank.org/WBSITE/EXTERNAL/NEWS/0,,contentMDK:22880747~menuPK:141310~pagePK:34370~piPK:34424~theSitePK:4607,00.html","-",1,0,"-",null,null,null,null,null,null,null,null,9,40.909090909090914,"C","HIC","MNA"]
[94,null,"Kyrgyz Republic","LIC",5507,4865.6272732532552,880,"http://www.minfin.kg","Ministry of Finance of the Kyrgyz Republic",2,"http://www.minfin.kg/index.php?option=com_content&view=section&id=7&Itemid=12",2,"http://www.kazna.gov.kg/index.php/modernizatsiya/isuk",2,"http://budget.okmot.kg",1,"http://www.kazna.gov.kg",0,0,"-",1,1,2,"http://map.okmot.kg",1,"http://www.minfin.kg/index.php?option=com_content&view=article&id=1307:2012-05-21-03-06-19&catid=49:2010-10-05-10-26-01&Itemid=119",1,0,2010,1,0,3,2009,0,null,"-",1,2,0,2011,1,0,2011,1,1,1,0,0,1,1,1,0,1,1,"http://map.okmot.kg",1,"http://budget.okmot.kg/en",0,"-",0,"-",3,"http://www.stat.kg","National Statistical Committee of the Kyrgyz Republic","http://www.nbkr.kg","National Bank of the Kyrgyz Republic","http://budget.okmot.kg",1,"http://budget.okmot.kg/en/instructions/index.html",1,"http://www.minfin.kg/index.php?option=com_content&view=section&id=4&Itemid=11",2,"GFS 2001 (since 2007) + National laws and regulations",1,3,"InfoSystem; MoF web site","kir","rus","eng","-",0,"TMIS","Treasury Management Information System","C","T",3,2008,"C+L",1,1,"LDSW","Web",1,"Dec 2009","Public",2,"B","B","C","C+","A","D","C+","D+","D+","D+",2.25,2.0499999999999998,20,15,null,1,101,0.46567999999999998,0.41176000000000001,0.27559,0.38013000000000002,0.74129999999999996,99,0.4879,0.42480000000000001,0.1903,0.84850000000000003,"ECA",null,null,null,null,"Kyrgyz Republic",0,null,null,null,null,0,null,null,null,null,"2013-04-23",16,61.53846153846154,"B",null,94,"Kyrgyz Republic","KGZ",2012,"DAD","http://www.gov.kg",0,"-",0.27560000000000001,81,27,2,9,27,null,null,null,null,"http://www.kazna.gov.kg",1994,"http://www.pefa.org/en/assessment/kg-dec09-pfmpr-public-en",2006,1,"-","-","-","-","-","http://www.sti.gov.kg",2009,"ITAS / ISNAK","Integrated Tax Administration System",1,"LDSW","https://e-taxservices.kg/TPWebRegLogin.aspx?TO=1&Referer=",2013,3,2,"http://www.customs.gov.kg",1991,2000,0,"SAIS / EAIS","Single Automated Information System",1,"LDSW","http://eais.customs.kg",2012,3,2,0,0,"http://www.sti.gov.kg/e-declaration/%D1%81-%D1%8D%D1%86%D0%BF",2009,2,0,"-","-",0,"http://infocom.kg/",2009,3,329900,2,"http://laborsta.ilo.org/STP/guest",2007,"HRMIS","Human Resource Management Information system",1,"LDSW","http://www.mkk.gov.kg/index.php?option=com_content&view=section&layout=blog&id=69&Itemid=98&lang=ru","-",2,2,"HRMIS","Human Resource Management Information system",1,"LDSW","http://www.mkk.gov.kg/index.php?option=com_content&view=section&layout=blog&id=69&Itemid=98&lang=ru","-",2,2,"D+","Public Procurement Portal","http://zakupki.okmot.kg ",2012,3,1,"http://zakupki.okmot.kg/pub/publicOrder.action ",null,null,null,null,null,null,null,null,14,63.636363636363633,"B","LIC","ECA"]
[95,null,"Lao PDR","LMIC",6288.0370000000003,7104.7902092077493,1130,"http://www.mof.gov.la","Ministry of Finance",0,"-",1,"http://www-wds.worldbank.org/external/default/WDSContentServer/WDSP/IB/2012/03/22/000333038_20120322225943/Rendered/PDF/673470PJPR0v100edbyTACT0CTRNL0LEGES.pdf",0,"-",0,"-",0,0,"-",1,1,0,"-",0,"-",1,1,2006,0,null,"-","-",0,null,"-",1,4,0,2000,1,0,2010,0,0,0,0,0,0,1,1,0,0,0,"-",0,"-",0,"-",0,"-",0,"http://www.nsc.gov.la","Lao Statistics Agency","http://www.bol.gov.la","Bank of Lao PDR","-",0,"-",1,"http://www.na.gov.la/docs/eng/laws/econ/State%20Budget%20%282006%29%20Eng.pdf",0,"-",0,3,"-","lao","eng","-","-",0,"GFIS","Government Financial Information System","C","T",3,2011,"C+L",2,2,"LDSW > Oracle","Web",2,"Jun 2010","Public",2,"C","B","C","D+","C","D","C+","D+","D+","C+",1.95,2,"-","-",null,0,152,0.26588000000000001,0.19606999999999999,0.14172999999999999,0.16177,0.49409999999999998,153,0.29349999999999998,0.2157,9.98E-2,0.56510000000000005,"EAP",null,null,null,null,"Lao PDR",1,null,1,null,null,0,null,null,null,null,"2013-04-29",7,26.923076923076923,"C",null,95,"Lao PDR","LAO",2010,null,"http://www.na.gov.la",0,"-",0.14169999999999999,50,14,2,6,16,null,null,null,null,"http://www.mof.gov.la",1991,"http://www.moe.gov.la/laoesdf/background_docs/Eng/Lao_Fiduciary_Assessment_2007_Eng.pdf",2011,2,3,"-","-","-","-","http://www.tax.gov.la",2004,"ITAS","Integrated Tax Automation System",2,"GenTax","http://www.fastenterprises.com/clients.html","-",2,2,"http://www.customs.gov.la",2005,2007,4,"ASYCUDA World","Automated SYstem for CUstoms DAta",2,"ASYCUDA W","http://unctad.org/en/PublicationsLibrary/dtlasycuda2011d1_en.pdf",2013,3,2,1,0,"-","-",0,0,"-","-",0,"http://www.laotradeportal.gov.la/kcfinder/upload/files/Electronic%20Transaction%20Law%20Eng.pdf",2012,1,109000,1,"http://unpan1.un.org/intradoc/groups/public/documents/un/unpan023237.pdf",2004,"PIMS","Personnel Information Management System",1,"LDSW > OSS","http://www.moha.gov.la/index.php?option=com_content&view=article&id=43&Itemid=61&lang=en&showall=1",2011,3,2,"GFIS","Government Financial Information System",1,"LDSW","https://www.pefa.org/en/assessment/la-jun10-pfmpr-public-en ",2011,3,2,"D+","-","http://www.pefa.org/en/assessment/la-jun10-pfmpr-public-en","-",1,0,"-",null,2,"DMFAS 5.3",null,2011,3,"MoF","4T",10,45.454545454545453,"C","LMIC","EAP"]
[96,null,"Latvia","UMIC",2220,27418.278655221802,12350,"http://www.fm.gov.lv","Finansu Ministrija - Ministry of Finance, Latvia",2,"http://www.fm.gov.lv/lv/sadalas/valsts_budzets/valsts_budzeta_analize_un_izpilde/",2,"http://www.kase.gov.lv/?object_id=449",1,"-",1,"http://www.fm.gov.lv/lv/sadalas/valsts_budzets/budzeta_paskaidrojumi/2012_gads/",0,0,"-",1,1,0,"-",0,"-",1,1,2003,1,0,5,2008,0,null,"-",1,2,1,1998,0,null,"-",1,1,0,0,0,1,1,1,1,0,0,"-",0,"-",0,"-",0,"-",2,"http://www.csb.lv","Latvia Central Statistical Bureau","http://www.bank.lv ","Bank of Latvia","http://www.kase.gov.lv/?object_id=143",0,"-",1,"http://www.fm.gov.lv/en",0,"National laws and EU accounting (financial reporting) standards  ",0,3,"Facebook, Youtube, Twitter","lav","eng","-","-",0,"FMIS / eKASE","Government Electronic Payment System","D","F",3,2009,"C",1,2,"SAP","Web",3,"-","-","-","-","-","-","-","-","-","-","-","-","-","-","-","-","-",1,2,31,0.71775,0.70587999999999995,0.70077999999999996,0.62366999999999995,0.82879999999999998,42,0.66039999999999999,0.58819999999999995,0.50509999999999999,0.88790000000000002,"ECA","EU",null,null,null,"Latvia",0,null,null,null,null,0,null,null,null,null,"2013-04-19",13,50,"B",null,96,"Latvia","LVA",null,null,"https://www.latvija.lv",2,"https://www.latvija.lv",0.70079999999999998,91,66,47,53,63,null,null,null,null,"http://www.kase.gov.lv/",1918,"http://www.kase.gov.lv/l/normativie-akti/1596",2004,3,4,"-","-","-","-","https://www.vid.gov.lv",1992,"EDS","Electronic Declaration System",2,"COTS","https://www.vid.gov.lv/default.aspx?tabid=4&id=5593&hl=1",2001,3,2,"http://www.vid.gov.lv",1992,1992,0,"ASYCUDA++ > e-Customs","Automated SYstem for CUstoms Data + Export Control System + Integrated Tariff Management System ( ITMS ) + Computerized Transit System ( NCTS ) + Excise Movement and Control System ( EMCS )",2,"ASYCUDA ++","https://www.vid.gov.lv/default.aspx?tabid=9&id=1223&hl=1",2002,3,2,1,0,"https://eds.vid.gov.lv/login/",2008,3,1,"https://www.latvija.lv/lv/Epakalpojumi/EP38/Apraksts",2010,2,"https://www.eparaksts.lv/en/eid-card/eid-users/",2008,3,273600,2,"http://laborsta.ilo.org/STP/guest",2010,"HRMIS","Human Resource Management Information system",2,"COTS","http://www.professioninperspective.com/meetings/meeting-2008/latvia-working-in-the-public-service-of-2025-public-service-in-latvia/default.aspx","-",3,1,"HRMIS","Human Resource Management Information system",2,"COTS","http://www.professioninperspective.com/meetings/meeting-2008/latvia-working-in-the-public-service-of-2025-public-service-in-latvia/default.aspx","-",3,1,"-","EIS","https://www.eis.gov.lv/ ",2005,3,2,"https://www.eis.gov.lv/Publications/PublicationView.aspx?PublicationId=2 ","Public Finance Management",null,null,null,null,null,null,null,15,68.181818181818173,"B","UMIC","ECA"]
[97,null,"Lebanon","UMIC",4259.4049999999997,38947.61920145413,9140,"http://www.finance.gov.lb","Lebanon Ministry of Finance",2,"http://www.finance.gov.lb/en-US/finance/BudgetInformation/Pages/default.aspx",1,"http://imagebank.worldbank.org/servlet/WDSContentServer/IW3P/IB/2012/05/03/000356161_20120503031547/Rendered/PDF/684930PUB0EPI007926B009780821395295.pdf",1,"-",1,"http://www.finance.gov.lb/en-US/finance/EconomicDataStatistics/Pages/PublicFinanceStatistic.aspx",0,0,"-",1,1,1,"http://www.finance.gov.lb/en-US/finance/BudgetInformation/AnnualBudgetDocuments/Documents/Annual%20Budget%20Documentation/2010/Budget%20Law/Citizen%20Budget%20FINAL%2011Feb2011.pdf",1,"http://www.finance.gov.lb/en-US/finance/BudgetInformation/Pages/AnnualBudgetDocumentsandProcess.aspx",1,1,1997,0,null,"-","-",0,null,"-",1,2,1,2000,0,null,"-",0,0,0,0,0,0,0,0,0,0,0,"-",0,"-",0,"-",0,"-",0,"http://www.cas.gov.lb","Lebanon Central Administration for Statistics","http://www.bdl.gov.lb","Central Bank of Lebanon","-",1,"http://www.finance.gov.lb/en-US/finance/Documents/Disclosures/MOFTransparency_Oct252007Final.pdf",0,"-",2,"-",0,3,"Ministry Blog","ara","eng","-","-",0,"FMIS","Financial Management Information System","C","F",3,2001,"C+L",1,1,"LDSW > Oracle","Web",2,"Jul 2011","Final",1,"X","X","X","X","X","X","X","X","X","X",1.8333333333333333,1.6956521739130435,33,32,null,1,89,0.49823000000000001,0.29410999999999998,0.35432999999999998,0.40298,0.73740000000000006,87,0.51390000000000002,0.47710000000000002,0.27279999999999999,0.79169999999999996,"MNA",null,null,null,null,{"$f":"C99","v":"Lebanon"},{"$f":"SUM(EA99:ED99)","v":0},null,null,null,null,{"$f":"SUM(EF99:EI99)","v":0},null,null,null,null,null,{"$f":"J99+L99+N99+P99+R99+S99+U99+V99+W99+Y99+AA99+AB99+AD99+AE99+AH99+AI99+AK99+AM99+AO99+AP99","v":13},{"$f":"EK99/26*100","v":50},{"$f":"IF(EL99<25,\"D\",IF(EL99<50,\"C\",IF(EL99<75,\"B\",\"A\")))","v":"B"},null,97,"Lebanon","LBN",null,"DAD","http://www.lebanongovernment.org",2,"http://www.dawlati.gov.lb",0.3543,66,41,14,21,34,null,null,null,null,"http://www.finance.gov.lb",1920,"http://policylebanon.org/Modules/Ressources/Ressources/UploadFile/5190_23,05,YY659940ESW0P1220Growth000No0659940LB.pdf",2016,1,"-","-","-","-","-","http://www.finance.gov.lb/ar-LB/taxation/Pages/default.aspx",1970,"SIGTAS","Standard Integrated Government Tax System",2,"SIGTAS","https://eservices.finance.gov.lb",1996,3,2,"http://www.customs.gov.lb",1970,1994,4,"ASYCUDA World","Automated SYstem for CUstoms DAta",2,"ASYCUDA W","http://www.customs.gov.lb/customs/about/about.asp?id=1",1996,3,2,0,0,"https://eservices.finance.gov.lb",2011,2,0,"-","-",0,"http://www.dailystar.com.lb/News/Lebanon-News/2000/Jul-13/28400-government-approves-law-to-legalize-e-signatures.ashx#axzz3BoRo372j",2000,1,118900,2,"http://unpan1.un.org/intradoc/groups/public/documents/un/unpan023179.pdf",2004,"HRMIS","Human Resource Management Information system",2,"COTS","http://www.csb.gov.lb/Presidency/place.aspx","-",3,1,"PS","Payroll System",1,"LDSW","http://www.csb.gov.lb/Presidency/place.aspx ",2006,3,2,"X","-","http://www.cdr.gov.lb/french/home.asp#","-",1,0,"-","Ministry of Finance",2,"DMFAS 6.0",null,1993,3,"MoF",4,{"$f":"N99+CO99+FZ99+GL99+GQ99+HJ99+HR99+HX99","v":12},{"$f":"IH99/22*100","v":54.54545454545454},{"$f":"IF(II99<25,\"D\",IF(II99<50,\"C\",IF(II99<75,\"B\",\"A\")))","v":"B"},"UMIC","MNA"]
[98,null,"Lesotho","LMIC",2193.8429999999998,2679.2792005106526,1220,"http://www.finance.gov.ls","Lesotho Ministry of Finance And Development Planning",2,"http://www.finance.gov.ls/documents/budget_book.php",2,"http://www.finance.gov.ls/reforms/ifmis.php",1,"-",0,"-",0,0,"-",1,1,0,"-",1,"http://www.finance.gov.ls/documents/budget_book.php",1,1,2001,1,0,3,2010,0,null,"-",1,2,0,2004,0,null,"-",1,1,0,1,0,0,0,0,0,0,0,"-",0,"-",0,"-",0,"-",0,"http://www.bos.gov.ls","Lesotho Bureau of Statistics ","http://www.centralbank.org.ls","Central Bank of Lesotho","-",0,"-",1,"http://www.finance.gov.ls/economic/default.php",0,"-",0,2,"-","eng","-","-","-","-","IFMIS","Integrated Financial Management Information System","C","F",3,2009,"C+L",1,2,"Epicor","Web",2,"Nov 2012","Public",3,"B","B","D","B","D","D","D+","D","D+","NR",1.78,1.95,"-","-",null,1,153,0.26294000000000001,0.13725000000000001,0.15748000000000001,0.11785,0.51349999999999996,136,0.35010000000000002,0.30070000000000002,4.99E-2,0.69969999999999999,"AFR",null,null,null,null,"Lesotho",0,null,null,null,null,0,null,null,null,null,null,12,46.153846153846153,"C",null,98,"Lesotho","LSO",null,"DAD","http://www.gov.ls",0,"-",0.1575,44,16,2,15,18,null,null,null,null,"http://www.finance.gov.ls",1993,"http://www-wds.worldbank.org/external/default/WDSContentServer/WDSP/IB/2014/01/24/000333037_20140124145156/Rendered/INDEX/PAD7380REPLACE00900IDA0R20140000901.txt",2016,1,"-","-","-","-","-","http://www.lra.org.ls",2001,"VIPS","VAT Information Processing System + Other fragmented automation solutions (Income Tax)",2,"COTS","http://siteresources.worldbank.org/EXTEXPCOMNET/Resources/2463593-1213973103977/06_Lesotho.pdf",2004,3,2,"http://www.lra.org.ls/Customs.php",2001,1978,0,"ASYCUDA World","Automated SYstem for CUstoms DAta",2,"ASYCUDA W","http://www.lra.org.ls/",2014,3,2,0,0,"-","-",1,0,"-","-",0,"-","-",0,45000,1,"http://unpan1.un.org/intradoc/groups/public/documents/un/unpan023270.pdf",2004,"HRMIS","Human Resource Management Information system",1,"LDSW","https://www.pefa.org/en/assessment/ls-nov12-pfmpr-public-en ","-",3,1,"PS","Payroll System",1,"LDSW","http://r4d.dfid.gov.uk/PDF/Outputs/ICT/IRMT_Lesotho_Case_Study.pdf ","-",3,1,"D+","-","http://www.finance.gov.ls/reforms/procurements.php","-",0,0,"-","Ministry of Finance and Development Planning",2,"CS-DRMS",null,1994,3,"MoF",null,10,45.454545454545453,"C","LMIC","AFR"]
[99,null,"Liberia","LIC",4128.5720000000001,1359.3186055798353,330,"http://www.mof.gov.lr","Liberia Ministry of Finance",2,"http://www.mof.gov.lr/",2,"http://www.mof.gov.lr/content.php?sub=98&related=33&res=98&third=98",1,"-",0,"-",0,0,"-",1,1,1,"https://docs.google.com/viewer?a=v&pid=sites&srcid=bW9wZWEuZ292LmxyfG10ZWYtYnVkZ2V0fGd4OjcwOGJjYzg1OGFmZWJjMzU",1,"https://docs.google.com/viewer?a=v&pid=sites&srcid=bW9wZWEuZ292LmxyfG10ZWYtYnVkZ2V0fGd4OmQyOGY4ZGYyMDI2OTMwMA",1,1,2007,1,0,3,2012,0,null,"-",0,null,null,"-",0,null,"-",1,1,0,1,0,1,1,1,1,1,0,"-",0,"-",0,"-",0,"-",2,"http://www.lisgis.org","Liberia Institute of Statistics and Geo-Information Services","http://www.cbl.org.lr","Central Bank of Liberia","https://sites.google.com/a/mopea.gov.lr/mtef-budget/home",0,"-",1,"http://www.mof.gov.lr/content.php?sub=75&related=24&res=75&third=75",1,"National laws and regulations",0,1,"-","eng","-","-","-","-","IFMIS","Integrated Financial Management Information System","C","F",3,2012,"C",3,2,"FreeBalance","Web",2,"Jul 2012","Public",2,"C","B","C","C+","C","D","D+","D+","D+","D+",1.85,1.88,43,40,1,1,179,0.17682,0.11763999999999999,7.8740000000000004E-2,7.6300000000000007E-2,0.37540000000000001,169,0.2407,0.1895,4.7699999999999999E-2,0.4849,"AFR",null,null,null,"F","Liberia",0,null,null,null,null,0,null,null,null,null,null,12,46.153846153846153,"C",null,99,"Liberia","LBR",2008,null,"http://www.emansion.gov.lr",0,"-",7.8700000000000006E-2,19,11,7,9,11,null,null,null,null,"http://www.mof.gov.lr/",2003,"http://www.mof.gov.lr/doc/Quarterly%20PFM%20Performance%20Report%20July-Sept%202013.pdf",2013,1,"-","-","-","-","-","http://www.mofrevenue.gov.lr",1952,"ITAS","Standard Integrated Government Tax System / Integrated Tax Administration Services (ITAS)",2,"SIGTAS","http://www.mofrevenue.gov.lr/doc/ITAS%20Information%20Brochure%20(ok).pdf",2011,3,2,"http://www.mofrevenue.gov.lr",1952,1975,4,"ASYCUDA World","Automated SYstem for CUstoms DAta",2,"ASYCUDA W","http://unctad.org/en/PublicationsLibrary/dtlasycuda2011d1_en.pdf",2009,3,2,1,0,"-","-",0,0,"-","-",0,"-","-",0,59000,2,"http://www.pefa.org/en/assessment/lr-jul12-pfmpr-public-en",2012,"HRMIS","Human Resource Management Information system",2,"FreeBalance","http://csa.gov.lr/content.php?sub=HRMIS&related=Directorates ",2013,3,2,"HRMIS","Human Resource Management Information system",2,"FreeBalance","http://csa.gov.lr/content.php?sub=HRMIS&related=Directorates ",2013,3,2,"C","PPCC","http://www.ppcc.gov.lr ",2010,3,1,"http://www.ppcc.gov.lr/2content.php?main=17&related=17&pg=mp ",null,null,null,null,null,null,null,null,12,54.54545454545454,"B","LIC","AFR"]
[100,null,"Libya","UMIC",6422.7719999999999,62360,9709.2034405082413,"http://www.mof.gov.ly","Ministry of Finance",0,"-",1,"http://www.amegproject.org/sites/default/files/AMEG_Libya_PFM_II_Report_final.pdf",0,"-",0,"-",0,0,"-",0,0,0,"-",0,"-",0,null,"-",0,null,"-","-",0,null,"-",0,null,null,"-",0,null,"-",0,0,0,0,0,0,0,0,0,0,0,"-",0,"-",0,"-",0,"-",0,"http://www.lisgis.org","Liberia Institute of Statistics and Geo-Information Services","http://www.cbl.gov.ly","Central Bank of Libya","-",0,"-",0,"-",0,"-",0,0,"-","ara","-","-","-","-","BISAN","Financial Management Information System","C","F",3,2014,"C",1,1,"LDSW > MS SQL","Web",2,"-","-","-","-","-","-","-","-","-","-","-","-","-","-","-","-","-",null,"-",121,0.37530000000000002,5.8819999999999997E-2,1.5740000000000001E-2,0.32808999999999999,0.78210000000000002,"-","-","-","-","-","MNA",null,null,null,"F","Libya",0,null,null,null,null,0,null,null,null,null,null,1,3.8461538461538463,"D",null,100,"Libya","LBY",null,null,"http://www.pm.gov.ly",0,"-",1.5699999999999999E-2,9,11,2,0,6,null,null,null,null,"http://www.mof.gov.ly",2011,"-","-",0,"-","-","-","-","-","http://tax.gov.ly",2010,"-","Forms and information",0,"-","-","-",0,1,"http://www.customs.ly",2009,1983,0,"ASYCUDA World","Automated SYstem for CUstoms DAta",2,"ASYCUDA W","http://www.asycuda.org/dispcountry.asp?name=Libya",2010,3,2,0,"-","-","-",1,0,"-","-",0,"-","-",0,208000,0,"http://unpan1.un.org/intradoc/groups/public/documents/un/unpan023273.pdf",2004,"-","-",0,"-","-","-",0,0,"-","-",0,"-","-","-",0,0,"-","-","http://www.amegproject.org/sites/default/files/AMEG_Libya_PFM_II_Report_final.pdf","-",0,0,"-",null,null,null,null,null,null,null,null,6,27.27272727272727,"C","UMIC","MNA"]
[101,null,"Liechtenstein","HIC",36.304000000000002,4826,132933.01013662407,"http://www.regierung.li","Ministry of Finance",1,"http://www.liechtenstein.li/de/wirtschaft/staatshaushalt/",0,"-",1,"-",0,"-",0,0,"-",0,0,0,"-",0,"-",0,null,"-",0,null,"-","-",0,null,"-",0,null,null,"-",0,null,"-",0,0,0,0,0,0,0,0,0,0,0,"-",0,"-",0,"-",0,"-",3,"http://www.as.llv.li","Office of Statistics","http://www.fma-li.li","Financial Marker Authority","http://www.llv.li/amtsstellen/llv-rk-amtsgeschaefte-rechenschaftsbericht.htm",0,"-",0,"-",0,"-",0,2,"Facebook, Twitter, Youtube","ger","eng","-","-",0,"-","-","C","-",0,"-","-","-",0,"-","-",0,"-","-","-","-","-","-","-","-","-","-","-","-","-","-","-","-","-",null,"-",35,0.69823000000000002,0.27450000000000002,0.51180999999999999,0.74682000000000004,0.83609999999999995,14,0.82640000000000002,0.58819999999999995,1,0.89100000000000001,null,"EUR",null,null,null,"Liechtenstein",0,null,null,null,null,0,null,null,null,null,null,2,7.6923076923076925,"D",null,101,"Liechtenstein","LIE",null,null,"http://regierung.li",2,"http://www.llv.li/#/20",0.51180000000000003,56,61,33,38,47,null,null,null,null,"http://www.regierung.li",1866,"-","-",0,"-","-","-","-","-","http://www.llv.li",1922,"Web Services","Online services and forms",1,"LDSW","http://www.llv.li/#/20/",1999,3,2,"-",1923,"-",0,"-","-",0,"-","-","-",0,0,"-","-","https://mwst.llv.li/EMWST/portal/PageIntro;jsessionid=twOtpONaqVpDn4WMlEoMss04hHK1FY2xmvgfDJKRTjuvtAiuQTas!-288703447",2007,2,"-","-","-",0,"http://www.llv.li/#/11528/lisign-elektronische-identifikation-und-signatur",2011,3,"-",0,"-","-","-","-",0,"-","http://www.llv.li/#/11067/amt-fur-personal-und-organisation","-",1,0,"-","-",0,"-","http://www.llv.li/#/11067/amt-fur-personal-und-organisation","-",1,0,"-","Public Procurement Website","http://kundmachungen.li/%C3%96ffentlicheAusschreibungen.aspx",2014,2,1,"-",null,null,null,null,null,null,null,null,6,27.27272727272727,"C","HIC"]
[102,null,"Lithuania","UMIC",3203,39322.320283326699,12280,"http://www.finmin.lt","Ministry of Finance of the Republic of Lithuania",2,"http://www.finmin.lt/web/finmin/aktualus_duomenys",1,"http://www.finmin.lt/web/finmin/vsakis",1,"-",0,"-",1,0,"http://www.finmin.lt/finmin.lt/failai/Biudzeto_vykdymas/VBI_2012_12_31_pdf.pdf",1,1,1,"http://www.finmin.lt/web/finmin/2013_biudzetas",1,"http://www3.lrs.lt/pls/inter3/dokpaieska.showdoc_l?p_id=346930",1,1,1991,1,1,3,1998,1,1,2001,1,2,1,2001,1,1,1995,1,1,0,0,0,1,1,1,1,1,1,"http://www.finmin.lt/web/finmin//auktualus_duomenys/biudzeto_pajamos/valstybes_biudzetas",0,"-",1,"http://www.finmin.lt/web/finmin/vsakis",1,"http://vsamidb.finmin.lt/CAisd/pdmweb.exe",1,"http://www.stat.gov.lt","Lithuania Statistics Department","http://www.lbank.lt","Bank of Lithuania","www.viesai.lt",1,"http://www.finmin.lt/web/finmin/aktualus_duomenys",1,"http://www.finmin.lt/c/portal/layout?p_l_id=PUB.1.37",1,"Lithuianian law and International Accounting Standards, European Union Law and International Public Sector Accounting Standards.",1,3,"-","lit","eng","-","-",0,"VSAKIS","Viešojo sektoriaus apskaitos ir ataskaitų konsolidavimo informacinė sistem / Public Sector Accounting and Consolidation Reporting Information System","C","F",3,2012,"C",1,2,"SAP","Web",3,"-","-","-","-","-","-","-","-","-","-","-","-","-","-","-","-","-",1,1,29,0.72709000000000001,0.64705000000000001,0.75590000000000002,0.56967999999999996,0.85570000000000002,29,0.73329999999999995,0.69930000000000003,0.57650000000000001,0.92400000000000004,"ECA","EU",null,null,null,"Lithuania",0,null,null,null,null,0,null,null,null,null,"2013-05-10",19,73.076923076923066,"B",null,102,"Lithuania","LTU",null,null,"http://www.lrv.lt",2,"https://www.epaslaugos.lt/portal",0.75590000000000002,94,70,49,62,67,null,null,null,null,"http://www.finmin.lt/web/finmin/veiklos_uzduotys#izdo",1998,"http://www.oecd.org/gov/budgeting/48170576.pdf",2007,3,4,"-","-","-","-","http://www.vmi.lt",1919,"e-Tax / My STI","e-Tax Portal",2,"COTS","https://www.epaslaugos.lt/portal",2004,3,2,"http://www.lrmuitine.lt",1919,1992,0,"ASYCUDA++ / MDAS / NTKS / MAKIS","Customs Declaration Processing System; National Transit Control System",2,"ASYCUDA ++","http://www.cust.lt/web/guest/apiemus/istorija",2003,3,2,1,1,"https://www.vmi.lt/cms/mano-vmi_?accessibility=false&lang=lt",2004,2,1,"https://www.epaslaugos.lt/portal/citizen/service/7625",2006,2,"https://www.epaslaugos.lt/portal/news/4821",2009,3,400200,2,"http://laborsta.ilo.org/STP/guest",2010,"VATARAS & VATIS","Register of Public Servants and Public Servants Management System",1,"LDSW","https://www.vataras.lt",2002,3,2,"VATARAS & VATIS","Register of Public Servants and Public Servants Management System",1,"LDSW","https://www.vataras.lt",2002,3,2,"-","CVPIS","https://pirkimai.eviesiejipirkimai.lt",2008,3,2,"https://pirkimai.eviesiejipirkimai.lt/app/notice/notices.asp?B=PPO ","Ministry of Finance",2,"DMFAS",null,1999,0,"MoF",0,16,72.727272727272734,"B","UMIC","ECA"]
[103,null,"Luxembourg","HIC",517,40108.931521497223,77580,"http://www.mf.public.lu","Ministère des Finances",2,"http://www.mf.public.lu/finances_publiques/budget/index.html",2,"http://www.sifin.etat.lu",1,"-",0,"-",0,0,"-",1,1,0,"-",1,"http://www.legilux.public.lu/leg/a/archives/2011/0266/a266.pdf",1,0,2002,0,null,"-","-",0,null,"-",0,null,null,"-",0,null,"-",1,1,0,0,0,1,0,0,0,0,0,"-",0,"-",0,"-",0,"-",3,"http://www.statec.public.lu","Luxembourg National Institute of Statistics and Economic Studies ","http://www.bcl.lu","Central Bank of Luxembourg","http://www.te.public.lu/dette_publique/index.html",0,"-",1,"http://www.mf.public.lu/ministere/index.html",0,"-",0,1,"-","fre","-","-","-","-","SIFIN","Integrated Financial Management Information System","D","F",3,2006,"C+L",1,2,"SAP","Web",3,"-","-","-","-","-","-","-","-","-","-","-","-","-","-","-","-","-",null,1,24,0.75910999999999995,0.54901,0.62204000000000004,0.87224999999999997,0.78300000000000003,19,0.8014,0.69930000000000003,0.86439999999999995,0.84040000000000004,null,"EU","OECD",null,null,"Luxembourg",0,null,null,null,null,0,null,null,null,null,null,9,34.615384615384613,"C",null,103,"Luxembourg","LUX",null,null,"http://www.gouvernement.lu",2,"http://www.guichet.public.lu",0.622,94,59,42,35,56,null,null,null,null,"http://www.te.public.lu/",1931,"http://www.legilux.public.lu/leg/a/archives/1999/0068/a068.pdf#page=6",1999,3,4,"-","-","-","-","http://www.impotsdirects.public.lu",1964,"Web Services","Online services and forms",2,"COTS","http://www.impotsdirects.public.lu/echanges_electroniques/index.html",2003,3,2,"http://www.etat.lu/do",1944,1953,0,"e-Customs + Single Window","e-Customs + Paperless douanes et accises (PLDA)",2,"COTS","http://www.do.etat.lu/edouanes/Accueil/EMCS/eDouane_Accueil_EMCS.htm",2010,3,2,1,1,"http://www.guichet.public.lu/entreprises/fr/fiscalite/tva/index.html",2003,2,1,"http://www.guichet.public.lu/myguichet/fr/aspects-legaux/index.html",2008,2,"https://www.luxtrust.lu/fr",2009,3,57000,2,"http://laborsta.ilo.org/STP/guest",2010,"SIGEP","Système Intégré de Gestion de l’Etat pour son Personnel",2,"SAP","http://www.gouvernement.lu/3723909/2013-rapport-activite-fonction-publique.pdf",2007,3,2,"SIGEP","Système Intégré de Gestion de l’Etat pour son Personnel",2,"SAP","http://www.gouvernement.lu/3723909/2013-rapport-activite-fonction-publique.pdf",2007,3,2,"-","Public Procurement Portal","https://pmp.b2g.etat.lu",2006,3,2,"https://pmp.b2g.etat.lu/?page=entreprise.EntrepriseAdvancedSearch&AvisAttribution ","Trésorerie de l'Etat",null,null,null,null,null,null,null,16,72.727272727272734,"B","HIC"]
[104,null,"Macao SAR, China","HIC",555.73099999999999,36430,65553.298268406841,"http://www.dsf.gov.mo","Macao Department of Finance",2,"http://www.dsf.gov.mo/finance/public_finance_info.aspx?FormType=4&#budget",1,"http://www.dsbb.imf.org/Pages/GDDS/ComprehensiveFwReport.aspx?ctycode=MAC&catcode=CGO00",1,"-",0,"-",0,0,"-",1,1,0,"-",0,"-",0,null,"-",0,null,"-","-",0,null,"-",1,4,1,2010,0,null,"-",1,0,0,0,0,0,0,0,0,0,0,"-",0,"-",0,"-",0,"-",0,"http://www.dsec.gov.mo","Macau Special Administrative Region Statistics and Census Service","http://www.amcm.gov.mo","Monetary Authority of Macao","-",0,"-",1,"http://www.dsf.gov.mo/about/about_org.aspx",0,"-",0,2,"-","chi","eng","por","-",0,"PCAS","Public Computer Accounting System","C","T",3,1999,"C",1,1,"LDSW","Web",1,"-","-","-","-","-","-","-","-","-","-","-","-","-","-","-","-","-",null,"-","-","-","-","-","-","-","-","-","-","-","-","EAP",null,null,null,null,"Macao SAR, China",1,1,null,null,null,0,null,null,null,null,null,8,30.76923076923077,"C",null,104,"Macao SAR, China","MAC",null,null,"http://portal.gov.mo",2,"http://portal.gov.mo","-","-","-","-","-","-",null,null,null,null,"http://www.dsf.gov.mo/about/about_org/C_Org_SOT_B.html",1999,"-","-",0,"-","-","-","-","-","http://www.dsf.gov.mo/guia/guia.aspx?lang=pt",1999,"e-Tax","e-Tax and other portals",2,"COTS","http://eserv.dsf.gov.mo/?lang=pt",2008,3,2,"http://www.customs.gov.mo",2001,1993,0,"e-Customs + EDICS","Electronic Data Interchange Clearance System",2,"COTS","http://www.tedmev.com/english/index.php",2000,3,2,"-","-","http://eserv.dsf.gov.mo/LawRules.htm?lang=pt",2008,2,"-","http://portal.gov.mo/web/guest/citizen/catpage?catid=678","-",1,"http://www.esigntrust.com/en/m9_CR_QES.php?pageID=9",2008,3,25072,2,"http://laborsta.ilo.org/STP/guest",2010,"PMS","Personnel Management System",1,"LDSW","http://www.safp.gov.mo/safptc/info/index.htm",2007,3,2,"PMS","Personnel Management System",1,"LDSW","http://www.safp.gov.mo/safptc/info/index.htm",2007,3,2,"-","-","http://macaubusinessdaily.com/Politics/Gov%E2%80%99t-introduce-procurement-law","-",1,0,"-",null,null,null,null,null,null,null,null,12,54.54545454545454,"B","HIC","EAP"]
[105,null,"Macedonia","UMIC",2063.893,9752.3457135706467,4730,"http://www.finance.gov.mk","Ministry of Finance of the Republic of Macedonia",2,"http://www.finance.gov.mk/node/575",2,"http://www.ultra.com.mk/newweb/public_admin2.html",1,"-",0,"-",0,0,"-",2,1,0,"-",1,"http://www.finance.gov.mk/files/u11/tkovniot_plan_i_sodrzinata_na_oddelni_smetki.pdf",1,1,2008,1,0,3,2008,1,1,2009,1,2,1,2008,0,null,"-",0,1,0,0,0,0,1,1,1,0,0,"-",0,"-",0,"-",0,"-",0,"http://www.stat.gov.mk","Macedonia State Statistical Office ","http://www.nbrm.gov.mk","National Bank of the Republic of Macedonia","-",0,"-",1,"http://www.finance.gov.mk/node/13",0,"-",0,1,"-","mac","eng","-","-",0,"TRIS","Macedonian Treasury Information System","C","T",3,2001,"C+L",1,1,"LDSW","CS",2,"Aug 2007","Public",1,"A","NU","C","NU","A","C","C+","C+","B","C",2.75,2.8260869565217392,35,49,1,1,96,0.47198000000000001,0.21568000000000001,0.24409,0.45207000000000003,0.7198,70,0.55869999999999997,0.45100000000000001,0.41349999999999998,0.8115,"ECA",null,null,null,null,"Macedonia",1,null,null,null,1,0,null,null,null,null,null,16,61.53846153846154,"B",null,105,"Macedonia","MKD",null,"DAD","http://www.vlada.mk",1,"http://uslugi.gov.mk",0.24410000000000001,50,34,5,15,25,null,null,null,null,"http://www.finance.gov.mk/node/863",1991,"http://www.finance.gov.mk/node/189",2002,2,4,"-","-","-","-","http://www.ujp.gov.mk",1992,"e-Tax","e-Tax and other portals",2,"COTS","http://etax.ujp.gov.mk/eTaxServices/",2008,3,2,"http://www.customs.gov.mk",1992,1994,4,"MAKCIS > ASYCUDA++ / EDMS","Automated SYstem for CUstoms DAta",2,"ASYCUDA ++","http://www.carina.mk/DesktopDefault.aspx?tabindex=0&tabid=396",1998,3,2,1,1,"https://etax-fl.ujp.gov.mk/",2006,3,1,"http://www.vista.com.mk/index.php?option=com_content&view=article&id=64:enapsys&catid=41:softver-produkti&Itemid=84",2009,1,"http://www.mio.gov.mk/?q=node/2017",2007,3,127948,2,"http://laborsta.ilo.org/STP/guest",2005,"PERSONAL+","Human Resource Management ",1,"LDSW","http://www.ultra.com.mk/newweb/public_admin2.html",2003,3,2,"PERSONAL+","Human Resource Management ",1,"LDSW","https://www.pefa.org/en/assessment/mk-aug07-cfa-public-en ",2003,3,2,"D+","ESPP","https://e-nabavki.gov.mk",2010,3,2,"https://e-nabavki.gov.mk ","Ministry of Finance",2,"DMFAS",null,1999,0,"CB",0,16,72.727272727272734,"B","UMIC","ECA"]
[106,null,"Madagascar","LIC",21315.134999999998,9100.2672513046491,430,"http://www.mefb.gov.mg","Madagascar Ministry of the Economy, Finance and Budget",2,"http://www.dgbudget.mg/",2,"http://www.mefb.gov.mg/index.php?option=com_content&view=article&id=329&Itemid=332",1,"-",0,"-",0,0,"-",1,1,0,"-",1,"http://www.mefb.gov.mg/textes_lois/compta_publique/decret_05210_pcop.pdf",1,1,2010,1,1,3,2010,1,1,2010,1,3,1,2010,0,null,"-",1,0,0,0,0,0,0,0,0,1,1,"http://www.armp.mg/",0,"-",0,"-",0,"-",0,"http://www.instat.mg","Madagascar National Institute of Statistics","http://www.banque-centrale.mg","Central Bank of Madagascar","-",0,"-",1,"http://www.mefb.gov.mg/index.php?option=com_wrapper&view=wrapper&Itemid=34",0,"-",1,2,"-","mlg","fre","eng","-",0,"SIGFIP","Système Intégré de Gestion des Finances Publiques","C","F",3,2011,"C+L",2,1,"LDSW > Oracle","Web",2,"May 2008","Public",2,"A","C","C","C+","D+","D","C+","D+","D","B+",2.15,2.403225806451613,"-","-",null,2,155,0.2606,0.35293999999999998,0.24409,4.879E-2,0.4889,148,0.3054,0.32029999999999997,5.1999999999999998E-2,0.54379999999999995,"AFR",null,null,null,"F","Madagascar",0,null,null,null,null,0,null,null,null,null,"2013-05-05",16,61.53846153846154,"B",null,106,"Madagascar","MDG",2009,null,"http://www.madagascar.gov.mg",0,"-",0.24410000000000001,75,18,5,12,25,null,null,null,null,"http://www.tresorpublic.mg/",1962,"http://www.tresorpublic.mg/?page_id=214&content=activite&type=tresorerie",2016,1,"-","-","-","-","-","http://www.impots.mg",1998,"SIGTAS","Standard Integrated Government Tax System",2,"SIGTAS","http://www.impots.mg/sigtas.php",2006,3,2,"http://www.douanes.gov.mg",1961,1964,4,"ASYCUDA++ / TradeNet","Automated SYstem for CUstoms DAta",2,"ASYCUDA ++","http://www.douanes.gov.mg/?page_id=259",2005,3,2,1,0,"https://entreprises.impots.mg/",2013,2,0,"-","-",0,"-","-",0,233100,2,"http://laborsta.ilo.org/STP/guest",2005,"SIGRHE","Integrated System of Human Resources of the State",1,"LDSW","http://www.mfptls.gov.mg/content/organigramme-0",2004,3,2,"SGSP","Système de Gestion de la Solde et des Pensions",1,"LDSW","http://www.mfptls.gov.mg/content/organigramme-0",1999,3,2,"C","SIGMP","http://marches.armp.mg/accueil_site_dynamique.php",2010,3,1,"http://marches.armp.mg/rech_avis_attrib.php ",null,2,"DMFAS 6.0",null,2001,3,"CB",4,14,63.636363636363633,"B","LIC","AFR"]
[107,null,"Malawi","LIC",15380.888000000001,5558.565721397089,360,"http://www.finance.gov.mw","Ministry of Finance of Malawi",2,"http://www.finance.gov.mw/index.php?option=com_docman&Itemid=114",1,"http://www.eastafritac.org/images/uploads/documents_storage/Theme_A-IFMIS_managing_risks.pdf",1,"-",0,"-",0,0,"-",1,1,0,"-",0,"-",1,1,2011,1,0,3,2011,0,null,"-",1,3,0,2005,1,1,2007,0,1,0,0,1,1,1,0,1,0,0,"-",0,"-",0,"-",0,"-",0,"http://www.nso.malawi.net","Malawi National Statistical Office ","http://www.rbm.mw","Reserve Bank of Malawi","-",0,"-",1,"http://www.finance.gov.mw/index.php?option=com_content&view=category&layout=blog&id=47&Itemid=85",0,"-",1,3,"-","eng","-","-","-","-","IFMIS","Integrated Financial Management Information System","C","F",2,2008,"C",2,2,"CODA > Epicor","CS",3,"Mar 2011","Public",4,"A","C","D","C+","D+","D","C+","D+","D","A",2.2999999999999998,2.3703703703703702,52,47,0,2,166,0.23208000000000001,0.23529,0.17322000000000001,4.8370000000000003E-2,0.47460000000000002,159,0.27400000000000002,0.2157,3.2099999999999997E-2,0.57410000000000005,"AFR",null,null,null,null,"Malawi",0,null,null,null,null,0,null,null,null,null,null,12,46.153846153846153,"C",null,107,"Malawi","MWI",2008,null,"http://www.malawi.gov.mw",0,"-",0.17319999999999999,63,14,0,9,19,null,null,null,null,"http://www.finance.gov.mw/",1994,"http://www.oecd.org/derec/afdb/malawi.pdf",2006,3,4,"-","-","-","-","http://www.mra.mw",1998,"ITAS + EFD","Integrated Tax Administration System (ITAS) + Electronic Fiscal Device (EFD) + ePayment",2,"COTS","http://www.mra.mw/support/support.php?cdpIP=3",2014,3,2,"http://www.mra.mw",1998,1966,4,"ASYCUDA++","Automated SYstem for CUstoms DAta",2,"ASYCUDA ++","http://www.mra.mw/about/index.php?cPageName=Asycuda%20World&cPageType=ModernizationProject",2002,3,2,1,0,"http://www.mra.mw/about/index.php?cPageName=Electronic%20Payments&cPageType=ModernizationProject",2014,2,0,"-","-",0,"-","-",0,122000,2,"http://unpan1.un.org/intradoc/groups/public/documents/un/unpan023275.pdf",2000,"HRMIS","Human Resource Management Information system",1,"LDSW","http://documents.worldbank.org/curated/en/2012/03/16625002/malawi-assessment-fiduciary-risks-use-country-pfm-system-investment-lending-projects",2006,2,2,"HRMIS","Human Resource Management Information system",1,"LDSW","http://documents.worldbank.org/curated/en/2012/03/16625002/malawi-assessment-fiduciary-risks-use-country-pfm-system-investment-lending-projects",2006,2,2,"C","ODPP Website","http://www.odpp.gov.mw",2012,3,1,"http://www.odpp.gov.mw","Malawian Reserve Bank",2,"CS-DRMS",null,1989,3,"MoF",null,15,68.181818181818173,"B","LIC","AFR"]
[108,null,"Malaysia","UMIC",28859.153999999999,253043.61546574478,8770,"http://www.treasury.gov.my","Ministry of Finance/Treasury",2,"http://www.treasury.gov.my/index.php?option=com_content&view=category&id=73&Itemid=174&lang=my",2,"http://km.anm.gov.my",1,"-",0,"-",0,0,"-",1,1,0,"-",1,"http://www.treasury.gov.my/pekeliling/pp/pp032012.pdf",1,1,2004,0,null,"-","-",0,null,"-",1,4,1,2006,1,0,2011,0,1,1,1,1,0,0,0,0,0,1,"http://myprocurement.treasury.gov.my/",0,"-",0,"-",0,"-",0,"http://www.statistics.gov.my","Malaysia Department of Statistics","http://www.bnm.gov.my","Central Bank of Malaysia","-",0,"-",1,"http://www.treasury.gov.my/index.php?option=com_content&view=article&id=315%3Acarta-kementerian&catid=119%3Aprofil-kementerian&Itemid=154&lang=en",0,"-",1,3,"-","may","eng","-","-",0,"GFMAS","Government Financial and  Management Accounting System","D","F",3,2006,"C+L",1,2,"SAP","Web",3,"-","-","-","-","-","-","-","-","-","-","-","-","-","-","-",39,39,null,1,52,0.61151999999999995,0.52941000000000005,0.67715999999999998,0.44546000000000002,0.71189999999999998,40,0.67030000000000001,0.79079999999999995,0.45100000000000001,0.76910000000000001,"EAP",null,null,"APEC",null,"Malaysia",7,2,2,3,null,1,null,null,1,null,null,13,50,"B",null,108,"Malaysia","MYS",null,null,"https://www.malaysia.gov.my",2,"https://www.myeg.com.my",0.67720000000000002,84,73,40,50,61,null,null,null,null,"http://www.treasury.gov.my/",1957,"http://www.ilkap.gov.my/download/pekeliling/agc/Act61.pdf",1957,2,4,"-","http://km.anm.gov.my/Lampiran%20Artikel/BPOPA/PEMNA%20Govt%20Cash%20Management%20(Malaysia)-1.pdf","-","-","http://www.hasil.gov.my",1995,"ezHASIL ","e-Tax and other portals",2,"GenTax","http://www.hasil.gov.my/goindex.php?kump=2&skum=4&posi=1&unit=1&sequ=1",2008,3,3,"http://www.customs.gov.my",1931,1964,3,"e-Eksais + NSW TradeNet / CIS","Customs Information System + National Single Window",2,"COTS","http://www.customs.gov.my/index.php/en/perkhidmatan-atas-talian/291",2001,3,3,1,1,"https://e.hasil.gov.my/",2004,3,1,"https://www.myeg.com.my/overview.html",2000,2,"http://www.skmm.gov.my/Sectors/Digital-Signature.aspx",2004,3,1411500,2,"http://laborsta.ilo.org/STP/guest",2008,"eSPKB","Portal RASMI HRMIS > Electronic Budget Planning and Control System (eSPKB)",1,"LDSW","http://www.eghrmis.gov.my/",2006,3,2,"GFMAS","myGovernment > Government Financial Management and Accounting System (GFMAS)",2,"SAP","https://www.malaysia.gov.my ",2005,3,2,"-","E-Perolehan","http://home.eperolehan.com.my/v2/index.php?lang=bm",1999,3,2,"https://www.eperolehan.com.my/PMS_SCIndex.jsp ",null,null,null,null,null,null,null,null,19,86.36363636363636,"A","UMIC","EAP"]
[109,null,"Maldives","UMIC",320.08100000000002,1831.0624457885683,5720,"http://www.finance.gov.mv","Ministry of Finance",2,"http://www.budget.gov.mv",2,"http://www.finance.gov.mv/v1/orgview?unit=Information%20Communication%20Technology%20Section",1,"-",1,"http://www.budget.gov.mv/",0,0,"-",1,1,0,"-",0,"-",1,0,2012,0,null,"-","-",0,null,"-",0,null,null,"-",0,null,"-",0,0,0,0,0,0,0,0,0,0,0,"-",0,"-",0,"-",0,"-",2,"http://www.planning.gov.mv","Department of National Planning","http://www.mma.gov.mv","Maldives Monetary Authority","http://www.finance.gov.mv/v1/datanstat?id=27",0,"-",0,"-",0,"-",0,1,"-","div","eng","-","-",0,"PAS","Public Accounting System","C","T",3,2010,"C+L",3,2,"SAP","Web",2,"Nov 2009","Public",1,"B","C","B","D","C","A","C+","D","D+","D",2.1,1.9482758620689655,"-","-",null,0,94,0.48129,0.27450000000000002,0.36220000000000002,0.39516000000000001,0.6865,95,0.49940000000000001,0.32679999999999998,0.3599,0.81140000000000001,"SAR",null,null,null,null,"Maldives",0,null,null,null,null,0,null,null,null,null,null,9,34.615384615384613,"C",null,109,"Maldives","MDV",null,"DAD","http://www.presidencymaldives.gov.mv",1,"https://citizen.egov.mv",0.36220000000000002,66,48,14,15,35,null,null,null,null,"http://www.finance.gov.mv/",1965,"http://www.pefa.org/en/assessment/mv-nov09-pfmpr-public-en",2009,3,4,"-","-","-","-","http://www.mira.gov.mv",2010,"TMIS","Various systems and databases",1,"LDSW","http://www.mira.gov.mv/StrategicPlan.aspx","-",2,2,"http://www.customs.gov.mv",1890,1995,4,"ASYCUDA++ > e-Customs","Automated SYstem for CUstoms Data; e-Customs Portal",2,"ASYCUDA ++","https://portal.customs.gov.mv/Login.aspx?ReturnUrl=%2f",1994,3,2,1,0,"https://www.mira.gov.mv/TPOS/TPOS_Default.aspx",2013,2,0,"-","-",0,"-","-",0,"-",0,"-","-","HRMS","Human Resource Management System",2,"SAP","https://www.pefa.org/en/assessment/mv-nov09-pfmpr-public-en ",2010,3,2,"PAS","Public Accounting System",2,"SAP","https://www.pefa.org/en/assessment/mv-nov09-pfmpr-public-en ",2010,3,2,"D+","MoF Website","http://www.finance.gov.mv/v1/postview?category=Invitation%20for%20Bids",2011,2,1,"-","Ministry of Finance and Economic Development",2,"CS-DRMS",null,1987,3,"MoF",null,14,63.636363636363633,"B","UMIC","SAR"]
[110,null,"Mali","LIC",15839.538,9632.7587674317256,610,"http://www.finances.gouv.ml","Mali Ministry of Economy and Finance",0,"-",1,"http://www-wds.worldbank.org/external/default/WDSContentServer/WDSP/IB/2014/07/24/000442464_20140724103902/Rendered/INDEX/ICR31700P125860IC0disclosed07010140.txt",0,"-",0,"-",0,0,"-",1,1,1,"http://www.finances.gouv.ml/documentation/BUDGETCITOYEN%202012%20FINAL.pdf",0,"-",1,0,2009,0,null,"-","-",0,null,"-",1,3,0,2010,0,null,"-",1,0,1,0,0,1,1,0,1,0,0,"-",0,"-",0,"-",0,"-",0,"http://www.dnsi.gov.ml","Mali National Directorate of Statistics and Informatics ","http://www.bceao.int ","Central Bank of West African States (BCEAO)","-",0,"-",1,"http://www.finances.gouv.ml/contenu_page.aspx?pa=23",2,"GFS 1986 (not 2001)",0,0,"-","fre","-","-","-","-","AICE","Software for Integrated Public Accounting","C","T",3,2011,"C",1,1,"LDSW","CS",1,"Jun 2011","Public",2,"B","A","C","B+","C+","B","D+","D+","D","D+",2.35,2.774193548387097,43,35,null,1,181,0.16335,0.15686,0.13385,0.13500999999999999,0.22120000000000001,183,0.1857,0.32029999999999997,6.4500000000000002E-2,0.17230000000000001,"AFR",null,null,null,"F","Mali",0,null,null,null,null,0,null,null,null,null,null,6,23.076923076923077,"D",null,110,"Mali","MLI",null,null,"http://www.primature.gov.ml",0,"-",0.13389999999999999,47,14,0,9,16,null,null,null,null,"http://tresor.gouv.ml/",1961,"http://www.imf.org/External/NP/LOI/2013/MLI/120213.pdf","-",0,"-","-","-","-","-","http://www.dgi.gouv.ml",1960,"SIGTAS","Standard Integrated Government Tax System / Système Intégré de Gestion des Taxes et Assimilées",2,"SIGTAS","http://www.dgi.gouv.ml/documentation/livre_or_impot.pdf",1999,3,2,"http://douanes.gouv.ml",1960,1987,0,"ASYCUDA++","Automated SYstem for CUstoms DAta",2,"ASYCUDA ++","http://unctad.org/en/PublicationsLibrary/dtlasycuda2011d1_en.pdf",2005,3,2,0,0,"-","-",1,0,"-","-",0,"-","-",0,560000,2,"http://unpan1.un.org/intradoc/groups/public/documents/un/unpan023276.pdf",2004,"HRMIS","Human Resources Management Information System",1,"LDSW","https://www.pefa.org/en/assessment/ml-jun11-pfmpr-public-en ",2003,3,2,"HRMIS","Human Resources Management Information System",1,"LDSW","https://www.pefa.org/en/assessment/ml-jun11-pfmpr-public-en ",2003,3,2,"C","Portail Malien","http://www.dgmp.gov.ml ",2010,3,1,"http://www.dgmp.gov.ml/index.php/consultations/marches/natures",null,2,"CS-DRMS",null,1994,3,"MoF",null,11,50,"B","LIC","AFR"]
[111,null,"Malta","HIC",419,8887,21210.023866348449,"http://www.mfin.gov.mt","Malta Ministry of Finance",2,"http://mfin.gov.mt/en/The-Budget/Pages/default.aspx",2,"http://mfin.gov.mt/en/home/Pages/FDRS.aspx",1,"-",0,"-",0,0,"-",2,1,0,"-",1,"http://finance.gov.mt/image.aspx?site=TRS&ref=391&type=publication",1,0,2000,0,null,"-","-",1,0,2012,0,null,null,"-",1,1,2007,1,1,0,0,0,1,1,1,1,0,0,"-",1,"http://www.gov.mt",0,"-",1,"http://finance.gov.mt/image.aspx?site=TRS&ref=391&type=publication",2,"http://www.nso.gov.mt","Malta National Statistics Office","http://www.centralbankmalta.org","Central Bank of Malta","http://sdw.ecb.europa.eu/browse.do?node=19111",1,"http://finance.gov.mt/page.aspx?site=TRS&page=foi",1,"http://finance.gov.mt/page.aspx?site=TRS&page=legislation",0,"National laws and regulations",0,3,"https://www.mita.gov.mt/page.aspx?pageid=221","mlt","eng","-","-",1,"DAS + FDRS","Electronic Departmental Accounting System / ","D","T",3,2005,"C",1,2,"SAGE 100","Web",2,"-","-","-","-","-","-","-","-","-","-","-","-","-","-","-","-","-",1,2,40,0.65180000000000005,0.47058,0.40156999999999998,0.76834000000000002,0.78549999999999998,35,0.71309999999999996,0.61439999999999995,0.71919999999999995,0.80569999999999997,"MNA","EU",null,null,null,"Malta",0,null,null,null,null,0,null,null,null,null,null,13,50,"B",null,111,"Malta","MLT",null,null,"http://www.gov.mt",1,"https://mygov.mt",0.40160000000000001,88,43,14,15,38,null,null,null,null,"http://treasury.gov.mt/",1962,"http://treasury.gov.mt/en/Documents/Legislation/Financial_Administration_and_Audit_Act,_Chapter_174.pd",1962,3,4,"-","-","-","-","http://www.ird.gov.mt",1964,"Web Services","Online services and forms",2,"COTS","http://www.ird.gov.mt/services/eservices/eservices.aspx",2006,3,2,"http://www.maltacustoms.gov.mt",1964,1968,0,"CES","Customs Electronic System",2,"LDSW ?","https://customs.gov.mt/bus/custom-electronic-system-(ces)",2002,3,2,1,0,"http://www.ird.gov.mt/default.aspx",2001,2,1,"https://www.gov.mt/en/myBills/Pages/myBillsMainPage.aspx",2011,2,"https://www.mygov.mt/PORTAL/(y31h1bnfvuql3z55bja44h3w)/webforms/howdoigetaccesstomygov.aspx#Register",2007,3,46929,2,"http://laborsta.ilo.org/STP/guest",2006,"Dakar-HR","Human Resources Management Information System",2,"COTS","http://pahro.gov.mt/hr-systems?l=1",2014,3,2,"Dakar-HR","Human Resources Management Information System",2,"COTS","http://pahro.gov.mt/hr-systems?l=1",2014,3,2,"-","EPPS","https://www.etenders.gov.mt/epps/home.do  ",2011,3,2,"https://secure2.gov.mt/eprocurement ","The Treasury Department",2,"CS-DRMS",null,2003,3,"MoF",null,15,68.181818181818173,"B","HIC","MNA"]
[112,null,"Marshall Islands","LMIC",54.816000000000003,214.33726436207886,3910,"http://www.rmigovernment.org/cabinet.jsp","Ministry of Finance",0,"-",1,"http://www.pftac.org/filemanager/files/PFM/IFMIS_PICspdf1.pdf",0,"-",0,"-",0,0,"-",0,0,0,"-",0,"-",0,null,"-",0,null,"-","-",0,null,"-",1,4,1,1997,0,null,"-",0,0,0,0,0,1,1,0,0,0,0,"-",0,"-",0,"-",0,"-",1,"http://www.spc.int/prism/country/mh/stats","Economic Policy, Planning and Statistics Office","-","Banking Commission of Marshall Islands","-",0,"-",0,"-",0,"-",0,1,"-","eng","-","-","-","-","FMIS","Financial Management Information System","C","T",3,2004,"C",1,2,"4gov","Web",1,"Oct 2012","Final",1,"X","X","X","X","X","X","X","X","X","X",1.1666666666666667,1.6481481481481481,"-","-",null,1,142,0.28505999999999998,0.25490000000000002,0.11022999999999999,4.48E-2,0.70020000000000004,146,0.31290000000000001,0.13730000000000001,4.2500000000000003E-2,0.75900000000000001,"EAP",null,null,null,"F","Marshall Islands",0,null,null,null,null,0,null,null,null,null,null,3,11.538461538461538,"D",null,112,"Marshall Islands","MHL",null,null,"http://www.rmiembassyus.org/Government.htm",0,"-",0.11020000000000001,47,14,0,0,14,null,null,null,null,"http://www.rmigovernment.org/cabinet.jsp",1989,"-","-",0,"-","-","-","-","-","-","-","-","-",0,"-","-","-",0,0,"-","-","-",0,"-","-",0,"-","-","-",0,0,0,0,"-","-",0,0,"-","-",0,"-","-",0,4000,1,"http://www.pftac.org/filemanager/files/Handbooks/PFTAC%20Handbook%206%20FINAL.pdf",2008,"-","-",0,"-","-","-",1,0,"-","-",0,"-","-","-",1,0,"X","-","http://www.forumsec.org/resources/uploads/attachments/documents/Regional_Procurement_Study.pdf","-",0,0,"-",null,null,null,null,null,null,null,null,1,4.5454545454545459,"D","LMIC","EAP"]
[113,null,"Mauritania","LIC",3541.54,3527.5427139694425,1000,"http://www.economie.gov.mr","Ministry of Economic Affair and Development",1,"http://www.tresor.mr",1,"http://documents.worldbank.org/curated/en/2011/05/16215662/mauritania-public-expenditure-review-update",1,"-",1,"http://www.tresor.mr",0,0,"-",1,1,0,"-",0,"-",0,null,"-",0,null,"-","-",1,1,1995,1,4,1,1995,0,null,"-",1,1,0,0,0,1,1,0,0,0,0,"-",0,"-",0,"-",0,"-",1,"http://www.ons.mr","Mauritania National Statistics Office","http://www.bcm.mr","Banque Centrale de Mauritanie","-",0,"-",0,"-",0,"-",0,0,"-","fre","ara","-","-",0,"IFMIS","Integrated Financial Management Information System","C","T",3,2006,"C",1,1,"LDSW","Web",1,"Jun 2008","Public",1,"C","C","B","B","C+","D","C+","D+","D+","D+",2.0499999999999998,2.2333333333333334,"-","-",null,2,174,0.1893,7.843E-2,4.7239999999999997E-2,0.16256000000000001,0.35809999999999997,181,0.1996,7.8399999999999997E-2,0.1123,0.40789999999999998,"AFR",null,null,null,null,"Mauritania",0,null,null,null,null,0,null,null,null,null,null,10,38.461538461538467,"C",null,113,"Mauritania","MRT",null,"DAD","http://www.mauritania.mr",0,"-",4.7199999999999999E-2,25,7,0,6,8,null,null,null,null,"http://www.tresor.mr",1960,"http://www.tresor.mr/fr/publications/show",2015,1,"-","-","-","-","-","http://www.impots.gov.mr",1991,"JIBAYA","Tax Administration System ",2,"COTS","http://www.arabsoft.com.tn/arabsoft/detail_product.php?langue=en&id_table=69&titre=JIBAYA&deb=2",2014,3,2,"http://www.dgdmr.com/dgd/",1960,1979,4,"ASYCUDA++","Automated SYstem for CUstoms DAta",2,"ASYCUDA ++","http://unctad.org/en/PublicationsLibrary/dtlasycuda2011d1_en.pdf",1999,3,2,1,0,"-","-",0,0,"-","-",0,"http://www.gimtel.mr/doc/Ordonnance_2006-031_Inst_Pt_Op_Com_electronique.pdf",2006,1,37000,1,"http://unpan1.un.org/intradoc/groups/public/documents/un/unpan023277.pdf",2014,"NOVA > SIGPE","NOVA (new HRMIS) to replace SIGPE (Système Informatique de Gestion du Personnel de l’Etat) in Jan 2015",2,"COTS","http://www.modernisation.gov.mr/MEIFP/Arabe/Actualites/distrubition.htm",2014,3,2,"NOVA > RATEB","NOVA to replace RATEB (Réseau Automatisée du Traitement et Salaires des Employés Payés sur Bul) in 2015",2,"COTS","http://www-wds.worldbank.org/external/default/WDSContentServer/WDSP/IB/2012/04/08/000333038_20120409000020/Rendered/PDF/620820ESW0P1180IC0disclosed04050120.pdf ",2014,3,2,"C","ARMP Website","http://www.armp.mr/index.php/fr/liens-utiles-3",2012,2,1,"-",null,2,"DMFAS 5.3",null,1995,2,"MoF",1,11,50,"B","LIC","AFR"]
[114,null,"Mauritius","UMIC",1286.0509999999999,10341.748936027463,8040,"http://mof.gov.mu/English/Pages/default.aspx","Mauritius Ministry of Finance and Economic Empowerment",2,"http://mof.gov.mu/English/National%20Budget/Pages/default.aspx",1,"http://treasury.mof.gov.mu/English/DOCUMENTS/TREASURY%20CHARTER%20FOR%20AMENDMENT%20H6%2019.05.2014.PDF",1,"-",1,"http://mof.gov.mu/English/Pages/National%20Budget/national-budget-budgetary-central-government.aspx",0,0,"-",2,1,0,"-",1,"http://www.gov.mu/portal/site/MOFSite/menuitem.c84a125a4c8427861eb9d510a0208a0c/",1,1,2002,1,1,3,2004,1,1,2002,1,2,0,2008,1,1,1998,1,1,0,1,1,1,1,1,1,0,1,"http://www.gov.mu/portal/site/MOFSite/menuitem.5b1d751c6156d7f4e0aad110a7b521ca/?content_id=cb0569975e172310VgnVCM1000000a04a8c0RCRD",0,"-",0,"-",0,"-",1,"http://www.gov.mu/portal/site/cso","Mauritius Central Statistical Office","http://bom.intnet.mu","Bank of Mauritius","-",0,"-",1,"http://www.gov.mu/portal/site/MOFSite/menuitem.c84a125a4c8427861eb9d510a0208a0c/",2,"IMF's General Data Dissemination System (GDDS), http://www.gov.mu/portal/site/MOFSite/menuitem.27c9a75baa1319f4e0aad110a7b521ca/",0,2,"-","eng","-","-","-","-","IFMS","Integrated Financial Management System (IFMS)","C","F",3,2009,"C+L",1,2,"Oracle","Web",3,"Aug 2011","Public",2,"A","A","B","C+","A","A","A","A","B+","A",3.7,3.1774193548387095,"-","-",null,3,76,0.53374999999999995,0.52941000000000005,0.47244000000000003,0.44061,0.68820000000000003,93,0.50660000000000005,0.43140000000000001,0.3296,0.75880000000000003,"AFR",null,null,null,null,"Mauritius",0,null,null,null,null,0,null,null,null,null,"2013-05-03",18,69.230769230769226,"B",null,114,"Mauritius","MUS",null,null,"http://www.gov.mu",2,"https://www.gov.mu/English/E-Services/Pages/default.aspx",0.47239999999999999,88,64,9,21,44,null,null,null,null,"http://treasury.mof.gov.mu/English/Pages/default.aspx",1968,"https://www.gov.mu/portal/site/AssemblySite/menuitem.ee3d58b2c32c60451251701065c521ca/?content_id=9a654555fc808010VgnVCM100000ca6a12acRCRD",2009,3,4,"-","-","-","-","http://mra.gov.mu",2004,"ITAS","Integrated Tax Administration System (ITAS) ",2,"SAP","http://mra.gov.mu/index.php/e-services",2004,3,2,"http://www.mra.mu",2004,1973,2,"CMS + Trade Net ","Customs Management System II",2,"COTS","http://mns.mu/tradenet-trade-facilitation.php",1994,3,2,1,1,"http://mra.gov.mu/index.php/individuals-a-employees",2004,2,1,"https://www.gov.mu/English/E-Services/Pages/PaymentServices.aspx",2013,2,"https://www.cca.mu/home.htm",2012,2,94700,2,"http://laborsta.ilo.org/STP/guest",2008,"HRMIS","Human Resources Management Information System",2,"Oracle","http://civilservice.gov.mu/English/Documents/HRM%20Directory/HRMIS2014.pdf","-",2,2,"HRMIS","Human Resources Management Information System",2,"Oracle","http://civilservice.gov.mu/English/Documents/HRM%20Directory/HRMIS2014.pdf","-",2,2,"A","Public Procurement Portal","http://publicprocurement.gov.mu",2010,2,1,"-","Ministry of Finance and Economic Development",2,"CS-DRMS",null,1987,3,"MoF",null,15,68.181818181818173,"B","UMIC","AFR"]
[115,null,"Mexico","UMIC",114793.341,1081767.7597645542,9420,"http://www.shcp.gob.mx","Secretaría de Hacienda y Crédito Público - Ministry of Finance, Mexico",2,"http://www.shcp.gob.mx/EGRESOS/PEF/Paginas/DocumentosRecientes.aspx",2,"http://www.hacienda.gob.mx/EGRESOS/contabilidad_gubernamental/manual_contabilidad/index.html",3,"http://www.shcp.gob.mx/POLITICAFINANCIERA/FINANZASPUBLICAS/Estadisticas_Oportunas_Finanzas_Publicas/Informacion_mensual/Paginas/finanzas_publicas.aspx",1,"http://www.transparenciapresupuestaria.gob.mx/ptp/contenidos/?id=17&group=Preguntas&page=%C2%BFD%C3%B3nde%20gasta?",0,1,"http://www.shcp.gob.mx/EGRESOS/PEF/pef/pef_2010/temas/tomos/40/r40_ppcer.pdf",2,1,2,"http://www.transparenciapresupuestaria.gob.mx/ptp/index.jsp",1,"http://www.shcp.gob.mx/EGRESOS/PEF/programacion/Paginas/pyp2012.aspx",1,1,2000,1,1,5,2003,1,1,2006,1,3,1,2000,1,0,2004,1,1,0,0,0,1,1,0,1,0,0,"-",1,"http://mapas.gob.mx",2,"http://www.dgi.sedesol.gob.mx/index/index.php?sec=64&pagina=3",0,"-",0,"http://www.inegi.gob.mx","Mexico National Institute of Statistics, Geography, and Informatics","http://www.banxico.org.mx","Bank of Mexico","-",1,"http://www.transparenciapresupuestaria.gob.mx/ptp/index.jsp",1,"http://www.shcp.gob.mx/LASHCP/Paginas/visionMision.aspx",2,"-",0,1,"-","spa","eng","-","-",0,"SIDAFF","Sistema Integrado de Administración Financiera Federal","C","F",3,2012,"C",1,2,"Oracle","Web",3,"-","-","-","-","-","-","-","-","-","-","-","-","-","-","-",61,52,1,1,63,0.57330000000000003,0.60784000000000005,0.66141000000000005,0.31392999999999999,0.74450000000000005,55,0.624,0.73199999999999998,0.31040000000000001,0.82950000000000002,"LCR",null,"OECD","APEC",null,"Mexico",3,1,1,null,1,0,null,null,null,null,null,24,92.307692307692307,"A",null,115,"Mexico","MEX",null,null,"http://www.gob.mx",2,"http://www.gob.mx",0.66139999999999999,97,73,40,32,59,null,null,null,null,"http://www.shcp.gob.mx/sitioTESOFE/Paginas/intro1.aspx",1821,"http://www.apartados.hacienda.gob.mx/lineamientoscut/",2009,3,4,"-","-","-","-","http://www.sat.gob.mx",1995,"SIAT / e-Tax","Sistema Integral de Administración Tributaria",2,"COTS","https://siat.sat.gob.mx/PTSC/",2013,3,2,"http://www.sat.gob.mx",1995,1988,0,"SAAI + Single Window","Sistema Aduanero Automatizado Integral",2,"COTS","http://www.aduanas.gob.mx/pea/login.aspx",2011,3,3,1,1,"https://rfc.siat.sat.gob.mx/PTSC/RFC/menu/",1998,3,1,"http://www.finanzas.df.gob.mx/index.html","-",1,"http://www.sat.gob.mx/fichas_tematicas/fiel/Paginas/obtener_fiel.aspx",2011,3,4556296,2,"http://laborsta.ilo.org/STP/guest",2009,"RUSP","Registro de Servidores Públicos del Gobierno Federal denominado",1,"LDSW","http://www.usp.funcionpublica.gob.mx/RUSP/",2011,3,2,"SIDAFF","Sistema Integrado de Administración Financiera Federal",2,"Oracle","http://www.shcp.gob.mx/LASHCP/MarcoJuridico/ContabilidadGubernamental/SCG_2013/mpe_2013/doc/mpe_c1.pdf",2012,3,2,"-","Compranet","www.compranet.gob.mx",1996,3,2,"http://compranet-pa.funcionpublica.gob.mx/CompraNet/expedientes ","Mexican Ministry of Finance and Public Credit",null,null,null,null,null,null,null,20,90.909090909090907,"A","UMIC","LCR"]
[116,null,"Micronesia, Fed. Sts.","LMIC",111.542,318.64581438392742,2860,"http://www.fsmgov.org/ngovt.html","Dept of Finance and Administration",1,"http://www.sboc.fm/index.php?id1=Vm0xMGFtVkhVWGhhU0U1U1lrVndVbFpyVWtKUFVUMDk",1,"http://www.mra.fm/pdfs/news_StrategicPlan.pdf",1,"-",0,"-",0,0,"-",1,1,0,"-",0,"-",1,0,2006,0,null,"-","-",0,null,"-",1,4,1,1995,1,1,2006,0,0,0,0,0,1,1,0,0,0,0,"-",0,"-",0,"-",0,"-",1,"http://www.sboc.fm","Office of SBOC (Statistics, Budget and Economic Management, Overseas Dev Assistance and Compact Mgmt)","-","National Bank of the Federated States of Micronesia","-",0,"-",0,"-",2,"-",0,1,"-","eng","-","-","-","-","FMIS","Financial Management Information System","C","F",3,2010,"C",1,2,"American Fundware","Web",2,"Apr 2013","Final",1,"X","X","X","X","X","X","X","X","X","X",1.7222222222222223,1.8653846153846154,"-","-",null,"-",130,0.33371000000000001,0.25490000000000002,0.18897,0.10985,0.70230000000000004,127,0.38119999999999998,0.2092,0.1013,0.83320000000000005,"EAP",null,null,null,"F","Micronesia, Fed. Sts.",0,null,null,null,null,0,null,null,null,null,null,10,38.461538461538467,"C",null,116,"Micronesia, Fed. Sts.","FSM",null,null,"http://www.fsmgov.org",0,"-",0.189,56,23,2,6,20,null,null,null,null,"http://www.fsmgov.org/ngovt.html",1986,"http://www.wipo.int/edocs/lexdocs/laws/en/fm/fm002en.pdf","-",0,"-","-","-","-","-","-","-","-","-",0,"-","-","-",0,0,"-","-","-",0,"-","-",0,"-","-","-",0,0,0,0,"-","-",0,0,"-","-",0,"-","-",0,"-",0,"-","-","-","-",0,"-","http://www.fsmopa.fm/new/ONPA%20Releases%20Audit%20on%20FSM%20Payroll%20Controls%20Fiscal%20Years%20Through%20May%202012.pdf","-",1,0,"-","-",0,"-","http://www.fsmopa.fm/new/ONPA%20Releases%20Audit%20on%20FSM%20Payroll%20Controls%20Fiscal%20Years%20Through%20May%202012.pdf","-",1,0,"X","-","http://www.imf.org/external/pubs/ft/scr/2011/cr1143.pdf","-",0,0,"-",null,null,null,null,null,null,null,null,3,13.636363636363635,"D","LMIC","EAP"]
[117,null,"Moldova","LMIC",3559,7055.8586604291295,1980,"http://www.mf.gov.md","Moldova Ministry of Finance",2,"http://www.mf.gov.md/middlecost",2,"http://www.mf.gov.md/about/delur/management",1,"-",0,"-",0,1,"http://www.mf.gov.md/common/raportinfo/budget/national/lun/Anul2010/decembrie_2010/1Informatia_operativa_privind_executarea_bugetului_public_national.pdf",2,1,0,"-",1,"http://www.mf.gov.md/ro/raportinfo/GFS/",1,1,2004,1,1,3,2007,0,null,"-",1,4,1,2006,1,1,2008,1,1,0,0,0,1,1,0,1,0,0,"-",1,"http://data.gov.md",0,"-",1,"http://www.mf.gov.md/ro/raportinfo/GFS/",3,"http://www.statistica.md","Moldova National Bureau of Statistics","http://www.bnm.org","National Bank of Moldova","http://www.mf.gov.md/ro/BOOST/",0,"-",1,"http://www.mf.gov.md/ro/about/organigrama/",2,"-",0,3,"-","rom","eng","-","-",0,"FMIS","Financial Management Information System","C","F",3,2005,"C+L",1,1,"LDSW > Oracle","Web",3,"Oct 2011","Final",3,"X","X","X","X","X","X","X","X","X","X",3.35,3.193548387096774,"-","-",1,2,66,0.55708000000000002,0.62744999999999995,0.52754999999999996,0.42354999999999998,0.72009999999999996,69,0.56259999999999999,0.51629999999999998,0.35859999999999997,0.81289999999999996,"ECA",null,null,null,null,"Moldova",0,null,null,null,null,0,null,null,null,null,null,18,69.230769230769226,"B",null,117,"Moldova","MDA",2014,null,"http://www.gov.md",2,"https://servicii.gov.md",0.52759999999999996,88,55,26,32,48,null,null,null,null,"http://www.minfin.gov.md/node/8111",1993,"http://www.minfin.gov.md/actnorm/contabil/evidenta",2007,2,4,"-","-","-","-","http://www.fisc.md",1990,"e-Tax","e-Tax and other portals",1,"LDSW","https://servicii.fisc.md",2009,3,2,"http://www.customs.gov.md",1991,1994,4,"ASYCUDA World > e-Customs","Automated SYstem for CUstoms DAta",2,"ASYCUDA W","http://customs.gov.md/ecustoms",2006,3,2,1,0,"https://servicii.fisc.md/login.aspx?ReturnUrl=%2fedec.aspx",2013,2,1,"http://www.salzburgglobal.org/fileadmin/user_upload/Documents/2010-2019/2014/534/Mocan__Stela._Moldova_-Towards_Smart_Government.pdf",2013,2,"http://cts.md/en/content/alte-servicii/qualified-digital-certificates-legal-force",2009,3,321300,2,"http://laborsta.ilo.org/STP/guest",2010,"CSR","Civil Service Registry",2,"COTS","https://www.pefa.org/en/assessment/md-oct11-pfmpr-public-en ",2014,3,2,"PS","Payroll system",1,"LDSW","https://www.pefa.org/en/assessment/md-oct11-pfmpr-public-en ","-",3,1,"X","SIA RSAP","http://www.tender.gov.md ",2012,3,1,"http://tender.gov.md/ro/contracte-atribuite ","Ministry of Finance",2,"DMFAS 5.3",null,1997,3,"MoF","4FT",14,63.636363636363633,"B","LMIC","ECA"]
[118,null,"Monaco","HIC",35.427,6109,172439.10012137637,"http://www.gouv.mc/Gouvernement-et-Institutions/Le-Gouvernement/Departement-des-Finances-et-de-l-Economie","Dept of Finance and Economy",1,"http://www.gouv.mc/Action-Gouvernementale/Un-Etat-moderne/Des-finances-publiques-maitrisees/Publications/Rapports-budgetaires",1,"http://www.gouv.mc/Gouvernement-et-Institutions/Le-Gouvernement/Departement-des-Finances-et-de-l-Economie/Tresorerie-Generale-des-Finances",0,"-",0,"-",0,0,"-",1,0,0,"-",0,"-",0,null,"-",0,null,"-","-",0,null,"-",1,3,1,2003,0,null,"-",0,1,0,0,0,0,0,0,0,0,0,"-",0,"-",0,"-",0,"-",1,"http://www.gouv.mc/Action-Gouvernementale/L-Economie/Analyses-et-Statistiques","Monegasque Institute of Statistics and Economic Studies","http://www.ecb.int","European Central Bank","-",0,"-",1,"http://www.gouv.mc/Gouvernement-et-Institutions/Le-Gouvernement",0,"-",0,3,"-","fre","eng","-","-",0,"FMIS","Financial Management Information System","D","T",3,2002,"C",1,2,"COTS","Web",1,"-","-","-","-","-","-","-","-","-","-","-","-","-","-","-","-","-",null,"-",38,0.67147999999999997,9.8030000000000006E-2,0.22047,1,0.79400000000000004,26,0.74680000000000002,0.35949999999999999,0.93700000000000006,0.94389999999999996,null,"EUR",null,null,null,"Monaco",0,null,null,null,null,0,null,null,null,null,null,5,19.230769230769234,"D",null,118,"Monaco","MCO",null,null,"http://www.gouv.mc",1,"http://service-public-particuliers.gouv.mc",0.2205,16,45,14,12,23,null,null,null,null,"http://en.gouv.mc/Government-Institutions/The-Government/Ministry-of-Finance-and-Economy/Public-Treasury",1910,"-","-",0,"-","-","-","-","-","http://en.gouv.mc/Government-Institutions/The-Government/Ministry-of-Finance-and-Economy/Department-of-Tax-Services",1963,"Web Services","Online services and forms",2,"COTS","http://en.service-public-entreprises.gouv.mc/Tax/General-information/Monaco-s-tax-system/Taxation-in-Monaco",2013,3,2,"-","-","-",0,"-","-",0,"-","-","-",0,0,"-","-","-","-",1,"-","-","-",0,"-","-",0,4000,1,"http://en.gouv.mc/Policy-Practice/A-Modern-State/The-Public-Service",2013,"-","-",0,"-","http://en.gouv.mc/Government-Institutions/The-Government/The-Ministry-of-State/General-Secretariat-of-the-Ministry-of-State/Human-Resources-and-Training-Department","-",1,0,"-","-",0,"-","http://en.gouv.mc/Government-Institutions/The-Government/Ministry-of-Finance-and-Economy/Department-of-Budget-and-Treasury","-",1,0,"-","-","http://service-public-particuliers.gouv.mc/","-",0,0,"-",null,null,null,null,null,null,null,null,4,18.181818181818183,"D","HIC"]
[119,null,"Mongolia","LMIC",2800.114,6457.9183035037086,2310,"http://www.mof.gov.mn","Mongolia Ministry of Finance",2,"http://www.iltod.gov.mn/?cat=11",2,"http://www.mof.gov.mn/category/budget-development/budget-software",2,"http://www.tusuv-oronnutag.mn/",0,"-",0,0,"-",1,1,0,"-",0,"-",1,1,2007,0,null,"-","-",0,null,"-",1,4,1,2007,0,null,"-",0,0,0,0,0,0,0,0,0,0,1,"http://www.e-procurement.mn/",0,"-",0,"-",0,"-",0,"http://www.nso.mn","Mongolia National Statistical Office","http://www.mongolbank.mn","Bank of Mongolia","-",0,"-",1,"http://www.mof.gov.mn/page/?lan=en&c=45053",0,"-",0,3,"-","rus","eng","-","-",0,"GFMIS","Government Financial Management Information System","C","T",3,2005,"C+L",1,2,"FreeBalance","Web",2,2014,"Planned","-","-","-","-","-","-","-","-","-","-","-","-","-",51,60,0,1,65,0.55808000000000002,0.68627000000000005,0.61416999999999999,0.27138000000000001,0.78869999999999996,76,0.54430000000000001,0.58819999999999995,0.17580000000000001,0.86880000000000002,"EAP",null,null,null,null,"Mongolia",0,null,null,null,null,0,null,null,null,null,null,12,46.153846153846153,"C",null,119,"Mongolia","MNG",null,null,"http://zasag.mn",2,"http://itpta.gov.mn",0.61419999999999997,88,57,42,41,56,null,null,null,null,"http://mof.gov.mn",1923,"http://siteresources.worldbank.org/EXTFINANCIALMGMT/Resources/313217-1214423432272/Mongolia-ImprovingExpenditureControl.pdf?resourceurlname=Mongolia-ImprovingExpenditureControl.pdf",2005,3,4,"-","http://siteresources.worldbank.org/EXTFINANCIALMGMT/Resources/313217-1214423432272/Mongolia-ImprovingExpenditureControl.pdf?resourceurlname=Mongolia-ImprovingExpenditureControl.pdf",62.3,2005,"http://www.mta.mn",1994,"e-Tax","e-Tax and other portals",2,"COTS","http://e-tax.mta.mn/portal",2010,3,2,"http://www.ecustoms.mn",1921,1991,0,"CAIS ","Customs Automated Information System",1,"LDSW","http://cais.ecustoms.mn/CAIS/index.jsp",2010,3,2,1,1,"http://e-tax.mta.mn/portal",2014,3,0,"-","-",0,"http://www.aisttv.ru/ru/%D0%A1%D1%82%D1%80%D0%B0%D0%BD%D0%B8%D1%86%D1%8B/%D0%9D%D0%BE%D0%B2%D0%BE%D1%81%D1%82%D0%B8%20%D0%9C%D0%BE%D0%BD%D0%B3%D0%BE%D0%BB%D0%B8%D0%B8?id=1898",2014,3,102800,2,"http://unpan1.un.org/intradoc/groups/public/documents/un/unpan023238.pdf",2004,"HRMIS","Human Resource Management Infromation System",1,"LDSW","http://csc.gov.mn/main/index.php?option=com_content&view=article&id=25&Itemid=19",2010,3,2,"GFMIS","Government Financial Management Information System",2,"COTS","http://www.mof.gov.mn/category/budget-development/budget-software/",2005,3,2,"-","e-Proc > KONEPS","http://www.e-procurement.mn ",2005,3,2,"http://www.e-procurement.mn/?lid=184&f=tendergrade&submit=true ",null,2,"DMFAS 6.0",null,2001,3,"MoF",4,17,77.272727272727266,"A","LMIC","EAP"]
[120,null,"Montenegro","UMIC",632.26099999999997,4516.7463368248409,7140,"http://www.mf.gov.me","Montenegro Ministry of Finance",1,"http://www.mf.gov.me/en/organization/macroeconomic-report",1,"http://www.mf.gov.me/en/organization/macroeconomic-report/89359/151511.html",1,"-",0,"-",0,0,"-",1,0,0,"-",0,"-",0,null,"-",0,null,"-","-",0,null,"-",1,4,1,2005,0,null,"-",0,0,0,0,0,1,1,0,0,0,0,"-",0,"-",0,"-",1,"http://www.undp.org.me/files/reports/ijr/Annex%201%20Report%20on%20Budgeting%20in%20Montenegro.pdf",2,"http://www.monstat.org","Statistical Office of the Republic of Montenegro","http://www.cb-mn.org","Central Bank of Montenegro","http://www.gov.me/WebResources/budget2012/predlog.html",1,"http://www.gov.me/info_vodici",1,"http://www.mf.gov.me/organizacija",2,"-",0,3,"-","mnt","rus","eng","-",0,"TS","Treasury System","C","T",3,2003,"C+L",1,2,"SAP","Web",2,"Jul 2013","Public",2,"A","A","A","C+","A","A","D+","D+","C+","NA",3.11,2.74,"-","-",1,0,45,0.63454999999999995,0.58823000000000003,0.52754999999999996,0.54813999999999996,0.82789999999999997,57,0.62180000000000002,0.50980000000000003,0.53749999999999998,0.81820000000000004,"ECA",null,null,null,null,"Montenegro",0,null,null,null,null,0,null,null,null,null,null,6,23.076923076923077,"D",null,120,"Montenegro","MNE",null,null,"http://www.gov.me",2,"http://www.euprava.me",0.52759999999999996,84,68,12,35,48,null,null,null,null,"http://www.mf.gov.me/organizacija/budzet-i-trezor-/",2005,"http://www.mf.gov.me/files/1243238089.pdf",2010,3,4,"-","-","-","-","http://www.poreskauprava.gov.me/uprava?alphabet=lat",2006,"Web Services","Online services and forms",2,"COTS","https://eprijava.tax.gov.me/TaxisPortal",2014,3,2,"http://www.upravacarina.gov.me/en/administration",2006,2006,0,"CIS ","Customs Information System",2,"COTS","http://www.euprava.me/",2012,3,2,1,0,"https://eprijava.tax.gov.me/TaxisPortal",2011,2,0,"-","-",0,"http://www.postacg-ca.me/",2011,3,"-",0,"-","-","PIS","Personnel Information System",1,"LDSW","http://www.uzk.co.me/stari/eng/itsystem/",2008,3,2,"PS","Payroll System",2,"SAP","https://www.pefa.org/en/assessment/me-jul13-pfmpr-public-en ",2003,3,2,"D","PPA Website","http://www.djn.gov.me ",2013,3,1,"http://www.djn.gov.me/pocetna.aspx ",null,null,null,null,null,null,null,null,14,63.636363636363633,"B","UMIC","ECA"]
[121,null,"Morocco","LMIC",32272.973999999998,97618.967684052026,2970,"http://www.finances.gov.ma","Morocco Ministry of Finance and Privatization",2,"http://www.finances.gov.ma/en/Pages/PLF2014.aspx?m=Finance%20Act%20and%20Budget",2,"https://www.tgr.gov.ma/wps/portal",1,"-",1,"http://www.finances.gov.ma/fr/Pages/Statistiques.aspx?m=VOUS%20ETES",0,0,"-",1,1,1,"http://www.finances.gov.ma/portal/page?_pageid=53,17814589&_dad=portal&_schema=PORTAL&id=1041&lang=Fr",1,"http://www.finances.gov.ma/esp_doc/util/file.jsp?iddoc=2404",1,0,2009,0,null,"-","-",0,null,"-",1,2,1,2005,0,null,"-",1,1,0,1,0,1,1,0,1,0,1,"http://www.finances.gov.ma/portal/page?_pageid=53,18106174&_dad=portal&_schema=PORTAL",1,"http://data.gov.ma",0,"-",0,"-",0,"http://www.insea.ac.ma","Direction de la Statistique","http://www.bkam.ma","Bank of Morocco","-",0,"-",1,"http://www.finances.gov.ma/portal/page?_pageid=53,17813153&_dad=portal&_schema=PORTAL",0,"-",0,2,"Twitter","ara","fre","eng","-",0,"GID","Gestion Intégrée de la Dépense / Integrated Expenditure Control System","C","T",3,2010,"C",1,1,"LDSW > Oracle","Web",2,"May 2009","Public",1,"A","B","A","C+","A","B","B+","D+","D+","D+",2.85,2.9833333333333334,38,28,null,1,82,0.50597999999999999,0.80391999999999997,0.69291000000000003,0.33499000000000001,0.49009999999999998,120,0.4209,0.54249999999999998,0.2772,0.443,"MNA",null,null,null,null,"Morocco",0,null,null,null,null,0,null,null,null,null,null,13,50,"B",null,121,"Morocco","MAR",null,null,"http://www.maroc.ma",2,"http://www.service-public.ma",0.69289999999999996,94,61,40,62,62,null,null,null,null,"https://www.tgr.gov.ma",1916,"http://www.pefa.org/en/assessment/ma-may09-pfmpr-public-en",2006,3,4,"-","-","-","-","http://www.tax.gov.ma",1956,"Simpl-IS Web","Online services and forms",2,"COTS","http://www.finances.gov.ma/fr/Pages/DetailService.aspx?m=NOS%20METIERS&c=Citoyen&idService=3&m2=Fiscalit%C3%A9s%20et%20Imp%C3%B4ts",2007,3,2,"http://www.douane.gov.ma",1956,1968,2,"BADR","Base automatisée de dédouanement en réseau",1,"LDSW","http://badr.douane.gov.ma/Acceuil.html",2009,3,2,1,1,"http://www.tax.gov.ma/wps/portal/SimplIR",2011,3,1,"https://www.tgr.gov.ma/wps/portal/erecouvrement",2011,2,"http://www.egov.ma/en/electronic-certificate",2012,2,919477,2,"http://www.finances.gov.ma/en/Pages/TGR.aspx?m=THE%20MINISTRY&m2=Departments",2008,"SIRH","Systèmes d‘Information des Ressources Humaines",1,"LDSW","http://fonctionpublique.gouv.cd/wp-content/uploads/2014/10/5_DIOURI.pdf",2012,3,2,"GID","Gestion Intégrée de la Dépense / Integrated Expenditure Control System",1,"LDSW","https://www.tgr.gov.ma/wps/portal",2010,3,2,"B","Public Procurement Portal","http://www.marchespublics.gov.ma",2007,3,2,"https://www.marchespublics.gov.ma/index.php5?page=entreprise.EntrepriseAdvancedSearch&AvisAttribution","Ministry of Economy and Finance",null,null,null,null,null,null,null,16,72.727272727272734,"B","LMIC","MNA"]
[122,null,"Mozambique","LIC",23929.707999999999,11239.565017551506,470,"http://www.mf.gov.mz","Mozambique National Treasury Directorate Ministry of Planning and Financ",2,"http://www.mf.gov.mz/web/guest/documentos",1,"http://www.iese.ac.mz/lib/publication/Renzio,Paolo%20de_Budget%20Reforms%20in%20Mozambique.pdf",1,"-",0,"-",0,0,"-",1,1,0,"-",1,"http://www.mf.gov.mz/web/guest/documentos?p_p_id=20&p_p_lifecycle=0&p_p_state=maximized&p_p_mode=view&_20_struts_action=%2Fdocument_library%2Fview&_20_folderId=19175",1,0,2007,0,null,"-","-",0,null,"-",1,2,1,2008,0,null,"-",1,1,0,0,0,1,1,1,1,0,0,"-",0,"-",2,"http://www.sida.se/Documents/Import/pdf/0429-Mozambique-State-Financial-Management-Project-SFMP.pdf",0,"-",2,"http://www.ine.gov.mz","Mozambique National Institute of Statistics ","http://www.bancomoc.mz ","Bank of Mozambique","http://www.mf.gov.mz/web/guest/documentos;jsessionid=93FA765FDFD0FECE652D2E2B3151A7F2",0,"-",1,"http://www.mf.gov.mz/web/guest/missao",0,"National laws and regulations",0,2,"-","por","-","-","-","-","e-SISTAFE","State Financial Administration System","C","F",3,2009,"C",1,2,"Oracle","Web",3,"Mar 2011","Final",3,"X","X","X","X","X","X","X","X","X","X",2.5499999999999998,2.838709677419355,47,28,null,2,164,0.23837,0.33333000000000002,0.31496000000000002,5.4489999999999997E-2,0.34570000000000001,158,0.27860000000000001,0.36599999999999999,4.4299999999999999E-2,0.42549999999999999,"AFR",null,null,null,null,"Mozambique",0,null,null,null,null,0,null,null,null,null,null,10,38.461538461538467,"C",null,122,"Mozambique","MOZ",2009,"DAD","http://www.presidencia.gov.mz",1,"http://www.portaldogoverno.gov.mz",0.315,69,41,5,15,31,null,null,null,null,"http://www.mfdnt.gov.mz/",1975,"http://www.mf.gov.mz/web/guest/tesouro#leis",2009,3,3,"-","-","-","-","http://www.at.gov.mz",2006,"e-Taxation","Online services and forms",2,"COTS","http://www.at.gov.mz/Perguntas-Frequentes2",2014,3,2,"http://www.at.gov.mz",2006,1987,0,"MCNet / JUE Single Window + CMS","Single Window System / Janela Única Electrónica em Moçambique (JUE) + Customs Management System (CMS)",2,"COTS","https://www.mcnet.co.mz/Home.aspx",2009,3,2,1,1,"-","-",1,0,"-","-",0,"http://www.portaldogoverno.gov.mz/docs_gov/estrategia/tecInfo/estrateg_gov_elect","-",0,117600,1,"http://unpan1.un.org/intradoc/groups/public/documents/un/unpan023278.pdf",2004,"e-SIP","Subsistema Electrónico de Informação de Pessoal ",1,"LDSW","http://www.cedsif.gov.mz/docs/tecnicos/Modelo_Conceptual_do-SGRH_v.1.9.pdf",2010,3,2,"e-FOLHA > e-SISTAFE","State Financial Administration System",2,"Oracle","http://www.mf.gov.mz/c/document_library/get_file?p_l_id=11402&folderId=18101&name=DLFE-1001.pdf",2010,3,2,"X","Public Tenders Portal","http://www.concursospublicos.gov.mz ","-",1,0,"-",null,2,"CS-DRMS",null,1990,3,"MoF",null,13,59.090909090909093,"B","LIC","AFR"]
[123,null,"Myanmar","LIC",48336.762999999999,872.33676300000002,824,"http://www.irdmyanmar.gov.mm","Ministry of Finance and Revenue",0,"-",1,"http://www.pefa.org/en/assessment/mm-mar12-pfmpr-public-en",0,"-",0,"-",0,0,"-",0,0,0,"-",0,"-",0,null,"-",0,null,"-","-",0,null,"-",0,null,null,"-",0,null,"-",0,0,0,0,0,0,0,0,0,0,0,"-",0,"-",0,"-",0,"-",0,"http://www.csostat.gov.mm","Central Statistical Organization","http://www.mofr.gov.mm/dept_cbm.html","Central Bank of Myanmar","-",0,"-",1,"http://www.mofr.gov.mm/dept_bud_02.html",0,"-",0,0,"-","bur","eng","-","-",0,"FMIS","Financial Management Information System","C","T",2,2011,"C",1,1,"LDSW","Web",1,"Mar 2012","Public",1,"D","D","D","D+","C+","D","C","D+","C+","D",1.5,1.65,0,"-",null,0,175,0.18694,7.843E-2,2.3619999999999999E-2,8.3599999999999994E-3,0.52880000000000005,160,0.27029999999999998,0.1046,0,0.70640000000000003,"EAP",null,null,null,"F","Myanmar",0,null,null,null,null,0,null,null,null,null,"2013-04-15",1,3.8461538461538463,"D",null,123,"Myanmar","MMR",null,null,"http://www.president-office.gov.mm",0,"-",2.3599999999999999E-2,13,11,0,3,7,null,null,null,null,"http://www.irdmyanmar.gov.mm/",1948,"http://www.pefa.org/en/assessment/mm-mar12-pfmpr-public-en","-",0,"-","-","-","-","-","http://www.irdmyanmar.gov.mm",1972,"-","Info and tax forms",0,"-","http://www.worldbank.org/projects/P144952?lang=en","-",0,2,"http://www.myanmarcustoms.gov.mm",1948,1991,4,"e-Customs / NSW","National Single Window",2,"COTS","http://www.mictdc.com.mm/e-customs-system",2010,3,3,0,"-","http://www.irdmyanmar.gov.mm/Login.aspx?ReturnUrl=%2fTax_Payer%2fPages%2fTax_PayerDashboard.aspx",2014,2,0,"-","-",0,"http://www.rootca.org.mm/PKIBasics.aspx",2010,2,"-",0,"-","-","HRMIS","Human Resource Management Infromation System",1,"LDSW","https://www.pefa.org/en/assessment/mm-mar12-pfmpr-public-en ","-",3,1,"PS","Payroll System",1,"LDSW","https://www.pefa.org/en/assessment/mm-mar12-pfmpr-public-en ","-",3,1,"D","-","http://www.pefa.org/en/assessment/mm-mar12-pfmpr-public-en","-",0,0,"-",null,null,null,null,null,null,null,null,10,45.454545454545453,"C","LIC","EAP"]
[124,null,"Namibia","UMIC",2324.0039999999999,10934.076459710781,4700,"http://www.mof.gov.na","Namibia Ministry of Finance",2,"http://www.mof.gov.na/budget.htm",2,"http://www.mof.gov.na/it/it",1,"-",0,"-",0,0,"-",1,1,1,"http://www.mof.gov.na",1,"http://www.mof.gov.na/Budget%20Documents/Budget%202012/Budget%20new/Estimate%20of%20Revenue%20%20and%20expenditure%201%20April%202012%20to%2031%20March%202015.pdf",1,1,2004,1,1,4,2005,1,1,2004,1,4,1,2004,1,1,2008,0,1,0,0,0,1,1,0,1,0,0,"-",0,"-",0,"-",0,"-",0,"http://www.npc.gov.na/cbs","Nepal Central Bureau of Statistics","http://www.bon.com.na","Bank of Namibia","-",0,"-",1,"http://www.mof.gov.na/Organo_new1.pdf",0,"-",0,2,"-","eng","osh","afr","ger",0,"IFMS","Integrated Financial Management System","C","T",3,2006,"C",1,2,"Oracle","Web",1,"Nov 2008","Final",1,"X","X","X","X","X","X","X","X","X","X",2.8,2.7,55,53,null,3,117,0.38799,0.33333000000000002,0.32283000000000001,0.27187,0.56930000000000003,123,0.39369999999999999,0.30070000000000002,0.13850000000000001,0.7419,"AFR",null,null,null,null,"Namibia",0,null,null,null,null,0,null,null,null,null,null,19,73.076923076923066,"B",null,124,"Namibia","NAM",null,null,"http://www.gov.na",1,"http://www.gov.na",0.32279999999999998,69,32,14,18,31,null,null,null,null,"http://www.mof.gov.na",1990,"http://www.oag.gov.na/report/reports/866_Government_2008-09.pdf","-",0,"-","-","-","-","-","http://www.mof.gov.na/inland-revenue",1990,"IRD Tax System","Tax Management System",2,"COTS","http://www.mof.gov.na/it/it",2012,3,2,"http://www.mof.gov.na",1990,1992,4,"ASYCUDA++","Automated SYstem for CUstoms DAta",2,"ASYCUDA ++","http://www.mof.gov.na/documents/57482/122761/IT+Annual+Report+12-13.pdf/4f915813-815d-46ba-80d4-05e7577425de",2003,3,2,1,0,"-","-",1,0,"-","-",0,"http://www.mict.gov.na/","-",0,100000,1,"http://www.sun.com.na/government/over-3-800-leave-govt-jobs.5890",2013,"HRIMS","Human Resources Information Management System ",0,"-","http://www.met.gov.na/Documents/Human%2520Resources%2520Development%2520Policy%2520Framework.pdf","-",1,0,"PS","Payroll System",1,"LDSW","http://www.irmt.org/documents/research_reports/accounting_recs/IRMT_acc_rec_namibia.PDF",1999,3,2,"X","TenderBoard Website","http://www.mof.gov.na/tender-board ",2010,2,1,"-",null,2,"CS-DRMS",null,1993,3,"MoF",null,10,45.454545454545453,"C","UMIC","AFR"]
[125,null,"Nauru","LMIC",9.3219999999999992,36.9,3958.3780304655652,"http://www.naurugov.nr/government/departments/department-of-finance-and-economic-planning.aspx","Ministry of Finance",0,"-",1,"http://www.forumsec.org/resources/uploads/embeds/file/PCCFAF_NauruCaseStudy_Final%20Report.pdf",0,"-",0,"-",0,0,"-",0,0,0,"-",0,"-",0,null,"-",0,null,"-","-",0,null,"-",0,null,null,"-",0,null,"-",0,0,0,0,0,0,0,0,0,0,0,"-",0,"-",0,"-",0,"-",1,"http://www.spc.int/prism/country/nr/stats","Nauru Bureau of Statistics","www.cbm.gov.mm","Central Bank of Myanmar","-",0,"-",0,"-",0,"-",0,0,"-","eng","-","-","-","-","FMIS","Financial Management Information System","C","F",2,2012,"C",1,2,"COTS","Web",2,"Dec 2010","Draft",1,"X","X","X","X","X","X","X","X","X","X",1.625,1.7173913043478262,"-","-",null,"-",145,0.27755000000000002,7.843E-2,5.5109999999999999E-2,0.21584999999999999,0.56169999999999998,141,0.32419999999999999,9.8000000000000004E-2,0.17,0.70469999999999999,"EAP",null,null,null,null,"Nauru",0,null,null,null,null,0,null,null,null,null,null,1,3.8461538461538463,"D",null,125,"Nauru","NRU",null,null,"http://www.naurugov.nr",0,"-",5.5100000000000003E-2,22,11,2,3,9,null,null,null,null,"http://www.naurugov.nr/government/departments/department-of-finance-and-economic-planning.aspx",1968,"http://www.naurugov.nr/parliament-of-nauru/constitution-of-nauru.aspx","-",0,"-","-","-","-","-","http://www.naurugov.nr/government/departments/department-of-finance-and-economic-planning.aspx",2012,"-","-",0,"-","-","-",0,0,"http://www.naurugov.nr/government/departments/department-of-finance-and-economic-planning.aspx",2012,"-","-","-","-",0,"-","-","-",0,0,"-","-","-","-",0,"-","-","-",0,"-","-",0,"-",0,"-","-","MYOB","Accounting and Payroll System",2,"COTS","http://www.naurugov.nr/media/30789/no._9__v__first-seventh-eighteenth__25_november_2008_.pdf",2009,3,2,"MYOB","Accounting and Payroll System",2,"COTS","http://www.naurugov.nr/media/30789/no._9__v__first-seventh-eighteenth__25_november_2008_.pdf",2009,3,2,"X","-","http://www.adb.org/sites/default/files/project-document/81242/45032-001-prtr.pdf","-",0,0,"-",null,2,"CS-DRMS",null,1993,0,"MoF",0,6,27.27272727272727,"C","LMIC","EAP"]
[126,null,"Nepal","LIC",30485.797999999999,16600.963532453519,540,"http://www.mof.gov.np","Nepal Ministry of Finance",2,"http://www.mof.gov.np/en/content/mof-link-pages-2.html",2,"http://lmbis.gov.np",1,"-",0,"-",0,0,"-",2,1,0,"-",0,"-",1,1,2002,1,0,3,2011,0,null,"-",1,4,1,2002,1,1,2007,1,1,0,1,1,1,1,0,1,0,0,"-",0,"-",0,"-",0,"-",0,"http://www.cbs.gov.np","Nepal Central Bureau of Statistics","http://www.nrb.org.np","Central Bank of Nepal","-",0,"-",1,"http://www.mof.gov.np/contentArticle-Content-cWo=#",0,"-",0,3,"-","nep","eng","-","-",0,"CTS","Core Treasury System","C","T",1,2008,"C+L",1,1,"LDSW > Oracle","Web",2,"Feb 2008","Public",1,"C","B","B","C+","C+","C","C+","C+","D+","D",2.25,2.096774193548387,44,45,null,2,165,0.23441999999999999,0.29410999999999998,0.15748000000000001,0.16843,0.37740000000000001,164,0.26640000000000003,0.28760000000000002,5.9700000000000003E-2,0.4521,"SAR",null,null,null,"prev","Nepal",0,null,null,null,null,0,null,null,null,null,null,15,57.692307692307686,"B",null,126,"Nepal","NPL",2010,null,"http://www.nepal.gov.np",1,"http://www.nepal.gov.np/portal/npgea/allServices?showAll=true",0.1575,59,11,2,6,18,null,null,null,null,"http://www.fcgo.gov.np/media/message-from-fcg/",1968,"http://www.fcgo.gov.np/media/message-from-fcg/",2012,3,4,"-","-","-","-","http://www.ird.gov.np/ird/index/index.php",1960,"e-Tax","e-Tax and other portals",2,"COTS ?","http://taxpayerportal.ird.gov.np/taxpayer/app.html",2010,3,2,"http://www.customs.gov.np",1968,1985,4,"ASYCUDA++","Automated SYstem for CUstoms DAta",2,"ASYCUDA ++","http://unctad.org/en/PublicationsLibrary/dtlasycuda2011d1_en.pdf",1998,3,2,0,0,"http://taxpayerportalb.ird.gov.np/taxpayer/app.html",2013,2,0,"-","-",0,"http://www.cca.gov.np/licensed-cas/become-ca.html",2012,2,"-",0,"-","-","PIS","Personnel Information Management System",1,"LDSW","http://www.pis.gov.np",2005,3,2,"PMS","Payroll Management System",1,"LDSW","http://www.moga.gov.np/Download/roadmap.doc ",2004,3,2,"C","GEPSON","https://www.gepson.gov.np",2011,3,2,"https://www.gepson.gov.np/contract.php ",null,2,"CS-DRMS",null,1997,3,"MoF",null,15,68.181818181818173,"B","LIC","SAR"]
[127,null,"Netherlands","HIC",16696,829013.18712922558,49650,"http://www.government.nl/ministries/fin","Ministerie van Financiën - Finance Ministry, Netherlands",2,"http://www.rijksbegroting.nl/",1,"http://www.oecd.org/netherlands/43411548.pdf",2,"http://www.prinsjesdag2011.nl/miljoenennota/effect_op_u",1,"http://opendata.rijksbegroting.nl/",0,1,"-",2,1,1,"http://www.begrotingsspel.nl/#",1,"http://www.rbv.minfin.nl",1,1,1911,1,1,5,2007,0,null,"-",1,4,1,2007,1,1,2005,0,1,0,0,0,1,0,0,0,0,0,"-",1,"http://data.overheid.nl",0,"-",0,"-",3,"http://www.cbs.nl","Statistics Netherlands","http://www.dnb.nl ","Netherlands Bank","http://www.prinsjesdag2011.nl/miljoenennota",1,"http://www.government.nl/accessibility",1,"http://www.rijksoverheid.nl/ministeries/fin/organisatie/organogram",0,"-",1,3,"-","dut","eng","-","-",0,"IBOS","National Budget Information System","D","F",3,2003,"C+L",1,1,"LDSW","Web",3,"-","-","-","-","-","-","-","-","-","-","-","-","-","-","-","-","-",1,3,5,0.88966000000000001,1,0.92913000000000001,0.81750999999999996,0.9224,2,0.91249999999999998,0.96079999999999999,0.83420000000000005,0.9425,null,"EU","OECD",null,null,"Netherlands",6,2,null,3,1,4,1,null,3,null,"2013-04-04",20,76.923076923076934,"A",null,127,"Netherlands","NLD",null,null,"https://www.overheid.nl",2,"https://www.overheid.nl",0.92910000000000004,100,75,70,88,82,null,null,null,null,"http://www.dsta.nl",1841,"http://www.dsta.nl/Onderwerpen/Schatkistbankieren/Hoe_werkt_schatkistbankieren",2009,2,4,"-","-","-","-","http://www.belastingdienst.nl",1798,"e-Tax / MyTax","e-Tax and other portals",2,"COTS","https://webdiensten8.belastingdienst.nl/mbd-pmb/",2007,3,2,"http://www.belastingdienst.nl",1798,1953,4,"DMS, DMF / MSW 3.4","Declaration Management System / Maritime Single Window",2,"COTS","https://www.oswo.nl/swodouane/mod/forum/index.php?id=4401&lang=en_utf8",2009,3,3,1,1,"https://webdiensten8.belastingdienst.nl/mbd-pmb/",1996,2,1,"-","-",1,"https://www.logius.nl/languages/english/pkioverheid/",2006,2,1095100,2,"http://laborsta.ilo.org/STP/guest",2010,"p-Direkt","Shared Services for Personnel Management and Payroll",2,"COTS","http://www.p-direkt.nl",2010,3,2,"p-Direkt","Shared Services for Personnel Management and Payroll",2,"COTS","http://www.p-direkt.nl",2010,3,2,"-","Tender Ned","http://www.tenderned.nl/ ",2011,3,2,"https://www.tenderned.nl/tenderned-web/aankondiging/overzicht/aankondigingenplatform ","Dutch State Treasury Agency",null,null,null,null,null,null,null,18,81.818181818181827,"A","HIC"]
[128,null,"New Zealand","HIC",4405.2,159700,36252.610551166807,"http://www.treasury.govt.nz","New Zealand Treasury",2,"http://www.treasury.govt.nz/government/financialstatements",2,"http://www.treasury.govt.nz/publications/guidance/reporting/cfisnet",1,"-",1,"http://www.treasury.govt.nz/budget/2012/data",1,1,"http://www.treasury.govt.nz/budget/2012/data",2,1,2,"http://www.treasury.govt.nz/budget/app",1,"http://www.treasury.govt.nz/government/financialstatements/yearend/archive",1,1,1997,1,1,4,1992,1,1,2000,1,2,1,2000,1,1,1994,1,1,0,0,0,1,"n/a",1,1,1,1,"http://www.treasury.govt.nz/government/data",1,"http://www.data.govt.nz",0,"-",0,"-",3,"http://www.stats.govt.nz","Statistics New Zealand ","http://www.rbnz.govt.nz","Reserve Bank of New Zealand","http://www.treasury.govt.nz/government/data",1,"http://www.treasury.govt.nz/publications/guidance/reportingcalendar",1,"http://www.treasury.govt.nz/abouttreasury",2,"GFS 2001 + International Financial Reporting Standards.",1,3,"-","eng","-","-","-","-","CFISnet","Financial Management Information System","D","F",3,1999,"C+L",1,2,"Various","Web",3,"-","-","-","-","-","-","-","-","-","-","-","-","-","-","-",93,90,null,3,9,0.86436000000000002,0.78430999999999995,0.84250999999999998,0.75056999999999996,1,13,0.83809999999999996,0.7843,0.73180000000000001,0.99819999999999998,null,"PAC","OECD","APEC",null,"New Zealand",0,null,null,null,null,0,null,null,null,null,"2013-04-17",24,92.307692307692307,"A",null,128,"New Zealand","NZL",null,null,"https://www.govt.nz",2,"https://www.govt.nz",0.84250000000000003,97,66,84,53,75,null,null,null,null,"http://www.treasury.govt.nz",1840,"http://www.legislation.govt.nz/act/public/1989/0044/latest/DLM160809.html",1989,2,4,"-","http://www.treasury.govt.nz/budget/app","-","-","http://www.ird.govt.nz",1878,"myIR / Web Serv","Online services and forms",2,"COTS","http://www.ird.govt.nz/online-services/keyword",2008,3,2,"http://www.customs.govt.nz",1840,1963,3,"CusMod / JBMS","Joint Border Management System + Trade Single Window",2,"COTS","http://www.customs.govt.nz/features/jointbordermanagement/Pages/default.aspx",1997,3,3,1,0,"http://www.ird.govt.nz/online-services/keyword/",1991,3,1,"http://www.justice.govt.nz/fines","-",1,"http://www.bcn.gob.ni/sistema_pagos/documentos/Ley_729_Ley_de_firma_electronica.pdf",2010,2,269900,2,"http://laborsta.ilo.org/STP/guest",2010,"HRMIS","Integrated human resource and payroll information system",2,"COTS","http://www.ssc.govt.nz/workforce-stats","-",3,1,"PS","Payroll System",1,"LDSW","http://www.ssc.govt.nz/workforce-stats","-",3,1,"-","GETS","https://www.gets.govt.nz ",2002,3,2,"https://www.gets.govt.nz/ExternalAwardedTenderList.htm ","New Zealand Debt Management Office",null,null,null,null,null,null,null,16,72.727272727272734,"B","HIC"]
[129,null,"Nicaragua","LMIC",5869.8590000000004,8873.9650770532953,1510,"http://www.hacienda.gob.ni","Nicaragua Ministry of Finance and Public Credit",2,"http://www.hacienda.gob.ni/documentos/presupuesto/presupuesto-gral.-de-la-republica",2,"http://www.hacienda.gob.ni/Direcciones/tecnologia/hacienda/Direcciones/tecnologia/aplicaciones",2,"http://www.transmuni.gob.ni",0,"-",1,1,"http://www.transmuni.gob.ni/cgi-bin/tm_CPTKtal.cgi?ejercicio=2013",2,1,2,"http://www.consultaciudadana.gob.ni/cciudadana/index.jsp",1,"http://www.hacienda.gob.ni/documentos/presupuesto/informes/2012/Informe%20de%20Liquidacion%20del%20Presupuesto%20General%20de%20la%20Republica%202012.pdf/view",1,1,2005,1,1,4,2006,1,1,1997,1,2,1,1998,1,1,2005,1,0,0,0,0,1,1,1,0,0,1,"http://www.transmuni.gob.ni",0,"-",2,"http://www.hacienda.gob.ni/Direcciones/tecnologia/hacienda/Direcciones/tecnologia/aplicaciones",1,"http://www.hacienda.gob.ni/Direcciones/tecnologia/hacienda/Direcciones/tecnologia/aplicaciones",1,"http://www.inide.gob.ni","Instituto Nacional de Información de Desarrollo / National Institute of Development Information","http://www.bcn.gob.ni","Central Bank of Nicaragua","-",0,"-",1,"http://www.hacienda.gob.ni/Ministerio",0,"-",1,1,"-","spa","eng","-","-",0,"SIGFA","Sistema Integrado de Gestión Financiera","C","F",3,2006,"C+L",2,2,"LDSW / Free Balance","CS",3,"Dec 2006","Draft",1,"X","X","X","X","X","X","X","X","X","X",2.1666666666666665,2.4629629629629628,42,37,null,2,147,0.27584999999999998,9.8030000000000006E-2,9.4479999999999995E-2,0.16924,0.56389999999999996,130,0.36209999999999998,0.31369999999999998,0.11940000000000001,0.65329999999999999,"LCR",null,null,null,null,{"$f":"C131","v":"Nicaragua"},{"$f":"SUM(EA131:ED131)","v":0},null,null,null,null,{"$f":"SUM(EF131:EI131)","v":0},null,null,null,null,"2013-04-22",{"$f":"J131+L131+N131+P131+R131+S131+U131+V131+W131+Y131+AA131+AB131+AD131+AE131+AH131+AI131+AK131+AM131+AO131+AP131","v":24},{"$f":"EK131/26*100","v":92.307692307692307},{"$f":"IF(EL131<25,\"D\",IF(EL131<50,\"C\",IF(EL131<75,\"B\",\"A\")))","v":"A"},null,129,"Nicaragua","NIC",null,null,"http://www.gobenic.gob.ni",0,"-",9.4500000000000001E-2,16,14,16,3,12,null,null,null,null,"http://www.hacienda.gob.ni/Direcciones/tesoreria",1999,"http://www.hacienda.gob.ni/Direcciones/tesoreria/la-direccion",2002,2,4,"-","-","-","-","http://www.dgi.gob.ni",1957,"VET","Ventanilla Electronica Tributaria",2,"COTS","https://dgienlinea.dgi.gob.ni",2006,3,2,"http://www.dga.gob.ni",1957,1998,4,"ASYCUDA World","Automated SYstem for CUstoms DAta",2,"ASYCUDA W","http://www.dga.gob.ni/ManualesSW.cfm",2000,3,2,1,0,"https://dgienlinea.dgi.gob.ni/",2011,3,1,"-","-",0,"http://www.gobenic.gob.ni/eventos/intercambio-de-experiencias-de-la-ley-de-firma-electronica-de-costa-rica/Presentacion%20Firma%20Electronica%20Nicaragua.pdf/view",2010,1,105650,1,"http://idbdocs.iadb.org/wsdocs/getdocument.aspx?docnum=997811",1999,"SISEC","Sistema de Información del Servicio Civil",2,"COTS","http://www.hacienda.gob.ni/programa-y-proyectos",2006,2,2,"SIGFA","Sistema de Información de Gestión Financiera Admnistrativa",2,"COTS","http://www.hacienda.gob.ni/programa-y-proyectos",2006,2,2,"X","Nicaragua Compra","http://www.nicaraguacompra.gob.ni",2010,3,2,"http://www.gestion.nicaraguacompra.gob.ni/siscae/portal/adquisiciones-gestion/busquedaProcedimientosVigentes?proc_estado=VIGENTE ","Ministry of Finance and Public Credit",2,"DMFAS 6.0",null,1988,3,"MoF","4FT",{"$f":"N131+CO131+FZ131+GL131+GQ131+HJ131+HR131+HX131","v":18},{"$f":"IH131/22*100","v":81.818181818181827},{"$f":"IF(II131<25,\"D\",IF(II131<50,\"C\",IF(II131<75,\"B\",\"A\")))","v":"A"},"LMIC","LCR"]
[130,null,"Niger","LIC",16068.994000000001,5794.6088586232745,360,"http://www.presidence.ne","Niger Ministry of Economy & Finance",0,"-",1,"http://www.pefa.org/en/assessment/ne-mar13-pfmpr-public-en",0,"-",0,"-",0,0,"-",0,0,0,"-",0,"-",0,null,"-",0,null,"-","-",0,null,"-",0,null,null,"-",0,null,"-",1,1,0,0,0,0,0,0,0,0,0,"-",0,"-",0,"-",0,"-",0,"http://www.stat-niger.org","Niger Institut National de la Statistique","http://www.bceao.int ","Central Bank of West African States (BCEAO)","-",0,"-",0,"-",0,"-",0,1,"-","fre","-","-","-","-","FMIS > CEGIB","Comptabilité de l’Etat et Gestion intégrée du Budget","C","F",3,2003,"C",1,1,"LDSW > Oracle","CS",{"$f":"IF(CH132=0,0,IF(CG132=\"T\",1,2)+IF(FK132>1,1,0))","v":2},"Mar 2013","Public",2,"C","C","C","B","D","C","C+","D+","D+","D+",1.9,2.02,4,3,null,1,191,9.4560000000000005E-2,0.23529,0.12598000000000001,3.8510000000000003E-2,0.1192,188,0.1119,0.1961,2.93E-2,0.1103,"AFR",null,null,null,null,"Niger",0,null,null,null,null,0,null,null,null,null,null,1,3.8461538461538463,"D",null,130,"Niger","NER",2009,null,"http://www.presidence.ne",0,"-",0.126,47,14,0,6,15,null,null,null,null,"http://nigerdiaspora.net/index.php/les-infos-du-pays/item/40187-comprendre-la-reforme-du-tr%C3%A9sor-national-en-tant-que-caissier-et-banquier-de-l%E2%80%99etat",1972,"-","-",0,"-","-","-","-","-","http://www.presidence.ne/index.php/le-nouveau-gouvernement",1999,"-","-",0,"-","-","-",0,1,"http://ksim-ibro.e-monsite.com/pages/douane-du-niger/",1960,1981,0,"ASYCUDA++","Automated SYstem for CUstoms DAta",2,"ASYCUDA ++","http://unctad.org/en/PublicationsLibrary/dtlasycuda2011d1_en.pdf",2005,3,2,0,0,"-","-",0,0,"-","-",0,"-","-",0,502000,1,"http://unpan1.un.org/intradoc/groups/public/documents/un/unpan023281.pdf",2004,"-","-",0,"-","http://www.pefa.org/en/assessment/ne-mar13-pfmpr-public-en","-",1,0,"PS","Payroll System",1,"LDSW","http://documents.worldbank.org/curated/en/2009/06/10694619/niger-reform-management-technical-assistance-project",2009,3,2,"B+","ARMP Website","http://www.armp-niger.org",2011,3,1,"http://www.armp-niger.org/statistiques/marches-publics/ ",null,2,"CS-DRMS",null,2002,3,"MoF",null,8,36.363636363636367,"C","LIC","AFR"]
[131,null,"Nigeria","LMIC",162470.73699999999,207278.46413598882,1280,"http://www.fmf.gov.ng","Nigeria Federal Ministry of Finance",1,"http://www.budgetoffice.gov.ng/publications.html",2,"http://www.gifmis.gov.ng/gif-mis/index.php?option=com_content&view=article&id=2&Itemid=2",1,"-",0,"-",0,0,"-",1,1,1,"http://www.budgetoffice.gov.ng/2014/Understanding%20Budget%202014.pdf",0,"-",1,0,2008,1,0,3,2010,0,null,"-",1,3,0,2009,0,null,"-",1,1,0,0,0,1,0,0,0,0,0,"-",0,"-",0,"-",0,"-",0,"http://www.nigerianstat.gov.ng","Nigeria National Bureau of Statistics","http://www.cenbank.org","Central Bank of Nigeria","-",0,"-",0,"-",0,"-",0,1,"-","eng","-","-","-","-","GIFMIS","Government Integrated Financial Management Information System","C","F",3,2012,"C+L",1,2,"SAP + LDSW","Web",2,"Sep 2013","Draft",1,"X","X","X","X","X","X","X","X","X","X","-","-",16,18,null,1,141,0.29287000000000002,0.33333000000000002,0.30708000000000002,0.19045000000000001,0.38109999999999999,162,0.2676,0.22220000000000001,0.127,0.45350000000000001,"AFR",null,null,null,null,"Nigeria",0,null,null,null,null,0,null,null,null,null,null,10,38.461538461538467,"C",null,131,"Nigeria","NGA",null,"DAD","http://www.nigeria.gov.ng",1,"http://www.nigeria.gov.ng",0.30709999999999998,56,36,14,18,30,null,null,null,null,"http://oagf.gov.ng/",1988,"http://www.pfm.gifmis.gov.ng/gif-mis/index.php?option=com_content&view=article&id=6&Itemid=6#2",2015,1,"-","-","-","-","-","http://www.firs.gov.ng",1943,"ITAS","Integrated Tax Administration System (ITAS) / Standard Integrated Government Tax System",2,"SIGTAS","http://www.vanguardngr.com/2013/12/modernizing-tax-administration-sigitas-2/",2014,3,2,"http://www.customs.gov.ng",1922,1963,4,"ASYCUDA++ > NICIS","Nigeria Integrated Customs Information System",2,"ASYCUDA ++","https://www.customs.gov.ng/About/special_units.php",1999,3,2,1,0,"-","-",1,0,"-","-",0,"http://www.nitda.gov.ng/documents/About%20PKI.pdf",2012,1,118000,1,"http://unpan1.un.org/intradoc/groups/public/documents/un/unpan023282.pdf",2004,"IPPIS","Integrated Personnel and Payroll System",2,"Oracle","http://www.worldbank.org/projects/P088150/federal-government-economic-reform-governance-project?lang=en",2007,3,2,"IPPIS","Integrated Personnel and Payroll System",2,"Oracle","http://www.worldbank.org/projects/P088150/federal-government-economic-reform-governance-project?lang=en",2007,3,2,"X","BPP Website","http://www.bpp.gov.ng",2007,3,1,"http://www.bpp.gov.ng/index.php?option=com_joomdoc&view=documents&path=Federal%20Executive%20Council%20Approved%20Contracts&Itemid=662 ","DMO",2,"CS-DRMS",null,1990,3,"MoF",null,13,59.090909090909093,"B","LMIC","AFR"]
[132,null,"Norway","HIC",4952,440185.40944412659,88890,"http://www.regjeringen.no","Ministry of Finance",2,"http://www.statsbudsjettet.no/default.aspx?id=58965",2,"http://www.dfo.no/no/Tjenester/Driftsstatus",2,"http://www.dfo.no/no/Tjenester/Rapportutvikling/Prosjektets-leveranser/",1,"http://www.statsbudsjettet.no/Statsbudsjettet-2011/Dokumenter/Tallene-bak-figurene/",0,0,"-",2,1,1,"http://www.ungokonomi.no/",1,"http://www.dfo.no/no/Forvaltning/Standard-kontoplan/",1,1,2001,1,1,3,2007,0,null,"-",1,2,1,1991,1,1,1997,1,1,0,0,0,1,1,1,1,0,1,"http://www.regjeringen.no/nb/dep/fin/dok/veiledninger_brosjyrer/2012/lommebudsjettet-2011.html?id=673567, http://www.peppol.eu/",1,"http://data.norge.no",0,"-",0,"-",3,"http://www.ssb.no","Statistics Norway ","http://www.norges-bank.no","Norges Bank","http://www.dfo.no/no/Forvaltning/Statsregnskapet/",1,"http://www.ub.uio.no/ujur/ulovdata/lov-20060519-016-eng.pdf",1,"http://www.regjeringen.no/en/dep/fin/the-ministry.html?id=221",2,"GFS 2001",1,3,"-","nor","smi","eng","-",0,"FMIS","Financial Management Information System","D","F",3,2013,"C+L",1,2,"Agresso + SAP","Web",3,"Jun 2008","Public",1,"A","A","B","C+","B+","D","C+","A","B+","NA",3.1111111111111112,3.4107142857142856,83,83,1,3,13,0.83572000000000002,0.68627000000000005,0.75590000000000002,0.81328,0.93799999999999994,8,0.85929999999999995,0.85619999999999996,0.78700000000000003,0.93469999999999998,null,"EUR","OECD",null,null,"Norway",5,1,1,2,1,2,1,null,1,null,"2013-04-29",20,76.923076923076934,"A",null,132,"Norway","NOR",null,null,"http://www.norge.no",2,"http://www.norge.no",0.75590000000000002,97,77,44,56,67,null,null,null,null,"http://www.regjeringen.no/nb/dep/fin/dep/org/avdelinger.html?id=243",1814,"http://www.regjeringen.no/nb/dep/fin/dok/regpubl/stprp/1999-2000/stprp-nr-1-1999-2000-/7.html?id=284192",1997,2,4,"-","http://www.regjeringen.no/en/the-government/solberg/Regjeringens-satsingsomrader/Regjeringens-satsingsomrader/En-enklere-hverdag-for-folk-flest/Digitalisere-forvaltningen.html?id=753127","-","-","http://www.skatteetaten.no",1814,"altinNETT / e-Tax","e-Tax and other portals",2,"COTS","https://www.altinn.no/en/?epslanguage=en",2013,3,3,"http://www.toll.no",1814,1952,0,"TVINN","Customs Information System",2,"COTS","http://www.toll.no/no/bedrift/varer-inn-til-norge/tvinn/deklarering-i-tvinn",1999,3,3,1,1,"http://www.skatteetaten.no/no/Person/Selvangivelse/Selvangivelse-for-lonnstakere-og-pensjonister/",1999,3,1,"https://idporten.difi.no/opensso/UI/Login?realm=/norge.no&spEntityID=tjenester.sismo.no&service=IDPortenLevel4List&goto=http%3A%2F%2Fidporten.difi.no%2Fopensso%2FSSORedirect%2FmetaAlias%2Fnorge.no%2Fidp2%3FReqID%3Did-UCRVa-cBYIVLHE7AmNFYTut-eO8-",2009,2,"http://www.difi.no/digital-forvaltning/felles-it-losninger-fra-difi/id-porten",2009,3,794600,2,"http://laborsta.ilo.org/STP/guest",2010,"DFØ > OPAL","Direktoratet for økonomistyring",2,"SAP","http://www.fjarmalaraduneyti.is/media/utgafa/Orri_Annex_1_Other_countries.pdf ",2008,3,1,"OPAL","Government Shared Services/OPAL (HR & Payroll Management system)",2,"SAP","http://www.dfo.no/no/Tjenester/Lonn/ ",2008,3,1,"B","E-handel","http://www.anskaffelser.no/elektronisk-handel",2008,3,2,"https://www.doffin.no/ ","Norwegian Ministry of Finance",null,null,null,null,null,null,null,18,81.818181818181827,"A","HIC"]
[133,null,"Oman","HIC",2846.145,71780,25220.078386730122,"http://www.mof.gov.om","Oman Ministry of Finance",1,"http://www.mof.gov.om/p_balance.aspx",2,"http://www.ita.gov.om/ITAPortal/eServices/info_C1.aspx?NID=74",1,"-",1,"http://www.mof.gov.om/p_balance.aspx",0,0,"-",2,1,0,"-",0,"-",1,1,2007,0,null,"-","-",0,null,"-",1,4,1,2007,0,null,"-",0,1,1,0,0,0,1,1,0,0,0,"-",0,"-",0,"-",0,"-",1,"http://www.moneoman.gov.om","Oman Ministry of National Economy","http://www.cbo-oman.org","Central Bank of Oman","-",0,"-",1,"http://www.mof.gov.om/a_chart.aspx",0,"-",0,3,"-","ara","-","-","-","-","IFS","Integrated Financial System","C","F",3,1998,"C",1,1,"LDSW > DB2","Web",2,"May 2013","Final",1,"X","X","X","X","X","X","X","X","X","X",2.5,2.34,"-","-",null,0,48,0.62731999999999999,0.70587999999999995,0.73228000000000004,0.48725000000000002,0.66239999999999999,64,0.59440000000000004,0.66669999999999996,0.39419999999999999,0.72240000000000004,"MNA",null,null,null,null,"Oman",0,null,null,null,null,0,null,null,null,null,null,12,46.153846153846153,"C",null,133,"Oman","OMN",null,null,"http://www.oman.om",2,"http://www.oman.om",0.73229999999999995,97,64,60,44,65,null,null,null,null,"http://www.mof.gov.om",1941,"https://www.imf.org/external/np/ms/2010/121810.htm",2015,1,"-","-","-","-","-","http://www.taxoman.gov.om",1970,"e-Tax","Tax Management System + Online Services",0,"-","-","-",0,2,"http://www.customs.gov.om",1624,2000,3,"SEW + ICMS","Single Electronic Window (SEW) + Integrated Customs Management System (ICMS)",1,"LDSW","http://www.customs.gov.om/english/register.asp","-",2,2,0,0,"-","-",1,0,"http://www.oman.om/wps/portal/!ut/p/c5/04_SB8K8xLLM9MSSzPy8xBz9CP0os3hjA3cDA39LT1_vEF9HAyPjMDcvSx8zYxcXE6B8pFm8AQ7gaEBAd3BqXnxosH44yFq8xvh55Oem6hfkRlQEpCsqAgDMiMl8/dl3/d3/L2dJQSEvUUt3QS9ZQnZ3LzZfMzBHMDBPOUlNNEJRRDAySjJLNVNBMzIwUzQ!/?WCM_GLOBAL_CONTEXT=/wps/wcm/connect/ar/site/home/epayment/epayment",2006,2,"https://omanportal.gov.om/auth/was/ccg/SessionGenerator.jsp?Location=https%3A%2F%2Fomanportal%2Egov%2Eom%2Fwps%2Fmyportal",2013,3,200000,1,"http://www.ita.gov.om/ITAPortal/eServices/info_C1.aspx?NID=74",2014,"HRMS","Human Resource Management System",2,"Oracle","http://www.mocs.gov.om/pdf_files/HRMS.pdf",2011,3,2,"HRMS","Human Resource Management System",2,"Oracle","http://www.mocs.gov.om/pdf_files/HRMS.pdf",2011,3,2,"X","Tender Board Website","http://www.tenderboard.gov.om ",2011,2,1,"-",null,2,"DMFAS 5.3",null,2010,3,"MoF",3,13,59.090909090909093,"B","HIC","MNA"]
[134,null,"Pakistan","LMIC",176745.364,198004.34249712748,1120,"http://www.finance.gov.pk","Pakistan Ministry of Finance",1,"http://www.finance.gov.pk/fb_2011_12.html",2,"http://www.pifra.gov.pk",1,"-",0,"-",0,0,"-",2,1,0,"-",0,"-",1,1,2009,1,1,3,2003,0,null,"-",1,4,1,2001,0,null,"-",1,1,0,0,1,1,1,1,0,0,1,"http://www.ppra.org.pk/",0,"-",0,"-",0,"-",2,"http://www.statpak.gov.pk","Pakistan Statistics Division","http://www.sbp.org.pk","State Bank of Pakistan","http://www.mtbfpakistan.gov.pk/aboutus-overview.htm",0,"-",0,"-",0,"-",0,3,"-","eng","-","-","-","-","FABS","Financial Accounting & Budgeting System","C","T",3,2011,"C+L",2,2,"SAP","Web",2,"Jun 2012","Public",2,"A","A","B","B+","D+","NA","C+","C+","B","C",2.89,2.69,58,38,null,1,158,0.25799,0.33333000000000002,0.32283000000000001,0.11743000000000001,0.3337,156,0.2823,0.36599999999999999,0.1239,0.35720000000000002,"SAR",null,null,null,null,"Pakistan",4,3,null,1,null,0,null,null,null,null,null,13,50,"B",null,134,"Pakistan","PAK",null,"DAD","http://www.pakistan.gov.pk",1,"http://www.pakistan.gov.pk",0.32279999999999998,78,25,14,18,31,null,null,null,null,"http://www.finance.gov.pk",1947,"http://www.sbp.org.pk/fsr/2009/pdf/Special%20Section%203%20%20Transition%20to%20a%20Single%20Treasury%20Account%20Potential%20Implications%20for%20the%20Banking%20Sector.pdf",2008,2,4,"-","-","-","-","http://www.fbr.gov.pk",1924,"e-Tax","e-Tax and other portals",2,"COTS","https://e.fbr.gov.pk/AuthLogin.aspx",2008,3,3,"http://www.fbr.gov.pk",1924,1955,0,"WeBOC ","Web Based One Customs (WeBOC) Portal",2,"COTS","https://www.weboc.gov.pk/(S(uaeaow0dl3crcmzekzrhrugz))/Login.aspx",2013,3,3,0,1,"https://e.fbr.gov.pk/Authlogin.aspx?cmd=logout",2005,3,0,"-","-",0,"https://secp.niftetrust.com/",2005,3,1500000,1,"http://www.pefa.org/en/assessment/pk-jun12-pfmpr-public-en",2011,"FABS","Financial Accounting and Budgeting system",2,"SAP","http://www.pifra.gov.pk/fabs.html ",2011,3,2,"FABS","Financial Accounting and Budgeting system",2,"SAP","http://www.pifra.gov.pk/fabs.html ",2011,3,2,"D+","PPRA Website","http://www.ppra.org.pk",2011,3,1,"http://www.ppra.org.pk","Ministry of Finance",2,"DMFAS 5.3",null,1985,3,"MoF",4,17,77.272727272727266,"A","LMIC","SAR"]
[135,null,"Palau","UMIC",20.609000000000002,134.1521938041669,6510,"http://palaugov.org/executive-branch/ministries/finance","Palau Ministry of Finance",0,"-",1,"http://pifma.pftac.org/filemanager/files/Docs/2008_Minutes2.pdf",0,"-",0,"-",0,0,"-",0,0,0,"-",0,"-",0,null,"-",0,null,"-","-",0,null,"-",0,null,null,"-",0,null,"-",0,0,0,0,0,0,0,0,0,0,0,"-",0,"-",0,"-",0,"-",1,"http://www.palaugov.net/stats","Palau Office of Planning & Statistics","http://www.ropfic.org/banks.html","Financial Institutions Commission / no Central Bank","-",0,"-",1,"http://www.palaugov.net/stats/PalauStats/aboutus/aboutops.htm#",0,"-",0,2,"-","eng","-","-","-","-","FMIS > 4Gov","Financial Management Information System","C","F",3,2005,"C+L",2,1,"LDSW","Web",2,2014,"Planned","-","-","-","-","-","-","-","-","-","-","-","-","-","-","-",null,"-",108,0.4415,0.23529,0.16535,0.35921999999999998,0.79990000000000006,113,0.43590000000000001,0.183,0.2802,0.84450000000000003,"EAP",null,null,null,null,"Palau",0,null,null,null,null,0,null,null,null,null,null,1,3.8461538461538463,"D",null,135,"Palau","PLW",null,null,"http://palaugov.org",0,"-",0.16539999999999999,53,16,2,9,18,null,null,null,null,"http://palaugov.org/bureau-of-national-treasury/",1994,"-","-",0,"-","-","-","-","-","http://palaugov.org/bureau-of-revenue-customs-taxation/",1994,"-","-",0,"-","-","-",0,1,"http://palaugov.org/bureau-of-revenue-customs-taxation/",1994,"-","-","-","-",0,"-","-","-",0,1,1,0,"-","-",1,0,"-","-",0,"-","-",0,"-",0,"-","-","FMIS > 4Gov","Financial Management Information System",1,"LDSW","http://palaugov.org/executive-branch/ministries/finance/",2005,3,2,"FMIS > 4Gov","Financial Management Information System",1,"LDSW","http://palaugov.org/executive-branch/ministries/finance/",2005,3,2,"-","-","http://palaugov.org/executive-branch/ministries/finance/bureau-of-budget-planning/","-",0,0,"-",null,null,null,null,null,null,null,null,9,40.909090909090914,"C","UMIC","EAP"]
[136,null,"Panama","UMIC",3571.1849999999999,26665.338639822487,7470,"http://www.mef.gob.pa","Panama Ministry of Economy and Finance",2,"http://www.mef.gob.pa/es/informes/Paginas/informes.aspx",2,"http://www.mef.gob.pa/es/servicios/Paginas/versionesdelsiafpa.aspx",1,"-",0,"-",0,0,"-",1,1,0,"-",0,"-",1,0,2010,0,null,"-","-",0,null,"-",1,2,0,2010,0,null,"-",1,1,0,0,0,0,0,0,0,0,0,"-",0,"-",0,"-",0,"-",3,"http://www.contraloria.gob.pa","Panama Census and Statistics Directorate","http://www.banconal.com.pa","National Bank of Panama / no CB","http://sipresweb.mef.gob.pa/diprena_web/plantilla1.asp?parm1=1&parm2=1&session=711065328&retrieval=",0,"-",1,"https://www.mef.gob.pa/Portal/index.html",0,"National laws and regulations",0,2,"-","spa","-","-","-","-","SIAFPA","Financial Management Information System","C","F",1,2000,"C",2,2,"LDSW > SAP","Web",2,"May 2013","Draft",1,"X","X","X","X","X","X","X","X","X","X","-","-","-","-",1,0,77,0.52422000000000002,0.49019000000000001,0.37007000000000001,0.45712999999999998,0.74550000000000005,66,0.57330000000000003,0.46410000000000001,0.44080000000000003,0.81510000000000005,"LCR",null,null,null,null,"Panama",0,null,null,null,null,0,null,null,null,null,null,9,34.615384615384613,"C",null,136,"Panama","PAN",null,null,"http://www.presidencia.gob.pa",1,"http://www.panamatramita.gob.pa",0.37009999999999998,84,36,12,18,35,null,null,null,null,"http://www.mef.gob.pa/es/direcciones/direccionTesoreria/Paginas/Mensaje.aspx?selectedClass=menuItem-1",1903,"http://www.asamblea.gob.pa/apps/seg_legis/PDF_SEG/PDF_SEG_2010/PDF_SEG_2013/PROYECTO/2013_P_604.pdf",2015,1,"-","-","http://www.mef.gob.pa/es/informes/Paginas/promedio_dias_pago.aspx","-","-","https://www.anip.gob.pa",1903,"Web Services","Online services and forms",2,"COTS","https://www.anip.gob.pa/defaultsecure.asp",2014,3,2,"http://www.aduanas.gob.pa",1979,1996,0,"SIGA ","Integrated Customs Management System",2,"COTS","https://siga.ana.gob.pa/pcus/jsf/homepage/home.jsf",2010,3,2,1,0,"https://www.anip.gob.pa/defaultsecure.asp",2012,3,0,"-","-",0,"https://www.firmaelectronica.gob.pa/",2012,2,195200,2,"http://laborsta.ilo.org/STP/guest",2007,"SIAFPA","Financial Management Information System",2,"SAP","http://www.worldbank.org/projects/P121492/enhanced-public-sector-efficiency-technical-assistance-loan?lang=en",2000,2,2,"SIAFPA","Financial Management Information System",2,"SAP","http://www.mef.gob.pa/es/noticias/Paginas/LanzamientoproyectoISTMO.aspx",2000,2,2,"X","Panama Compra","http://www.panamacompra.gob.pa ",2006,3,2,"http://www.panamacompra.gob.pa/Portal/BaseDeConocimientoComprador.aspx ",null,2,"DMFAS 6.0",null,1996,3,"MoF","4FT",16,72.727272727272734,"B","UMIC","LCR"]
[137,null,"Papua New Guinea","LMIC",7013.8289999999997,10386.569070352309,1480,"http://www.finance.gov.pg/Website%20Documents/Finance%20Ministry.htm","Papua New Guinea Department of Finance",2,"http://www.treasury.gov.pg/html/national_budget/national_budget.html",1,"http://www.treasury.gov.pg/html/national_budget/files/2012/budget_documents/Related%20Budget%20Documents/2011.final.budget.outcome.pdf",1,"-",0,"-",0,0,"-",1,1,0,"-",0,"-",1,1,2007,1,0,5,2008,1,0,2008,1,3,1,2007,0,null,"-",1,1,0,0,0,1,1,1,1,0,0,"-",0,"-",0,"-",0,"-",2,"http://www.spc.int/prism/country/pg/stats","Papua New Guinea National Statistical Office","http://www.bankpng.gov.pg ","Bank of Papua New Guinea","http://www.treasury.gov.pg/html/national_budget/national_budget.html",0,"-",1,"http://www.treasury.gov.pg/about_us.html",2,"-",0,2,"-","eng","-","-","-","-","IFMS","Integrated Financial Management System","C","T",3,2011,"C",1,1,"LDSW","Web",2,"Mar 2009","Draft",2,"X","X","X","X","X","X","X","X","X","X",2.25,2.2758620689655173,56,57,null,1,188,0.12028,0,7.8700000000000003E-3,5.296E-2,0.3,177,0.2147,0.2288,4.1099999999999998E-2,0.37430000000000002,"EAP",null,null,"APEC",null,"Papua New Guinea",0,null,null,null,null,0,null,null,null,null,null,12,46.153846153846153,"C",null,137,"Papua New Guinea","PNG",null,"DAD","http://www.pm.gov.pg",0,"-",7.9000000000000008E-3,9,11,0,0,5,null,null,null,null,"http://www.treasury.gov.pg",1975,"http://www.treasury.gov.pg/html/legislation/acts.html",1997,2,4,"-","-","-","-","http://www.irc.gov.pg",1959,"SIGTAS","Standard Integrated Government Tax System",2,"SIGTAS","http://www.irc.gov.pg/PDF_files/2011_IRC_AnnualReport.pdf",2013,3,2,"http://www.customs.gov.pg",1966,2002,3,"ASYCUDA++","Automated SYstem for CUstoms DAta",2,"ASYCUDA ++","http://www.customs.gov.pg/07_ASYCUDA_and_Customs_IT/1_About_Customs_ICT.php",1993,3,2,1,0,"-","-",1,0,"-","-",0,"-","-",0,67300,1,"http://www.pftac.org/filemanager/files/Handbooks/PFTAC%20Handbook%206%20FINAL.pdf",2008,"HRMIS","Integrated human resource and payroll information system",1,"LDSW","http://www.oecd.org/countries/papuanewguinea/42222693.pdf",2002,3,2,"HRMIS","Integrated human resource and payroll information system",1,"LDSW","http://www.oecd.org/countries/papuanewguinea/42222693.pdf",2002,3,2,"X","CSTB Website","http://www.cstb.gov.pg",2003,2,1,"-","Department of Treasury",2,"CS-DRMS",null,1987,3,"MoF",null,13,59.090909090909093,"B","LMIC","EAP"]
[138,null,"Paraguay","LMIC",6568.29,19827.057394945001,3020,"http://www.hacienda.gov.py","Ministerio de Hacienda / Ministry of Finance",2,"http://www.hacienda.gov.py/web-presupuesto/index.php?c=192",2,"http://www.hacienda.gov.py/web-presupuesto/index.php?c=147",2,"http://www.hacienda.gov.py/web-presupuesto/index.php?c=40",0,"-",0,1,"http://www.hacienda.gov.py/web-presupuesto/archivo.php?a=9aa9ab9eacaea9ae9eacada8596b696972689da2aca9a8aca29ca2a8a79eac596b69697268a09aacada8ac68a06a6a66696a67a99d9f9a039&x=c4c4063&y=dddd07c",2,1,1,"http://www.hacienda.gov.py/web-hacienda/index.php?c=486",1,"http://www.hacienda.gov.py/web-presupuesto/index.php?c=200",1,1,2005,1,1,3,2006,1,1,2009,1,4,1,1997,1,1,2006,1,1,0,1,1,1,1,1,1,1,1,"http://www.economia.gov.py",1,"http://www.datos.gov.py",1,"http://websiare.hacienda.gov.py",1,"http://www.hacienda.gov.py/web-contabilidad/archivo.php?a=d9e1e6eceae7dceddbdbe1e7e698d9e498e5d9e6edd9e498dcdd98e8eae7dbdddce1e5e1dde6ece7eba6e8dcded9078&x=6b6b00a&y=808001f",0,"http://www.dgeec.gov.py","Paraguay General Directorate of Statistics, Surveys and Censuses ","http://www.bcp.gov.py","Central Bank of Paraguay","http://www.economia.gov.py",0,"-",1,"http://www.hacienda.gov.py/web-contabilidad/index.php?c=298",2,"GFS 1986",0,3,"-","spa","-","-","-","-","SIAF","Sistema Integrado de Administración Financiera","C","F",3,2012,"C+L",1,2,"Oracle","Web",3,"Dec 2011","Public",2,"B","C","B","D+","B+","D","C+","C+","C","D+",2.25,2.5322580645164399,"-","-",1,1,122,0.374,0.25490000000000002,0.22833999999999999,0.22361,0.67,104,0.48020000000000002,0.45750000000000002,0.1968,0.78620000000000001,"LCR",null,null,null,null,"Paraguay",1,1,null,null,null,0,null,null,null,null,"2013-04-22",22,84.615384615384613,"A",null,138,"Paraguay","PRY",null,null,"http://www.paraguaygobierno.gov.py",1,"http://www.paraguay.gov.py",0.2283,59,25,2,15,24,null,null,null,null,"http://www.hacienda.gov.py/sseaf/index.php?c=299",1992,"http://www.pefa.org/en/assessment/py-dec11-pfmpr-public-en",2012,2,4,"-","-","-","-","http://www.set.gov.py",1811,"MARANGATU","Tax Management System",2,"COTS","https://marangatu.set.gov.py/eset/",2007,3,2,"http://www.aduana.gov.py",1846,1969,3,"SOFIA","Sistema SOFI (Sistema de Computación para el Flete Internacional) / Computing System for International Freight",1,"LDSW","http://www.aduana.gov.py/49-4-sistema-sofia.html#",2007,3,3,1,1,"https://marangatu.set.gov.py/eset/",2013,2,1,"-","-",0,"http://webcache.googleusercontent.com/search?q=cache:7X2pGWCn7voJ:www.acraiz.gov.py/index.php/institucional/77-institucional/76-paraguay-ya-posee-la-infraestructura-de-la-ac-raiz-de-firma-digital-promovida-por-mercosur-digital+&cd=1&hl=en&ct=clnk&gl=us",2012,2,183241,2,"http://laborsta.ilo.org/STP/guest",2004,"SINARH","Sistema Integrado de Administración de Recursos Humanos / Integrated National Human Resource System ",1,"LDSW","http://www.hacienda.gov.py/web-hacienda/index.php?c=96&n=5635 ",2010,3,2,"SINARH","Sistema Integrado de Administración de Recursos Humanos / Integrated National Human Resource System ",1,"LDSW","http://www.hacienda.gov.py/web-hacienda/index.php?c=96&n=5635 ",2010,3,2,"B+","Contrataciones Paraguay","https://www.contrataciones.gov.py ",2006,3,2,"https://www.contrataciones.gov.py ","Ministry of Finance",2,"DMFAS 6.0",null,1995,2,"MoF","4FT",18,81.818181818181827,"A","LMIC","LCR"]
[139,null,"Peru","UMIC",29399.816999999999,151403.02472366791,5150,"http://www.mef.gob.pe","Peru Ministry of Economy and Finance",2,"http://www.mef.gob.pe/index.php?option=com_content&view=article&id=363&Itemid=101125&lang=es",2,"http://www.mef.gob.pe/index.php?option=com_content&view=article&id=2028&Itemid=101421&lang=es",3,"http://ofi.mef.gob.pe/transparencia/Navegador/default.aspx",1,"http://ofi.mef.gob.pe/transparencia/Navegador/default.aspx",1,1,"http://www.mef.gob.pe/index.php?option=com_content&view=article&id=2620%3Aproyecto-de-presupuesto-ano-2011-nacional-regional-y-local-&catid=182%3Aprogramacion-formulacion-y-aprobacion&Itemid=101156&lang=es",2,1,2,"http://www.peru.gob.pe/transparencia/pep_transparencia.asp",1,"http://dnpp.mef.gob.pe/cnsClasif/faces/Main.jsp",1,1,2000,1,0,3,2011,1,0,2005,1,2,1,1999,1,1,2004,1,1,1,0,0,1,1,1,0,0,1,"http://www.mef.gob.pe/index.php?option=com_content&view=article&id=952&Itemid=101161&lang=es",1,"http://www.datosperu.org",2,"http://www.mef.gob.pe/index.php?option=com_content&view=article&id=2030&Itemid=101424&lang=es",1,"http://www.mef.gob.pe/index.php?option=com_content&view=article&id=1442&Itemid=100331&lang=es",1,"http://www.inei.gob.pe","Peru National Institute of Statistics and Informatics","http://www.bcrp.gob.pe","Central Reserve Bank of Peru","-",1,"http://www.mef.gob.pe/index.php?option=com_wrapper&view=wrapper&Itemid=101731",1,"http://www.mef.gob.pe/index.php?option=com_content&view=article&id=563&Itemid=100559&lang=es",0,"National laws and regulations similar to GFS",1,3,"Facebook","spa","eng","-","-",0,"SIAF II","Sistema Integrado de Administración Financiera","C","F",3,2001,"C+L",1,1,"LDSW > Oracle","Web",3,"Apr 2009","Public",1,"B","A","A","B","B+","D","C+","A","B+","C",3.05,3.1451612903225805,57,65,1,1,72,0.54354000000000002,0.70587999999999995,0.62992000000000004,0.27179999999999999,0.72889999999999999,82,0.52300000000000002,0.51629999999999998,0.25850000000000001,0.79420000000000002,"LCR",null,null,"APEC",null,"Peru",3,null,1,null,2,0,null,null,null,null,null,24,92.307692307692307,"A",null,139,"Peru","PER",null,null,"http://www.peru.gob.pe",2,"http://www.serviciosalciudadano.gob.pe",0.62990000000000002,88,55,51,38,57,null,null,null,null,"http://www.mef.gob.pe/index.php?option=com_content&view=section&id=32&Itemid=100770&lang=es",1821,"http://www.mef.gob.pe/index.php?option=com_content&view=article&id=2241%3Anormativa&catid=432%3Anormativa&Itemid=100770&lang=es",2005,2,4,"-","http://www.mef.gob.pe/index.php?option=com_content&view=section&id=51&Itemid=100360&lang=es","-","-","http://www.sunat.gob.pe",2002,"Web Services","Online services and forms",2,"COTS","http://www.sunat.gob.pe/sinclavesol/index.html",1997,3,3,"http://www.sunat.gob.pe",2002,1970,3,"SIGAD ","Integrated Customs Management System",2,"COTS","http://www.sunat.gob.pe/gobiernoelectronico/princ_serv_sigad.html",2000,3,3,1,1,"https://www.sunat.gob.pe/xssecurity/SignOnVerification.htm?signonForwardAction=https%3A%2F%2Fwww.sunat.gob.pe%2Fol-at-itcanal%2Fcanal.do",2009,3,1,"http://online.reniec.gob.pe/ventanillavirtual/DatosTributosAction.do?accion=ini",2007,1,"http://www.reniec.gob.pe/portal/firmaPKI.htm",2012,2,1199200,2,"http://laborsta.ilo.org/STP/guest",2008,"RNSC","Registro Nacional de Servicio Civil",1,"LDSW","http://inst.servir.gob.pe/",2006,3,2,"SIAF II","Sistema Integrado de Administración Financiera",1,"LDSW","http://inst.servir.gob.pe/index.php/es/ique-es-servir/gerencias/desarrollo-del-sistema-/tecnologias-de-informacion.html",2001,3,2,"B+","SEACE","http://www2.seace.gob.pe",2002,3,2,"http://www2.seace.gob.pe/?_pageid_=3&_contenid_=ca.contentid ",null,2,"DMFAS",null,1998,0,"MoF",0,21,95.454545454545453,"A","UMIC","LCR"]
[140,null,"Philippines","LMIC",94852.03,209715.82780129884,2210,"http://www.dof.gov.ph","Philippines Department of Finance",2,"http://www.dbm.gov.ph/",2,"http://www.dof.gov.ph/gifmis",1,"-",1,"http://budgetngbayan.com/2013-national-expenditure-program-1643",0,1,"http://www.dbm.gov.ph/wp-content/uploads/BESF/BESF2013/B1.pdf",1,1,1,"http://www.dbm.gov.ph/?p=5125",0,"-",1,1,2008,1,1,3,2006,0,null,"-",1,3,0,2011,1,0,2010,1,1,1,0,0,1,1,1,1,1,1,"http://www.procurementservice.org/psdbm/index.php",0,"-",0,"-",0,"-",2,"http://www.census.gov.ph","Philippines National Statistics Office","http://www.bsp.gov.ph","Bangko Sentral ng Pilipinas","http://www.treasury.gov.ph/statdata/statdata.html",0,"-",1,"http://www.dof.gov.ph/?page_id=180",0,"National laws and regulations",0,2,"Twitter, Facebook, Youtube","spa","eng","-","-",1,"GIFMIS","Government Integrated Financial Management Information System","D","F",3,2004,"C+L",1,1,"LDSW > GIFMIS","Web",2,"May 2010","Public",1,"D","B","C","D+","D","D","D","D+","D+","D",1.45,2,48,55,1,1,95,0.47681000000000001,0.56862000000000001,0.48031000000000001,0.24507999999999999,0.70509999999999995,88,0.51300000000000001,0.49669999999999997,0.2082,0.83409999999999995,"EAP",null,null,"APEC",null,"Philippines",5,2,1,1,1,0,null,null,null,null,null,16,61.53846153846154,"B",null,140,"Philippines","PHL",null,null,"http://www.gov.ph",2,"http://www.gov.ph",0.4803,84,57,19,24,44,null,null,null,null,"http://www.treasury.gov.ph/",1897,"http://www.treasury.gov.ph/?page_id=62",2013,1,"-","-","http://www.philstar.com/business/2014/01/04/1274884/govt-hastens-implementation-treasury-single-account","-","-","http://www.bir.gov.ph",1947,"ITS + e-Tax","Integrated Tax System + Online services",2,"COTS","http://www.bir.gov.ph/index.php/eservices.html",2000,3,3,"http://www.customs.gov.ph",1965,1980,3,"e-Customs / TWM / ASYCUDA++","Single Window / Trade World Manager",2,"ASYCUDA ++","http://www.webbfontaine.com/projects_philippines.php",1996,3,2,1,1,"https://efps.bir.gov.ph/index.html",2001,3,1,"-","-",0,"http://i.gov.ph/pki/",2013,2,3025000,2,"http://laborsta.ilo.org/STP/guest",2010,"GMIS + GHRIS","Government Manpower Information System (GMIS)/ Government Human Resource Management Information System( GHRIS)",2,"COTS","http://hrmis.blgf.gov.ph ",2005,2,1,"NPS","National Payroll System (NPS)",1,"LDSW","http://web.csc.gov.ph/cscsite2","-",2,1,"B","Phil GEPS","www.philgeps.gov.ph",2006,3,2,"http://www.philgeps.gov.ph/GEPSNONPILOT/Tender/RecentAwardNoticeUI.aspx?menuIndex=3 ","Department of Finance",2,"DMFAS 6.0",null,1987,3,"MoF",4,15,68.181818181818173,"B","LMIC","EAP"]
[141,null,"Poland","HIC",38216,477008.73507372162,12480,"http://www.mf.gov.pl","Ministry of Finance of Poland",2,"http://www.mf.gov.pl/ministerstwo-finansow/dzialalnosc/finanse-publiczne",2,"http://www.mf.gov.pl/ministerstwo-finansow/dzialalnosc/finanse-publiczne/budzet-panstwa/trezor",1,"-",0,"-",0,0,"-",1,1,2,"http://centrumcyfrowe.pl/projekty/otwarty-budzet-konkurs-opowiedz-nam-o-budzecie/",1,"http://www.mf.gov.pl/index.php?const=1&dzial=73&wysw=2&sub=sub11",1,1,2001,0,null,"-","-",0,null,"-",1,2,1,2000,1,1,1995,1,1,1,0,0,1,1,1,0,0,0,"-",1,"http://sejmometr.pl",0,"-",0,"-",1,"http://www.stat.gov.pl","Poland Central Statistical Office","http://www.nbp.pl","National Bank of Poland ","-",0,"-",1,"http://www.finanse.mf.gov.pl/strona-glowna",2,"GFS 2001",0,2,"Youtube","pol","eng","-","-",0,"TREZOR","Informatyczny System Obsługi Budżetu Państwa / Information System of the State Budget","C","F",3,2011,"C+L",1,2,"Oracle","Web",3,"-","-","-","-","-","-","-","-","-","-","-","-","-","-","-",59,64,null,1,42,0.64822000000000002,0.49019000000000001,0.54330000000000001,0.56181999999999999,0.83960000000000001,47,0.64410000000000001,0.53590000000000004,0.49209999999999998,0.90439999999999998,"ECA","EU","OECD",null,null,"Poland",3,null,3,null,null,0,null,null,null,null,"2013-04-26",16,61.53846153846154,"B",null,141,"Poland","POL",null,null,"https://www.premier.gov.pl",2,"http://epuap.gov.pl/wps/portal/E2_ZdarzeniaZyciowe",0.54330000000000001,72,59,42,26,50,null,null,null,null,"http://www.mf.gov.pl/ministerstwo-finansow/dzialalnosc/finanse-publiczne",1996,"http://www.mf.gov.pl/ministerstwo-finansow/dzialalnosc/finanse-publiczne/budzet-panstwa/trezor/-/asset_publisher/tq7U/content/cele-wdrozenia-systemu-trezor?redirect=http%3A%2F%2Fwww.mf.gov.pl%2Fministerstwo-finansow%2Fdzialalnosc%2Ffinanse-publiczne%2Fbudzet-panstwa%2Ftrezor%3Fp_p_id%3D101_INSTANCE_tq7U%26p_p_lifecycle%3D0%26p_p_state%3Dnormal%26p_p_mode%3Dview%26p_p_col_id%3Dcolumn-2%26p_p_col_count%3D1#p_p_id_101_INSTANCE_tq7U_",2011,2,4,"-","-","-","-","http://www.mf.gov.pl/administracja-podatkowa",1989,"e-Podatki","e-Tax and other portals",2,"GenTax","http://www.epodatki.mf.gov.pl",2007,3,3,"http://www.mf.gov.pl",1919,1974,2,"e-Customs / ECS, ICS, NCTS, CELINA + ZEFIR","Electronic Customs Portal",2,"COTS","http://www.e-clo.gov.pl/strona-glowna",2008,3,3,1,1,"http://www.mf.gov.pl/web/wp/systemy-informatyczne/e-deklaracje",2006,3,1,"http://www.epractice.eu/node/284578",2008,2,"http://www.nccert.pl/",2004,3,3570700,2,"http://laborsta.ilo.org/STP/guest",2010,"SWEZ_HR","System Wspierający Efektywne Zarządzenie zasobami ludzkimi w korpusie służby cywilnej",1,"LDSW","http://dsc.kprm.gov.pl/dostep-do-systemu",2014,3,2,"SWEZ_HR","System Wspierający Efektywne Zarządzenie zasobami ludzkimi w korpusie służby cywilnej",1,"LDSW","http://dsc.kprm.gov.pl/dostep-do-systemu",2014,3,2,"-","Public Procurement Office Portal","http://www.uzp.gov.pl",2005,3,2,"http://www.uzp.gov.pl/cmsws/page/?D;1052 ","Polish Ministry of Finance",null,null,null,null,null,null,null,19,86.36363636363636,"A","HIC","ECA"]
[142,null,"Portugal","HIC",10637,225607.48633227198,21210,"http://www.portugal.gov.pt/pt/os-ministerios/ministerio-das-financas.aspx","Portugal Ministry of Finance and Public Administration",1,"http://www.dgo.pt/execucaoorcamental/Paginas/Sintese-da-Execucao-Orcamental-Mensal.aspx?Ano=2012&Mes=Maio",2,"http://www.rcc.gov.pt/Directorio/Temas/MA/Paginas/SIGOFA---Sistema-de-Gest%C3%A3o-Or%C3%A7amental,-Financeira-e-Administrativa.aspx",2,"https://sigo.min-financas.pt/sigoRoot/sigo/default.jsp",1,"http://www.dgo.pt/execucaoorcamental/Paginas/Sintese-da-Execucao-Orcamental-Mensal.aspx?Ano=2014&Mes=Maio",0,0,"-",2,1,2,"http://www.portaldocidadao.pt/PORTAL/pt",1,"http://www.dgo.pt/apoioaosservicos/Paginas/Documentacao.aspx?CategoriaDocumentos=Classificadores",1,1,1997,1,1,4,2012,0,null,"-",1,2,1,1997,0,null,"-",1,1,1,0,0,1,1,1,1,0,1,"http://www.peppol.eu/",1,"http://www.dados.gov.pt/pt/inicio/inicio.aspx",2,"https://appls.portalautarquico.pt/DGALAplicacoes/",1,"http://www.portugal.gov.pt/pt/os-temas/reforma-administracao-local/reforma-administracao-local.aspx",2,"http://www.ine.pt","National Institute of Statistics","http://www.bportugal.pt","Bank of Portugal ","http://www.dgo.pt/execucaoorcamental/Paginas/Sintese-da-Execucao-Orcamental-Mensal.aspx",1,"http://www.dgo.pt/legislacao/Paginas/default.aspx",1,"http://www.dgo.pt/legislacao/Paginas/default.aspx",2,"EU regulations and national laws",0,3,"Twitter, Facebook, Youtube","por","eng","-","-",0,"SIGOFA","Sistema de Gestão Orçamental, Financeira e Administrativa / Budget, Financial and Administrative Management System","C","F",3,2003,"C+L",1,2,"Oracle","Web",3,"-","-","-","-","-","-","-","-","-","-","-","-","-","-","-",62,58,null,1,37,0.68996000000000002,0.64705000000000001,0.63778999999999997,0.60943000000000003,0.82269999999999999,33,0.71650000000000003,0.65359999999999996,0.6028,0.8931,null,"EU","OECD",null,null,"Portugal",5,1,1,1,2,0,null,null,null,null,null,18,69.230769230769226,"B",null,142,"Portugal","PRT",null,null,"http://www.portugal.gov.pt/",2,"http://www.portugal.gov.pt",0.63780000000000003,100,55,40,44,58,null,null,null,null,"http://www.igcp.pt",1833,"http://www.igcp.pt/gca/?id=567",2012,2,4,"-","-","-","-","https://www.portaldasfinancas.gov.pt/pt/home.action",1976,"e-Tax","e-Tax and other portals",2,"COTS","https://faturas.portaldasfinancas.gov.pt/",2006,3,2,"http://www.portaldasfinancas.gov.pt",1976,1953,0,"e-Customs / STADA","Electronic Customs Portal",2,"COTS","https://www.e-financas.gov.pt/de/jsp-dgaiec/main.jsp?body=/iec/menuAduaneiros.jsp",2012,3,3,1,1,"https://www.portaldasfinancas.gov.pt/pt/ES/inicio.action",2000,3,1,"http://www.portaldocidadao.pt/PORTAL/pt/informacao+geral/FAQ/certidoes_online/",2004,2,"http://www.portaldocidadao.pt/PORTAL/pt/Dossiers/DOS_saiba+como+usar+o+cartao+de+cidadao+em+servicos++online++do+portal.htm?passo=1",2007,3,648500,2,"http://laborsta.ilo.org/STP/guest",2008,"SIGOFA","Integrated Budget and Financial Managemen",2,"Oracle","http://www.rcc.gov.pt/Directorio/Temas/IG/Paginas/Sistema-Integrado-de-Gest%C3%A3o-Or%C3%A7amental-e-Financeira-(SIGOF).aspx",2003,3,2,"SIGOFA","Integrated Budget and Financial Managemen",2,"Oracle","http://www.rcc.gov.pt/Directorio/Temas/IG/Paginas/Sistema-Integrado-de-Gest%C3%A3o-Or%C3%A7amental-e-Financeira-(SIGOF).aspx",2003,3,2,"-","BASE","http://www.base.gov.pt/base2/en/html/portal/base.shtml ",2008,3,2,"http://www.base.gov.pt/base2/en/html/pesquisas/contratos.shtml?tipo=1 ","Portuguese Debt Agency",null,null,null,null,null,null,null,19,86.36363636363636,"A","HIC"]
[143,null,"Qatar","HIC",1870.0409999999999,150426.90615520257,80440,"http://www.mof.gov.qa","Qatar Ministry of Economy and Finance",0,"-",2,"http://www.mof.gov.qa/en/MinistryProjects/Pages/GFMIS-project.aspx",0,"-",0,"-",0,0,"-",0,0,0,"-",0,"-",0,null,"-",0,null,"-","-",0,null,"-",0,null,null,"-",0,null,"-",0,0,0,0,0,0,0,0,0,0,0,"-",0,"-",0,"-",0,"-",0,"http://www.qsa.gov.qa","Qatar Statistics Authority (QSA)","http://www.qcb.gov.qa ","Qatar Central Bank","-",0,"-",0,"-",0,"-",0,0,"-","ara","eng","-","-",0,"GFMIS","Government Financial Management Information System","C","T",2,2014,"C",1,2,"Oracle","CS",1,"-","-","-","-","-","-","-","-","-","-","-","-","-","-","-",0,"-",null,0,44,0.63614999999999999,0.60784000000000005,0.65354000000000001,0.58786000000000005,0.66710000000000003,48,0.64049999999999996,0.73860000000000003,0.45129999999999998,0.73160000000000003,"MNA",null,null,null,null,"Qatar",0,null,null,null,null,0,null,null,null,null,null,2,7.6923076923076925,"D",null,143,"Qatar","QAT",null,null,"http://portal.www.gov.qa",2,"http://portal.www.gov.qa",0.65349999999999997,91,61,42,47,59,null,null,null,null,"http://www.mof.gov.qa/en/Departments/UndersecretaryforFinancialAffairs/Pages/default.aspx",1960,"-","-",0,"-","-","-","-","-","http://www.mof.gov.qa",1960,"TAS","Tax Administration System",2,"COTS","http://www.mof.gov.qa/en/MinistryProjects/Pages/TAS-project.aspx","-",2,2,"http://www.customs.gov.qa",1940,1992,0,"Al-Nadeeb","Single Window",2,"COTS","https://www.ecustoms.gov.qa/qccsw/jsf/common/custExternalHome.jsf",2013,3,3,1,1,"-","-",0,0,"http://portal.www.gov.qa/wps/portal/services",2008,2,"https://idp.www.gov.qa/sconnect/faqs/#install",2008,3,64200,1,"http://unpan1.un.org/intradoc/groups/public/documents/un/unpan023181.pdf",2004,"GFMIS","Government Financial Management Information System",2,"Oracle","http://www.ad.gov.qa","-",2,2,"GFMIS","Government Financial Management Information System",2,"Oracle","http://www.ad.gov.qa","-",2,2,"-","Central Tenders Committee Website","http://www.ctc.gov.qa/main-en.aspx",2013,3,1,"http://www.ctc.gov.qa/tender-en.aspx",null,null,null,null,null,null,null,null,11,50,"B","HIC","MNA"]
[144,null,"Romania","UMIC",21390,169191.61953037689,7910,"http://www.mfinante.ro","Romania Ministry of Public Finance",2,"http://www.mfinante.ro/execbug.html?pagina=domenii",1,"http://discutii.mfinante.ro/static/10/Mfp/sistemedeplati/RoSTEPS_Presentation.pdf",1,"-",0,"-",0,0,"-",1,1,0,"-",1,"http://discutii.mfinante.ro/static/10/Mfp/buget2012/Ministerul_Finantelor_Publice.pdf",1,1,2001,1,0,3,2011,1,1,2006,1,2,1,2006,1,1,2004,1,1,1,0,0,1,1,0,1,0,0,"-",0,"-",0,"-",0,"-",1,"http://www.insse.ro","Romania National Institute of Statistics","http://www.bnro.ro","National Bank of Romania","-",0,"-",1,"http://www.mfinante.ro/rol.html?pagina=acasa",2,"-",0,2,"-","rom","-","-","-","-","BUDGET/TREZOR","Budget Preparation and Treasury Systems","C","F",3,2003,"C+L",1,1,"LDSW > Oracle","Web",3,"-","-","-","-","-","-","-","-","-","-","-","-","-","-","-",47,59,1,1,64,0.56315000000000004,0.47058,0.44094,0.43853999999999999,0.81,62,0.60599999999999998,0.51629999999999998,0.42320000000000002,0.87829999999999997,"ECA","EU",null,null,null,"Romania",0,null,null,null,null,0,null,null,null,null,null,16,61.53846153846154,"B",null,144,"Romania","ROU",null,null,"http://www.gov.ro",2,"http://www.e-guvernare.ro",0.44090000000000001,78,45,19,29,41,null,null,null,null,"http://www.mfinante.ro/trezorengl.html?pagina=domenii",1947,"http://discutii.mfinante.ro/static/10/Mfp/sistemedeplati/RoSTEPS_Presentation.pdf",2005,3,4,"-","-","-","-","http://www.anaf.ro",2003,"Web Services","Online services and forms",2,"COTS","http://www.anaf.ro",2010,3,2,"http://www.customs.ro",1947,1969,0,"e-Customs / ASYCUDA++","New Computerized Transit System; ECS; ASYCUDA++ and Romanian Customs Declaration Processing System (RCDPS)",2,"COTS","http://www.customs.ro/ro/e-customs.aspx",1998,3,2,1,0,"http://www.anaf.ro/anaf/internet/ANAF/informatii_publice/formular_sesizari/!ut/p/a1/hY_LDoIwEEW_xQVbptpAqrtSDA0xuiJCN6YkvAxSUiv8vsWw0ERxdnNzTu4MCEhBdHJoKmka1cl22oV_4Wvu8w3ZxKeABYiyrR_ywMOIeRbILIB-DEWfPqH7ySfHhDAbRHj2F4A__WcQSxVRiGdg4cQYRNWq_PVuRrsckwqELspCF9p9aBvXxvQ7BzloHEdXdrJ0tXLQN7xWdwPpGwb9LUnR1WuHA109AUJddf8!/dl5/d5/L2dBISEvZ0FBIS9nQSEh/",2008,3,0,"https://www.ghiseul.ro/",2008,2,"http://www.mcsi.ro/Minister/Domenii-de-activitate-ale-MCSI/Tehnologia-Informatiei/Servicii-electronice/Semnatura-electronica",2008,3,1723400,2,"http://laborsta.ilo.org/STP/guest",2008,"HRMIS","Human Resources Management Information System",2,"COTS","https://www.anfp.gov.ro/InstructiuniOut.aspx",2007,3,2,"RoSTEPS","Romanian State Treasury Electronic Payment System ",2,"COTS","http://discutii.mfinante.ro/static/10/Mfp/sistemedeplati/RoSTEPS_Presentation.pdf ",2005,3,2,"-","e-Licitatie","http://www.e-licitatie.ro ",2002,3,2,"http://www.e-licitatie.ro/Public/Common/Notice/CANotice/CANoticeList.aspx","Ministry of Economy and Finance",2,"DMFAS 6.0",null,1993,3,"MoF","4T",17,77.272727272727266,"A","UMIC","ECA"]
[145,null,"Russian Federation","UMIC",141930,1522273.551577142,10730,"http://www.minfin.ru","Ministry of Finance of the Russian Federation",2,"http://www.budget.gov.ru/",2,"http://www1.minfin.ru/ru/ebudget",3,"http://datamarts.roskazna.ru/index.php/infografika",1,"http://www.budget.gov.ru/data/opendata",0,1,"http://www.roskazna.ru/ob-ispolnenii-byudzhetov/ ",2,1,0,"-",1,"http://www1.minfin.ru/ru/budget/classandaccounting/",1,1,1997,1,1,3,2008,1,1,2013,1,2,1,1997,1,1,2007,1,1,1,0,0,1,1,1,1,1,1,"http://www.budget.gov.ru",1,"http://opengovdata.ru",0,"-",1,"http://www1.minfin.ru/ru/reforms/local_government/",2,"http://www.gks.ru","Russian State Committee for Statistics","http://www.cbr.ru","Central Bank of Russia","http://www.roskazna.ru/reports/eb.html",1,"http://www.garant.ru/products/ipo/prime/doc/12076379/ ",1,"http://www1.minfin.ru/ru/legislation/",2,"-",1,3,"-","rus","eng","-","-",0,"FTAS / eBudget","Federal Treasury Automation System","C","T",3,2011,"C+L",1,2,"Oracle (customized)","Web",2,"Jan 2007","Draft",1,"X","X","X","X","X","X","X","X","X","X",2.3888888888888888,2.4821428571428572,74,60,null,2,27,0.72958999999999996,0.68627000000000005,0.70865999999999996,0.64129999999999998,0.83879999999999999,27,0.73450000000000004,0.66010000000000002,0.6583,0.88500000000000001,"ECA",null,null,"APEC",null,"Russian Federation",3,1,1,null,1,0,null,null,null,null,"2013-05-08",23,88.461538461538453,"A",null,145,"Russian Federation","RUS",null,"DAD","http://www.gov.ru",2,"http://www.gosuslugi.ru",0.7087,91,77,51,35,63,null,null,null,null,"http://www.roskazna.ru/",1992,"http://www.roskazna.ru/polozhenie/",2004,3,4,24,"http://www.apec2012.ru/news/20120326/462480211.html",800,2012,"http://www.nalog.ru",1990,"e-Tax","e-Tax and other portals",2,"COTS","http://www.nalog.ru/rn77/about_fts/el_usl/",1995,3,2,"http://www.customs.ru",1865,1991,3,"UAIS / AS / CPS","Unified Automated Information System / Single Window",2,"COTS","http://rosteck.ru",2013,3,3,1,1,"https://service.nalog.ru/tax.do",2012,3,1,"https://oplatagosuslug.ru/",2012,2,"http://www.gosuslugi.ru/pgu/eds",2011,3,{"$f":"IFERROR(VLOOKUP($C147,'PS Employment'!$B$2:$N$107,12,FALSE)*1000,\"-\")","v":20745900},2,"http://laborsta.ilo.org/STP/guest",2009,"HRMIS","Human Resources Management Information System",2,"COTS","http://gossluzhba.gov.ru/Page/Index/AboutPortal","-",2,2,"FTAS / eBudget","Federal Treasury Automation System",2,"Oracle","http://www.roskazna.ru/sotrudnichestvo-s-ates/doc/%D0%91%D1%83%D0%BA%D0%BB%D0%B5%D1%82%20PEM%20PAL%20%D0%90%D0%BD%D0%B3%D0%BB.pdf",2011,3,2,"X","Zakaz RF","http://etp.zakazrf.ru ",2011,3,2,"http://etp.zakazrf.ru/contract/ContractsRegistry.aspx","The Central Bank of the Russian Federation",null,null,null,null,null,null,null,19,86.36363636363636,"A","UMIC","ECA"]
[146,null,"Rwanda","LIC",10942.95,6212.2967971552953,570,"http://www.minecofin.gov.rw","Rwanda Ministry of Finance and Economic Planning",1,"http://www.minecofin.gov.rw/node/511",1,"http://www.minecofin.gov.rw/webfm_send/2098",1,"-",0,"-",0,0,"-",1,1,1,"http://www.minecofin.gov.rw/index.php?id=155",0,"-",1,0,2011,1,0,3,2011,0,null,"-",0,null,null,"-",0,null,"-",1,1,0,1,0,1,1,0,1,0,0,"-",0,"-",0,"-",0,"-",0,"http://www.statistics.gov.rw","Rwanda National Institute of Statistics","http://www.bnr.rw","National Bank of Rwanda","-",0,"-",1,"http://www.minecofin.gov.rw/library/Laws%20and%20Regulations/Ministerial%20Instructions/Ministerial_instruction_on_IFMS_Rolllout.pdf",2,"-",0,1,"-","eng","-","-","-","-","SmartFMS","Integrated Financial Management Information System","C","F",3,2013,"C",1,1,"LDSW > Oracle","Web",3,"Nov 2010","Public",2,"A","A","A","C+","B+","D","D+","D+","B+","D+",2.7,2.9193548387096775,8,11,null,2,125,0.35887999999999998,0.50980000000000003,0.51180999999999999,8.2839999999999997E-2,0.48199999999999998,140,0.3291,0.33989999999999998,6.1400000000000003E-2,0.58609999999999995,"AFR",null,null,null,null,"Rwanda",0,null,null,null,null,0,null,null,null,null,null,8,30.76923076923077,"C",null,146,"Rwanda","RWA",null,"DAD","http://www.gov.rw",2,"http://www.gov.rw",0.51180000000000003,78,64,19,32,47,null,null,null,null,"http://www.minecofin.gov.rw/index.php?id=67&L=registration.register",1997,"http://main.pscbs.gov.rw/uploads/Final%20PEFA%20Report%20for%20the%20GoR%20072208.pdf",2006,2,4,"-","-","-","-","http://www.rra.gov.rw",1997,"SIGTAS","Standard Integrated Government Tax System",2,"SIGTAS","https://etax.rra.gov.rw/",2006,3,2,"http://www.rra.gov.rw",1997,1964,4,"CMS / ASYCUDA World","Single Window + Automated SYstem for CUstoms DAta",2,"ASYCUDA W","https://sw.gov.rw",2004,3,2,1,1,"https://etax.rra.gov.rw/",2013,3,0,"-","-",0,"http://www.wipo.int/wipolex/en/details.jsp?id=10873",2010,1,84000,1,"http://unpan1.un.org/intradoc/groups/public/documents/un/unpan023283.pdf",2004,"IPPS","Integrated Personnel and Payroll Information System",1,"LDSW","https://www.pefa.org/en/assessment/rw-nov10-pfmpr-public-en ",2009,3,2,"IPPS","Integrated Personnel and Payroll Information System",1,"LDSW","http://www.afdb.org/fileadmin/uploads/afdb/Documents/Publications/Rwanda%20Full%20PDF%20Country%20Note_01.pdf ",2009,3,1,"A","RPPA Website > KONEPS","http://rppa.gov.rw ",2008,2,1,"-","Ministry of Finance and Economic Planning",2,"DMFAS 6.0",null,1990,3,"MoF",4,15,68.181818181818173,"B","LIC","AFR"]
[147,null,"St. Kitts and Nevis","HIC",53.051000000000002,668.8971143274282,12610,"http://www.sknmof.com","Ministry of Finance and Sustainable Development",0,"-",1,"http://www.cartac.org/UserFiles/File/FMIS%20Workshop%20Sept%202009%20-%20Belize/INTEGRATION%20OF%20SYSTEM%20REFORM%20WITH%20BROADER%20PFM%20REFORM_antigua_StKitts_sessionfive.pdf",0,"-",0,"-",0,0,"-",0,0,0,"-",0,"-",0,null,"-",0,null,"-","-",0,null,"-",0,null,null,"-",0,null,"-",0,0,0,0,0,0,0,0,0,0,0,"-",0,"-",0,"-",0,"-",0,"-","Min of Finance and Sustainable Dev, Statistics Dept","http://www.eccb-centralbank.org","East Caribbean Central Bank","-",0,"-",0,"-",0,"-",0,2,"-","eng","-","-","-","-","FMIS","Financial Management Information System","C","F",3,2008,"C",1,2,"FITRIX","Web",3,"Dec 2009","Final",2,"X","X","X","X","X","X","X","X","X","X",2.15,2.25,"-","-",null,0,90,0.49795,0.11763999999999999,0.13385,0.63209000000000004,0.72789999999999999,81,0.5272,0.183,0.56479999999999997,0.83379999999999999,"LCR",null,null,null,null,"St. Kitts and Nevis",0,null,null,null,null,0,null,null,null,null,null,1,3.8461538461538463,"D",null,147,"St. Kitts and Nevis","KNA",null,null,"http://www.gov.kn",1,"http://www.gov.kn",0.13389999999999999,34,18,2,12,16,null,null,null,null,"http://www.sknmof.com/",1983,"http://www.oas.org/juridico/mla/en/kna/en_kna-int-text-const.pdf",1983,2,4,"-","-","-","-","https://www.sknird.com",1983,"SIGTAS","Standard Integrated Government Tax System",2,"SIGTAS","https://www.sknird.com/",1999,3,2,"http://www.skncustoms.com",1983,"-","-","ASYCUDA World","Automated SYstem for CUstoms DAta",2,"ASYCUDA W","http://www.skncustoms.com/Asycuda_Home.aspx",2014,3,2,1,0,"https://www.sknird.com/vatlogin.aspx",2012,3,0,"-","-",0,"http://www.itu.int/ITU-D/projects/ITU_EC_ACP/hipcar/in-country_assistance/St_Kitts_Nevis/E-transactions/D-Mukasa_Presentation-E-Transactions-Amendments.pdf",2011,1,{"$f":"IFERROR(VLOOKUP($C149,'PS Employment'!$B$2:$N$107,12,FALSE)*1000,\"-\")","v":"-"},{"$f":"IFERROR(VLOOKUP($C149,'PS Employment'!$B$2:$N$107,13,FALSE),\"0\")","v":"0"},"-","-","-","-",0,"-","http://www.imf.org/external/pubs/ft/scr/2014/cr1486.pdf","-",0,0,"-","-",0,"-","http://www.imf.org/external/pubs/ft/scr/2014/cr1486.pdf","-",0,0,"X","-","http://www.imf.org/external/pubs/ft/scr/2014/cr1486.pdf","-",0,0,"-","Ministry of Finance",2,"CS-DRMS",null,1987,3,"MoF",4,10,45.454545454545453,"C","HIC","LCR"]
[148,null,"St. Lucia","UMIC",176,1200.6733908070132,6820,"http://www.finance.gov.lc","Min of Finance and Econ Affairs",1,"http://www.finance.gov.lc/resources/index/25 ",2,"http://www.finance.gov.lc/departments/view/48",1,"-",0,"-",0,0,"-",1,1,0,"-",0,"-",1,1,1999,0,null,"-","-",0,null,"-",0,null,null,"-",0,null,"-",1,1,0,0,0,1,1,0,0,0,0,"-",0,"-",0,"-",0,"-",0,"http://www.stats.gov.lc","St Lucia Gov Statistics Dept","http://www.eccb-centralbank.org","East Caribbean Central Bank","-",0,"-",0,"-",0,"-",0,2,"Facebook, Twitter, Linkedin","eng","-","-","-","-","FMIS","Financial Management Information System","C","F",3,2012,"C+L",2,2,"SmartStream","Web",3,"Feb 2010","Final",2,"X","X","X","X","X","X","X","X","X","X",1.8,2.225806451612903,"-","-",null,2,104,0.45247999999999999,0.27450000000000002,0.24409,0.40004000000000001,0.71330000000000005,90,0.51219999999999999,0.34639999999999999,0.38140000000000002,0.80889999999999995,"LCR",null,null,null,null,"St. Lucia",0,null,null,null,null,0,null,null,null,null,null,8,30.76923076923077,"C",null,148,"St. Lucia","LCA",null,null,"http://www.govt.lc",1,"http://www.govt.lc",0.24410000000000001,44,32,14,12,25,null,null,null,null,"http://www.finance.gov.lc/departments/view/48",1997,"http://www.govt.lc/constitution5",1997,2,4,"-","-","-","-","http://www.irdstlucia.gov.lc",1910,"SIGTAS","Standard Integrated Government Tax System",2,"SIGTAS","http://www.irdstlucia.gov.lc/about.htm",1997,3,2,"http://www.customs.gov.lc",1967,2005,0,"ASYCUDA World","Automated SYstem for CUstoms DAta",2,"ASYCUDA W","http://aw.customs.gov.lc/awclient/",2010,3,2,1,0,"https://efiling.govt.lc/taxefs/auth/Public/LogOn.aspx?ReturnUrl=%2ftaxefs%2fonline%2fdefault.aspx",2013,3,0,"-","-",0,"http://www.govt.lc/electronic_transactions",2007,1,8000,1,"http://unpan1.un.org/intradoc/groups/public/documents/un/unpan023202.pdf",2011,"FMIS","Financial Management Information System",2,"SmartStream","http://unpan1.un.org/intradoc/groups/public/documents/tasf/unpan024904.pdf",2011,3,2,"FMIS","Financial Management Information System",2,"SmartStream","http://unpan1.un.org/intradoc/groups/public/documents/tasf/unpan024904.pdf",2012,3,2,"X","e-PPS","https://procurement.oecs.org/epps/home.do",2012,1,0,"-","Ministry of Finance, Economic Affairs and National Development",2,"CS-DRMS",null,1988,3,"MoF",null,15,68.181818181818173,"B","UMIC","LCR"]
[149,null,"St. Vincent and the Grenadines","UMIC",109.36499999999999,663.85059934836397,6070,"http://www.finance.gov.vc","Min of Finance and Econ Planning",1,"http://www.finance.gov.vc/index.php?option=com_content&view=section&layout=blog&id=21&Itemid=103",1,"http://www.caricad.net/UserFiles/File/casestudysvg.pdf",1,"-",0,"-",0,0,"-",0,0,0,"-",0,"-",1,1,2005,0,null,"-","-",0,null,"-",0,null,null,"-",0,null,"-",0,0,0,0,0,0,0,0,0,0,0,"-",0,"-",0,"-",0,"-",0,"http://stats.gov.vc","Min of Finance and Econ Planning, Statistics Office","http://www.eccb-centralbank.org","East Caribbean Central Bank","-",0,"-",0,"-",0,"-",0,0,"-","eng","-","-","-","-","SIGFIS","Standardised Integrated Government Financial Information System","C","F",3,2012,"C+L",2,2,"SmartStream","Web",3,"Sep 2006","Final",1,"X","X","X","X","X","X","X","X","X","X",2.3125,2.6666666666666665,"-","-",null,0,113,0.41577999999999998,0.15686,0.15748000000000001,0.38103999999999999,0.70879999999999999,85,0.51770000000000005,0.31369999999999998,0.46970000000000001,0.76959999999999995,"LCR",null,null,null,null,"St. Vincent and the Grenadines",0,null,null,null,null,0,null,null,null,null,null,5,19.230769230769234,"D",null,149,"St. Vincent and the Grenadines","VCT",null,null,"http://www.gov.vc",1,"http://www.gov.vc",0.1575,50,16,2,9,18,null,null,null,null,"http://www.finance.gov.vc/index.php?option=com_content&view=article&id=55&Itemid=7",1979,"http://www.oas.org/dil/The_Saint_Vincent_Constitution_Order_1979.pdf",1979,2,4,"-","-","-","-","http://www.finance.gov.vc",1979,"SIGTAS","Standard Integrated Government Tax System",2,"SIGTAS","http://www.finance.gov.vc/index.php?option=com_content&view=article&id=168&Itemid=204",1997,3,2,"http://www.finance.gov.vc",1979,"-","-","ASYCUDA World","Automated SYstem for CUstoms DAta",2,"ASYCUDA W","http://www.gov.vc/images/stories/pdf_documents/svg%20e-gov%20development%20strategy%20report.pdf",1993,3,2,1,0,"https://etaxsvg.gov.vc/taxefs/auth/Public/LogOn.aspx?ReturnUrl=%2ftaxefs%2fonline%2fdefault.aspx",2013,3,0,"-","-",0,"http://www.oas.org/juridico/spanish/cyb_svg_electronic_act_2007.pdf",2007,1,41000,1,"http://www.caricad.net/UserFiles/File/casestudysvg.pdf",2006,"SIGFIS","Standardised Integrated Government Financial Information System",2,"SmartStream","http://reform.gov.bb/page/external/Smartstream.pdf",2012,3,2,"SIGFIS","Standardised Integrated Government Financial Information System",2,"SmartStream","http://reform.gov.bb/page/external/Smartstream.pdf",2012,3,2,"X","e-PPS","https://procurement.oecs.org/epps/home.do",2012,1,0,"-",null,2,"CS-DRMS",null,1988,3,"MoF",null,15,68.181818181818173,"B","UMIC","LCR"]
[150,null,"Samoa","LMIC",183.874,580.49952469131551,3160,"http://www.mof.gov.ws","Samoa Ministry of Finance",2,"http://www.mof.gov.ws/Services/tabid/5757/language/en-US/Default.aspx",1,"http://www.mof.gov.ws/Portals/195/ACCOUNTS/Part_B.pdf",1,"-",0,"-",0,0,"-",1,1,0,"-",0,"-",1,1,2008,1,0,3,2010,0,null,"-",0,null,null,"-",0,null,"-",1,1,0,0,0,1,1,0,0,1,1,"http://www.mof.gov.ws/Services/Procurement/tabid/5587/language/en-US/Default.aspx",0,"-",0,"-",0,"-",0,"http://www.spc.int/prism/country/ws/stats","Samoa Statistical Services Division","http://www.cbs.gov.ws","Central Bank of Samoa","-",0,"-",1,"http://www.mof.gov.ws/AboutUs/WhatweDo/tabid/5649/language/en-US/Default.aspx",2,"GFS 2001",0,2,"-","eng","-","-","-","-","FMIS","Financial Management Information System","C","F",3,2006,"C+L",1,2,"FinanceOne","Web",3,"Apr 2010","Public",2,"B","B","C","D+","C","D","C+","D+","D+","C",2,2.0892857142857144,"-","-",null,0,111,0.42038999999999999,0.39215,0.24409,0.26723000000000002,0.74990000000000001,114,0.43580000000000002,0.28100000000000003,0.19270000000000001,0.83350000000000002,"EAP",null,null,null,null,"Samoa",0,null,null,null,null,0,null,null,null,null,null,9,34.615384615384613,"C",null,150,"Samoa","WSM",null,null,"http://www.govt.ws",0,"-",0.24410000000000001,75,20,0,15,25,null,null,null,null,"http://www.mof.gov.ws/Services/Accounts/tabid/5650/Default.aspx",2001,"http://www.mof.gov.ws/AboutUs/PublicFinanceManagementReforms/tabid/6008/Default.aspx",2006,2,4,"-","-","-","-","http://www.revenue.gov.ws",1962,"RMS","Revenue Management System",2,"Data Torque","http://www.mof.gov.ws/Portals/195/PEFA%20Report%20Assessment.pdf",2003,3,2,"http://www.revenue.gov.ws",1962,2001,4,"ASYCUDA World","Automated SYstem for CUstoms DAta",2,"ASYCUDA W","http://aw.revenue.gov.ws/",1999,3,2,0,0,"-","-",1,0,"-","-",0,"http://www.wipo.int/wipolex/en/details.jsp?id=7796",2008,1,3433,2,"http://www.psc.gov.ws/Publications/Reports/Annual%20Report%2008-10%20-%20final.pdf",2010,"HRMIS","Human Resource Management Information System",2,"COTS","http://www.psc.gov.ws/hrmis.htm ",1998,3,2,"FMIS","Finance One",2,"COTS","http://www.mof.gov.ws/Services/SystemSupportandServices/FinanceOne(FMIS)/tabid/8582/Default.aspx",2005,3,2,"C","MoF Website","http://www.mof.gov.ws",2010,2,1,"-",null,2,"CS-DRMS",null,1989,3,"MoF",null,14,63.636363636363633,"B","LMIC","EAP"]
[151,null,"San Marino","HIC",31.734999999999999,1900,59870.805104773906,"http://www.finanze.sm","Ministry of Finance and Budget",1,"http://www.finanze.sm/on-line/Home/docCatArchivionormeecircolari.24000787.1.15.1.html",1,"http://www.altalex.com/index.php?idnot=63379",1,"-",0,"-",0,0,"-",1,1,0,"-",0,"-",1,0,2011,1,0,3,2011,0,null,"-",0,null,null,"-",0,null,"-",1,1,0,0,0,1,0,0,1,0,1,"http://www.statistica.sm/on-line/Home/Pubblicazioni/docCatRelazioneeconomicostatisticaalbilanciodiprevisionedellostato.14000523.1.10.1.html",0,"-",0,"-",0,"-",1,"http://www.statistica.sm","San Marino Office of Economic Planning - Data Processing and Statistics","http://www.bcsm.sm ","Central Bank of the Republic of San Marino","-",0,"-",0,"-",2,"-",0,2,"-","ita","eng","-","-",0,"SIOPE","Sistema Informativo sulle Operazioni degli enti Pubblici / Information System on the Operations of Government Bodies","D","T",3,2006,"C",1,2,"SAP","Web",2,"-","-","-","-","-","-","-","-","-","-","-","-","-","-","-","-","-",null,"-",62,0.58225000000000005,0.19606999999999999,0.27559,0.63576999999999995,0.83540000000000003,52,0.63049999999999995,0.29409999999999997,0.6794,0.91790000000000005,null,"EUR",null,null,null,"San Marino",0,null,null,null,null,0,null,null,null,null,"2013-04-04",7,26.923076923076923,"C",null,151,"San Marino","SMR",null,null,"http://www.consigliograndeegenerale.sm",2,"http://www.sanmarino.sm/on-line/home/canali-tematici/servizi-al-cittadino.html",0.27560000000000001,56,39,5,15,27,null,null,null,null,"http://www.bcsm.sm/index.php?option=com_content&task=view&id=169&Itemid=577",1993,"http://www.consigliograndeegenerale.sm/contents/instance18/files/document/22881leggi_6439.pdf",2003,2,4,"-","-","-","-","http://www.finanze.sm",1988,"Web Services","Online services and forms",2,"COTS","https://www.pa.sm/",2010,3,2,"-","-","-","-","-","-",0,"-","-","-",0,0,1,"-","-","-",0,0,"-","-",0,"http://www.cc.sm/default.asp?id=362",2006,2,7700,2,"http://laborsta.ilo.org/STP/guest",2014,"-","-",0,"-","-","-",0,0,"-","-",0,"-","-","-",0,0,"-","-","http://www.finanze.sm/on-line/home/aree-tematiche/finanza-pubblica/bando-di-gara.html","-",0,0,"-",null,null,null,null,null,null,null,null,5,22.727272727272727,"D","HIC"]
[152,null,"São Tomé and Principe","LMIC",168.52600000000001,226.94274013936612,1350,"http://www.min-financas.st","Ministry of Planning and Finance / no website",2,"http://www.min-financas.st/modulo/do/oge.php",1,"https://www.imf.org/external/pubs/ft/scr/2014/cr1410.pdf",0,"-",0,"-",0,0,"-",1,1,1,"http://www.min-financas.st/pdf/oge/oge2014/orc_cid.pdf",0,"-",1,1,2010,0,null,"-","-",0,null,"-",1,4,1,2011,0,null,"-",1,0,0,0,0,0,0,0,0,0,0,"-",0,"-",0,"-",0,"-",1,"http://www.ine.st","Sao Tomé and Principe National Institute of Statistics","http://www.bcstp.st","Banco Central de S. Tomé e Príncipe","-",0,"-",0,"-",0,"-",0,1,"-","por","fre","eng","-",0,"e-SAFE","System of Financial Administration of the State","C","T",3,2012,"C",1,1,"LDSW","CS",2,"Jan 2010","Public",2,"B","C","C","D+","D","D","D+","D","D+","D",1.55,1.7666666666666666,29,0,null,0,169,0.22178999999999999,1.9599999999999999E-2,7.8700000000000003E-3,0.13976,0.51770000000000005,138,0.3327,0.1176,0.13739999999999999,0.74319999999999997,"AFR",null,null,null,null,"São Tomé and Principe",0,null,null,null,null,0,null,null,null,null,null,10,38.461538461538467,"C",null,152,"São Tomé and Principe","STP",null,null,"http://www.parlamento.st",0,"-",7.9000000000000008E-3,6,14,0,0,5,null,null,null,null,"http://www.min-financas.st/modulo/dt.php",1975,"http://www.min-financas.st/pdf/dc/DR%20Org%C3%A2nica%20da%20Direc%C3%A7%C3%A3o%20de%20Contabilidade%20P%C3%BAblica.pdf",2009,3,4,"-","-","-","-","http://www.min-financas.st",2001,"-","Forms and information",0,"-","-","-",0,1,"http://www.alfandegas.st",2001,2009,4,"ASYCUDA World","Automated SYstem for CUstoms DAta",2,"ASYCUDA W","http://unctad.org/en/PublicationsLibrary/dtlasycuda2011d1_en.pdf",1994,3,2,0,0,"-","-",1,0,"-","-",0,"-","-",0,{"$f":"IFERROR(VLOOKUP($C154,'PS Employment'!$B$2:$N$107,12,FALSE)*1000,\"-\")","v":"-"},{"$f":"IFERROR(VLOOKUP($C154,'PS Employment'!$B$2:$N$107,13,FALSE),\"0\")","v":"0"},"-","-","HRMIS","Human Resource Management Information System",1,"LDSW","http://www.pefa.org/en/assessment/st-jan10-pfmpr-report-public-en",2009,3,2,"e-SAFE","System of Financial Administration of the State",1,"LDSW","http://www.pefa.org/en/assessment/st-jan10-pfmpr-report-public-en",2012,3,2,"C+","MoF Website","http://www.min-financas.st/index.php/pt/concursos",2011,3,1,"http://www.min-financas.st/index.php/pt/concursos/category/109-encerrados",null,2,"DMFAS",null,1997,0,"MoF",0,11,50,"B","LMIC","AFR"]
[153,null,"Saudi Arabia","HIC",28082.541000000001,500542.9701508616,17820,"http://www.mof.gov.sa","Saudi Arabia Ministry of Finance",1,"http://www.mof.gov.sa/Arabic/DownloadsCenter/Pages/Budget.aspx",1,"http://www.mof.gov.sa/English/Pages/EgovernmentInitiative.aspx",1,"-",1,"http://www.mof.gov.sa/Arabic/DownloadsCenter/Pages/Budget.aspx",0,0,"-",1,0,0,"-",0,"-",1,1,2003,0,null,"-","-",0,null,"-",0,null,null,"-",0,null,"-",0,0,0,0,0,0,0,0,0,0,0,"-",1,"http://www.saudi.gov.sa/wps/portal/!ut/p/c4/04_SB8K8xLLM9MSSzPy8xBz9CP0os3iTMGenYE8TIwODUEsLA89QU69g11A_YwMTQ_3g1Dz9gmxHRQCO1nwy",0,"-",0,"-",0,"http://www.cdsi.gov.sa","Saudi Arabia  Central Department of Statistics and Information","http://www.sama-ksa.org","Saudi Arabian Monetary Agency","-",0,"-",1,"http://www.mof.gov.sa/Arabic/Roles/Pages/default.aspx",0,"-",0,1,"-","ara","eng","-","-",0,"GFMIS","Government Financial Management Information System","D","F",3,2008,"C+L",1,2,"Oracle","Web",2,"-","-","-","-","-","-","-","-","-","-","-","-","-","-","-",1,1,null,0,36,0.69001000000000001,0.56862000000000001,0.77164999999999995,0.55227000000000004,0.74609999999999999,41,0.66579999999999995,0.7974,0.43230000000000002,0.76770000000000005,"MNA",null,null,null,null,"Saudi Arabia",0,null,null,null,null,0,null,null,null,null,null,7,26.923076923076923,"C",null,153,"Saudi Arabia","SAU",null,null,"http://www.saudi.gov.sa",2,"http://www.saudi.gov.sa",0.77170000000000005,94,68,63,53,69,null,null,null,null,"http://www.mof.gov.sa/",1927,"http://www.imf.org/external/pubs/ft/scr/2012/cr1293.pdf",2015,1,"-","-","-","-","-","https://dzit.gov.sa",1950,"Web Services","Online services and forms",2,"COTS","https://dzit.gov.sa/e-sevices",2011,3,2,"http://www.customs.gov.sa",1926,1973,3,"Nebras","Customs Automation Solutions",2,"COTS","http://www.mof.gov.sa/english/Pages/interestcustoms.aspx",2003,3,2,1,0,"https://dzit.gov.sa/e-sevices",2012,3,1,"http://www.yesser.gov.sa/ar/RelatedLinks/Pages/sadad.aspx",2007,2,"http://www.ncdc.gov.sa/about-ncdc",2005,2,700000,1,"http://unpan1.un.org/intradoc/groups/public/documents/un/unpan023182.pdf",2004,"GFMIS","Government Financial Management Information System",2,"Oracle","http://www.mcs.gov.sa/Eservices/Pages/EgovermentServices.aspx",2008,3,1,"GFMIS","Government Financial Management Information System",2,"Oracle","http://www.mcs.gov.sa/Eservices/Pages/EgovermentServices.aspx",2008,3,2,"-","-","http://www.mof.gov.sa/Arabic/Contracts/Pages/default.aspx","-",0,0,"-",null,null,null,null,null,null,null,null,13,59.090909090909093,"B","HIC","MNA"]
[154,null,"Senegal","LMIC",12767.556,13714.078304488097,1070,"http://www.finances.gouv.sn","Senegal Ministry of the Economy and Finances",1,"http://www.finances.gouv.sn/les-nouveautes-du-site-du-ministere,4.html",2,"http://www.tresor.gouv.sn/index.php?option=com_content&view=article&id=198&Itemid=202",1,"-",0,"-",0,0,"-",1,1,0,"-",0,"-",1,1,2001,0,null,"-","-",0,null,"-",1,4,0,2006,1,0,2006,1,1,0,0,0,1,0,0,1,0,1,"http://www.marchespublics.sn/pmb/",0,"-",0,"-",0,"-",2,"http://www.ansd.sn","Senegal National Agency of Statistics and Demography","http://www.bceao.int ","Central Bank of West African States (BCEAO)","http://www.tresor.gouv.sn/",0,"-",1,"http://www.tresor.gouv.sn/index.php?option=com_content&view=article&id=116&Itemid=173",0,"-",0,3,"-","fre","eng","-","-",0,"ASTER / SIGFIP","Application des Services du Trésor en Réseau / Système Intégré de Gestion des Finances Publiques","C","T",3,2005,"C",1,1,"LDSW > Oracle","CS",1,"Jun 2011","Public",2,"C","B","C","B","C","D","B+","D+","D+","C",2.15,2.1774193548387095,10,3,null,1,151,0.26656999999999997,0.35293999999999998,0.30708000000000002,0.16436999999999999,0.32829999999999998,163,0.26729999999999998,0.34639999999999999,0.1283,0.3271,"AFR",null,null,null,null,"Senegal",0,null,null,null,null,0,null,null,null,null,null,10,38.461538461538467,"C",null,154,"Senegal","SEN",2009,null,"http://www.gouv.sn",1,"http://www.servicepublic.gouv.sn",0.30709999999999998,78,32,5,15,30,null,null,null,null,"http://www.tresor.gouv.sn/",1970,"http://www.imf.org/external/pubs/ft/scr/2014/cr1404.pdf",2015,1,"-","-","-","-","-","http://www.impotsetdomaines.gouv.sn",1960,"SIGTAS","Standard Integrated Government Tax System",2,"SIGTAS","http://www.impotsetdomaines.gouv.sn/fr/sigtas",2008,3,2,"http://www.douanes.sn",1962,1976,0,"Single Window > GAINDE ","Gestion automatisée des Informations douanières et des échanges",2,"COTS","http://www.gainde2000.sn/2014/en",2006,3,2,1,1,"http://www.impotsetdomaines.gouv.sn/fr/teleprocedures",2013,2,0,"-","-",0,"http://www.wipo.int/wipolex/fr/text.jsp?file_id=236001",2008,1,{"$f":"IFERROR(VLOOKUP($C156,'PS Employment'!$B$2:$N$107,12,FALSE)*1000,\"-\")","v":119098},2,"http://laborsta.ilo.org/STP/guest",2005,"GIRAFFE","Gestion intégrée des Ressources, Administrations et Fonctionnaires de l’Etat du Sénégal ",1,"LDSW","http://www.adie.sn/index.php/projet/girafe",2014,3,2,"SIGFIP","Système Intégré de Gestion des Finances Publiques",1,"LDSW","http://www.pefa.org/en/assessment/sn-jun11-pfmpr-public-en",2005,3,2,"B+","SIGMAP ","http://www.marchespublics.sn ",2008,3,1,"http://www.marchespublics.sn/index.php?option=com_attribution&task=listeavisattribution&Itemid=203 ",null,2,"DMFAS",null,1997,0,"MoF",0,13,59.090909090909093,"B","LMIC","AFR"]
[155,null,"Serbia","UMIC",7261,41287.209639311579,5690,"http://mfp.gov.rs","Serbia Ministry of Finance",2,"http://mfp.gov.rs/pages/issue.php?id=1568",2,"http://www.trezor.gov.rs/fmis-cir.html",1,"-",0,"-",0,0,"-",2,1,0,"-",0,"-",1,1,2008,1,1,3,2008,0,null,"-",1,2,1,2008,1,1,2008,1,1,1,0,0,1,1,1,1,1,0,"-",0,"-",0,"-",0,"-",0,"http://webrzs.stat.gov.rs/WebSite","Statistical Office of the Republic of Serbia","http://www.nbs.yu","National Bank of Serbia","-",1,"http://www.rjp.gov.rs/engleski/informator.html",1,"http://mfp.gov.rs/pages/issue.php?id=1578",1,"-",0,3,"-","srp","lat","eng","-",0,"FMIS + BPMIS","Financial Management Information System / Budget Preparation and Monitoring Information System","C","T",3,2008,"C+L",1,2,"SAP + LDSW","Web",2,"Nov 2010","Public",2,"B","B","A","C","A","A","A","A","C","D",3.1,2.7903225806451615,39,54,1,1,69,0.54715000000000003,0.41176000000000001,0.39369999999999999,0.46814,0.77959999999999996,51,0.63119999999999998,0.57520000000000004,0.47010000000000002,0.84840000000000004,"ECA",null,null,null,null,"Serbia",0,null,null,null,null,0,null,null,null,null,null,16,61.53846153846154,"B",null,155,"Serbia","SRB",null,null,"http://www.srbija.gov.rs",1,"http://www.euprava.gov.rs",0.39369999999999999,72,52,12,18,37,null,null,null,null,"http://www.trezor.gov.rs/index.php?language=en",2005,"http://www.trezor.gov.rs/uploads/file/Zakoni/Zakon%20o%20budzetskom%20sistemu.pdf",2009,3,4,"-","-","-","-","http://purs.gov.rs",1889,"e-Tax","e-Tax and other portals",1,"LDSW","https://eporezi.poreskauprava.gov.rs/user/login.html?back=/",2013,3,3,"http://www.carina.rs",1875,2001,3,"ISCS","Information System of Customs Services",1,"LDSW","http://www.euprava.gov.rs/eusluge/institucija?service=servicesForInstitution&institutionId=45",2010,3,2,1,1,"http://purs.gov.rs/e-porezi/informacije.html",2014,2,0,"http://www.euprava.gov.rs/eusluge/opis_usluge?generatedServiceId=1621",2011,2,"http://www.ca.posta.rs/elektronski_sertifikati.htm",2010,3,{"$f":"IFERROR(VLOOKUP($C157,'PS Employment'!$B$2:$N$107,12,FALSE)*1000,\"-\")","v":556100},2,"http://laborsta.ilo.org/STP/guest",2010,"PR","Personnel Registry",1,"LDSW","http://www.trezor.gov.rs/registar-zaposlenih-cir.html",2013,3,2,"FMIS","Financial Management Information System",2,"SAP","https://www.pefa.org/en/assessment/rs-nov10-pfmpr-public-en",2008,3,2,"B","Public Procurement Portal","http://portal.ujn.gov.rs",2013,3,2,"http://portal.ujn.gov.rs/Pretraga.aspx?tab=1 ","Ministry of Finance",null,null,null,null,null,null,null,16,72.727272727272734,"B","UMIC","ECA"]
[156,null,"Seychelles","UMIC",86,956.89013247091282,11130,"http://www.statehouse.gov.sc","Ministry of Finance",0,"-",1,"http://www.pefa.org/en/assessment/sc-jun11-pfmpr-public-en",0,"-",0,"-",0,0,"-",0,0,0,"-",0,"-",0,null,"-",0,null,"-","-",0,null,"-",0,null,null,"-",0,null,"-",0,0,0,0,0,0,0,0,0,0,0,"-",0,"-",0,"-",0,"-",2,"http://www.nsb.gov.sc","Seychelles National Statistics Bureau","http://www.cbs.sc","Central Bank of Seychelles","http://www.cbs.sc/govtbudgetdata.html",0,"-",0,"-",0,"-",0,0,"-","eng","-","-","-","-","VAM","Visual Accounting Mate","C","T",3,2008,"C",1,1,"LDSW","CS",2,"Jun 2011","Public",2,"C","A","B","C","D+","B","C+","C+","B","D",2.4500000000000002,2.5333333333333332,"-","-",null,0,81,0.51126000000000005,0.25490000000000002,0.33069999999999999,0.47205999999999998,0.73099999999999998,84,0.51919999999999999,0.33329999999999999,0.4037,0.82040000000000002,"AFR",null,null,null,null,"Seychelles",0,null,null,null,null,0,null,null,null,null,null,1,3.8461538461538463,"D",null,156,"Seychelles","SYC",null,null,"http://www.egov.sc",2,"https://eservice.egov.sc/eGateway/homepage.aspx",0.33069999999999999,53,30,7,47,32,null,null,null,null,"http://www.statehouse.gov.sc/static.php?content_id=5",1976,"http://www.seylii.org/sc/legislation/consolidated-act/188",2009,3,4,"-","-","-","-","http://www.src.gov.sc",1976,"CMS + e-Services","Client Management System (CMS) + Online services and forms",2,"COTS","https://eservice.egov.sc/eGateway/public/AllEServices.aspx?type=all",2006,3,2,"http://www.src.gov.sc",1976,2000,4,"ASYCUDA World","Automated SYstem for CUstoms DAta",2,"ASYCUDA W","https://eservice.egov.sc/eGateway/public/AllEServices.aspx?type=all",2007,3,2,1,0,"https://eservice.egov.sc/egateway/homepage.aspx",2010,2,0,"-","-",0,"http://www.src.gov.sc/pages/pressreleases/2013/ASYCUDAWorld.aspx",2013,3,{"$f":"IFERROR(VLOOKUP($C158,'PS Employment'!$B$2:$N$107,12,FALSE)*1000,\"-\")","v":16508},2,"http://laborsta.ilo.org/STP/guest",2008,"HRIS","Human Resources Information System)",1,"LDSW","http://www.pefa.org/en/assessment/sc-jun11-pfmpr-public-en",2012,3,2,"VAM","Visual Accounting Mate",1,"LDSW","https://www.pefa.org/en/assessment/sc-jun11-pfmpr-public-en ",2008,3,2,"B","National Tender Board","http://www.ntb.sc ",2011,3,1,"http://www.ntb.sc/index.php/tenders/awarded ",null,2,"CS-DRMS",null,1997,3,"Other",null,13,59.090909090909093,"B","UMIC","AFR"]
[157,null,"Sierra Leone","LIC",5997.4859999999999,2069.1021291361999,340,"http://www.mofed.gov.sl","Sierra Leone Ministry of Finance",1,"http://mofed.gov.sl/annualbudgetrep.htm",2,"http://mofed.gov.sl/pfmru1.htm#placeholder",1,"-",1,"http://mofed.gov.sl/linkingreports.htm",0,0,"-",1,0,1,"http://mofed.gov.sl/PUBLICATIONS/Citizens%20budget%20final.pdf",0,"-",1,0,2009,1,0,5,2009,0,null,"-",1,4,0,2009,0,null,"-",1,1,0,0,0,1,0,0,1,0,0,"-",0,"-",0,"-",1,"http://www.mofed.gov.sl/index.php?option=com_content&task=view&id=93&Itemid=129",0,"http://www.statistics.sl","Sierra Leone Statistics Online","http://www.bankofsierraleone-centralbank.org","Bank of Sierra Leone","-",0,"-",1,"http://www.mofed.gov.sl/index.php?option=com_content&task=view&id=91&Itemid=127",0,"-",0,3,"-","eng","-","-","-","-","IFMIS","Integrated Financial Management Information System","C","F",2,2009,"C",1,2,"FreeBalance","Web",2,"Dec 2010","Public",2,"C","A","B","C","B","A","B+","C+","C","D+",2.75,2.35,39,"-",null,1,186,0.13286000000000001,9.8030000000000006E-2,4.7239999999999997E-2,8.2110000000000002E-2,0.26919999999999999,186,0.15570000000000001,0.1699,3.95E-2,0.2576,"AFR",null,null,null,"F","Sierra Leone",0,null,null,null,null,0,null,null,null,null,null,10,38.461538461538467,"C",null,157,"Sierra Leone","SLE",null,"DAD","http://www.statehouse-sl.org",0,"-",4.7199999999999999E-2,13,16,5,0,8,null,null,null,null,"http://www.mofed.gov.sl",1991,"-","-",0,"-","-","-","-","-","http://www.nra.gov.sl",2002,"VIPS","Value Added Tax Information Processing System",1,"LDSW","http://www.crownagents.com/our-work/projects/detail/sierra-leone-national-revenue-service",2010,3,2,"http://www.nra.gov.sl",2002,1975,4,"ASYCUDA++","Automated SYstem for CUstoms DAta",2,"ASYCUDA ++","http://unctad.org/en/PublicationsLibrary/dtlasycuda2011d1_en.pdf",2010,3,2,1,0,"-","-",0,0,"-","-",0,"-","-",0,{"$f":"IFERROR(VLOOKUP($C159,'PS Employment'!$B$2:$N$107,12,FALSE)*1000,\"-\")","v":"-"},{"$f":"IFERROR(VLOOKUP($C159,'PS Employment'!$B$2:$N$107,13,FALSE),\"0\")","v":"0"},"-","-","HRMIS","IFMIS Human Resources Management Information System",2,"FreeBalance","http://www.hrmo.gov.sl/index.php?l=english&p=34&pn=What%20we%20do?",2008,3,2,"IFMIS Payroll","IFMIS Payroll Module",2,"FreeBalance","http://www.pefa.org/en/assessment/sl-dec10-pfmpr-public-en",2009,3,2,"C+","National Public Procurement Authority","http://www.publicprocurement.gov.sl ",2014,3,1,"http://www.publicprocurement.gov.sl/index.php/2013-05-18-13-54-52/bid-advertisement",null,2,"CS-DRMS",null,1993,3,"MoF",null,12,54.54545454545454,"B","LIC","AFR"]
[158,null,"Singapore","HIC",5183.7,222550.09546754885,42930,"http://www.mof.gov.sg","Singapore Ministry of Finance",2,"http://app.mof.gov.sg/singapore_budget_archives.aspx",2,"http://www.vital.gov.sg",2,"http://www.singaporebudget.gov.sg/budget_2013/revenue_expenditure/index.html#rev_est",0,"-",0,0,"-",2,1,2,"http://app.mof.gov.sg/data/cmsresource/eflyers/Rising%20Cost%20Flyer%202011.pdf",1,"http://www.singaporebudget.gov.sg/budget_2013/revenue_expenditure/toc.html",1,1,1996,1,1,5,2000,1,1,1996,1,4,1,1996,1,1,2006,1,1,"n/a",0,1,1,"n/a","n/a",1,1,1,"http://www.gebiz.gov.sg/",1,"http://data.gov.sg","n/a","-","n/a","-",3,"http://www.singstat.gov.sg","Singapore Department of Statistics","http://www.mas.gov.sg ","Monetary Authority of Singapore","http://www.data.gov.sg/common/search.aspx?a=MOF&ag=2",1,"http://www.data.gov.sg/common/search.aspx?a=MOF&ag=2",1,"http://app.mof.gov.sg/mission_vision_values.aspx",2,"http://www.singstat.gov.sg/publications/publications_and_papers/reference/mdscontent.html#public_finance",0,3,"-","eng","-","-","-","-","FMIS","Financial Management Information System","D","F",3,2012,"C+L",1,2,"SAP","Web",3,"-","-","-","-","-","-","-","-","-","-","-","-","-","-","-","-","-",null,3,3,0.90761999999999998,0.90195999999999998,0.99212,0.87927,0.85150000000000003,10,0.84740000000000004,1,0.69230000000000003,0.85,"EAP",null,null,"APEC",null,"Singapore",2,1,null,1,null,0,null,null,null,null,"2013-05-15",22,84.615384615384613,"A",null,158,"Singapore","SGP",null,null,"http://www.gov.sg",2,"http://www.egov.gov.sg",0.99209999999999998,100,89,88,71,87,null,null,null,null,"http://www.agd.gov.sg/services_treasury.html",1963,"http://statutes.agc.gov.sg/aol/search/display/view.w3p;ident=52db0858-2b00-4b42-b3d8-7d77e0b06356;page=0;query=DocId%3A%2216fb75f8-18de-438d-a559-c0b74a288e3d%22%20Status%3Ainforce%20Depth%3A0;rec=0#legis",1989,3,4,"-","-","-","-","http://www.iras.gov.sg",1992,"e-Tax","e-Tax and other portals + Inland Revenue Integrated System (IRIS)",2,"COTS","http://www.iras.gov.sg/irashome/eservices.aspx",1998,3,3,"http://www.customs.gov.sg",2003,1975,3,"TradeExchange + e-Customs","Single Window + e-Customs Portal",2,"COTS","https://www.tradexchange.gov.sg/tradexchange/default.portal",2007,3,3,1,1,"https://mytax.iras.gov.sg/ESVWeb/default.aspx",1998,3,1,"http://www.ecitizen.gov.sg/Pages/SearchResults.aspx?query=payment%20services",2005,2,"https://www.netrust.net/about.php",2005,3,{"$f":"IFERROR(VLOOKUP($C160,'PS Employment'!$B$2:$N$107,12,FALSE)*1000,\"-\")","v":125100},2,"http://laborsta.ilo.org/STP/guest",2009,"HRMS","Human Resource Management System",2,"SAP","http://www.vital.gov.sg/shines/HRMS.htm",2011,3,2,"HRMS","Human Resource Management System",2,"SAP","http://www.vital.gov.sg/shines/HRMS.htm",2011,3,2,"-","GeBIZ","https://www.gebiz.gov.sg/",2000,3,3,"https://www.gebiz.gov.sg/scripts/main.do?sourceLocation=openarea&select=tenderId ","AGD",null,null,null,null,null,null,null,21,95.454545454545453,"A","HIC","EAP"]
[159,null,"Slovak Republic","HIC",5440,87410.900231968088,16070,"http://www.finance.gov.sk","Ministrstvo Financií - Ministry of Finance, Slovakia",2,"http://www.finance.gov.sk/Default.aspx?CatID=60",2,"http://www.pokladnica.sk/sk/informacny-system-sp",1,"-",0,"-",0,0,"-",2,1,1,"http://www.rozpocet.sk/app/homepage",1,"http://www.finance.gov.sk/Default.aspx?CatID=6963",1,1,2005,1,1,3,2005,0,null,"-",1,4,1,2005,1,1,2005,1,1,1,0,1,1,1,1,1,1,1,"http://www.portal.gov.sk/Portal/sk/Default.aspx",1,"http://data.gov.sk",1,"http://www.finance.gov.sk/Default.aspx?CatID=7582",1,"http://www.finance.gov.sk/Default.aspx?CatID=5435",2,"http://portal.statistics.sk","Statistical Office of the Slovak Republic","http://www.nbs.sk","National Bank of Slovakia","http://www.informatizacia.sk/",1,"http://www.finance.gov.sk/Default.aspx?CatID=6",1,"http://www.finance.gov.sk/Default.aspx?CatID=3514",2,"-",0,3,"-","slo","eng","-","-",0,"FMIS","Financial Management Information System","D","F",3,2007,"C+L",1,2,"SAP + Oracle","Web",3,"-","-","-","-","-","-","-","-","-","-","-","-","-","-","-",67,57,1,2,51,0.61477999999999999,0.62744999999999995,0.48818,0.52963000000000005,0.82650000000000001,53,0.62919999999999998,0.50329999999999997,0.51470000000000005,0.86960000000000004,"ECA","EU","OECD",null,null,"Slovak Republic",1,null,1,null,null,0,null,null,null,null,"2013-05-03",18,69.230769230769226,"B",null,159,"Slovak Republic","SVK",null,null,"http://www.slovensko.sk",2,"https://www.slovensko.sk/sk/e-sluzby",0.48820000000000002,84,50,16,38,45,null,null,null,null,"http://www.pokladnica.sk",2002,"http://www.pokladnica.sk/_img/Documents/zakon/Z%C3%A1kon%20o%20%C5%A0P2013.pdf",2004,3,4,"-","http://pdf.usaid.gov/pdf_docs/PNADK595.pdf",120,2008,"https://www.drsr.sk",1993,"Web Services","Online services and forms",2,"COTS","https://www.financnasprava.sk/sk/elektronicke-sluzby/verejne-sluzby",2004,3,2,"http://www.financnasprava.sk",1993,1993,3,"EMCS + ISST","Excise Movement and Control System  + Integrated System for Tariff Administration",2,"COTS","https://www.financnasprava.sk/sk/elektronicke-sluzby/elektronicka-komunikacia/elektr-komunikacia-clo-emcs",2005,3,2,1,0,"https://www.drsr.sk/eSVAT/html/index.html",2005,2,1,"-","-",0,"http://www.nbusr.sk/sk/elektronicky-podpis/",2005,3,{"$f":"IFERROR(VLOOKUP($C161,'PS Employment'!$B$2:$N$107,12,FALSE)*1000,\"-\")","v":500500},2,"http://laborsta.ilo.org/STP/guest",2010,"HRMIS","Human Resources Management Information System",2,"COTS","http://informatizacia.sk/ustredny-portal-verejnej-spravy/6259s",2004,3,2,"PS","Payroll System",2,"COTS","http://www.rokovania.sk/File.aspx/ViewDocumentHtml/Mater-Dokum-96150?prefixFile=m_",2004,3,2,"-","EVO","https://evo.gov.sk ",2006,3,2,"https://evo.gov.sk ","Slovakian Debt and Liquidity Management Agency",null,null,null,null,null,null,null,16,72.727272727272734,"B","HIC","ECA"]
[160,null,"Slovenia","HIC",2052,48452.265009923365,23610,"http://www.mf.gov.si","Ministry of Finance of the Republic of Slovenia",2,"http://www.mf.gov.si/si/delovna_podrocja/proracun/izvrsevanje_proracuna/",1,"http://www.pempal.org/data/upload/files/2011/10/3a_volj-_budget-system-and-budget-preparation-procedures-in-slovenia_eng.pdf",1,"-",1,"http://www.mf.gov.si/si/delovna_podrocja/proracun/sprejeti_proracun/2013/sprejeti_proracun_za_leto_2013",1,1,"http://www.mf.gov.si/fileadmin/mf.gov.si/pageuploads/Prora%C4%8Dun/Izvrsevanje_proracuna/2011/PorociloRE_I-VI_2011.pdf",2,1,1,"http://www.mf.gov.si/si/delovna_podrocja/proracun/splosno_o_proracunu/dokumenti",1,"http://www.mf.gov.si/si/delovna_podrocja/proracun/splosno_o_proracunu/klasifikacije/",1,1,2004,1,1,2,2007,0,null,"-",1,2,1,2002,1,1,1995,1,1,1,0,0,1,1,1,1,1,1,"http://www.enarocanje.si/?podrocje=portal",0,"-",2,"http://www.mf.gov.si/si/delovna_podrocja/lokalne_skupnosti/priprava_proracunov_in_zakljucnih_racunov_obcinskih_proracunov/",1,"http://www.mf.gov.si/si/delovna_podrocja/lokalne_skupnosti/priprava_proracunov_in_zakljucnih_racunov_obcinskih_proracunov/",2,"http://www.stat.si","Statistical Office of the Republic of Slovenia","http://www.bsi.si","Bank of Slovenia","http://www.umar.gov.si",1,"http://www.mf.gov.si/si/o_ministrstvu/informacije_javnega_znacaja/",1,"http://www.mf.gov.si/si/zakonodaja_in_dokumenti/sprejeta_zakonodaja/",2,"-",0,3,"-","slv","eng","-","-",0,"SAPPrA+MFERAC","Financial Management Information System","D","F",3,1998,"C+L",1,2,"Oracle + LDSW","Web",3,"-","-","-","-","-","-","-","-","-","-","-","-","-","-","-",74,70,null,2,41,0.65054000000000001,0.39215,0.42519000000000001,0.61924999999999997,0.90720000000000001,25,0.74919999999999998,0.66669999999999996,0.65090000000000003,0.93,"ECA","EU","OECD",null,null,"Slovenia",1,null,1,null,null,0,null,null,null,null,"2013-04-15",20,76.923076923076934,"A",null,160,"Slovenia","SVN",null,null,"http://www.vlada.si",1,"http://e-uprava.gov.si/e-uprava/en/portal.euprava",0.42520000000000002,63,64,7,29,40,null,null,null,null,"http://www.ujp.gov.si/",2002,"http://www.mf.gov.si/en/about_the_ministry/direktorati/reasury_directorate/treasury_of_the_treasury_single_account/",2002,3,4,"-","http://www.oecd.org/slovenia/39997582.pdf","-","-","http://www.fu.gov.si",2014,"e-Davki","e-Tax and other portals",2,"SAP","http://edavki.durs.si",2003,3,2,"http://www.fu.gov.si",2014,1992,3,"e-Customs / SICIS","Slovenian Customs Information System",2,"COTS","http://www.carina.gov.si/si/e_carina/e_poslovanje/",2007,3,2,1,0,"http://edavki.durs.si/OpenPortal/Pages/FormProcedure/Intro.aspx",2004,2,1,"http://ujp-eplacila.gov.si/info/navodila",2012,2,"http://www.sigen-ca.si/pridobitev_fizicni.php",2004,3,{"$f":"IFERROR(VLOOKUP($C162,'PS Employment'!$B$2:$N$107,12,FALSE)*1000,\"-\")","v":233900},2,"http://laborsta.ilo.org/STP/guest",2010,"HRM","Human Resources Management",2,"SAP","http://help.sap.com/erp_hcm_ias2_2014_01/helpdata/en/C9/99D652293C0026E10000000A4450E5/frameset.htm",2003,3,2,"PS","Payroll System",2,"SAP","http://help.sap.com/erp_hcm_ias2_2014_01/helpdata/en/C9/99D652293C0026E10000000A4450E5/frameset.htm",2003,3,2,"-","ProcurementPortal","http://www.e-narocanje.si  ",2009,3,2,"http://www.e-narocanje.si/?podrocje=pregledobjav ","Ministry of Finance",null,null,null,null,null,null,null,16,72.727272727272734,"B","HIC","ECA"]
[161,null,"Solomon Islands","LMIC",552.26700000000005,615.23578431911096,1110,"http://www.mof.gov.sb","Ministry of Finance and Treasury",2,"http://www.mof.gov.sb/GovernmentFinances/Mediareleases.aspx",1,"http://ec.europa.eu/europeaid/what/economic-support/public-finance/documents/solomonislands_pefa_2008_en.pdf",1,"-",0,"-",0,0,"-",2,1,0,"-",0,"-",1,1,2010,1,1,5,2009,0,null,"-",1,4,1,2010,0,null,"-",1,1,0,1,1,1,1,0,1,1,0,"-",0,"-",0,"-",0,"-",0,"http://www.spc.int/prism/country/sb/stats","Solomon Islands National Statistics Office","http://www.cbsi.com.sb","Central Bank of Solomon ","-",0,"-",1,"http://www.mof.gov.sb/AboutUs/BudgetUnit.aspx",0,"-",0,2,"-","eng","-","-","-","-","FMIS","Financial Management Information System","C","F",3,2012,"C+L",1,2,"MS Dynamics AX","Web",3,"Dec 2012","Public",2,"C","A","B","C","C+","D","C+","B","D+","C+",2.4,2.13,"-","-",null,1,170,0.20871000000000001,7.843E-2,5.5109999999999999E-2,0.10084,0.47020000000000001,168,0.24160000000000001,0.13070000000000001,1.9800000000000002E-2,0.57430000000000003,"EAP",null,null,null,"F",{"$f":"C163","v":"Solomon Islands"},{"$f":"SUM(EA163:ED163)","v":0},null,null,null,null,{"$f":"SUM(EF163:EI163)","v":0},null,null,null,null,"2013-05-08",{"$f":"J163+L163+N163+P163+R163+S163+U163+V163+W163+Y163+AA163+AB163+AD163+AE163+AH163+AI163+AK163+AM163+AO163+AP163","v":13},{"$f":"EK163/26*100","v":50},{"$f":"IF(EL163<25,\"D\",IF(EL163<50,\"C\",IF(EL163<75,\"B\",\"A\")))","v":"B"},null,161,"Solomon Islands","SLB",null,"DAD","http://www.pmc.gov.sb",0,"-",5.5100000000000003E-2,19,14,2,3,9,null,null,null,null,"http://www.mof.gov.sb/AboutUs/TreasuryUnit.aspx",1978,"http://www.cbsi.com.sb/index.php?id=87",1978,2,4,"-","-","-","-","http://www.ird.gov.sb/Front/Front.aspx?ID=471",1965,"RMS","Revenue Management System",2,"Data Torque","http://www.datatorque.com/Article.aspx?Mode=1&ID=825",2010,3,2,"http://www.mof.gov.sb/AboutUs/CustomsDivision.aspx",1978,"-","-","ASYCUDA World","Automated SYstem for CUstoms DAta",2,"ASYCUDA W","http://www.asycuda.org/dispcountry.asp?name=Solomon%20Islands",2012,3,2,0,0,"-","-",1,0,"-","-",0,"-","-",0,{"$f":"IFERROR(VLOOKUP($C163,'PS Employment'!$B$2:$N$107,12,FALSE)*1000,\"-\")","v":"-"},{"$f":"IFERROR(VLOOKUP($C163,'PS Employment'!$B$2:$N$107,13,FALSE),\"0\")","v":"0"},"-","-","-","-",0,"-","-","-",0,0,"PS","Payroll Control System",2,"Aurion","http://www.pefa.org/en/assessment/sb-dec12-pfmpr-public-en",2009,3,2,"D+","MoF website","http://www.mof.gov.sb ",2010,3,1,"http://www.mof.gov.sb/ReportsNew/ProcurementTenders.aspx","Ministry of Finance and Treasury",2,"CS-DRMS",null,1989,3,"MoF",null,{"$f":"N163+CO163+FZ163+GL163+GQ163+HJ163+HR163+HX163","v":12},{"$f":"IH163/22*100","v":54.54545454545454},{"$f":"IF(II163<25,\"D\",IF(II163<50,\"C\",IF(II163<75,\"B\",\"A\")))","v":"B"},"LMIC","EAP"]
[162,null,"Somalia","LIC",9556.8729999999996,"-","-","http://www.mof.gov.so","Ministry of Finance",1,"http://www.mof.gov.so/budget-utilization-report-2/",1,"http://www.afdb.org/fileadmin/uploads/afdb/Documents/Project-and-Operations/SOMALIA%20-%20Country%20Brief.pdf",0,"-",0,"-",0,0,"-",1,0,0,"-",0,"-",0,null,"-",0,null,"-","-",0,null,"-",0,null,null,"-",0,null,"-",0,0,0,0,0,0,0,0,0,0,0,"-",0,"-",0,"-",0,"-",0,"-","Min of Natl Planning, Directorate of Statistics","http://www.somalbanca.org","Central Bank of Somalia","-",0,"-",0,"-",0,"-",0,1,"-","eng","-","-","-","-","TS","Treasury System","C","T",3,2013,"C",1,1,"LDSW","CS",1,"-","-","-","-","-","-","-","-","-","-","-","-","-","-","-","-","-",null,"-",193,1.387E-2,3.9210000000000002E-2,1.5740000000000001E-2,2.588E-2,0,190,6.4000000000000001E-2,0.183,8.9999999999999993E-3,0,"AFR",null,null,null,"F","Somalia",0,null,null,null,null,0,null,null,null,null,null,3,11.538461538461538,"D",null,162,"Somalia","SOM",null,"DAD","http://www.francais.somaligov.net",0,"-",1.5699999999999999E-2,6,16,0,0,6,null,null,null,null,"http://www.mof.gov.so/",2012,"http://www-wds.worldbank.org/external/default/WDSContentServer/WDSP/IB/2013/10/30/000104615_20131104113932/Rendered/PDF/Somalia0PFM0Ca000600PID0250Oct02013.pdf","-",0,"-","-","-","-","-","http://www.mof.gov.so/departments/revenue/",2012,"-","-",0,"-","-","-",0,1,"http://www.mof.gov.so/departments/revenue/",2012,2012,0,"-","-",0,"-","-","-",0,1,"-","-","-","-",0,"-","-","-",0,"-","-",0,{"$f":"IFERROR(VLOOKUP($C164,'PS Employment'!$B$2:$N$107,12,FALSE)*1000,\"-\")","v":"-"},{"$f":"IFERROR(VLOOKUP($C164,'PS Employment'!$B$2:$N$107,13,FALSE),\"0\")","v":"0"},"-","-","SHRM","Strategic Human Resource Management",2,"COTS","http://www.mof.gov.so/wp-content/uploads/2014/10/Somalia-PFM-Self-assessment-report-strategy-April-4-2013-Final.pdf","-",2,2,"SHRM","Strategic Human Resource Management",2,"COTS","http://www.mof.gov.so/wp-content/uploads/2014/10/Somalia-PFM-Self-assessment-report-strategy-April-4-2013-Final.pdf","-",2,2,"-","-","http://www.mof.gov.so/public-procurement-and-assets/","-",0,0,"-",null,null,null,null,null,null,null,null,7,31.818181818181817,"C","LIC","AFR"]
[163,null,"South Africa","UMIC",50586.756999999998,352037.99859013048,6960,"http://www.treasury.gov.za","South Africa National Treasury",2,"http://www.treasury.gov.za/documents/default.aspx",1,"http://oag.treasury.gov.za/Event%20Documentation/20120808%20Departmental%20CFO%20Forum/20120808%20-%206.2%20-%20Bobby%20Maake%20-%20IFMS%20Presentation.pdf",1,"-",1,"http://www.treasury.gov.za/documents/mtbps/2012/tables.aspx",0,0,"-",2,1,1,"http://www.treasury.gov.za/documents/national%20budget/2012/default.aspx",1,"http://scoa.treasury.gov.za/Pages/SCOADocuments.aspx",1,1,2000,1,1,3,1998,0,null,"-",1,4,1,1998,1,1,2001,1,1,0,0,0,1,1,0,1,0,0,"-",0,"-",0,"-",1,"http://www.treasury.gov.za/documents/provincial%20budget/default.aspx",2,"http://www.statssa.gov.za","Statistics South Africa","http://www.resbank.co.za","South African Reserve Bank","http://www.gcis.gov.za/",0,"-",1,"http://www.treasury.gov.za/nt/Top%20Structure%20Organisation.pdf",2,"-",0,3,"-","eng","-","-","-","-","IFMS","Integrated Financial Management System","C","F",3,2013,"C+L",1,2,"Oracle","Web",3,"Sep 2008","Public",1,"A","A","A","B","B+","A","C+","A","B+","D",3.35,3.3225806451612905,90,92,1,3,93,0.48687999999999998,0.33333000000000002,0.38582,0.34661999999999998,0.72819999999999996,101,0.4869,0.45750000000000002,0.22140000000000001,0.78169999999999995,"AFR",null,null,null,null,"South Africa",4,2,null,2,null,0,null,null,null,null,null,18,69.230769230769226,"B",null,163,"South Africa","ZAF",null,null,"http://www.gov.za",1,"http://www.gov.za",0.38579999999999998,75,43,12,24,37,null,null,null,null,"http://www.treasury.gov.za/",1910,"http://www.treasury.gov.za/legislation/PFMA/act.pdf",1999,3,4,"-","-","-","-","http://www.sars.gov.za",1997,"Web Services","Online services and forms",2,"COTS","http://www.sars.gov.za/ClientSegments/Businesses/Mod3rdParty/Pages/default.aspx",2001,3,2,"http://www.sars.gov.za",1997,1964,3,"iCBS","Interfront Customs Border Solutions processing system",2,"COTS","http://www.sars.gov.za/ClientSegments/Customs-Excise/AboutCustoms/Pages/Implementation-of-Interfront-Customs-Border-Solution.aspx",2013,3,2,1,0,"http://www.sarsefiling.co.za/",2007,3,1,"https://www.virtualpostoffice.co.za/vpo/General/html/index1.html",2011,1,"http://www.saaa.gov.za/index.php/about-saaa/background.html",2012,2,{"$f":"IFERROR(VLOOKUP($C165,'PS Employment'!$B$2:$N$107,12,FALSE)*1000,\"-\")","v":1569213},2,"http://laborsta.ilo.org/STP/guest",2006,"PERSAL","Integrated Human Resource, Personnel and Salary System",1,"LDSW","http://www.pmg.org.za/report/20100824-national-treasury-department-public-service-admin-persal-system-brief ",1992,3,2,"PERSAL"," Integrated Human Resource, Personnel and Salary System",1,"LDSW","http://www.westerncape.gov.za/text/2003/chapter_4_part_2_financial_management.pdf ",1992,3,2,"D+","National Treasury Website","http://www.treasury.gov.za ",2002,3,1,"http://www.treasury.gov.za/divisions/ocpo/ostb/contracts/default.aspx ","South African Asset & Liability Management Branch",2,"CS-DRMS",null,2002,3,"MoF",null,16,72.727272727272734,"B","UMIC","AFR"]
[164,null,"South Sudan","LMIC",10314.021000000001,19170,1858.6349591492976,"http://www.goss.org","Ministry of Finance & Economic Planning",1,"http://www.goss-online.org/magnoliaPublic/en/ministries/Finance/Annual-Budgets.html",1,"http://www.sudantribune.com/South-Sudan-launches-electronic,39069",1,"-",0,"-",0,0,"-",1,0,0,"-",0,"-",1,1,2006,0,null,"-","-",0,null,"-",0,null,null,"-",0,null,"-",1,1,1,0,0,1,1,0,1,0,0,"-",0,"-",0,"-",1,"http://www.goss-online.org/magnoliaPublic/en/Independant-Commissions-and-Chambers/Local-Government-Board-.html",0,"http://www.ssnbs.org","National Bureau of Statistics","-","Central Bank of South Sudan","-",0,"-",1,"http://www.goss-online.org/magnoliaPublic/en/ministries/Finance.html",0,"-",0,1,"-","eng","-","-","-","-","FMIS","Financial Management Information System","C","F",2,2013,"C",1,2,"FreeBalance","Web",2,"May 2012","Public",1,"B","B","C","D+","D","D","C+","D+","D+","C",1.9,1.7413793103448201,"-","-",null,"-",185,0.14183999999999999,5.8819999999999997E-2,7.8700000000000003E-3,1.4109999999999999E-2,0.40350000000000003,175,0.22389999999999999,0.14380000000000001,7.2499999999999995E-2,0.45550000000000002,"AFR",null,null,null,"F","South Sudan",0,null,null,null,null,0,null,null,null,null,"2013-04-30",6,23.076923076923077,"D",null,164,"South Sudan","SSD",2010,null,"http://www.goss.org",0,"-",7.9000000000000008E-3,16,5,2,0,5,null,null,null,null,"http://www.goss.org/index.php/ministries/finance",2011,"http://www.grss-mof.org/wp-content/uploads/2014/03/APPROPRIATION_SUPPLEMENTARY-BILL.pdf",2015,1,"-","-","-","-","-","http://www.goss.org/index.php/ministries/finance",2011,"-","-",0,"-","-","-",0,1,"http://www.ss-cs.org",2011,2013,0,"-","-",0,"-","-","-",0,1,0,"-","-","-",0,0,"-","-",0,"-","-",0,{"$f":"IFERROR(VLOOKUP($C166,'PS Employment'!$B$2:$N$107,12,FALSE)*1000,\"-\")","v":"-"},{"$f":"IFERROR(VLOOKUP($C166,'PS Employment'!$B$2:$N$107,13,FALSE),\"0\")","v":"0"},"-","-","HRIS","Human resource information system ",1,"LDSW","https://www.pefa.org/en/assessment/ssd-may12-pfmpr-public-en ",2010,3,2,"SSEPS","South Sudan Electronic Payroll System ",1,"LDSW","https://www.pefa.org/en/assessment/ssd-may12-pfmpr-public-en ",2010,3,2,"D","-","http://www.goss.org ","-",0,0,"-",null,null,null,null,null,null,null,null,9,40.909090909090914,"C","LMIC","AFR"]
[165,null,"Spain","HIC",46235,1428303.3355976345,30890,"http://www.minhap.gob.es","Ministry of Finance and Public Administration",2,"http://www.minhap.gob.es/en-GB/Estadistica%20e%20Informes/Paginas/estadisticaseinformes.aspx",2,"http://www.oficinavirtual.pap.minhap.gob.es/sitios/OficinaVirtual/en-GB/CatalogoSistemasInformacion/Paginas/ListadoSIExternosUA.aspx?lenguaje=EN&perfil=5",2,"http://servicioswebbis.meh.es/apps/entidadeslocales/",1,"http://servicioswebbis.meh.es/apps/entidadeslocales/",1,1,"http://www.igae.pap.minhap.gob.es/sitios/igae/es-ES/InformesCuentas/Informes/Paginas/publicaciones.aspx",2,1,0,"-",1,"http://www.minhap.gob.es/Documentacion/Publico/NormativaDoctrina/Contabilidad%20Publica/ORDENES%20MINISTERIALES/ORDEN%20de%201%20de%20febrero%20de%201996%20documentos%20contables.pdf",1,1,1996,1,1,4,2000,1,1,2000,1,2,1,2002,1,1,2005,1,1,1,1,0,1,1,1,1,1,0,"-",1,"http://datos.gob.es",0,"-",1,"http://www.minhap.gob.es/Documentacion/Publico/NormativaDoctrina/Contabilidad%20Publica/ORDENES%20MINISTERIALES/Orden%20EHA-1037-2010.pdf",0,"http://www.ine.es","Spain National Institute of Statistics","http://www.bde.es","Bank of Spain","-",1,"http://www.minhap.gob.es/es-ES/Paginas/Accesibilidad.aspx",1,"http://www.minhap.gob.es/es-ES/El%20Ministerio/Organigrama/Paginas/default.aspx",1,"COFOG + National Stds",0,3,"-","spa","eng","cat","glg",0,"SICOP II","Sistema de Información Contable para la Administración del Estado / Information System for State Accounting","D","F",3,2002,"C+L",1,1,"LDSW > Oracle","Web",3,"-","-","-","-","-","-","-","-","-","-","-","-","-","-","-",63,63,1,2,12,0.84097999999999995,0.78430999999999995,0.94488000000000005,0.66288000000000002,0.91520000000000001,23,0.77700000000000002,0.75819999999999999,0.63180000000000003,0.94089999999999996,null,"EU","OECD",null,null,"Spain",9,3,1,3,2,13,3,5,4,1,"2013-04-22",23,88.461538461538453,"A",null,165,"Spain","ESP",null,null,"http://www.lamoncloa.gob.es",2,"http://www.060.es/060_Home/ServiciosLinea.html",0.94489999999999996,100,93,70,71,83,null,null,null,null,"http://www.tesoro.es/EN/index.asp",1714,"http://www.tesoro.es/sp/organizacion/organiza2.asp",1999,3,4,"-","-","-","-","http://www.agenciatributaria.es",1992,"e-Tax","e-Tax and other portals + Inland Revenue Integrated System (IRIS)",2,"COTS","https://www.agenciatributaria.gob.es/AEAT.sede/Inicio/Inicio.shtml",1999,3,2,"http://www.agenciatributaria.es",1992,1952,0,"EDI + Web Services","Eletronic Data Interchange",2,"COTS","https://www.agenciatributaria.gob.es/AEAT.sede/en_gb/Inicio/Procedimientos_y_Servicios/Aduanas/Aduanas.shtml",1999,3,2,1,0,"https://www.agenciatributaria.gob.es/AEAT.sede/Inicio/Inicio.shtml",1999,3,1,"http://www.060.es/060_Home/ServiciosLinea.html",2006,2,"http://firmaelectronica.gob.es",2011,3,{"$f":"IFERROR(VLOOKUP($C167,'PS Employment'!$B$2:$N$107,12,FALSE)*1000,\"-\")","v":3129600},2,"http://laborsta.ilo.org/STP/guest",2010,"FUNCIONA","Servinómina / Portal of Public Employees",1,"LDSW","http://administracionelectronica.gob.es/ctt/funciona/infoadicional#.VG0kYIHESSo","-",3,1,"LisNom HAB / Isla","CS Payroll / Information system for the preparation of the payroll of pensioners",1,"LDSW","http://www.oficinavirtual.pap.minhap.gob.es/sitios/oficinavirtual/en-GB/CatalogoSistemasInformacion/Paginas/ListadoSIExternos.aspx?perfil=certificados&lenguaje=EN ","-",3,1,"-","Contratacion","https://contrataciondelestado.es ",2009,3,2,"https://contrataciondelestado.es ","Spanish Ministry of Finance",null,null,null,null,null,null,null,16,72.727272727272734,"B","HIC"]
[166,null,"Sri Lanka","LMIC",20869,53832.394518182315,2580,"http://www.treasury.gov.lk","Sri Lanka Ministry of Finance and Planning",1,"http://www.erd.gov.lk/publication.html",2,"http://www.erd.gov.lk/publicweb/SAD/SAD_index.html",1,"-",0,"-",0,0,"-",1,0,0,"-",1,"http://www.nbd.gov.lk/BOM/nbd/budgetestimates2012.htm",1,1,2007,1,0,4,2006,1,0,2008,1,4,1,2007,1,1,2007,1,1,1,0,0,1,1,1,1,0,0,"-",0,"-",1,"http://thirddimension.in/agaoa/resourcematerial/current/Experience%20of%20Sri%20Lanka%20in%20Computerization%20of%20Government%20Accounts.pdf",1,"http://www.sad.gov.lk/EPPRM/sad/cgas.htm",3,"http://www.statistics.gov.lk","Sri Lanka Department of Census and Statistics","http://www.cbsl.gov.lk ","Central Bank of Sri Lanka","http://203.94.72.18/sata/",0,"-",1,"http://www.nbd.gov.lk/docs/gazat-duties-function/Powers-duties-func.pdf",0,"-",0,3,"-","tam","sin","eng","-",0,"CIGAS > ITMIS","Computerised Integrated Government Accounting System + Integrated Treasury Management Information System","C","F",3,1995,"C",1,1,"LDSW","CS",3,"Jan 2013","Final",1,"X","X","X","X","X","X","X","X","X","X","-","-",46,67,null,2,74,0.54176000000000002,0.64705000000000001,0.65354000000000001,0.23411999999999999,0.73760000000000003,115,0.43569999999999998,0.37909999999999999,0.19220000000000001,0.73570000000000002,"SAR",null,null,null,null,"Sri Lanka",1,null,1,null,null,0,null,null,null,null,null,14,53.846153846153847,"B",null,166,"Sri Lanka","LKA",null,"DAD","http://www.president.gov.lk",2,"http://www.icta.lk/en/eservices.html",0.65349999999999997,88,73,28,53,59,null,null,null,null,"http://www.treasury.gov.lk/",1947,"http://www.treasury.gov.lk/general-treasury2-3/treasury-operations.html",2007,2,4,"-","http://www.treasury.gov.lk/images/depts/tod/docs/reports/oerformanceReport2013-eng%20.pdf",34,2013,"http://www.ird.gov.lk",1974,"RAMIS","Revenue Administration Management Information System (RAMIS) ",2,"SAP","http://www.treasury.gov.lk/itpro.html",2014,3,3,"http://www.customs.gov.lk",1809,1967,4,"ASYCUDA World + CDN","Automated SYstem for CUstoms Data + Cargo Dispatch Note (CDN) ",2,"ASYCUDA W","http://www.customs.gov.lk/asydownloads.html",1994,3,2,1,1,"-","-",1,0,"http://www.icta.lk/en/eservices.html",2012,2,"http://www.icta.lk/programmes/re-engineering-government/131-main-projects/898-lgn-certificate-authority.html",2013,2,{"$f":"IFERROR(VLOOKUP($C168,'PS Employment'!$B$2:$N$107,12,FALSE)*1000,\"-\")","v":1164100},2,"http://laborsta.ilo.org/STP/guest",2008,"HRMIS","Human Resources Management Information System",1,"LDSW","http://www.pubad.gov.lk/web/index.php?option=com_content&view=article&id=85&Itemid=176&lang=en",2012,3,2,"PS","Payroll System",1,"LDSW","http://www.pubad.gov.lk/web/index.php?option=com_content&view=article&id=90&Itemid=180&lang=en",2012,3,2,"X","-","http://www.pfd.gov.lk/","-",1,0,"-","Ministry of Finance",2,"CS-DRMS",null,1985,3,"MoF",null,14,63.636363636363633,"B","LMIC","SAR"]
[167,null,"Sudan","LMIC",34318.385000000002,58276.34154436252,1310,"http://www.mof.gov.sd","Sudan Ministry of Finnace",1,"http://www.mof.gov.sd/moazna.php",1,"http://www.afdb.org/fileadmin/uploads/afdb/Documents/Project-and-Operations/Sudan_-_Public_Financial_and_Macroeconomic_Management_Capacity_Building_-_Appraisal_Report.pdf",1,"-",0,"-",0,0,"-",1,0,0,"-",0,"-",1,0,2008,0,null,"-","-",0,null,"-",0,null,null,"-",0,null,"-",0,0,0,0,0,0,0,0,0,0,0,"-",0,"-",0,"-",0,"-",3,"http://cbs.gov.sd","Sudan Central Bureau of Statistics","http://www.bankofsudan.org","Bank of Sudan","http://www.bankofsudan.org/",0,"-",0,"-",0,"-",0,1,"-","ara","eng","-","-",0,"IFMIS","Integrated Financial Management Information System","C","F",2,2013,"C",1,2,"COTS","Web",2,"May 2010","Public",1,"C","C","C","D+","C+","D","D+","D+","B+","D",1.8,1.7407407407407407,"-",8,null,0,154,0.26062000000000002,0.27450000000000002,0.29132999999999998,0.18465999999999999,0.30590000000000001,165,0.26100000000000001,0.25490000000000002,7.2499999999999995E-2,0.45550000000000002,"AFR",null,null,null,"F","Sudan",0,null,null,null,null,0,null,null,null,null,null,5,19.230769230769234,"D",null,167,"Sudan","SDN",null,null,"http://www.sudan.gov.sd",1,"http://www.sudan.sd",0.2913,66,20,2,38,29,null,null,null,null,"http://www.mof.gov.sd",1956,"http://www.imf.org/external/pubs/ft/scr/2014/cr14203.pdf",2015,1,"-","-","-","-","-","http://www.mof.gov.sd/viewer.php?target=dept_guider&display=NationalRevenue",1956,"-","-",0,"-","-","-",0,1,"http://www.customs.gov.sd",1905,1960,4,"ASYCUDA World","Automated SYstem for CUstoms DAta",2,"ASYCUDA W","http://asyw.customs.gov.sd/",1992,3,2,1,0,"-","-",1,0,"-","-",0,"http://www.cbos.gov.sd/en/node/440",2007,1,330000,1,"https://www.pefa.org/en/assessment/sd-may10-cifa-public-en",2008,"-","-",0,"-","https://www.pefa.org/en/assessment/sd-may10-cifa-public-en","-",0,0,"-","-",0,"-","https://www.pefa.org/en/assessment/sd-may10-cifa-public-en","-",0,0,"D","-","http://www.mof.gov.sd ","-",0,0,"-",null,2,"DMFAS 5.3",null,1998,3,"CB","4T",7,31.818181818181817,"C","LMIC","AFR"]
[168,null,"Suriname","UMIC",529.41899999999998,4351,8218.4432368313192,"http://minfin.sr","Ministerie van Financiën - Suriname",0,"-",1,"http://www.freebalance.com/news/2014/suriname_pr2.asp",1,"-",0,"-",0,0,"-",1,0,0,"-",0,"-",0,null,"-",0,null,"-","-",0,null,"-",0,null,null,"-",0,null,"-",0,0,0,0,0,0,0,0,0,0,0,"-",0,"-",0,"-",0,"-",0,"http://www.statistics-suriname.org","Suriname General Bureau of Statistics","http://www.cbvs.sr","Central Bank of Suriname","-",0,"-",1,"http://www.gov.sr/sr/ministerie-van-financi%C3%ABn/over-financi%C3%ABn.aspx",0,"-",0,3,"-","dut","eng","-","-",0,"IFMIS","Integrated Financial Management Information System","C","F",3,2014,"C+L",1,2,"FreeBalance","Web",2,"Feb 2011","Draft",1,"X","X","X","X","X","X","X","X","X","X",1.65,1.75,"-","-",null,0,115,0.40445999999999999,0.13725000000000001,0.14172999999999999,0.39678000000000002,0.67490000000000006,116,0.43440000000000001,0.16339999999999999,0.35780000000000001,0.78210000000000002,"LCR",null,null,null,null,"Suriname",0,null,null,null,null,0,null,null,null,null,null,3,11.538461538461538,"D",null,168,"Suriname","SUR",null,null,"http://www.gov.sr",0,"-",0.14169999999999999,50,14,0,9,16,null,null,null,null,"http://minfin.sr/dirfin.htm",1975,"http://www.gov.sr/sr/ministerie-van-financi%C3%ABn/actueel/archief/2012/tsa-transparant-en-effici%C3%ABnt-voor-financieel-beleid-overheid-(1).aspx",2015,1,"-","-","-","-","-","http://www.gov.sr/sr/ministerie-van-financi%C3%ABn/directoraten/directoraat-belastingen.aspx",1869,"TMS","Tax Management System (to replace existing IT systems)",2,"COTS","http://idbdocs.iadb.org/wsdocs/getdocument.aspx?docnum=38053612",1993,2,2,"http://www.gov.sr/sr/ministerie-van-financi%C3%ABn/directoraten/directoraat-belastingen/douane.aspx",1864,"-","-","ASYCUDA World","Automated SYstem for CUstoms DAta",2,"ASYCUDA W","http://asycuda.customs.gov.sr:8080/awprod/",1996,3,2,0,0,"http://www.gov.sr/sr/ministerie-van-financi%C3%ABn/documenten/belastingaangiftebiljetten.aspx","-",1,0,"-","-",0,"-","-",0,37672,1,"http://www.fhrinstitute.org/mod/data/view.php?d=1&advanced=0&paging=&page=12",2009,"HRMIS","Human Resources Management Information System",1,"LDSW","http://www.gov.sr/sr/ministerie-van-biza/diensten/cbb.aspx",2009,3,2,"PS","Payroll System",2,"FreeBalance","http://www.freebalance.com/news/2014/suriname_pr2.asp",2014,3,2,"X","PEPR","http://www.freebalance.com/news/2014/suriname_pr2.asp",2014,2,1,"-",null,2,"CS-DRMS",null,2002,3,"MoF",null,13,59.090909090909093,"B","UMIC","LCR"]
[169,null,"Swaziland","LMIC",1067.7729999999999,3520.2826715770052,3300,"http://www.gov.sz","Swaziland Ministry of Finance",1,"http://www.gov.sz/index.php?option=com_content&view=article&id=702&Itemid=574",1,"http://eeas.europa.eu/delegations/swaziland/press_corner/all_news/news/2014/2014031702_en.htm",1,"-",0,"-",0,0,"-",1,0,0,"-",0,"-",1,0,2011,1,0,3,2011,0,null,"-",1,4,1,2011,1,1,2011,1,1,0,0,0,1,1,0,1,0,0,"-",0,"-",0,"-",0,"-",0,"http://www.gov.sz","Swaziland Central Statistical Office","http://www.centralbank.org.sz","The Central Bank of Swaziland","-",0,"-",0,"-",0,"-",0,3,"-","eng","-","-","-","-","IFMIS","Integrated Financial Management Information System","C","F",3,2005,"C",1,2,"COTS","Web",3,"Sep 2011","Public",2,"B","A","B","D+","D","D","C+","C+","C","NR",2.2777777777777777,2.25,"-","-",null,2,138,0.30558000000000002,0.15686,0.13385,0.16288,0.62,144,0.31790000000000002,0.14380000000000001,0.1125,0.69730000000000003,"AFR",null,null,null,null,"Swaziland",0,null,null,null,null,0,null,null,null,null,null,10,38.461538461538467,"C",null,169,"Swaziland","SWZ",null,null,"http://www.gov.sz",0,"-",0.13389999999999999,50,16,0,3,16,null,null,null,null,"http://www.gov.sz/index.php?option=com_content&view=article&id=417&Itemid=422",1986,"http://www.gov.sz/images/stories/Constitution%20of%20%20SD-2005A001.pdf",2005,2,4,"-","-","-","-","http://www.sra.org.sz",2008,"RMS","Revenue Management System",2,"Data Torque","http://www.sra.org.sz/index.php?option=com_content&view=article&id=137&Itemid=297",2012,3,2,"http://www.sra.org.sz",2008,1981,4,"ASYCUDA++","Automated SYstem for CUstoms DAta",2,"ASYCUDA ++","http://www.sra.org.sz/index.php?option=com_content&view=article&id=62&Itemid=171",2007,3,2,1,0,"-","-",1,0,"-","-",0,"-","-",0,{"$f":"IFERROR(VLOOKUP($C171,'PS Employment'!$B$2:$N$107,12,FALSE)*1000,\"-\")","v":"-"},{"$f":"IFERROR(VLOOKUP($C171,'PS Employment'!$B$2:$N$107,13,FALSE),\"0\")","v":"0"},"-","-","HRMIS","Human Resources Management Information System",1,"LDSW","http://www.gov.sz/index.php?option=com_content&view=article&id=384&Itemid=392",2010,2,1,"PS","Payroll System",1,"LDSW","https://www.pefa.org/en/assessment/sw-sep11-cifa-public-en ",2012,3,2,"C+","-","http://www.gov.sz ","-",1,0,"-",null,2,"CS-DRMS",null,1993,3,"MoF",null,12,54.54545454545454,"B","LMIC","AFR"]
[170,null,"Sweden","HIC",9453,502451.41675843683,53150,"http://www.sweden.gov.se","Finansdepartementet - Ministry of Finance, Sweden",2,"http://www.sweden.gov.se/sb/d/2106",2,"http://www.esv.se/Verktyg--stod/Hermes",2,"http://www.esv.se/Verktyg--stod/Hermes/",1,"http://www.esv.se/Verktyg--stod/Publikationer/2012/Tidsserier-statens-budget-mm-2011/",0,1,"http://www.esv.se/sv/Verktyg--stod/Publikationer/?q=*%2bhidden:meta:category:Publikationer&defcategory=Kategori:Publikationer&defso=2&uaid=",2,1,0,"-",0,"-",1,1,2001,1,1,3,2001,0,null,"-",1,4,1,2001,1,1,2001,1,1,1,1,0,1,1,1,1,1,1,"http://www.upphandlingsstod.se/, http://www.peppol.eu/",1,"http://www.opengov.se",0,"-",1,"http://www.esv.se/PageFiles/2720/accrual-accounting-in-swedish-central-government.pdf",3,"http://www.scb.se","Statistics Sweden","http://www.riksbank.com","Sveriges Riksbank ","http://www.esv.se/amnesomraden/Styrning/Budgetprocessen/",1,"http://www.sweden.gov.se/sb/d/2853/a/18096",1,"http://www.sweden.gov.se/sb/d/2062/a/20398, http://epp.eurostat.ec.europa.eu/portal/page/portal/government_finance_statistics/documents/SE-EDP_Inventory-20091001.pdf",0,"-",0,3,"-","swe","eng","-","-",0,"HERMES","Financial Management Information System","D","F",3,2006,"C+L",1,1,"LDSW","Web",3,"-","-","-","-","-","-","-","-","-","-","-","-","-","-","-",84,83,1,3,14,0.82250000000000001,0.60784000000000005,0.70077999999999996,0.88656000000000001,0.88019999999999998,7,0.8599,0.84309999999999996,0.82250000000000001,0.91410000000000002,null,"EU","OECD",null,null,"Sweden",2,2,null,null,null,0,null,null,null,null,null,19,73.076923076923066,"B",null,170,"Sweden","SWE",null,null,"http://www.regeringen.se",2,"https://www.verksamt.se",0.70079999999999998,91,70,44,50,63,null,null,null,null,"https://www.riksgalden.se/",1789,"https://www.riksgalden.se/en/aboutsndo/Cash-Management/The-central-government-payment-model/",1990,2,4,"-","-","-","-","http://www.skatteverket.se",2003,"e-Tax","e-Tax and other portals + Inland Revenue Integrated System (IRIS)",2,"COTS","http://www.skatteverket.se/privat/sjalvservice/allaetjanster.4.18e1b10334ebe8bc80009.html",2003,3,3,"http://www.tullverket.se",1636,1952,0,"TDS","Tull Data System / Customs Data System",2,"COTS","http://www.tullverket.se/innehallao/tjanster/tullverketsinternetdeklarationtidtjansten.4.4ab1598c11632f3ba92800010631.html",1998,3,3,1,1,"http://www.skatteverket.se/foretagorganisationer/moms/redovisabetalamoms.4.7459477810df5bccdd480006935.html",2001,3,1,"-","-",1,"http://www.steria.com/se/",2002,3,{"$f":"IFERROR(VLOOKUP($C172,'PS Employment'!$B$2:$N$107,12,FALSE)*1000,\"-\")","v":1294500},2,"http://laborsta.ilo.org/STP/guest",2010,"Statens Servicecenter","State’s Service Centre",1,"LDSW","http://www.statenssc.se/Sidor/default.aspx",2012,3,2,"Statens Servicecenter","State’s Service Centre",1,"LDSW","http://www.statenssc.se/VaraTjanster/Sidor/Ingen%20menyrubrik/Lonerelaterade-tj%C3%A4nster.aspx ",2012,3,2,"-","Avropa","http://www.avropa.se ",2011,3,1,"http://www.avropa.se/Upphandlingar ","Swedish National Debt Office",null,null,null,null,null,null,null,19,86.36363636363636,"A","HIC"]
[171,null,"Switzerland","HIC",7907,604104.81019643019,76400,"http://www.efd.admin.ch","Swiss Federal Department of Finance",2,"http://www.efv.admin.ch/",2,"http://www.efd.admin.ch/org/org/00582/00806/index.html?lang=de",1,"-",1,"http://www.efv.admin.ch/d/dokumentation/finanzberichterstattung/bundeshaushalt_sdds.php",0,0,"-",2,1,0,"-",0,"-",1,1,2001,1,1,3,2004,0,null,"-",1,4,1,2003,1,1,2009,1,1,1,0,0,1,1,1,1,1,1,"http://www.procure.ch",0,"-",0,"-",1,"http://www.fdk-cdf.ch/flyer_hrm2_d.pdf",0,"http://www.bfs.admin.ch","Swiss Federal Statistical Office","http://www.snb.ch","Swiss National Bank ","-",1,"http://www.admin.ch/ch/e/rs/152_31/a2.html",1,"http://www.efd.admin.ch/dokumentation/gesetzgebung/00570/index.html?lang=en",2,"System of National Accounts",0,3,"-","ger","fre","ita","eng",0,"FMIS","Financial Management Information System","D","F",3,2007,"C+L",1,2,"SAP","Web",3,"-","-","-","-","-","-","-","-","-","-","-","-","-","-","-","-","-",null,1,30,0.72670000000000001,0.37253999999999998,0.50392999999999999,0.81991999999999998,0.85619999999999996,15,0.81340000000000001,0.67320000000000002,0.87819999999999998,0.88880000000000003,null,"EUR","OECD",null,null,"Switzerland",1,null,1,null,null,3,null,1,2,null,null,17,65.384615384615387,"B",null,171,"Switzerland","CHE",null,"DAD","http://www.admin.ch",2,"https://www.ch.ch",0.50390000000000001,56,66,21,44,46,null,null,null,null,"http://www.snb.ch",1907,"http://www.bis.org/cpss/paysys/SwitzerlandComp.pdf",2001,2,4,"-","http://www.strategyand.pwc.com/media/file/Technology_of_Fiscal_Reform.pdf",160,2010,"http://www.estv.admin.ch",1915,"e-Tax","e-Tax and other portals + Inland Revenue Integrated System (IRIS)",2,"COTS","http://www.estv.admin.ch/dienstleistungen/index.html?lang=de",1998,3,3,"http://www.ezv.admin.ch",1849,1952,2,"E-DEC","e-Customs Portal",2,"COTS","http://www.ezv.admin.ch/zollanmeldung/05042/index.html?lang=de",1998,3,3,1,1,"http://www.getax.ch/",1998,3,0,"http://www.kmu.admin.ch/aktuell/00524/02440/02823/index.html?lang=fr",2012,2,"http://www.suisseid.ch/",2009,3,{"$f":"IFERROR(VLOOKUP($C173,'PS Employment'!$B$2:$N$107,12,FALSE)*1000,\"-\")","v":633956},2,"http://laborsta.ilo.org/STP/guest",2006,"ZIVI","Human Resources Management Information System",2,"COTS","https://www.zivi.admin.ch/de/die-zivi/","-",3,1,"FMIS","Financial Management Information System",2,"SAP","http://www.efd.admin.ch/org/org/00582/00806/index.html?lang=de",2007,3,1,"-","SIMAP","https://www.simap.ch ",2009,3,2,"https://www.simap.ch/shabforms/COMMON/search/searchForm.jsf?FMODE=SIMAP&category=OB ","Swiss Federal Finance Administration",null,null,null,null,null,null,null,17,77.272727272727266,"A","HIC"]
[172,null,"Syrian Arab Republic","LMIC",20820.311000000002,59150,2840.97581443428,"http://syrianfinance.gov.sy","Syria Ministry of Finance",0,"-",1,"http://ted.europa.eu/udl?uri=TED:NOTICE:220587-2007:TEXT:EN:HTML",0,"-",0,"-",0,0,"-",0,0,0,"-",0,"-",0,null,"-",0,null,"-","-",0,null,"-",0,null,null,"-",0,null,"-",0,0,0,0,0,0,0,0,0,0,0,"-",0,"-",0,"-",0,"-",2,"http://www.cbssyr.org","Syria Central Bureau of Statistics ","http://www.banquecentrale.gov.sy","Central Bank of Syria","http://www.egov.sy/egov/",0,"-",0,"-",0,"-",0,1,"-","ara","eng","-","-",0,"IFMIS","Integrated Financial Management Information System","C","F",3,2007,"C+L",1,1,"LDSW > MS SQL","Web",2,"Mar 2006","Final",1,"X","X","X","X","X","X","X","X","X","X",1.7222222222222223,2,"-","-",null,0,135,0.31341000000000002,9.8030000000000006E-2,0.15748000000000001,0.19924,0.58350000000000002,128,0.3705,0.2288,0.19520000000000001,0.68759999999999999,"MNA",null,null,null,"F","Syrian Arab Republic",0,null,null,null,null,0,null,null,null,null,null,1,3.8461538461538463,"D",null,172,"Syrian Arab Republic","SYR",null,null,"http://parliament.sy",1,"http://portal.egov.sy",0.1575,19,7,12,38,18,null,null,null,null,"http://syrianfinance.gov.sy/",1973,"https://www.imf.org/external/np/ms/2008/102908.htm","-",0,"-","-","-","-","-","http://syrianfinance.gov.sy",1946,"Web Services","Online services and forms",2,"COTS","http://www.syrianfinance.gov.sy/english/main/history-prospects/1874.html",2003,3,2,"http://www.customs.gov.sy",1946,1959,4,"ASYCUDA World","Automated SYstem for CUstoms DAta",2,"ASYCUDA W","http://asycuda.customs.gov.sy/",2007,3,2,1,1,"-","-",0,0,"-","-",0,"https://web.archive.org/web/20140703094412/http://moct.gov.sy/moct/?q=ar/node/69",2009,1,{"$f":"IFERROR(VLOOKUP($C174,'PS Employment'!$B$2:$N$107,12,FALSE)*1000,\"-\")","v":1402000},2,"http://laborsta.ilo.org/STP/guest",2008,"-","-",0,"-","-","-",0,0,"-","-",0,"-","-","-",0,0,"X","-","-","-",0,0,null,null,2,"DMFAS 5.3",null,2001,3,"CB",4,6,27.27272727272727,"C","LMIC","MNA"]
[173,null,"Taiwan, China","HIC",23268,470013.6,20200,"http://www.mof.gov.tw","Ministry of Finance ROC",2,"http://eng.dgbas.gov.tw/ct.asp?xItem=25458&ctNode=1969&mp=2",2,"http://eng.dgbas.gov.tw/lp.asp?ctNode=1969&CtUnit=1005&BaseDSD=7&mp=2",2,"http://web02.mof.gov.tw/njswww/WebProxy.aspx?sys=100&funid=defjspf2",0,"-",0,1,"http://web02.mof.gov.tw/njswww/WebProxy.aspx?sys=100&funid=defjspf2",1,1,0,"-",0,"-",0,null,"-",0,null,"-","-",0,null,"-",1,4,0,1989,0,null,"-",1,1,1,1,0,1,0,1,0,0,0,"-",0,"-",1,"http://eng.dgbas.gov.tw/lp.asp?CtNode=1913&CtUnit=979&BaseDSD=7&mp=2",1,"http://eng.dgbas.gov.tw/lp.asp?CtNode=2108&CtUnit=1039&BaseDSD=7&mp=2",3,"http://eng.stat.gov.tw","National Statistics (ROC)","http://www.cbc.gov.tw","Central Bank of the ROC","http://www.nta.gov.tw/en/03information/inf_b01_main.asp?bull_id=2619",0,"-",1,"http://www.mof.gov.tw/engweb/ct.asp?xItem=66089&CtNode=673&mp=2",0,"-",0,3,"-","chi","eng","-","-",0,"GBA","Government Budget Accounting Information Management System","C","F",3,2001,"C+L",1,1,"LDSW","Web",3,"-","-","-","-","-","-","-","-","-","-","-","-","-","-","-","-","-",null,"-","-","-","-","-","-","-","-","-","-","-","-","EAP",null,null,"APEC",null,"Taiwan, China",3,null,null,2,1,0,null,null,null,null,null,10,38.461538461538467,"C",null,173,"Taiwan, China","TWN",null,null,"http://www.gov.tw",2,"http://www.gov.tw","-","-","-","-","-","-",null,null,null,null,"http://www.nta.gov.tw/web/Eng/Default.aspx",1999,"http://www.nta.gov.tw/web/Announce/uptAnnounceEng.aspx?c0=165&p0=1608",2002,3,4,"-","-","-","-","http://www.dot.gov.tw",1950,"e-Tax","e-Tax and other portals",2,"COTS","http://www.etax.nat.gov.tw/etwen/Exhibitor_in_02.html",1998,3,2,"http://wwwcustoms.gov.tw",1854,"-","-","CPT","Single Window",2,"COTS","http://portal.sw.nat.gov.tw/PPL",2013,3,3,1,1,"http://www.etax.nat.gov.tw/etwmain/?orgId=FDC",1998,3,1,"http://www8.www.gov.tw/school/index.htm",2006,2,"http://moica.nat.gov.tw/index.html",2003,3,533645,1,"http://www.dgpa.gov.tw/ct.asp?xItem=8367&ctNode=321&mp=10",2010,"CSOIS","Civil Service Operations Information System",1,"LDSW","http://www.mocs.gov.tw/pages/services_list.aspx?Node=30&Index=2",1997,3,2,"CSOIS","Civil Service Operations Information System",1,"LDSW","http://www.mocs.gov.tw/pages/services_list.aspx?Node=30&Index=2",1997,3,2,"-","Government e-Procurement System","http://web.pcc.gov.tw",1999,3,2,"http://web.pcc.gov.tw/tps/pss/tender.do?method=goSearch&searchMode=common&searchType=basic ",null,null,null,null,null,null,null,null,19,86.36363636363636,"A","HIC","EAP"]
[174,null,"Tajikistan","LIC",6976.9579999999996,6077.9703151980912,870,"http://www.minfin.tj","Ministry of Finance of the Republic of Tajikistan",1,"http://minfin.tj/index.php?do=static&page=budget",1,"http://minfin.tj/reform.html",1,"-",0,"-",0,0,"-",1,1,0,"-",0,"-",1,1,2008,1,1,3,2008,0,null,"-",1,3,1,2009,0,null,"-",1,1,1,0,0,1,1,0,0,0,0,"-",0,"-",0,"-",0,"-",0,"http://www.stat.tj","Tajikistan State Statistical Committee","http://www.nbt.tj","National Bank of Tajikistan","-",0,"-",1,"http://minfin.tj/index.php?do=static&page=osn",0,"-",0,1,"-","tgk","rus","eng","-",0,"FMIS","Financial Management Information System","C","T",3,2007,"C+L",1,1,"LDSW","Web",1,"Nov 2012","Public",2,"B","A","C","D+","B+","D","C+","C+","D","C",2.2999999999999998,2.37,17,"-",null,1,129,0.33950999999999998,0.11763999999999999,6.2990000000000004E-2,0.23061999999999999,0.72489999999999999,122,0.40689999999999998,0.24179999999999999,0.1474,0.83130000000000004,"ECA",null,null,null,null,"Tajikistan",0,null,null,null,null,0,null,null,null,null,"2013-04-23",11,42.307692307692307,"C",null,174,"Tajikistan","TJK",null,"DAD","http://www.parlament.tj",0,"-",6.3E-2,31,7,2,3,10,null,null,null,null,"http://www.minfin.tj",1997,"http://minfin.tj/downloads/pfmstrategyfinaleng.pdf",2007,1,"-","-","-","-","-","http://www.andoz.tj",2012,"ITMS","Online services and forms + Integrated Tax Management System (ITMS)",1,"LDSW","http://www.andoz.tj/index.php/ru/elektronnye-uslugi","-",2,2,"http://www.customs.tj",1989,1997,0,"UAIS","Unified Automated Information System",2,"COTS","http://khovar.tj/rus/economic/31348-v-tadzhikistane-budet-sozdana-edinaya-avtomatizirovannaya-informacionnaya-sistema-tamozhennyh-organov.html",2012,3,2,0,0,"http://portal.andoz.tj:8080/",2012,2,0,"-","-",0,"http://www.tajik-gateway.org/index.phtml?id=1415&lang=ru",2002,1,68000,1,"http://unpan1.un.org/intradoc/groups/public/documents/un/unpan023243.pdf",2004,"GFMIS","Government Financial Management Information System",2,"COTS","https://www.pefa.org/en/assessment/tj-nov12-pfmpr-public-en ","-",2,1,"GFMIS","Government Financial Management Information System",2,"COTS","https://www.pefa.org/en/assessment/tj-nov12-pfmpr-public-en ","-",2,1,"C+","e-procurement","http://www.zakupki.gov.tj",2012,3,2,"http://www.zakupki.gov.tj/reestr-kontraktov",null,null,null,null,null,null,null,null,12,54.54545454545454,"B","LIC","ECA"]
[175,null,"Tanzania","LIC",46218.485999999997,24242.667444370705,540,"http://www.mof.go.tz","Tanzania Ministry of Finance and Economic Affairs",1,"http://www.mof.go.tz/index.php?option=com_content&task=view&id=22&Itemid=36",1,"http://www.mof.go.tz/mofdocs/msemaji/PFMRP%20ANNUAL%20PROGRESS%20REPORT-WEBSITE.pdf",1,"-",0,"-",0,0,"-",2,1,1,"http://www.mof.go.tz/index.php?option=com_content&task=blogcategory&id=21&Itemid=206",1,"http://www.mof.go.tz/index.php?option=com_content&task=view&id=622&Itemid=205",1,1,2001,1,0,3,2009,0,null,"-",1,3,1,2001,1,1,2007,1,1,1,0,0,1,0,1,1,0,0,"-",0,"-",0,"-",1,"http://www.mof.go.tz/index.php?option=com_content&task=blogcategory&id=20&Itemid=205",0,"http://www.tanzania.go.tz/statistics.html","Tanzania National Bureau of Statistics ","http://www.bot-tz.org ","Bank of Tanzania","-",0,"-",1,"http://www.mof.go.tz/index.php?option=com_content&task=view&id=13&Itemid=27",0,"-",0,3,"-","swa","eng","-","-",0,"IFMS","Integrated Financial Management System","C","F",2,2012,"C+L",2,2,"Epicor","Web",2,"Sep 2013","Public",5,"B","B","B","C+","D+","C","C+","B+","C+","C",2.5499999999999998,2.5299999999999998,47,45,1,2,146,0.27642,0.39215,0.29920999999999998,8.0820000000000003E-2,0.44919999999999999,139,0.33110000000000001,0.35289999999999999,8.3900000000000002E-2,0.55640000000000001,"AFR",null,null,null,null,"Tanzania",2,null,1,1,null,0,null,null,null,null,null,15,57.692307692307686,"B",null,175,"Tanzania","TZA",2007,"DAD","http://www.tanzania.go.tz",1,"http://www.tanzania.go.tz",0.29920000000000002,81,32,2,12,29,null,null,null,null,"http://www.mof.go.tz/",1964,"http://www.mof.go.tz/mofdocs/msemaji/PFMRP%20IV%20Strategy.pdf",2015,1,"-","-","-","-","-","http://www.tra.go.tz",1995,"ITAX / EFDMS","Integrated Tax Administration System + DWH (data warehouse), CMVRS (central motor vehicle registration system) and CDLS (computerized driver’s license system)",2,"COTS","http://www.bluelightsystems.net/index-EFD.html",2011,3,2,"http://www.tra.go.tz",1995,1964,4,"ASYCUDA++ / TANCIS","Automated SYstem for CUstoms DAta",2,"ASYCUDA ++","https://customs.tra.go.tz/login/login.do;jsessionid=EC6E98CA3E369FCD205889B620E67B90.powas2",2005,3,2,1,0,"http://196.43.84.190/efiling/",2012,2,0,"-","-",0,"-","-",0,350000,1,"https://www.pefa.org/en/assessment/tz-nov10-pfmpr-public-en",2010,"HCMIS","Human Capital Management Information System",2,"Lawson","https://www.pefa.org/en/assessment/tz-sep13-pfmpr-public-en",2000,3,2,"HCMIS","Human Capital Management Information System",2,"Lawson","https://www.pefa.org/en/assessment/tz-nov10-pfmpr-public-en ",2000,3,2,"NR","TendersPortal","http://ppra.go.tz",2010,3,1,"http://tender.ppra.go.tz/index.php?home=home&view=award&opt= ","Ministry of Finance",2,"CS-DRMS",null,1989,3,"MoF",null,14,63.636363636363633,"B","LIC","AFR"]
[176,null,"Thailand","UMIC",69518.554999999993,308326.31534480891,4440,"http://www.mof.go.th","Thailand Ministry of Finance",2,"http://dwfoc.mof.go.th/foc_eng/index.asp",2,"http://www.gfmis.go.th",1,"-",0,"-",0,1,"http://dwfoc.mof.go.th/crn/cgi-bin/cognosisapi.dll?b_action=xts.run&m=portal/view-output.xts&method=view&m_obj=defaultOutput(%2fcontent%2fpackage%5b%40name%3d%27Expense%27%5d%2ffolder%5b%40name%3d%27Expense%20English%27%5d%2ffolder%5b%40name%3d%27Expense%20Last%20Update%27%5d%2freport%5b%40name%3d%27Budget%20Appropriations%20Classicfied%20by%20Ministry%27%5d)&m_name=Budget%20Appropriations%20Classicfied%20by%20Ministry&CAMUsername=internet&CAMPassword=internet&format=HTML&backURL=%2fcrn%2fcgi-bin%2fcognosisapi.dll%3fb_action%3dxts.run%26m%3dportal%2fcc.xts%26m_path2%3d~%252ffolder%26m_path%3d%252fcontent%252fpackage%255b%2540name%253d%2527Expense%2527%255d%252ffolder%255b%2540name%253d%2527Expense%2520English%2527%255d%252ffolder%255b%2540name%253d%2527Expense%2520Last%2520Update%2527%255d",1,1,0,"-",1,"http://www.bb.go.th/bbhome/page.asp?option=content&dsc=%A4%D9%E8%C1%D7%CD%BB%AF%D4%BA%D1%B5%D4%A1%D2%C3%A8%D1%B4%B7%D3%A7%BA%BB%C3%D0%C1%D2%B3&folddsc=30001",1,1,2001,0,null,"-","-",0,null,"-",1,4,1,2001,1,1,2001,1,1,1,0,0,1,1,1,1,1,1,"http://www.gprocurement.go.th/wps/portal/index_EGP",0,"-",0,"-",1,"http://www.bb.go.th/bbhome/page.asp?option=content&dsc=%A1%D2%C3%A8%D1%B4%B7%D3%A7%BA%BB%C3%D0%C1%D2%B3%A8%D1%A7%CB%C7%D1%B4%E1%BA%BA%BA%D9%C3%B3%D2%A1%D2%C3&folddsc=21003",2,"http://web.nso.go.th","Thailand National Statistical Office","http://www.bot.or.th ","Bank of Thailand","http://dwfoc.mof.go.th/foc_eng/menu3.htm",0,"-",1,"http://www.bb.go.th/bbhome/page.asp?option=content&dsc=%A2%E9%CD%C1%D9%C5%A1%AE%CB%C1%D2%C2%E1%C5%D0%C3%D0%E0%BA%D5%C2%BA&folddsc=19001",2,"http://dw.mof.go.th/foc/gfs/knowledge.asp",0,3,"-","tha","eng","-","-",0,"GFMIS","Government Financial Management Information System","C","F",3,2004,"C+L",1,2,"SAP","Web",3,"Oct 2009","Public",1,"B","B","B","C","C+","B","B+","C+","B","NU",2.8333333333333335,3.125,36,42,null,2,102,0.46307999999999999,0.54901,0.44094,0.28427999999999998,0.66400000000000003,92,0.50929999999999997,0.50980000000000003,0.2361,0.78190000000000004,"EAP",null,null,"APEC",null,"Thailand",9,3,5,1,null,1,null,null,1,null,null,15,57.692307692307686,"B",null,176,"Thailand","THA",null,"DAD","http://www.thaigov.go.th",2,"http://www.egov.go.th/default.aspx",0.44090000000000001,94,34,14,35,41,null,null,null,null,"http://www.treasury.go.th",1875,"http://www.imf.org/external/pubs/ft/scr/2009/cr09250.pdf",2009,2,4,"-","-","-","-","http://www.rd.go.th",1915,"Web Services","Online services and forms",2,"COTS","http://www.rd.go.th/publish/30115.0.html",2005,3,2,"http://www.customs.go.th",1874,1972,3,"e-Customs / TCES + NSW","Thai Customs Electronic System + National Single Window",2,"COTS","http://www.customs.go.th/wps/wcm/connect/custen/e-customs/e-customs",2007,3,3,1,1,"http://rdserver.rd.go.th/publish/index.php",2005,3,1,"-","-",1,"http://www.etda.or.th/etda_website/eng/mains/display/603",2011,2,{"$f":"IFERROR(VLOOKUP($C178,'PS Employment'!$B$2:$N$107,12,FALSE)*1000,\"-\")","v":3381500},2,"http://laborsta.ilo.org/STP/guest",2008,"HRMS","Human Resource Management System",2,"SAP","http://www.gfmis.go.th/gfmis_us2.html ",2004,3,2,"HRMS","Human Resource Management System",2,"SAP","http://www.gfmis.go.th/gfmis_us2.html ",2004,3,2,"B","Thai Government Procurement","http://www.gprocurement.go.th",2010,3,2,"http://process.gprocurement.go.th/egp2procmainWeb/jsp/procsearch.sch ","Ministry of Finance",2,"CS-DRMS",null,1990,3,"MoF",null,18,81.818181818181827,"A","UMIC","EAP"]
[177,null,"Timor-Leste","LIC",1175.8800000000001,1054,896.34996768377721,"http://www.mof.gov.tl","Ministry of Finance",2,"http://www.mof.gov.tl/budget-spending/budget-execution/?lang=en",1,"http://www.mof.gov.tl/about-the-ministry/organisation-structure-roles-and-people/general-directorate-of-state-finances/treasury-directorate/financial-reporting/?lang=en",2,"http://budgettransparency.gov.tl/publicTransparency/transparencyNavigation;jsessionid=339D99EEF7F9956BC9CC3B72D562E5E9?isInflow=false&selectedGroupId=228&lang=en",1,"http://budgettransparency.gov.tl/publicTransparency/transparencyNavigation;jsessionid=339D99EEF7F9956BC9CC3B72D562E5E9?isInflow=false&selectedGroupId=228&lang=en",0,0,"-",2,1,0,"-",1,"http://www.mof.gov.tl/category/documents-and-forms/budget-documents/budget-codes/?lang=en",1,1,2006,0,null,"-","-",0,null,"-",1,4,1,2006,1,1,2006,1,1,0,0,0,1,1,0,0,0,1,"http://www.aidtransparency.gov.tl/",1,"http://www.transparency.gov.tl",0,"-",1,"http://www.estatal.gov.tl/Documents/Ministry/2008Policy/LG%20Policy%20and%20DSF%20-%20English.pdf",2,"http://dne.mof.gov.tl","National Statistics Directorate (Direcção Nacional de Estatística – DNE)","http://www.bancocentral.tl","Central Bank of Timor-Leste","http://www.governmentresults.gov.tl/publicResults/index?&lang=en",0,"-",1,"http://www.mof.gov.tl/about-the-ministry/legal-framework/?lang=en",0,"-",0,3,"-","tet","por","eng","-",0,"FMIS","Financial Management Information System","C","F",3,2010,"C+L",1,2,"FreeBalance","Web",3,"Aug 2010","Public",2,"B","A","B","D+","B","D","C+","C+","C+","D+",2.4500000000000002,2.0862068965517242,36,34,null,0,161,0.25275999999999998,0.29410999999999998,0.20472000000000001,7.0419999999999996E-2,0.48309999999999997,170,0.23649999999999999,0.2157,6.4899999999999999E-2,0.42899999999999999,"EAP",null,null,null,"F","Timor-Leste",0,null,null,null,null,0,null,null,null,null,null,16,61.53846153846154,"B",null,177,"Timor-Leste","TLS",2011,null,"http://timor-leste.gov.tl",0,"-",0.20469999999999999,47,25,7,12,22,null,null,null,null,"http://www.mof.gov.tl",2002,"http://www.imf.org/external/pubs/ft/scr/2010/cr10340.pdf",2010,2,4,"-","-","-","-","http://www.mof.gov.tl/taxation",2002,"SIGTAS","Standard Integrated Government Tax System",2,"SIGTAS","http://www.pefa.org/en/assessment/tl-may14-pfmpr-public-en",2001,3,2,"http://www.mof.gov.tl/customs",2002,2003,4,"ASYCUDA++","Automated SYstem for CUstoms DAta",2,"ASYCUDA ++","https://www.mof.gov.tl/customs/importing-cargo/asycuda/?lang=en",2003,3,2,0,0,"-","-",1,0,"-","-",0,"-","-",0,{"$f":"IFERROR(VLOOKUP($C179,'PS Employment'!$B$2:$N$107,12,FALSE)*1000,\"-\")","v":17591},2,"http://laborsta.ilo.org/STP/guest",2006,"PMIS","Personnel Information Management System",1,"LDSW","http://www.undp.org/content/dam/undp/documents/projects/TLS/00045435_SCSR_Project_final_ProDoc.pdf",2007,3,2,"PS","Payroll System",2,"FreeBalance","https://grp.mof.gov.tl/gov-web/faces/login.xhtml;jsessionid=6C0678A13675F510BF4E429774F430AE",2011,3,2,"C","Timor Leste e-procurement system","http://eprocurement.gov.tl",2011,3,1,"http://eprocurement.gov.tl/awards/listAwarded ",null,null,null,null,null,null,null,null,15,68.181818181818173,"B","LIC","EAP"]
[178,null,"Togo","LIC",6154.8130000000001,3486.3851691379068,570,"http://www.moftg.net","Togo Ministry of Finance and Economy / no website",0,"-",1,"http://www.sndi.ci/index.php/component/content/article/35-infosndi/78-sigfip.html",0,"-",0,"-",0,0,"-",0,0,0,"-",0,"-",0,null,"-",0,null,"-","-",0,null,"-",0,null,null,"-",0,null,"-",0,0,0,0,0,0,0,0,0,0,0,"-",0,"-",0,"-",0,"-",0,"http://www.stat-togo.org","Togo Direction Generale de la Statistique et de la Comptabilite","http://www.bceao.int ","Central Bank of West African States (BCEAO)","-",0,"-",0,"-",0,"-",0,0,"-","fre","eng","-","-",0,"SIGFIP","Système Intégré de Gestion des Finances Publiques","C","F",3,2010,"C+L",2,1,"LDSW > Oracle","Web",2,"Mar 2009","Public",2,"C","D","D","D","C","D","D","D","NA","D+",1.2777777777777777,1.5925925925925926,"-","-",null,0,162,0.24462999999999999,9.8030000000000006E-2,0.11022999999999999,8.3589999999999998E-2,0.54010000000000002,178,0.21429999999999999,0.13730000000000001,7.4399999999999994E-2,0.43120000000000003,"AFR",null,null,null,"F","Togo",0,null,null,null,null,0,null,null,null,null,null,1,3.8461538461538463,"D",null,178,"Togo","TGO",2011,null,"http://www.gouv.tg",0,"-",0.11020000000000001,41,16,2,0,14,null,null,null,null,"http://www.tresor-togo.org/",1923,"http://www.tresor-togo.org/index.php?m=ps0b0t0d&c=ps1b1t1d","-",0,"-","-","-","-","-","http://www.dgitogo.tg",1943,"-","Forms and information",0,"-","-","-",0,1,"http://www.douanes.tg",1964,1990,4,"ASYCUDA World","Automated SYstem for CUstoms DAta",2,"ASYCUDA W","http://www.douanes.tg/index.php?option=com_k2&view=item&layout=item&id=286&Itemid=758",2002,3,2,1,0,"-","-",1,0,"-","-",0,"-","-",0,{"$f":"IFERROR(VLOOKUP($C180,'PS Employment'!$B$2:$N$107,12,FALSE)*1000,\"-\")","v":"-"},{"$f":"IFERROR(VLOOKUP($C180,'PS Employment'!$B$2:$N$107,13,FALSE),\"0\")","v":"0"},"-","-","-","-",0,"-","http://www.pefa.org/en/assessment/tg-mar09-pfmpr-public-en","-",0,0,"-","-",0,"-","http://www.pefa.org/en/assessment/tg-mar09-pfmpr-public-en","-",0,0,"D+","SIGMAP ","http://www.marchespublics-togo.com ",2010,2,1,"-","Ministry of Economy and Finance",2,"DMFAS 5.3","http://www.tresor-togo.org/index.php?m=l0b0t0d&c=l1b1t1d17&org=org",1984,3,"MoF",4,7,31.818181818181817,"C","LIC","AFR"]
[179,null,"Tonga","LMIC",104.509,398.97750870848631,3820,"http://www.finance.gov.to","Ministry of Finance and National Planning of the Kingdom of Tonga",2,"http://www.finance.gov.to/publications",1,"http://www.finance.gov.to/sites/default/files/TONGA_PEFA_2010.pdf#Top",1,"-",0,"-",0,0,"-",2,1,0,"-",1,"http://www.finance.gov.to/publications/treasury-manuals",1,1,2000,1,0,3,2009,0,null,"-",1,4,0,2005,1,0,2005,1,0,0,0,0,1,0,0,1,0,0,"-",0,"-",0,"-",0,"-",1,"http://www.spc.int/prism/country/to/stats","Tonga Statistics Department ","http://www.reservebank.to","National Reserve Bank of Tonga","-",0,"-",1,"http://www.finance.gov.to/about-us/legislations",0,"-",0,1,"-","eng","-","-","-","-","FMIS","Financial Management Information System","C","T",3,2005,"C",1,2,"SunSystems","Web",2,"May 2010","Public",2,"C","A","C","C","B","D","C+","D+","D+","D",2.0499999999999998,2.6071428571428572,"-","-",null,1,98,0.47056999999999999,0.33333000000000002,0.34644999999999998,0.23482,0.83040000000000003,111,0.4405,0.24179999999999999,0.2069,0.87270000000000003,"EAP",null,null,null,null,"Tonga",0,null,null,null,null,0,null,null,null,null,null,13,50,"B",null,179,"Tonga","TON",null,null,"http://www.tongaportal.gov.to",1,"http://www.tongaportal.gov.to",0.34649999999999997,69,41,12,18,33,null,null,null,null,"http://www.finance.gov.to",1970,"http://www.imf.org/external/pubs/ft/scr/2013/cr13234.pdf",2012,2,4,"-","-","-","-","http://www.revenue.gov.to/Article.aspx?ID=448",1970,"RMS","Revenue Management System",1,"LDSW","http://www.revenue.gov.to/Article.aspx?UsePopup=&Mode=1&ID=782",2005,3,2,"http://www.revenue.gov.to",1970,2005,0,"CMS ","Customs Management System",1,"LDSW","http://www.revenue.gov.to/customs/admin/Login.aspx?ID=3",2008,3,2,1,0,"-","-",1,0,"-","-",0,"-","-",0,5000,1,"http://www.pftac.org/filemanager/files/Handbooks/PFTAC%20Handbook%206%20FINAL.pdf",2008,"CHRIS","Central Human Resources Information System",1,"LDSW","http://www.psc.gov.to/",2003,3,2,"MicrOpay","Payroll System",1,"LDSW","http://www.finance.gov.to",2005,3,2,"C","-","http://www.pefa.org/en/assessment/may10-pfmpr-public-en","-",1,0,"-",null,2,"CS-DRMS",null,1992,3,"MoF",null,12,54.54545454545454,"B","LMIC","EAP"]
[180,null,"Trinidad and Tobago","HIC",1346.35,22480,16696.995580643965,"http://www.finance.gov.tt","Ministry of Finance of the Republic of Trinidad and Tobago",2,"http://www.finance.gov.tt/publications.php?mid=3",1,"http://www.auditorgeneral.gov.tt/documentlibrary/downloads/9/Volume%20%20I%20Treasury%20Statments%20Funds%20Financial%20Statement%20-%20%20MOF%202010.pdf",1,"-",0,"-",0,0,"-",2,1,0,"-",1,"http://www.finance.gov.tt/content/pub164ADE.pdf.",1,1,2001,0,null,"-","-",0,null,"-",1,4,1,2010,0,null,"-",1,1,1,0,0,1,0,1,1,1,0,"-",0,"-",0,"-",1,"http://www.localgov.gov.tt",0,"http://www.cso.gov.tt","Central Statistics Office of Trinidad and Tobago","http://www.central-bank.org.tt","Central Bank of Trinidad and Tobago","-",0,"-",1,"http://www.finance.gov.tt/legislation.php?mid=6",0,"-",0,3,"-","eng","-","-","-","-","IFMIS","Integrated Financial Management Information System","C","F",3,2005,"C+L",1,1,"LDSW > FMIS","Web",3,"Dec 2008","Public",2,"C","B","B","C+","B","D","A","C+","B","D",2.5,2.6666666666666665,38,33,0,0,91,0.49317,0.31372,0.33069999999999999,0.45429000000000003,0.69450000000000001,67,0.57310000000000005,0.48370000000000002,0.4526,0.78300000000000003,"LCR",null,null,null,null,"Trinidad and Tobago",0,null,null,null,null,0,null,null,null,null,null,12,46.153846153846153,"C",null,180,"Trinidad and Tobago","TTO",null,null,"http://www.ttconnect.gov.tt",1,"http://www.ttconnect.gov.tt",0.33069999999999999,63,41,7,24,32,null,null,null,null,"http://finance.gov.tt/services/treasury/",1980,"http://ec.europa.eu/europeaid/what/economic-support/public-finance/documents/trinidad_tobago_pefa_report_2009_en.pdf",1980,2,4,"-","-","-","-","http://www.ird.gov.tt",1942,"ITPS","Integrated Tax Processing System (ITPS) ",2,"GenTax","http://finance.gov.tt/wp-content/uploads/2013/11/pub114FC7.pdf",2009,3,2,"http://www.customs.gov.tt",1938,1973,4,"ASYCUDA World","Automated SYstem for CUstoms DAta",2,"ASYCUDA W","http://carib.customs.gov.tt:8080/asycuda/",2009,3,2,1,0,"-","-",1,0,"-","-",0,"http://www.ttparliament.org/legislations/a2011-06.pdf",2011,1,{"$f":"IFERROR(VLOOKUP($C182,'PS Employment'!$B$2:$N$107,12,FALSE)*1000,\"-\")","v":158300},2,"http://ec.europa.eu/europeaid/what/economic-support/public-finance/documents/trinidad_tobago_pefa_report_2009_en.pdf",2008,"IHRIS","Integrated Human Resources Information System",2,"People Soft","http://finance.gov.tt/wp-content/uploads/2013/11//sp34.pdf ",2006,3,2,"IHRIS","Integrated Human Resources Information System",2,"People Soft","https://www.pefa.org/en/assessment/tt-dec08-pfmpr-public-en ",2006,3,2,"D+","Central Tenders Board Website","http://www.finance.gov.tt ",2013,3,1,"http://finance.gov.tt/services/central-tenders-board/ ",null,2,"DMFAS",null,1985,0,"MoF",0,14,63.636363636363633,"B","HIC","LCR"]
[181,null,"Tunisia","UMIC",10673.8,43443.062435107313,4070,"http://www.portail.finances.gov.tn","Republic of Tunisia Ministry of Finance",2,"http://www.portail.finances.gov.tn/accueil_fr.php#",1,"http://www.portail.finances.gov.tn/publications/Rapport-PEFA.pdf",1,"-",0,"-",0,0,"-",1,0,0,"-",0,"-",1,1,2010,0,null,"-","-",0,null,"-",1,4,1,2010,0,null,"-",1,0,0,0,0,1,0,0,1,0,0,"-",1,"http://www.data.gov.tn",0,"-",1,"http://www.portail.finances.gov.tn/publications/Rapport-PEFA.pdf",0,"http://www.ins.nat.tn","Tunisia National Statistics Institute","http://www.bct.gov.tn ","Central Bank of Tunisia","-",0,"-",1,"http://www.portail.finances.gov.tn/accueil_fr.php#haut",2,"-",0,1,"-","ara","fre","-","-",0,"ADEB","Système Informatique d’Aide à la Décision Budgétaire / Budgetary Decision Support Information System","C","T",3,2003,"C",1,1,"LDSW","Web",2,"Jun 2010","Public",1,"C","A","B","C+","B+","B","B+","C+","D+","B",2.85,3.0483870967741935,11,"-",null,1,75,0.53895000000000004,0.64705000000000001,0.63778999999999997,0.30741000000000002,0.67169999999999996,103,0.48330000000000001,0.47710000000000002,0.28860000000000002,0.68410000000000004,"MNA",null,null,null,null,"Tunisia",1,null,1,null,null,0,null,null,null,null,null,9,34.615384615384613,"C",null,181,"Tunisia","TUN",null,null,"http://www.tunisie.gov.tn",2,"http://www.tunisie.gov.tn",0.63780000000000003,91,61,33,53,58,null,null,null,null,"http://www.finances.gov.tn/index.php?option=com_content&view=article&id=35&Itemid=272&lang=fr",1975,"http://www.pefa.org/sites/pefa.org/files/attachments/Eng%20-%20Vol%202550610v20ESW0P1rview0Part0II0Final.pdf",2011,3,4,"-","-","-","-","http://www.finances.gov.tn",1957,"RAFIC + SADEC","Rationalisation de l'Action Fiscale et Comptable (RAFIC)  + Système informatique d’aide à la décision et au contrôle fiscal (SADEC)",1,"LDSW","http://www.portail.finances.gov.tn/publications/Rapport-PEFA.pdf",2004,3,2,"http://www.douane.gov.tn",1957,1966,2,"SINDA + ASYCUDA World + TradeNet","Automated Customs Information System",2,"ASYCUDA W","http://www.douane.gov.tn/fileadmin/images_nouvelles/Publications_PDF/1-sinda2010.pdf",1982,3,2,1,1,"http://www.impots.finances.gov.tn/teledeclar_fr.html",2008,3,1,"-","-",0,"http://www.certification.tn/en/content/digital-signature",2008,3,600000,2,"http://www.gbo.tn/index.php?option=com_content&view=article&id=165&Itemid=237&lang=fr",2012,"INSAF","Gestion des Ressources Humaines / Integrated Human Resources Management Sytem",1,"LDSW","http://www.gbo.tn/index.php?option=com_content&view=article&id=165&Itemid=237&lang=fr",1983,3,2,"INSAF","Système Informatique de Gestion de la Paye (INSAF)",1,"LDSW","http://www.gbo.tn/index.php?option=com_content&view=article&id=165&Itemid=237&lang=fr",1989,3,2,"B","TUNEPS","https://www.tuneps.tn ",2013,2,2,"-","Ministry of Finance",null,null,null,null,null,null,null,16,72.727272727272734,"B","UMIC","MNA"]
[182,null,"Turkey","UMIC",73639.596000000005,766620.9156603344,10410,"http://www.maliye.gov.tr","Turkish Ministry of Finance",2,"https://portal.muhasebat.gov.tr/mgmportal/faces/khb_yeni?_afrLoop=12996129006414294&_afrWindowMode=0&_adf.ctrl-state=xqzwghjpd_4",2,"https://www.kbs.gov.tr",3,"https://ebutce.bumko.gov.tr/ebutce2.htm",1,"https://ebutce.bumko.gov.tr/ebutce2.htm",0,1,"https://www.kbs.gov.tr/Portal/",2,1,1,"http://www.bumko.gov.tr/TR/Genel/BelgeGoster.aspx?F6E10F8892433CFFAC8287D72AD903BE95B604AA3C36F67D",1,"https://portal.muhasebat.gov.tr/mgmportal/faces/detaylihesap?_afrLoop=1626545447992604&_afrWindowMode=0&_adf.ctrl-state=16xvoe16xm_97",1,1,2004,1,1,3,2006,1,1,2004,1,2,1,2004,1,0,2004,1,1,1,0,0,1,1,0,1,1,1,"http://www.ihale.gov.tr/",1,"http://www.turkiye.gov.tr",1,"https://portal.muhasebat.gov.tr/mgmportal/faces/khbDetail?birimDizini=Municipalities&_afrLoop=1628532110622701&_afrWindowMode=0&_adf.ctrl-state=155046p7e2_114",1,"https://portal.muhasebat.gov.tr/mgmportal/faces/detaylihesap?_afrLoop=1628625001039383&_afrWindowMode=0&_adf.ctrl-state=155046p7e2_136",3,"http://www.turkstat.gov.tr","Turkish State Institute of Statistics","http://www.tcmb.gov.tr ","Türkiye Cumhuriyeti Merkez Bankası","http://www.hazine.gov.tr/irj/portal/anonymous?NavigationTarget=navurl://ca8a5b252efea63752b1cb4e1cc81997&InitialNodeFirstLevel=true",1,"http://www.maliye-behim.gov.tr/bes/",1,"http://www.bumko.gov.tr/TR/Genel/BelgeGoster.aspx?F6E10F8892433CFFAAF6AA849816B2EF8D40DBAF123EC275",2,"National accounting standards",0,3,"-","tur","eng","-","-",0,"say2000i / KBS","say2000i Accounting Office Automation System / Public Expenditure Mgmt and Accounting System","C","F",3,2001,"C+L",1,1,"LDSW > Ora / OSS","Web",3,"Dec 2009","Final",1,"X","X","X","X","X","X","X","X","X","X",3.2222222222222223,3.0535714285714284,50,57,1,2,71,0.54427999999999999,0.49019000000000001,0.55905000000000005,0.36048000000000002,0.71330000000000005,80,0.52810000000000001,0.46410000000000001,0.3478,0.77259999999999995,"ECA",null,"OECD",null,null,"Turkey",1,null,null,null,1,0,null,null,null,null,null,23,88.461538461538453,"A",null,182,"Turkey","TUR",null,null,"https://www.turkiye.gov.tr",2,"https://www.turkiye.gov.tr/hizmetler",0.55910000000000004,81,57,23,50,51,null,null,null,null,"http://www.treasury.gov.tr/",1927,"http://mevzuat.basbakanlik.gov.tr/Metin.Aspx?MevzuatKod=7.5.15060&sourceXmlSearch=Genel%20B&MevzuatIliski=0",1972,3,4,"-","-","-","-","http://www.gib.gov.tr",1923,"VEDOP + e-Tax","e-Tax and other portals",1,"LDSW","https://intvd.gib.gov.tr/internetvd/index.jsp",1999,3,3,"http://www.gtb.gov.tr",1923,1952,0,"BİLGE","Customs Automation System",1,"LDSW","http://www.gtb.gov.tr/eislemler/uygulamalar",2000,3,3,1,1,"https://ebeyanname.gib.gov.tr/index.html",2004,3,1,"-","-",1,"http://www.tk.gov.tr/bilgi_teknolojileri/elektronik_imza/eshs.php",2005,3,3195938,2,"http://www.dpb.gov.tr/tr-tr/istatistikler/kamu-personeli-istatistikleri",2014,"DPB e-Uygulama","Human Resources Management Information System",1,"LDSW","http://www.dpb.gov.tr/tr-tr",2008,3,2,"e-Bordro","Electronic Payroll System",1,"LDSW","http://www.muhasebt.gov.tr",2009,3,2,"X","EKAP","https://ekap.kik.gov.tr",2010,3,1,"https://ekap.kik.gov.tr/EKAP/Ortak/KSP/KSPSonucIlaniArama.aspx","Turkish Treasury",1,"LDSW",null,null,null,null,null,20,90.909090909090907,"A","UMIC","ECA"]
[183,null,"Turkmenistan","UMIC",5105.3010000000004,24482.513140742863,4800,"http://www.turkmenistan.gov.tm","Ministry of Economy and Finance",0,"-",1,"http://ec.europa.eu/europeaid/documents/aap/2011/af_aap_2011_tkm.pdf",0,"-",0,"-",0,0,"-",0,0,0,"-",0,"-",0,null,"-",0,null,"-","-",0,null,"-",0,null,null,"-",0,null,"-",0,0,0,0,0,0,0,0,0,0,0,"-",0,"-",0,"-",0,"-",0,"http://www.stat.gov.tm","State Committee of Turkmenistan on Statistics","http://www.cbt.tm","Central Bank of Turkmenistan","-",0,"-",0,"-",0,"-",0,0,"-","tuk","-","-","-","-","GFMIS","Government Financial Management Information System","C","T",1,2008,"C+L",1,0,"?","-",1,"-","-","-","-","-","-","-","-","-","-","-","-","-","-","-","-","-",null,0,128,0.35109000000000001,0.11763999999999999,8.6610000000000006E-2,0.21884999999999999,0.74780000000000002,126,0.38129999999999997,0.1895,0.1139,0.84040000000000004,"ECA",null,null,null,null,"Turkmenistan",0,null,null,null,null,0,null,null,null,null,null,1,3.8461538461538463,"D",null,183,"Turkmenistan","TKM",null,"DAD","http://www.turkmenistan.gov.tm",0,"-",8.6599999999999996E-2,34,11,0,6,12,null,null,null,null,"http://www.minfin.gov.tm",2008,"http://ec.europa.eu/europeaid/documents/aap/2011/af_aap_2011_tkm.pdf",2016,1,"-","-","-","-","-","http://www.minfin.gov.tm",2004,"-","Forms and information",0,"-","-","-",0,1,"http://customs.gov.tm",1991,1993,0,"-","-",0,"-","-","-",0,1,"-","-","-","-",0,0,"-","-",0,"http://base.spinform.ru/show_doc.fwx?rgn=3180",2000,1,1980000,2,"http://en.wikipedia.org/wiki/Economy_of_Turkmenistan",2014,"-","-",0,"-","-","-",0,0,"-","-",0,"-","-","-",0,0,"-","-","http://www.ppi-ebrd-uncitral.com/index.php/en/component/content/article/133-turkmenistan-overview","-",0,0,"-",null,2,"DMFAS",null,2001,0,"CB",0,3,13.636363636363635,"D","UMIC","ECA"]
[184,null,"Tuvalu","UMIC",9.8469999999999995,48.780657337842641,4950,"http://www.tuvaluislands.com/gov_addresses.htm","Ministry of Finance and Economic Planning",0,"-",1,"http://www.pftac.org/filemanager/files/PFM/IFMIS_PICspdf1.pdf",0,"-",0,"-",0,0,"-",0,0,0,"-",0,"-",0,null,"-",0,null,"-","-",0,null,"-",0,null,null,"-",0,null,"-",0,0,0,0,0,0,0,0,0,0,0,"-",0,"-",0,"-",0,"-",0,"http://www.spc.int/prism/country/tv/stats","Central Statistics Division","-","National Bank of Tuvalu","-",0,"-",0,"-",0,"-",0,0,"-","eng","-","-","-","-","IFMIS","Integrated Financial Management Information System","C","T",3,1999,"C",1,2,"ACCPAC","Web",2,"Jun 2011","Final",2,"X","X","X","X","X","X","X","X","X","X",2.15,2.1129032258064515,"-","-",null,0,137,0.30590000000000001,0.11763999999999999,3.9370000000000002E-2,0.17610999999999999,0.70220000000000005,134,0.35389999999999999,5.2299999999999999E-2,0.18659999999999999,0.82279999999999998,"EAP",null,null,null,"F","Tuvalu",0,null,null,null,null,0,null,null,null,null,null,1,3.8461538461538463,"D",null,184,"Tuvalu","TUV",null,null,"http://www.tuvaluislands.com/gov_members.htm",0,"-",3.9399999999999998E-2,25,9,0,0,8,null,null,null,null,"http://www.tuvaluislands.com/gov_addresses.htm",1986,"http://www.tuvalu-legislation.tv/tuvalu/DATA/PRIN/1990-49A/TuvaluTrustFundAct.pdf",1987,2,4,"-","-","-","-","http://www.tuvaluislands.com/gov_addresses.htm",1978,"-","Forms and information",0,"-","-","-",0,1,"http://www.tuvaluislands.com/gov_addresses.htm",1975,"-","-","-","-",0,"-","-","-",0,1,"-","-","-","-",0,0,"-","-",0,"-","-",0,{"$f":"IFERROR(VLOOKUP($C186,'PS Employment'!$B$2:$N$107,12,FALSE)*1000,\"-\")","v":"-"},{"$f":"IFERROR(VLOOKUP($C186,'PS Employment'!$B$2:$N$107,13,FALSE),\"0\")","v":"0"},"-","-","-","-",0,"-","-","-",0,0,"-","-",0,"-","-","-",0,0,"X","-","http://aid.dfat.gov.au/Publications/Documents/tuvalu-appr-2013-14.pdf","-",1,0,"-",null,null,null,null,null,null,null,null,4,18.181818181818183,"D","UMIC","EAP"]
[185,null,"Uganda","LIC",34509.205000000002,17458.176645573727,510,"http://www.finance.go.ug","Ministry of Finance Planning and Economic Development",2,"http://www.finance.go.ug/index.php/national-budget/performance-reports.html",2,"http://www.finance.go.ug/index.php/ifms.html",1,"-",1,"http://www.finance.go.ug/index.php?option=com_docman&Itemid=159",0,0,"-",2,1,0,"-",0,"-",1,0,2009,1,0,3,2006,1,0,2011,1,4,1,2002,1,1,2007,1,1,0,0,0,1,0,0,1,0,1,"http://www.ppda.go.ug/",0,"-",0,"-",1,"http://www.finance.go.ug/index.php/ifms-archives.html",2,"http://www.ubos.org","Uganda Bureau of Statistics ","http://www.bou.or.ug ","Bank of Uganda","http://treasury.gov.ua/main/uk/publish/category/23593",0,"-",1,"http://www.finance.go.ug/index.php/key-legislations.html",0,"-",0,3,"-","eng","-","-","-","-","IFMS","Integrated Financial Management System","C","F",2,2006,"C+L",2,2,"Oracle","CS",3,"Sep 2012","Public",4,"A","A","B","C+","B","B","C+","C+","C+","C",2.9,2.370967741935484,65,55,null,2,156,0.25925999999999999,0.13725000000000001,0.14960000000000001,0.10108,0.52710000000000001,143,0.31850000000000001,0.29409999999999997,7.3200000000000001E-2,0.58830000000000005,"AFR",null,null,null,null,"Uganda",0,null,null,null,null,0,null,null,null,null,null,16,61.53846153846154,"B",null,185,"Uganda","UGA",2011,null,"http://www.gov.ug",0,"-",0.14960000000000001,25,25,5,15,17,null,null,null,null,"http://www.finance.go.ug/index.php?option=com_content&view=article&id=33&Itemid=56",1995,"http://www.finance.go.ug/index.php?option=com_content&view=article&id=50&Itemid=86",2013,2,4,"-","-","-","-","https://www.ura.go.ug",1991,"e-Tax","e-Tax and other portals + Inland Revenue Integrated System (IRIS)",2,"TATA","https://www.ura.go.ug/leftMenu.do;jsessionid=5cc7d572212a5e74f3f68d5e2faffa91935c0e605a2e691ec8e0d2c5164aa8d9.e34SaheMahmNbO0Mah4TbNuLaNuSe0",2010,3,2,"http://www.ura.go.ug",1991,1964,4,"ASYCUDA World","Automated SYstem for CUstoms DAta",2,"ASYCUDA W","https://www.ura.go.ug/leftMenu.do",2002,3,2,1,0,"https://www.ura.go.ug/leftMenu.do",2010,3,0,"-","-",0,"http://www.ulii.org/content/electronic-signatures-act",2011,1,400000,1,"http://www.observer.ug/index.php?option=com_content&view=article&id=24340:civil-servants-cry-as-payroll-crashes",2013,"IPPS","Integrated Personnel and Payroll System",2,"FreeBalance","http://www.publicservice.go.ug/index.php/2014-04-02-06-12-37/18-human-resource/36-the-commissioner-human-resource-management",2011,3,2,"IPPS","Integrated Personnel and Payroll System",2,"FreeBalance","http://www.publicservice.go.ug/index.php/2014-04-02-06-12-37/18-human-resource/36-the-commissioner-human-resource-management",2011,3,2,"D+","Tender Portal ","http://ppda.go.ug/tenderportal",2011,3,1,"http://ppda.go.ug/tenderportal/listofawarded-contracts.html ","Ugandan Central Bank",2,"DMFAS 6.0",null,1985,3,"MoF","4T",16,72.727272727272734,"B","LIC","AFR"]
[186,null,"Ukraine","LMIC",45706.1,142863.01992847837,3130,"http://www.minfin.gov.ua","Ministry of Finance of Ukraine",2,"http://www.minfin.gov.ua/control/uk/publish/archive/main?cat_id=77427",1,"http://www.minfin.gov.ua/control/uk/publish/article?art_id=283476&cat_id=283464",2,"http://www.treasury.gov.ua/main/uk/doccatalog/list?currDir=146477",1,"http://www.minfin.gov.ua/control/uk/publish/archive/main?cat_id=51703",0,0,"-",1,1,0,"-",1,"http://www.minfin.gov.ua/control/uk/publish/archive/main?cat_id=293534",1,1,1992,1,0,3,2010,0,null,"-",1,2,1,2003,1,1,1999,1,1,1,0,0,1,1,0,1,1,0,"-",0,"-",0,"-",1,"http://www.minfin.gov.ua/control/uk/publish/archive/main?&cat_id=288202&stind=1",3,"http://www.ukrstat.gov.ua","State Statistics Service of Ukraine ","http://www.bank.gov.ua ","National Bank of Ukraine","-",1,"http://www.kmu.gov.ua/control/uk/publish/officialcategory?cat_id=244394482",1,"http://www.minfin.gov.ua/control/uk/publish/category/main?cat_id=279322",0,"-",1,3,"Internet Forum","ukr","rus","eng","-",0,"PFMS","Public Financial Management System","C","T",3,2004,"C+L",1,1,"LDSW > Oracle","Web",2,"2012-07-01","Public",2,"A","A","B","C+","A","B","A","C+","D+","D",2.95,2.56,54,62,1,1,87,0.50316000000000005,0.43136999999999998,0.26771,0.38016,0.86160000000000003,68,0.56530000000000002,0.42480000000000001,0.35349999999999998,0.91759999999999997,"ECA",null,null,null,null,"Ukraine",1,null,null,1,null,0,null,null,null,null,"2013-04-22",16,61.53846153846154,"B",null,186,"Ukraine","UKR",null,"DAD","http://www.kmu.gov.ua/control/en",0,"-",0.26769999999999999,75,20,5,18,27,null,null,null,null,"http://www.treasury.gov.ua/main/en/index",1996,"http://www.treasury.gov.ua/main/en/publish/article/100895",2005,3,4,"-","-","-","-","http://sfs.gov.ua",2014,"TIS + Web Services","Tax Information System + Online services/forms",2,"COTS","http://sfs.gov.ua/elektronni-formi-dokumentiv/",2013,3,2,"http://sfs.gov.ua",2014,1992,0,"e-Customs / ASTO","Automatized Customs Clearance System of Ukraine, Inspector -2006",2,"COTS","http://sfs.gov.ua/baneryi/mitne-oformlennya/subektam-zed/elektronna-mitnitsya",2009,3,2,1,0,"http://sfs.gov.ua/incomedecl",2006,2,1,"-","-",0,"http://czo.gov.ua/",2011,2,{"$f":"IFERROR(VLOOKUP($C188,'PS Employment'!$B$2:$N$107,12,FALSE)*1000,\"-\")","v":4640400},2,"http://laborsta.ilo.org/STP/guest",2010,"HRMIS","Human Resources Management Information System",1,"LDSW","https://www.pefa.org/en/assessment/ua-jul12-pfmpr-public-en ","-",3,1,"PS","Payroll System",1,"LDSW","https://www.pefa.org/en/assessment/ua-jul12-pfmpr-public-en ","-",3,1,"C+","Web Portal","https://tender.me.gov.ua ",2010,3,2,"https://tender.me.gov.ua/EDZFrontOffice/menu/en/purchaseResultSearch/ ","Ministry of Finance",1,"LDSW",null,2005,3,"MoF",4,14,63.636363636363633,"B","LMIC","ECA"]
[187,null,"United Arab Emirates","HIC",7890.924,321664.61777158768,40760,"http://www.mof.gov.ae","United Arab Emirates Ministry of Finance and Industry",2,"http://www.mof.gov.ae/En/Publication/Pages/default.aspx",2,"http://www.mof.gov.ae/En/AboutMinistry/Projects/Pages/default.aspx",1,"-",1,"http://www.mof.gov.ae/En/OpenData/Pages/default.aspx",0,0,"-",1,0,0,"-",1,"http://dof.abudhabi.ae/_data/global/files/govtcoa.pdf",1,1,2008,1,0,3,2011,0,null,"-",1,4,1,2008,0,null,"-",1,1,0,0,0,0,0,0,1,1,1,"https://egov.uae.gov.ae/mofisite/arabic/default.asp",1,"http://www.government.ae/web/guest/uae-data",0,"-",0,"-",0,"http://www.economy.ae","United Arab Emirates Ministry of Economy","http://www.cbuae.gov.ae","Central Bank of United Arab Emirates","-",0,"-",1,"http://www.mof.gov.ae/En/AboutMinistry/Pages/OrganizationChart.aspx",0,"-",0,3,"-","ara","eng","-","-",0,"FMIS","Financial Management Information System","D","F",3,2008,"C+L",1,2,"Oracle","Web",3,"-","-","-","-","-","-","-","-","-","-","-","-","-","-","-","-","-",null,0,32,0.71357999999999999,0.84313000000000005,0.88188,0.59319,0.66569999999999996,28,0.73440000000000005,0.86270000000000002,0.55679999999999996,0.78369999999999995,"MNA",null,null,null,null,"United Arab Emirates",0,null,null,null,null,0,null,null,null,null,null,13,50,"B",null,187,"United Arab Emirates","ARE",null,null,"http://www.emirati.gov.ae",2,"http://www.government.ae",0.88190000000000002,100,77,67,71,78,null,null,null,null,"http://www.mof.gov.ae/En/AboutMinistry/Departments/Pages/FinancialOperationsDepartment.aspx",1971,"http://www.mof.gov.ae/En/AboutMinistry/Departments/Pages/FinancialOperationsDepartment.aspx",2008,3,4,"-","-","-","-","http://en.wikipedia.org/wiki/Taxation_in_the_United_Arab_Emirates","-","-","-",2,"COTS","http://wiki.treasurers.org/wiki/United_Arab_Emirates","-",3,2,"http://www.customs.ae",2003,1979,3,"Mirsal 2 / Dhabi ","Single Window + e-Customs Portal",2,"COTS","https://utc.customs.ae",2013,3,3,1,1,"-","-",0,1,"https://www.edirhamg2.ae/",2001,2,"http://www.id.gov.ae/en/id-card/id-card-features.aspx",2005,2,{"$f":"IFERROR(VLOOKUP($C189,'PS Employment'!$B$2:$N$107,12,FALSE)*1000,\"-\")","v":436105},2,"http://laborsta.ilo.org/STP/guest",2006,"Bayanati","Human Resources Management Information System",2,"Oracle","http://www.fahr.gov.ae/portal/en/fahr-services/e-services/bayanati.aspx ",2012,3,2,"Bayanati","Human Resources Management Information System",2,"Oracle","http://www.fahr.gov.ae/portal/en/fahr-services/e-services/bayanati.aspx ",2012,3,2,"-","e-Procurement System","http://www.mof.gov.ae/En/services/Pages/E-Procurement.aspx ",2012,2,2,"-","Ministry of Finance",null,null,null,null,null,null,null,15,68.181818181818173,"B","HIC","MNA"]
[188,null,"United Kingdom","HIC",62641,2370444.9769933252,37840,"http://www.hm-treasury.gov.uk","United Kingdom HM Treasury",2,"https://www.gov.uk/government/topical-events/budget-2014",2,"http://data.gov.uk/dataset/oscar",3,"http://data.gov.uk/dataset/coins",1,"http://www.hm-treasury.gov.uk/psr_coins_data.htm",0,0,"-",2,1,2,"http://www.wheredoesmymoneygo.org/",1,"http://webarchive.nationalarchives.gov.uk/20100407010852/http://www.hm-treasury.gov.uk/psr_bac_classification_papers.htm",1,1,1999,1,1,5,1997,1,0,2002,1,4,1,1999,1,1,2004,1,1,1,0,0,1,1,1,1,1,1,"http://www.peppol.eu/",1,"http://data.gov.uk",0,"-",1,"http://www.communities.gov.uk/localgovernment/localgovernmentfinance/governmentaccounts/",0,"http://www.statistics.gov.uk","United Kingdom National Statistics","http://www.bankofengland.co.uk ","Bank of England","-",1,"http://www.justice.gov.uk/information-access-rights",1,"http://webarchive.nationalarchives.gov.uk/20100407010852/http://www.hm-treasury.gov.uk/spend_plancontrol.htm",0,"http://webarchive.nationalarchives.gov.uk/20100407010852/http://www.hm-treasury.gov.uk/pespub_index.htm",0,3,"-","eng","-","-","-","-","OSCAR (DW)","Online System for Central Accounting and Reporting","D","F",3,2014,"C",1,2,"COGNOS","Web",3,"-","-","-","-","-","-","-","-","-","-","-","-","-","-","-",88,87,1,3,8,0.86948000000000003,0.96077999999999997,0.89763000000000004,0.85340000000000005,0.85740000000000005,3,0.89600000000000002,0.97389999999999999,0.8135,0.90069999999999995,null,"EU","OECD",null,null,"United Kingdom",6,4,1,1,null,4,2,null,2,null,null,23,88.461538461538453,"A",null,188,"United Kingdom","GBR",null,null,"https://www.gov.uk",2,"https://www.gov.uk",0.89759999999999995,100,73,63,88,79,null,null,null,null,"https://www.gov.uk/government/organisations/hm-treasury",1660,"http://www.dmo.gov.uk",1998,3,4,"-","-","-","-","http://www.hmrc.gov.uk",2005,"e-Tax","e-Tax and other portals",2,"COTS","http://www.hmrc.gov.uk/online/index.htm",1999,3,3,"http://www.hmrc.gov.uk",2005,1952,3,"CHIEF","Customs Handling of Imports and Exports Freight",2,"COTS","http://customs.hmrc.gov.uk/channelsPortalWebApp/channelsPortalWebApp.portal?_nfpb=true&_pageLabel=pageImport_ShowContent&propertyType=document&featurearticle=true&id=HMCE_CL_001614",2009,3,2,1,0,"http://www.hmrc.gov.uk/online/index.htm",2000,3,1,"https://www.gov.uk/search?q=payment","-",1,"http://www.gateway.gov.uk/",2002,3,{"$f":"IFERROR(VLOOKUP($C190,'PS Employment'!$B$2:$N$107,12,FALSE)*1000,\"-\")","v":6276000},2,"http://laborsta.ilo.org/STP/guest",2010,"HRMIS","Human Resources Management Information System",1,"LDSW","https://www.gov.uk/government/organisations/civil-service","-",3,1,"PS","Payroll System",1,"LDSW","https://www.gov.uk/government/organisations/civil-service","-",3,1,"-","Government Procurement Service","http://ccs.cabinetoffice.gov.uk",2009,3,2,"https://online.contractsfinder.businesslink.gov.uk","UK Debt Management Office",null,null,null,null,null,null,null,18,81.818181818181827,"A","HIC"]
[189,null,"United States of America","HIC",311591.91700000002,15148157.107358113,48620,"http://www.whitehouse.gov/omb","Office of Management and Budget / US Treasury / Agencies",2,"http://www.treasury.gov/about/budget-performance/Pages/default.aspx",2,"http://www.fms.treas.gov/index_systems.html",3,"http://www.usaspending.gov/data",1,"http://usaspending.gov/data",0,0,"-",2,1,1,"http://www.whitehouse.gov/omb",1,"http://www.whitehouse.gov/omb/circulars_a11_current_year_a11_toc",1,1,1996,1,1,10,1996,1,1,1996,1,2,1,1996,1,1,1996,1,1,1,0,0,1,1,0,1,1,1,"https://www.fpds.gov/fpdsng_cms/",1,"http://www.data.gov/opendatasites",0,"-",1,"http://www.fasab.gov/accounting-standards/authoritative-source-of-gaap/accounting-standards/fasab-handbook/",2,"http://www.fedstats.gov","United States Federal Statistics","http://www.federalreserve.gov","Board of Governors of the Federal Reserve System, Federal Reserve Bank of New York ","http://www.gpo.gov/help/about_fdsys2.htm",1,"http://fms.treas.gov/foia/index.html",1,"http://www.treasury.gov/open/Pages/default.aspx",0,"http://fms.treas.gov/eda/index.html",1,3,"-","eng","-","-","-","-","FMS","Financial Management System","D","F",3,1996,"C",1,1,"LDSW","Web",3,"-","-","-","-","-","-","-","-","-","-","-","-","-","-","-",79,82,1,1,7,0.87483,0.92156000000000005,0.94488000000000005,0.74058999999999997,0.93899999999999995,5,0.86870000000000003,1,0.68600000000000005,0.92020000000000002,null,"AME","OECD","APEC",null,"United States of America",8,2,4,null,2,26,6,8,5,7,"2013-05-08",23,88.461538461538453,"A",null,189,"United States of America","USA",null,"DAD","http://www.usa.gov",2,"http://www.usa.gov",0.94489999999999996,100,68,77,94,83,null,null,null,null,"http://www.treasury.gov/",1789,"http://www.fiscal.treasury.gov/fsprograms/fs_payments.htm",1939,3,4,"-","-","-","-","http://www.irs.gov",1862,"e-Tax","e-Tax and other portals",2,"COTS","http://www.irs.gov/Tax-Professionals/e-services---Online-Tools-for-Tax-Professionals",1990,3,3,"http://www.cbp.gov",2003,1970,3,"US Single Window","Automated Commercial System, Automated Commercial Environment, and Automated Export System / International Treade Data System",2,"COTS","http://www.cbp.gov/document/guidance/ace-single-window-info-graphic",1996,3,3,1,1,"http://www.irs.gov/Filing",1990,3,1,"https://pay.gov/public/home",2000,2,"http://csrc.nist.gov/groups/ST/crypto_apps_infra/pki/index.html",1999,2,{"$f":"IFERROR(VLOOKUP($C191,'PS Employment'!$B$2:$N$107,12,FALSE)*1000,\"-\")","v":22490000},2,"http://laborsta.ilo.org/STP/guest",2010,"HRMIS","Human Resources Management Information System",1,"LDSW","http://www.opm.gov/services-for-agencies/technology-systems/","-",3,1,"PS","Payroll System",1,"LDSW","http://www.opm.gov/policy-data-oversight/pay-leave/pay-systems/","-",3,1,"-","SAM","https://www.sam.gov ",2013,3,3,"http://www.usaspending.gov ","United States Department of Treasury, Bureau of the Public Debt",null,null,null,null,null,null,null,20,90.909090909090907,"A","HIC"]
[190,null,"Uruguay","UMIC",3368.5949999999998,39956.299556009253,11860,"http://www.mef.gub.uy","Ministry of Economy and Finance / Ministerio de Economia y Finanzas",2,"http://www.cgn.gub.uy/",2,"http://www.cgn.gub.uy/innovaportal/v/600/1/innova.front/siif.html",1,"-",1,"http://www.mef.gub.uy/indicadores.php",0,0,"-",2,1,0,"-",0,"-",1,1,2005,1,1,5,2005,1,1,2010,1,4,1,1999,1,1,2010,1,1,1,0,0,1,1,1,1,1,1,"http://uca.mef.gub.uy/portal/web/guest/portada",1,"http://datos.gub.uy",0,"-",1,"http://www.mef.gub.uy/indicadores.php",2,"http://www.ine.gub.uy","Uruguay National Institute of Statistics ","http://www.bcu.gub.uy","Central Bank of Uruguay","http://www3.bcu.gub.uy/autoriza/sgoioi/nedd/sddsuruguay.html",1,"http://www.cgn.gub.uy/innovaportal/v/54/1/innova.front/acceso_a_la_informacion_publica.html",1,"http://www.cgn.gub.uy/innovaportal/v/262/1/innova.front/base_de_datos_juridica.html",0,"-",0,3,"-","spa","eng","-","-",0,"SIIF II","Sistema Integrado de Información Financiera / Integrated Financial Information System","C","F",3,1999,"C+L",1,1,"LDSW > Oracle","Web",3,"Dec 2012","Public",1,"B","NA","B","B","B+","C","C+","D","D+","D+",2.33,2.52,"-","-",1,1,26,0.74195,0.98038999999999998,0.85038999999999998,0.56069999999999998,0.81479999999999997,50,0.63149999999999995,0.54900000000000004,0.44419999999999998,0.90129999999999999,"LCR",null,null,null,null,"Uruguay",0,null,null,null,null,1,null,null,1,null,null,19,73.076923076923066,"B",null,190,"Uruguay","URY",null,null,"http://portal.gub.uy",2,"http://tramites.gub.uy",0.85040000000000004,94,70,72,68,75,null,null,null,null,"http://deuda.mef.gub.uy/",1943,"http://www.cgn.gub.uy/innovaportal/v/337/1/innova.front/que_es_el_siif.html",1999,3,4,"-","-","-","-","http://www.dgi.gub.uy",2003,"e-Tax + RMS","e-Tax and other portals + Revenue Management System",2,"COTS","https://servicios.dgi.gub.uy",2005,3,2,"http://www.aduanas.gub.uy",1853,1977,3,"LUCIA","Customs Automation System",2,"COTS","http://www.aduanas.gub.uy/innovaportal/v/12861/8/innova.front/sistema_lucia.html",1999,3,3,1,1,"https://servicios.dgi.gub.uy/",2013,3,1,"http://tramites.gub.uy/busqueda?q=inmeta:PEU_Tramite_Tema=En_Linea&title=En+L%C3%ADnea",2012,1,"http://www.correo.com.uy/index.asp?codPag=firmaDig",2012,2,{"$f":"IFERROR(VLOOKUP($C192,'PS Employment'!$B$2:$N$107,12,FALSE)*1000,\"-\")","v":224000},2,"http://www.onsc.gub.uy/onsc1/",2007,"SGH / SIRO","Sistema de Gestión Humana / Sistema Integrado de Retribuciones y Ocupaciones",1,"LDSW","http://www.onsc.gub.uy/onsc1/index.php?option=com_content&view=article&id=228&Itemid=122",2011,3,2,"SLH","Sistema de Liquidación de Haberes ",1,"LDSW","http://www.onsc.gub.uy/onsc1/index.php?option=com_content&view=article&id=227&Itemid=125",2011,3,2,"C+","ACCE","http://www.comprasestatales.gub.uy ",2005,3,2,"http://www.comprasestatales.gub.uy/inicio/proveedores/compras-estatales/llamados ","Debt Management Unit",null,null,null,null,null,null,null,18,81.818181818181827,"A","UMIC","LCR"]
[191,null,"Uzbekistan","LMIC",29341.200000000001,44232.011517550054,1510,"http://www.mf.uz","Ministry of Finance",2,"https://www.mf.uz/ru/mf-state-budjet.html",1,"http://pid.adb.org/pid/LoanView.htm?projNo=41041&seqNo=01&typeCd=3",1,"-",0,"-",0,0,"-",1,0,0,"-",0,"-",1,0,2006,0,null,"-","-",0,null,"-",1,4,0,2006,0,null,"-",1,0,0,0,0,0,0,0,0,0,1,"http://www.dgmarket.uz/",0,"-",0,"-",0,"-",0,"http://www.stat.uz","Ministry of Statistics","http://www.cbu.uz","Central Bank of the Republic of Uzbekistan","-",0,"-",1,"http://www.mf.uz/uz/gos-documents.html",0,"-",0,1,"-","uzb","rus","eng","-",0,"GFMIS","Government Financial Management Information System","C","T",3,2008,"C",1,1,"LDSW","Web",2,"Dec 2012","Final",1,"X","X","X","X","X","X","X","X","X","X","-","-","-","-",null,1,100,0.46950999999999998,0.47058,0.44880999999999999,0.23333999999999999,0.72640000000000005,91,0.50990000000000002,0.49669999999999997,0.20749999999999999,0.82550000000000001,"ECA",null,null,null,null,"Uzbekistan",0,null,null,null,null,0,null,null,null,null,null,7,26.923076923076923,"C",null,191,"Uzbekistan","UZB",null,"DAD","http://www.gov.uz",2,"https://my.gov.uz",0.44879999999999998,88,41,23,24,42,null,null,null,null,"https://www.mf.uz/en/mf-regional-menu/mf-regional-treasury-menu.html",2004,"http://lex.uz/pages/getpage.aspx?lact_id=2304140",2013,3,4,"-","-","-","-","http://www.soliq.uz",1998,"Online Services","Web services and forms",2,"COTS","http://soliq.uz/uz/interactive/",2001,3,2,"http://www.customs.uz",1997,1992,0,"UAIS > Single Window","Single Window / Single automated information system of the SCC (UAIS) + Automated data processing of customs declarations and more",1,"LDSW","http://www.carecprogram.org/uploads/events/2009/8th-CCC/Day1-Single-Window-UZB.pdf",2007,3,2,0,0,"http://decl.soliq.uz/",2011,2,0,"-","-",0,"http://pki.uz/index_organ.php?page=rcservers",2011,3,1340000,1,"http://unpan1.un.org/intradoc/groups/public/documents/un/unpan023246.pdf",2004,"Kadr MF","Human Resources Management Information System",1,"LDSW","https://www.mdm.uz/en/kadr-mf.html",2013,3,2,"PS","Ministry Payroll Systems",1,"LDSW","http://documents.worldbank.org/curated/en/2005/08/6233629/uzbekistan-public-finance-management-reform-project",2004,3,1,"X","e-Procurement System","http://www.xarid.uz",2013,2,1,"-",null,2,"DMFAS",null,1996,0,"MoF",0,13,59.090909090909093,"B","LMIC","ECA"]
[192,null,"Vanuatu","LMIC",245.619,675.83121306151895,2750,"http://www.governmentofvanuatu.gov.vu","Vanuatu Ministry of Finance and Economic Management",2,"http://www.governmentofvanuatu.gov.vu/index.php?option=com_phocadownload&view=sections&Itemid=227",2,"https://doft.gov.vu/index.php/about-us-admin-management/2014-01-04-23-31-58/fmis-section",1,"-",0,"-",0,0,"-",1,0,0,"-",0,"-",0,null,"-",0,null,"-","-",0,null,"-",0,null,null,"-",0,null,"-",1,0,0,0,0,0,0,0,0,0,0,"-",0,"-",0,"-",0,"-",0,"http://www.vnso.gov.vu","Vanuatu National Statistics Office","http://www.rbv.gov.vu","Reserve Bank of Vanuatu","-",0,"-",0,"-",0,"-",0,0,"-","eng","-","-","-","-","IFMIS","Integrated Financial Management Information System","C","F",3,2002,"C",1,2,"SmartStream","Web",3,"Nov 2009","Final",2,"X","X","X","X","X","X","X","X","X","X",2.5499999999999998,2.564516129032258,"-","-",null,2,159,0.25705,0.17646999999999999,7.8740000000000004E-2,0.11882,0.5736,135,0.35120000000000001,0.22220000000000001,0.17829999999999999,0.65310000000000001,"EAP",null,null,null,null,"Vanuatu",0,null,null,null,null,0,null,null,null,null,null,6,23.076923076923077,"D",null,192,"Vanuatu","VUT",null,null,"http://gov.vu",0,"-",7.8700000000000006E-2,34,5,5,6,11,null,null,null,null,"http://www.rbv.gov.vu/",1980,"http://ec.europa.eu/europeaid/what/economic-support/public-finance/documents/vanuatu_pefa_en.pdf",1985,3,4,"-","-","-","-","http://customsinlandrevenue.gov.vu",1999,"RMS","Revenue Management System",2,"Data Torque","http://www.datatorque.com/Article.aspx?Mode=1&ID=821",2010,3,2,"http://www.customsinlandrevenue.gov.vu",1999,2009,4,"ASYCUDA++","Automated SYstem for CUstoms DAta",2,"ASYCUDA ++","https://customsinlandrevenue.gov.vu/index.php/asycuda",1999,3,2,1,0,"-","-",1,0,"-","-",0,"http://www.paclii.org/journals/fJSPL/vol10/2.shtml",2000,1,4800,2,"https://www.pefa.org/en/assessment/vu-jul06-pfmpr-public-en",2006,"HRMIS","Integrated SmartStream Human Resource Management Information System",2,"COTS","https://www.pefa.org/en/assessment/vu-jul06-pfmpr-public-en ",2002,3,2,"PS","SmartStream Payroll System",2,"COTS","https://www.pefa.org/en/assessment/vu-jul06-pfmpr-public-en ",2002,3,2,"X","-","https://doft.gov.vu/index.php/procurement-tender-government-guidelines/tender-board","-",0,0,"-",null,2,"CS-DRMS",null,1995,3,"MoF",null,13,59.090909090909093,"B","LMIC","EAP"]
[193,null,"Venezuela, RB","UMIC",29278,346137.93500546442,11820,"http://www.mefbp.gob.ve","Venezuela Ministry of Planning and Finance",2,"http://www.mppef.gob.ve/index.php?option=com_content&view=article&id=242&Itemid=27",2,"http://www.oncop.gob.ve/vista/boton.php?var=sigecofx",1,"-",1,"http://www.mppef.gob.ve/index.php?option=com_content&view=article&id=245&Itemid=381",0,0,"-",2,1,0,"-",1,"http://www.ont.mf.gov.ve/index.php?option=com_filecabinet&view=files&id=39&Itemid=29",1,1,1998,0,null,"-","-",0,null,"-",1,3,1,1998,0,null,"-",1,1,1,0,0,1,0,1,1,0,0,"-",0,"-",0,"-",0,"-",2,"http://www.ine.gov.ve","Venezuela Central Office of Statistics and Informatics (INE)","http://www.bcv.org.ve","Central Bank of Venezuela","http://www.ont.mf.gov.ve/",0,"-",1,"http://www.mppef.gob.ve/index.php?option=com_content&view=article&id=148&Itemid=404",1,"-",0,3,"-","spa","-","-","-","-","SIGECOF","Sistema Integrado de Gestión y Control de las Finanzas Públicas / Integrated Administration and Control of Public Finance","C","F",3,2006,"C+L",1,1,"LDSW > Oracle","CS",3,"-","-","-","-","-","-","-","-","-","-","-","-","-","-","-",37,34,null,1,67,0.55639000000000005,0.56862000000000001,0.55118,0.34948000000000001,0.76849999999999996,71,0.5585,0.48370000000000002,0.32150000000000001,0.87050000000000005,"LCR",null,null,null,null,{"$f":"C195","v":"Venezuela, RB"},{"$f":"SUM(EA195:ED195)","v":3},1,1,null,1,{"$f":"SUM(EF195:EI195)","v":0},null,null,null,null,null,{"$f":"J195+L195+N195+P195+R195+S195+U195+V195+W195+Y195+AA195+AB195+AD195+AE195+AH195+AI195+AK195+AM195+AO195+AP195","v":14},{"$f":"EK195/26*100","v":53.846153846153847},{"$f":"IF(EL195<25,\"D\",IF(EL195<50,\"C\",IF(EL195<75,\"B\",\"A\")))","v":"B"},null,193,"Venezuela, RB","VEN",null,null,"http://www.gobiernoenlinea.ve",2,"http://www.gobiernoenlinea.ve",0.55120000000000002,88,55,33,32,50,null,null,null,null,"http://www.mefbp.gob.ve/",1958,"http://www2.ula.ve/presupuesto/images/stories/fruit/reg3loafsp.pdf",2002,3,4,"-","-","-","-","http://www.seniat.gov.ve",1994,"Online Services","Web services and forms",2,"COTS","http://declaraciones.seniat.gob.ve/portal/page/portal/PORTAL_SENIAT",2012,3,2,"http://www.seniat.gov.ve",1994,1996,4,"ASYCUDA World","Automated SYstem for CUstoms DAta",2,"ASYCUDA W","http://declaraciones.seniat.gob.ve/portal/page/portal/MANEJADOR_CONTENIDO_SENIAT/04ADUANAS/4.html",2003,3,2,1,"-","http://declaraciones.seniat.gob.ve/portal/page/portal/PORTAL_SENIAT",2009,2,0,"-","-",0,"http://www.suscerte.gob.ve/acreditacion",2009,2,910476,2,"http://documents.worldbank.org/curated/en/2007/04/8322433/venezuela-public-expenditure-management-project",2006,"SITP","Integrated System of Public Employees",1,"LDSW","https://www.rernep.mppp.gob.ve",2007,3,2,"SIGEFIRRHH","System of Financial Management of Human Resources ()",1,"LDSW","https://www.mindefensa.gov.ve/sigefirrhh/help/procedimiento/index.jsp",2007,3,1,"-","-","http://www.snc.gob.ve/","-",1,0,"-",null,2,"DMFAS 6.0",null,1998,3,"MoF","4F",{"$f":"N195+CO195+FZ195+GL195+GQ195+HJ195+HR195+HX195","v":13},{"$f":"IH195/22*100","v":59.090909090909093},{"$f":"IF(II195<25,\"D\",IF(II195<50,\"C\",IF(II195<75,\"B\",\"A\")))","v":"B"},"UMIC","LCR"]
[194,null,"Vietnam","LMIC",87840,111125.39666411589,1270,"http://www.mof.gov.vn","Vietnam Ministry of Finance",2,"http://www.mof.gov.vn/portal/page/portal/mof_en/State_Budget",1,"http://www.mof.gov.vn/portal/page/portal/mof_en/dn?pers_id=2420195&item_id=43684804&p_details=1",1,null,1,"http://www.mof.gov.vn/portal/page/portal/mof_en/State_Budget/dosb/ds/Final_accounts/70749475/70749598?p_folder_id=70428240&p_recurrent_news_id=70826023",0,0,"-",2,1,1,"http://www.mof.gov.vn/portal/page/portal/mof_vn/1351583/2126549/2117088",1,"http://www.mof.gov.vn/portal/page/portal//mof_vn/1351583/1371479",1,1,1998,0,null,"-","-",0,null,"-",1,2,1,2000,1,1,2003,1,1,1,0,0,1,1,1,1,1,0,"-",0,"-",2,"http://www.mof.gov.vn/portal/page/portal/mof_en/dn?pers_id=2420195&item_id=43684804&p_details=1",1,"http://www.mof.gov.vn/portal/page/portal/mof_vn/knd/1527141/1527171/74676643",3,"http://www.gso.gov.vn","Vietnam General Statistics Office","http://www.sbv.gov.vn","The State Bank of Vietnam","http://www.chinhphu.vn/portal/page/portal/chinhphu/solieungansachnhanuoc",0,"-",1,"http://www.mof.gov.vn/portal/page/portal/mof_en/ld",2,"GFS 2001",0,3,"-","vie","eng","-","-",1,"TABMIS","Treasury and Budget Management Information System","C","F",3,2013,"C+L",1,2,"Oracle","Web",{"$f":"IF(CH196=0,0,IF(CG196=\"T\",1,2)+IF(FK196>1,1,0))","v":3},"Jul 2013","Public",1,"D","B","B","C","B+","A","D+","D+","C+","B",2.5,2.4700000000000002,19,14,null,1,99,0.47044999999999998,0.49019000000000001,0.41732000000000002,0.37923000000000001,0.61480000000000001,83,0.52170000000000005,0.42480000000000001,0.39689999999999998,0.74339999999999995,"EAP",null,null,"APEC",null,"Vietnam",4,2,null,1,1,0,null,null,null,null,"2013-04-26",16,61.53846153846154,"B",null,194,"Vietnam","VNM",null,"DAD","http://www.vietnam.gov.vn",1,"http://www.vietnam.gov.vn",0.4173,78,50,16,18,39,null,null,null,null,"http://www.mefbp.gob.ve/",1945,"http://www.mof.gov.vn/portal/page/portal/mof_vn/tthc/2790294",2009,3,4,"-","-","-","-","http://www.gdt.gov.vn",1945,"QLT > e-Tax (TMS)","Distributed Tax Management System (QLT) + QLT-TNCN for personal income tax (PIT based on SAP) > Transition to Integrated Tax Management System (TMS based on SAP) initiated in 2011",2,"COTS","http://www.gdt.gov.vn/wps/portal/!ut/p/b1/04_Sj9CPykssy0xPLMnMz0vMAfGjzOINTCw9fSzCgv2NHU2MDDxDzdyMQi2cjBx9jPTD9aPASpzdHT1MzH0MDCxM3A0MPE2c_P08nAMNDTyNoQoMcABHA30_j_zcVP2C7Ow0R0dFRQDyrBX4/dl4/d5/L2dBISEvZ0FBIS9nQSEh/",1998,3,2,"http://www.customs.gov.vn",1945,1993,0,"e-Customs + NSW","e-Customs + National Single Window (VNACCS/VCIS) (e-Declaration, e-Manifest, e-Invoice, e-Payment, accounting)",2,"COTS","http://www.customs.gov.vn/ChuyenMuc/VNACCS_VCIS/Default.aspx",2014,3,3,1,1,"https://www.tncnonline.com.vn/Pages/Homepage.aspx",2009,2,0,"-","-",0,"http://www.rootca.gov.vn/gioithieu.html",2009,2,{"$f":"IFERROR(VLOOKUP($C196,'PS Employment'!$B$2:$N$107,12,FALSE)*1000,\"-\")","v":4073300},2,"http://laborsta.ilo.org/STP/guest",2008,"-","-",0,"-","-","-",1,0,"PAAS","Public Administration Accounting System",1,"LDSW ","https://www.pefa.org/en/assessment/vn-jul13-pfmpr-public-en ","-",3,1,"C+","e-GP > KONEPS","http://muasamcong.mpi.gov.vn",2009,3,2,"http://muasamcong.mpi.gov.vn/","Ministry of Finance",2,"DMFAS 5.3",null,1996,3,"MoF","4F",14,63.636363636363633,"B","LMIC","EAP"]
[195,null,"West Bank and Gaza","LIC",4019.433,4016,999.14589943407441,"http://www.pmof.ps","Ministry of Finance of the Palestinian Authority",2,"http://www.pmof.ps/52",2,"http://www.bisan.com/?lang=en",1,"-",0,"-",0,0,"http://www.pmof.ps/news/plugins/spaw/uploads/files/General%20Government%20Operations%202010%20-%20statment%201.pdf",2,1,0,"-",0,"-",1,1,2008,0,null,"-","-",0,null,"-",1,2,1,2008,1,0,2009,1,1,0,0,0,1,1,0,1,0,0,"-",0,"-",0,"-",0,"-",0,"http://pcbs.gov.ps","Palestinian Authority Central Bureau of Statistics ","http://www.pma-palestine.org","Palestine Monetary Authority","-",0,"-",1,"http://www.pmof.ps/index.php?pagess=rules",1,"-",0,3,"-","ara","eng","-","-",0,"BISAN","Financial Management Information System","C","F",3,1997,"C+L",1,1,"LDSW > MS SQL","Web",3,"Mar 2007","Public",2,"B","B","B","D","B","D","C+","C","C+","D",2.2000000000000002,2.14,"-","-",null,1,"-","-","-","-","-","-","-","-","-","-","-","MNA",null,null,null,"F","West Bank and Gaza",0,null,null,null,null,0,null,null,null,null,null,13,50,"B",null,195,"West Bank and Gaza","WBG",null,null,"http://www.palestinecabinet.gov.ps",1,"http://eportal.gov.ps","-","-","-","-","-","-",null,null,null,null,"http://www.pmof.ps",1994,"http://www-wds.worldbank.org/external/default/WDSContentServer/WDSP/IB/2012/06/15/000356161_20120615033527/Rendered/PDF/699640WP0P1206070023B0PFM0Web0Final.pdf",2007,3,4,"-","-","-","-","http://www.pmof.ps",1994,"RMS","Revenue Management System",2,"BISAN","http://www.imf.org/external/country/wbg/rr/2013/091113.pdf",2013,3,2,"http://www.pmof.ps",1994,"-",0,"ASYCUDA World","Automated SYstem for CUstoms DAta",2,"ASYCUDA W","http://unctad.org/en/PublicationsLibrary/dtlasycuda2011d1_en.pdf",2001,3,2,1,0,"-","-",0,0,"-","-",0,"-","-",0,{"$f":"IFERROR(VLOOKUP($C197,'PS Employment'!$B$2:$N$107,12,FALSE)*1000,\"-\")","v":179600},2,"http://laborsta.ilo.org/STP/guest",2010,"HRMIS","Human Resources Management Information System",1,"LDSW","http://diwan.ps",2007,2,2,"PS","Payroll System",1,"LDSW","http://www.oecd.org/mena/governance/50402812.pdf",2007,3,1,"C+","BISAN","http://www.bisan.com/?page_id=179",2010,2,1,"-",null,2,"DMFAS 5.2",null,2000,2,"MoF",1,12,54.54545454545454,"B","LIC","MNA"]
[196,null,"Yemen","LMIC",24799.88,26419.202120074369,1070,"http://www.mof.gov.ye","Yemen Ministry of Finance",1,"http://www.mof.gov.ye/budget.html",1,"http://www.pfmpyemen.org/index.php/management-information-systems/afmis",1,"-",0,"-",0,0,"-",1,1,0,"-",0,"-",1,0,2007,1,0,3,2011,0,null,"-",1,4,1,2007,0,null,"-",1,1,1,0,0,0,0,0,1,0,0,"-",0,"-",0,"-",0,"-",0,"http://www.cso-yemen.org","Yemen Central Statistical Organisation ","http://www.centralbank.gov.ye","Central Bank of Yemen","-",0,"-",1,"http://www.mof.gov.ye/mof-yemen/ministry-of-finance-yemen/mof-background.html",2,"-",0,1,"-","ara","-","-","-","-","AFMIS","Automated Financial Management Information System","C","F",2,2007,"C",1,1,"LDSW > Oracle","Web",3,"Jun 2008","Public",1,"C","A","C","B","B","B","D+","C+","B+","D+",2.6,2.3833333333333333,11,25,null,1,150,0.27199000000000001,0.27450000000000002,0.30708000000000002,0.12486,0.38400000000000001,167,0.2472,0.17649999999999999,0.1011,0.4642,"MNA",null,null,null,"F","Yemen",0,null,null,null,null,0,null,null,null,null,null,9,34.615384615384613,"C",null,196,"Yemen","YEM",null,"DAD","http://www.yemen.gov.ye/portal",1,"http://www.yemen.gov.ye/portal",0.30709999999999998,66,18,12,35,30,null,null,null,null,"http://www.centralbank.gov.ye/",1990,"http://siteresources.worldbank.org/INTYEMEN/Resources/Yemen_PEFA_Assessment-June2008.pdf",2007,2,3,"-","-","-","-","http://tax.gov.ye",1991,"Web Services","Web services and forms",2,"COTS","http://www.pefa.org/en/assessment/ye-jun08-pfmpr-public-en",2010,3,2,"http://www.customs.gov.ye",1990,1993,4,"ASYCUDA++","Automated SYstem for CUstoms DAta",2,"ASYCUDA ++","http://unctad.org/en/PublicationsLibrary/dtlasycuda2011d1_en.pdf",2001,3,2,0,0,"-","-",0,0,"-","-",0,"-","-",0,{"$f":"IFERROR(VLOOKUP($C198,'PS Employment'!$B$2:$N$107,12,FALSE)*1000,\"-\")","v":529700},2,"http://laborsta.ilo.org/STP/guest",2007,"EDB + BIS","Employee DB + Biometric Information System",1,"LDSW","http://www.mocsi.gov.ye",2001,2,1,"PS","Ministry Payroll Systems",1,"LDSW","https://www.pefa.org/en/assessment/ye-jun08-pfmpr-public-en",2001,3,1,"D+","HATC","http://www.hatcyemen.org","-",1,0,"-",null,2,"DMFAS 5.3",null,1999,3,"CB","4FT",10,45.454545454545453,"C","LMIC","MNA"]
[197,null,"Zambia","LMIC",13474.959000000001,15677.132855486232,1160,"http://www.mofnp.gov.zm","Zambia Ministry of Finance and National Planning",2,"http://www.mofnp.gov.zm/index.php?option=com_docman&Itemid=195",2,"http://www.mofnp.gov.zm/index.php?option=com_content&task=view&id=121&Itemid=130",2,"http://zambiamf.africadata.org/",1,"http://zambiamf.africadata.org/en/DataAnalysis",0,1,"http://www.mofnp.gov.zm/index.php?option=com_docman&task=cat_view&gid=107&Itemid=122",1,0,1,"http://www.mofnp.gov.zm/index.php?option=com_content&task=view&id=41&Itemid=59",0,"-",1,0,2008,1,0,3,2008,1,0,2008,1,4,1,2004,0,null,"-",1,1,0,0,1,1,0,1,0,1,0,"No update since 2008",0,"-",0,"-",0,"-",2,"http://www.zamstats.gov.zm","Zambia Central Statistical Office","http://www.boz.zm","Central Bank of Zambia","http://www.mlgh.gov.zm/index.php?option=com_docman&Itemid=58",0,"-",1,"http://www.mofnp.gov.zm/index.php?option=com_content&task=view&id=72&Itemid=102",0,"-",0,1,"-","eng","-","-","-","-","IFMIS","Integrated Financial Management Information System","C","F",2,2012,"C+L",2,2,"SAP","Web",2,"Jun 2008","Final",2,"X","X","X","X","X","X","X","X","X","X",2.95,2.5,4,36,null,2,163,0.23893,0.17646999999999999,0.14172999999999999,0.12471,0.45040000000000002,154,0.29099999999999998,0.31369999999999998,6.0100000000000001E-2,0.49930000000000002,"AFR",null,null,null,null,"Zambia",0,null,null,null,null,0,null,null,null,null,null,15,57.692307692307686,"B",null,197,"Zambia","ZMB",null,"DAD","http://www.zambia.gov.zm",0,"-",0.14169999999999999,47,16,0,9,16,null,null,null,null,"http://www.mofnp.gov.zm",1996,"-","-",0,"-","-","http://www.mofnp.gov.zm/index.php/news/188-state-makes-progress-in-implementation-of-treasury-single-account-system","-","-","http://www.zra.org.zm",1994,"Online Services","Web services and forms",2,"COTS","https://www.zra.org.zm/eReg.htm?actionCode=load&regType=TPREG&sess=Y",2013,3,2,"http://www.zra.org.zm",1994,1978,4,"ASYCUDA++","Automated SYstem for CUstoms DAta",2,"ASYCUDA ++","http://unctad.org/en/PublicationsLibrary/dtlasycuda2011d1_en.pdf",2002,3,2,1,0,"https://www.zra.org.zm/eReg.htm?actionCode=load&regType=TPREG&sess=Y",2013,3,0,"-","-",0,"http://www.zambialii.org/files/zm/legislation/act/2009/21/psa2009172.pdf",2009,1,120000,1,"http://www.zambia-weekly.com/media/zambia_weekly_2013_-_wk_13.pdf",2013,"PMEC","Payroll Management and Establishment Control",2,"SAP","http://www.worldbank.org/projects/P082452/public-sector-management-program-support-project?lang=en",2010,3,2,"PMEC","Payroll Management and Establishment Control",2,"SAP","http://www.mofnp.gov.zm",2010,3,2,"X","ZPPA","http://www.zppa.org.zm ","-",1,0,"-","Bank of Zambia",2,"DMFAS 5.3",null,1986,3,"MoF",4,15,68.181818181818173,"B","LMIC","AFR"]
[198,null,"Zimbabwe","LIC",12754.378000000001,8419.6792406400727,660,"http://www.zimtreasury.gov.zw","Zimbabwe Ministry of Finance",2,"http://www.zimtreasury.gov.zw/index.php?option=com_content&view=article&id=107&Itemid=71",1,"http://www.iiste.org/Journals/index.php/RJFA/article/view/4973/5056",1,"-",0,"-",0,0,"-",1,0,0,"-",0,"-",1,1,2008,0,null,"-","-",1,0,2011,1,4,1,2008,0,null,"-",1,1,0,0,0,1,0,0,0,0,0,"-",0,"-",0,"-",0,"http://repository.uwc.ac.za/xmlui/bitstream/handle/10566/208/DeVisserLocalGovtZimbabwe2010.pdf?sequence=4",0,"http://www.zimstat.co.zw","Zimbabwe Central Statistical Office","http://www.rbz.co.zw","Reserve Bank of Zimbabwe","-",0,"-",1,"http://www.zimtreasury.gov.zw/",0,"-",0,1,"-","eng","-","-","-","-","PFMS","Public Financial Management System","C","F",3,2005,"C+L",1,2,"SAP","Web",2,"Jul 2012","Final",1,"X","X","X","X","X","X","X","X","X","X",2.4500000000000002,2.2000000000000002,20,"-",null,0,126,0.35844999999999999,0.45097999999999999,0.30708000000000002,0.22375999999999999,0.54449999999999998,133,0.35830000000000001,0.30070000000000002,0.1099,0.66439999999999999,"AFR",null,null,null,"F","Zimbabwe",0,null,null,null,null,0,null,null,null,null,null,10,38.461538461538467,"C",null,198,"Zimbabwe","ZWE",null,null,"http://www.zim.gov.zw",0,"-",0.30709999999999998,88,25,5,15,30,null,null,null,null,"http://www.zimtreasury.gov.zw/",1980,"-","-",0,"-","-","-","-","-","http://www.zimra.co.zw",2001,"TMS > SAP","Tax Management System",2,"SAP","http://www.zimra.co.zw/index.php?option=com_content&view=article&id=1375&Itemid=159",2003,3,2,"http://www.zimra.co.zw",2001,1981,4,"ASYCUDA World","Automated SYstem for CUstoms DAta",2,"ASYCUDA W","http://www.zimra.co.zw/index.php?option=com_content&view=article&id=1207&Itemid=145",1992,3,2,1,0,"-","-",0,0,"-","-",0,"-","-",0,235000,1,"http://www.newzimbabwe.com/news/printVersion.aspx?newsID=15189",2013,"HRMIS","Human Resources Management Information System",2,"SAP","http://www.psc.gov.zw/joomlaorg/human-resources-management-information-systems-hrmis-agency ",2013,2,1,"PS","Ministry Payroll Systems",1,"LDSW","http://www.psc.gov.zw/index.php/joomlaorg/salary-services-bureau","-",3,1,"X","-","http://www.zim.gov.zw/index.php/parastatals","-",0,0,"-","Bank of Zimbabwe",2,"DMFAS 6.0",null,1986,3,"MoF",4,9,40.909090909090914,"C","LIC","AFR"]
[]
[null,null,null,null,null,null,null,null,null,null,null,null,null,null,null,null,null,null,null,null,null,null,null,null,null,null,null,null,null,null,null,null,null,null,null,null,null,null,null,null,null,null,null,null,null,null,null,null,null,null,null,null,null,null,null,null,null,null,null,null,null,null,null,null,null,null,null,null,null,null,null,null,null,null,null,null,null,null,null,null,null,null,null,null,null,null,null,null,null,null,null,null,null,null,null,null,null,null,null,null,null,null,null,null,null,null,null,null,null,null,null,null,null,null,null,null,null,null,null,null,null,null,null,null,null,null,null,null,null,null,null,null,null,null,null,null,null,null,null,null,null,null,"x","x","x",null,null,null,null,null,null,null,null,null,null,null,null,null,null,null,null,null,null,null,null,null,null,null,null,null,null,null,null,null,null,null,null,null,null,null,null,null,null,null,null,null,null,null,null,null,null,null,null,null,null,null,null,null,null,null,null,null,null,null,null,null,null,null,null,null,null,null,null,null,null,null,null,null,null,null,null,null,null,null,null,null,null,null,null,null,null,null,null,null,null,null,null,null,null,null,null,null,null,"x"]
[null,null,null,"Econ",null,null,null,null,"Key Indicators >>> ",1,null,2,null,3,null,4,null,5,6,null,7,8,9,null,10,null,11,12,{"$f":"198-COUNTIF(AC3:AC200,\"-\")","v":156},13,14,"Period",{"$f":"198-COUNTIF(AG3:AG200,\"-\")","v":103},15,16,{"$f":"198-COUNTIF(AJ3:AJ200,\"-\")","v":45},17,"Freq",18,{"$f":"198-COUNTIF(AN3:AN200,\"-\")","v":149},19,20,{"$f":"198-COUNTIF(AQ3:AQ200,\"-\")","v":76},21,22,23,24,25,26,27,28,29,30,null,null,31,null,32,null,33,null,34,null,"see also >>>","http://www.bis.org/cbanks.htm",null,"Informative >>>  ",35,null,36,null,37,null,38,39,null,40,null,null,null,null,null,null,"C / D","F / T","Stat","Op Yr","C+L","Type","ASW",null,"Arch","F_Comb","PEFA Cnt","Report","Rep",null,null,null,null,null,null,null,null,null,null,null,null,"OBI_12","OBI_10","OGP","MTEF","eGov14",null,null,null,null,null,"eGov12",null,null,null,"AFR",{"$f":"COUNTIF($DT$2:$DT$200,DS203)","v":48},null,{"$f":"COUNTIF(DV3:DV200,\"OECD\")","v":34},{"$f":"COUNTIF(DW3:DW200,\"APEC\")","v":21},{"$f":"COUNTIF(DX3:DX200,\"F\")","v":33},"66 Economies > ",{"$f":"SUM(DZ3:DZ200)","v":227},69,66,60,32,117,25,19,52,21,{"$f":"+COUNTA(EJ3:EJ200)","v":43},null,null,"Group","Good practices in publishing open budget data from FMIS",null,null," ","AMP","DAD"," ","eSrv",null,null,null,null,null,null,null,null,null,null,"CR Org",null,{"$f":"COUNTIF(FH$3:FH$200,\">0\")","v":195},null,{"$f":"198-COUNTIF(FJ$3:FJ$200,\"-\")","v":161},"TSA Type","TSA Scope",null,null,null,null,null,{"$f":"198-COUNTIF(FR$3:FR$200,\"-\")","v":191},null,null,"TMIS",null,null,{"$f":"198-COUNTIF(FX$3:FX$200,\"-\")","v":161},"TMIS_St","Tax_Srv",null,{"$f":"198-COUNTIF(GB$3:GB$200,\"-\")","v":191},{"$f":"198-COUNTIF(GC$3:GC$200,\"-\")","v":177},"Acc_Status",null,null,"CMIS",null,null,{"$f":"198-COUNTIF(GJ$3:GJ$200,\"-\")","v":179},"Cust_St","Cust_Srv","e-Sub","SW",null,{"$f":"198-COUNTIF(GP$3:GP$200,\"-\")","v":125},"eFiling Srv","eFiling",null,{"$f":"198-COUNTIF(GT$3:GT$200,\"-\")","v":60},"ePay Type",null,{"$f":"198-COUNTIF(GW$3:GW$200,\"-\")","v":145},"DSign Sta",{"$f":"SUM(GY3:GY202)","v":230272351},"PE Scope",null,{"$f":"198-COUNTIF(HB$3:HB$200,\"-\")","v":176},null,null,"HRM ASW",null,null,{"$f":"198-COUNTIF(HH$3:HH$200,\"-\")","v":130},"HRM Sta","HRM Srv",null,null,"Payr ASW",null,null,{"$f":"198-COUNTIF(HP$3:HP$200,\"-\")","v":138},"Payr Sta","Payr Srv",null,null,null,{"$f":"198-COUNTIF(HV$3:HV$200,\"-\")","v":146},"ePrc Sta","ePrc Srv",null,null,"DMS","DMS Soln",null,null,"DMS Sta","DMS Sta","DMS Sta",null,null,"Group"]
[null,null,"HIC",{"$f":"COUNTIF($D$3:$D$200,C204)","v":54},{"$f":"SUM(E3:E201)","v":6968359.3869999964},{"$f":"SUM(F3:F201)","v":66183097.654147647},{"$f":"AVERAGE(G3:G200)","v":14083.595292310347},null,null,{"$f":"COUNTIF(J$3:J$200,0)","v":26}," 0 = No PF dataset",{"$f":"COUNTIF($L$3:$L$200,0)","v":6},"0 =  No",{"$f":"COUNTIF(N$3:N$200,0)","v":31}," 0 = No PF dataset",{"$f":"COUNTIF(P$3:P$200,0)","v":139},"0 = No",{"$f":"COUNTIF(R$3:R$200,0)","v":178},{"$f":"COUNTIF(S$3:S$200,0)","v":170},null,{"$f":"COUNTIF(U$3:U$200,0)","v":29},{"$f":"COUNTIF(V$3:V$200,0)","v":48},{"$f":"COUNTIF(W$3:W$200,0)","v":143},null,{"$f":"COUNTIF(Y$3:Y$200,0)","v":104},null,{"$f":"COUNTIF(AA$3:AA$200,0)","v":42},{"$f":"COUNTIF(AB$3:AB$200,0)","v":34},null,{"$f":"COUNTIF(AD$3:AD$200,0)","v":95},{"$f":"COUNTIF(AE$3:AE$200,0)","v":39},{"$f":"COUNTIF(AF$2:AF$200,2)","v":3},"2-yr",{"$f":"COUNTIF(AH$3:AH$200,0)","v":153},{"$f":"COUNTIF(AI$3:AI$200,0)","v":12},null,{"$f":"COUNTIF(AK$3:AK$200,0)","v":49},{"$f":"COUNTIF($AL$3:$AL$200,1)","v":1},{"$f":"COUNTIF(AM$3:AM$200,0)","v":30},null,{"$f":"COUNTIF(AO$3:AO$200,0)","v":122},{"$f":"COUNTIF(AP$3:AP$200,0)","v":15},"< 0 >",{"$f":"COUNTIF(AR$3:AR$200,0)","v":56},52,137,168,174,52,72,120,91,144,139,null,{"$f":"COUNTIF(BD$3:BD$200,0)","v":132},null,{"$f":"COUNTIF(BF$3:BF$200,0)","v":170},null,{"$f":"COUNTIF(BH$3:BH$200,0)","v":131},null,{"$f":"COUNTIF(BJ$3:BJ$200,0)","v":100},null,null,null,null,null,{"$f":"COUNTIF(BP$3:BP$200,0)","v":145},null,{"$f":"COUNTIF(BR$3:BR$200,0)","v":55},null,{"$f":"COUNTIF(BT$3:BT$200,0)","v":134},null,{"$f":"COUNTIF(BV$3:BV$200,0)","v":169},{"$f":"COUNTIF(BW$3:BW$200,0)","v":25},"English",{"$f":"COUNTIF(BY$3:BY$200,\"eng\")","v":54},{"$f":"COUNTIF(BZ$3:BZ$200,\"eng\")","v":82},{"$f":"COUNTIF(CA$3:CA$200,\"eng\")","v":18},{"$f":"COUNTIF(CB$3:CB$200,\"eng\")","v":1},{"$f":"COUNTIF(CC$3:CC$200,0)","v":104},null,"Centralized",{"$f":"COUNTIF($CF$3:$CF$200,\"C\")","v":165},{"$f":"COUNTIF(CG$3:CG$200,\"F\")","v":127},{"$f":"COUNTIF(CH$3:CH$200,0)","v":4},{"$f":"COUNTIF(CI3:CI200,\"<2000\")","v":19},{"$f":"COUNTIF($CJ$3:$CJ$200,\"C\")","v":86},{"$f":"COUNTIF(CK$3:CK$200,1)","v":165},{"$f":"COUNTIF(CL$3:CL$200,2)","v":108},"COTS               Web",{"$f":"COUNTIF(CN$3:CN$200,\"Web\")","v":160},{"$f":"COUNTIF(CO$3:CO$200,0)","v":4},{"$f":"198-COUNTIF(CP3:CP200,\"-\")","v":132},{"$f":"198-COUNTIF(CQ3:CQ200,\"-\")","v":132},{"$f":"COUNTIF(CR3:CR200,\">1\")","v":63},null,null,null,null,null,null,null,null,null,null,null,null,{"$f":"COUNTIF(DE3:DE200,\">=0\")","v":100},{"$f":"COUNTIF(DF3:DF200,\">=0\")","v":94},{"$f":"COUNTIF(DG$3:DG$200,0)","v":5},{"$f":"COUNTIF($DH$3:$DH$200,0)","v":49},{"$f":"COUNTIF(DI3:DI200,\">=0\")","v":193},null,null,null,null,null,{"$f":"COUNTIF(DO3:DO200,\">=0\")","v":190},null,null,null,"EAP",29,null,null,null,null,null,"Central Gov policies",null,null,null,null,"State/Local Gov policies",null,null,null,null,null,{"$f":"EM204/$EM$208","v":0.12626262626262627},"A",{"$f":"COUNTIF($EM$3:$EM$200,EL204)","v":25}," Highly Visible",null,"(extensive infromation; FMIS is used to publish timely, reliable PF data; dynamic query options)"," ",{"$f":"COUNTA(ER3:ER200)","v":23},{"$f":"COUNTA(ES3:ES200)","v":41},0,{"$f":"COUNTIF($EU$2:$EU$200,0)","v":63},null,null,null,null,null,null,null,null,null,"MoF   1",{"$f":"COUNTIF(FF$3:FF$200,1)","v":0},null,null,null,0,{"$f":"COUNTIF($FK$2:$FK$200,0)","v":37},{"$f":"COUNTIF($FL$2:$FL$200,0)+COUNTIF($FL$2:$FL$200,\"-\")","v":63},"n/a",null,null,null,null,null,null,0,{"$f":"COUNTIF(FU$3:FU200,0)","v":31},null,null,0,{"$f":"COUNTIF($FY$3:$FY$200,0)","v":31},{"$f":"COUNTIF($FZ$2:$FZ$200,0)","v":8},null,null,0,{"$f":"COUNTIF($GD$2:$GD$200,0)+COUNTIF($GD$2:$GD$200,\"-\")","v":83}," 42   ASYCUDA++",0,{"$f":"COUNTIF(GG$3:GG200,0)","v":16},null,null,0,{"$f":"COUNTIF($GK$2:$GK$200,0)+COUNTIF($GK$2:$GK$200,\"-\")","v":16},{"$f":"COUNTIF($GL$2:$GL$200,0)","v":8},{"$f":"COUNTIF(GM$3:GM$200,\"-\")","v":10},{"$f":"COUNTIF(GN$3:GN$200,\"-\")","v":18},"n/a",0,{"$f":"COUNTIF($GQ$2:$GQ$200,0)+COUNTIF($GQ$2:$GQ$200,\"-\")","v":38},{"$f":"COUNTIF(GR$3:GR$200,\"-\")","v":6}," n/a",0,{"$f":"COUNTIF(GU$3:GU$200,0)","v":120},null,0,{"$f":"COUNTIF(GX$3:GX$200,0)","v":53},0,{"$f":"COUNTIF(GZ$3:GZ$200,0)","v":24},null,null,null,0,{"$f":"COUNTIF(HE$2:HE$200,0)+COUNTIF(HE$2:HE$200,\"-\")","v":26},null,null,0,{"$f":"COUNTIF(HI$2:HI$200,0)+COUNTIF(HI$2:HI$200,\"-\")","v":15},{"$f":"COUNTIF(HJ$2:HJ$200,0)+COUNTIF(HJ$2:HJ$200,\"-\")","v":26},0,0,{"$f":"COUNTIF(HM$2:HM$200,0)+COUNTIF(HM$2:HM$200,\"-\")","v":21},null,null,0,{"$f":"COUNTIF(HQ$2:HQ$200,0)+COUNTIF(HQ$2:HQ$200,\"-\")","v":14},{"$f":"COUNTIF(HR$2:HR$200,0)+COUNTIF(HR$2:HR$200,\"-\")","v":21},0,null,null,0,{"$f":"COUNTIF($HW$3:$HW$200,0)+COUNTIF($HW$3:$HW$200,\"-\")","v":30},{"$f":"COUNTIF(HX$2:HX$200,0)+COUNTIF(HX$2:HX$200,\"-\")","v":56},null,null,{"$f":"COUNTIF(IA$3:IA$200,0)","v":0},{"$f":"COUNTIF(IB$3:IB$200,\"DMFAS\")","v":11},null,null,{"$f":"COUNTIF(IE$3:IE$200,0)","v":13},{"$f":"COUNTIF(IF$3:IF$200,\"-\")","v":0},{"$f":"COUNTIF(IG$3:IG$200,0)","v":13},{"$f":"IJ204/$EM$208","v":0.22727272727272727},"A",{"$f":"COUNTIF(IJ$3:IJ$200,II204)","v":45}]
[null,null,"UMIC",{"$f":"COUNTIF($D$3:$D$200,C205)","v":52},null,null,null,null,null,{"$f":"COUNTIF(J$3:J$200,1)","v":36}," 1 = Difficult to see",{"$f":"COUNTIF($L$3:$L$200,1)","v":94},"1 = Yes, ref doc only",{"$f":"COUNTIF(N$3:N$200,1)","v":131}," 1 = Static",{"$f":"COUNTIF(P$3:P$200,1)","v":59},"1 = Yes",{"$f":"COUNTIF(R$3:R$200,1)","v":20},{"$f":"COUNTIF(S$3:S$200,1)","v":28},null,{"$f":"COUNTIF(U$3:U$200,1)","v":99},{"$f":"COUNTIF(V$3:V$200,1)","v":150},{"$f":"COUNTIF(W$3:W$200,1)","v":40},null,{"$f":"COUNTIF(Y$3:Y$200,1)","v":94},null,{"$f":"COUNTIF(AA$3:AA$200,1)","v":156},{"$f":"COUNTIF(AB$3:AB$200,1)","v":122},null,{"$f":"COUNTIF(AD$3:AD$200,1)","v":103},{"$f":"COUNTIF(AE$3:AE$200,1)","v":64},{"$f":"COUNTIF(AF$2:AF$200,3)","v":61},3,{"$f":"COUNTIF(AH$3:AH$200,1)","v":45},{"$f":"COUNTIF(AI$3:AI$200,1)","v":33},null,{"$f":"COUNTIF(AK$3:AK$200,1)","v":149},{"$f":"COUNTIF($AL$2:$AL$200,2)","v":50},{"$f":"COUNTIF(AM$3:AM$200,1)","v":119},null,{"$f":"COUNTIF(AO$3:AO$200,1)","v":76},{"$f":"COUNTIF(AP$3:AP$200,1)","v":61},"< 1 >",{"$f":"COUNTIF(AR$3:AR$200,1)","v":142},146,59,30,24,146,124,76,107,54,59,null,{"$f":"COUNTIF(BD$3:BD$200,1)","v":66},null,{"$f":"COUNTIF(BF$3:BF$200,1)","v":10},null,{"$f":"COUNTIF(BH$3:BH$200,1)","v":65},null,{"$f":"COUNTIF(BJ$3:BJ$200,1)","v":39},null,null,null,null,null,{"$f":"COUNTIF(BP$3:BP$200,1)","v":53},null,{"$f":"COUNTIF(BR$3:BR$200,1)","v":143},null,{"$f":"COUNTIF(BT$3:BT$200,1)","v":9},null,{"$f":"COUNTIF(BV$3:BV$200,1)","v":29},{"$f":"COUNTIF(BW$3:BW$200,1)","v":45},"French",{"$f":"COUNTIF(BY$3:BY$200,\"fre\")","v":23},{"$f":"COUNTIF(BZ$3:BZ$200,\"fre\")","v":8},{"$f":"COUNTIF(CA$3:CA$200,\"fre\")","v":0},{"$f":"COUNTIF(CB$3:CB$200,\"fre\")","v":0},{"$f":"COUNTIF(CC$3:CC$200,1)","v":6},null,"Decentralized",{"$f":"COUNTIF($CF$3:$CF$200,\"D\")","v":33},{"$f":"COUNTIF(CG$3:CG$200,\"T\")","v":67},{"$f":"COUNTIF(CH$3:CH$200,1)","v":5},{"$f":"COUNTIFS(CI4:CI201,\">=2000\",CI4:CI201,\"<2005\")","v":47},{"$f":"COUNTIF($CJ$3:$CJ$200,\"C+L\")","v":108},{"$f":"COUNTIF(CK$3:CK$200,2)","v":24},{"$f":"COUNTIF(CL$3:CL$200,1)","v":83},"LDSW                 CS",{"$f":"COUNTIF(CN$3:CN$200,\"CS\")","v":31},{"$f":"COUNTIF(CO$3:CO$200,1)","v":22},null,null,null,null,null,null,null,null,null,null,null,null,null,null,null,null,null,{"$f":"COUNTIF(DG$3:DG$200,1)","v":55},{"$f":"COUNTIF($DH$3:$DH$200,1)","v":71},null,null,null,null,null,null,null,null,null,null,"ECA",30,null,null,null,null,null,null,null,null,null,null,null,null,null,null,null,null,{"$f":"EM205/$EM$208","v":0.36363636363636365},"B",{"$f":"COUNTIF($EM$3:$EM$200,EL205)","v":72}," Visible",null,"(significant information; static web pages/dataset updated regularly)"," "," "," ",1,{"$f":"COUNTIF($EU$2:$EU$200,1)","v":38},null,null,null,null,null,null,null,null,null,"MoICT   2",{"$f":"COUNTIF(FF$3:FF$200,2)","v":0},null,null,null,1,{"$f":"COUNTIF($FK$2:$FK$200,1)","v":26},{"$f":"COUNTIF($FL$2:$FL$200,1)","v":0},"< 25%",null,null,null,null,null,null,1,{"$f":"COUNTIF(FU$3:FU201,1)","v":34},null,null,1,{"$f":"COUNTIF($FY$2:$FY$200,1)","v":0},{"$f":"COUNTIF($FZ$2:$FZ$200,1)","v":21},null,null,1,{"$f":"COUNTIF($GD$2:$GD$200,1)","v":0}," 42   ASYCUDA World",1,{"$f":"COUNTIF(GG$3:GG201,1)","v":17},null,null,1,{"$f":"COUNTIF($GK$2:$GK$200,1)","v":0},{"$f":"COUNTIF($GL$2:$GL$200,1)","v":8},{"$f":"COUNTIF(GM$3:GM$200,\"0\")","v":37},{"$f":"COUNTIF(GN$3:GN$200,\"0\")","v":107},"no",1,{"$f":"COUNTIF($GQ$2:$GQ$200,1)","v":35},{"$f":"COUNTIF(GR$3:GR$200,\"0\")","v":117}," no",1,{"$f":"COUNTIF(GU$3:GU$200,1)","v":26},null,1,{"$f":"COUNTIF(GX$3:GX$200,1)","v":41},1,{"$f":"COUNTIF(GZ$3:GZ$200,1)","v":54},null,null,null,1,{"$f":"COUNTIF(HE$2:HE$200,1)","v":97},null,null,1,{"$f":"COUNTIF(HI$2:HI$200,1)","v":11},{"$f":"COUNTIF(HJ$2:HJ$200,1)","v":33},1,1,{"$f":"COUNTIF(HM$2:HM$200,1)","v":94},null,null,1,{"$f":"COUNTIF(HQ$2:HQ$200,1)","v":7},{"$f":"COUNTIF(HR$2:HR$200,1)","v":36},1,null,null,1,{"$f":"COUNTIF($HW$3:$HW$200,1)","v":26},{"$f":"COUNTIF(HX$2:HX$200,1)","v":66},null,null,{"$f":"COUNTIF(IA$3:IA$200,1)","v":3},{"$f":"COUNTIF(IB$3:IB$200,\"DMFAS 5.2\")","v":1},null,null,{"$f":"COUNTIF(IE$3:IE$200,1)","v":0},{"$f":"COUNTIF(IF$3:IF$200,\"MoF\")","v":103},{"$f":"COUNTIF(IG$3:IG$200,1)","v":3},{"$f":"IJ205/$EM$208","v":0.57070707070707072},"B",{"$f":"COUNTIF(IJ$3:IJ$200,II205)","v":113}]
[null,null,"LMIC",{"$f":"COUNTIF($D$3:$D$200,C206)","v":54},"World",null,null,null,null,{"$f":"COUNTIF(J$3:J$200,2)","v":136}," 2 = Clearly visible",{"$f":"COUNTIF($L$3:$L$200,2)","v":98},"2 = Yes, web site",{"$f":"COUNTIF(N$3:N$200,2)","v":23}," 2 = Dynamic",{"$f":"SUM(P204:P205)","v":198},null,{"$f":"SUM(R204:R205)","v":198},{"$f":"SUM(S204:S205)","v":198},null,{"$f":"COUNTIF(U$3:U$200,2)","v":70},{"$f":"SUM(V204:V205)","v":198},{"$f":"COUNTIF(W$3:W$200,2)","v":15},null,{"$f":"SUM(Y204:Y205)","v":198},null,{"$f":"SUM(AA204:AA205)","v":198},{"$f":"SUM(AB204:AB205)","v":156},null,{"$f":"SUM(AD204:AD205)","v":198},{"$f":"SUM(AE204:AE205)","v":103},{"$f":"COUNTIF(AF$2:AF$200,4)","v":16},4,{"$f":"SUM(AH204:AH205)","v":198},{"$f":"SUM(AI204:AI205)","v":45},null,{"$f":"SUM(AK204:AK205)","v":198},{"$f":"COUNTIF($AL$2:$AL$200,3)","v":18},{"$f":"SUM(AM204:AM205)","v":149},null,{"$f":"SUM(AO204:AO205)","v":198},{"$f":"SUM(AP204:AP205)","v":76},"<n/a>",{"$f":"COUNTIF(AR$3:AR$200,\"n/a\")","v":0},0,2,0,0,0,2,2,0,0,0,null,{"$f":"SUM(BD204:BD205)","v":198},null,{"$f":"COUNTIF(BF$3:BF$200,2)","v":16},null,{"$f":"COUNTIF(BH$3:BH$200,\"n/a\")","v":2},null,{"$f":"COUNTIF(BJ$3:BJ$200,2)","v":36},null,null,null,null,null,{"$f":"SUM(BP204:BP205)","v":198},null,{"$f":"SUM(BR204:BR205)","v":198},null,{"$f":"COUNTIF(BT$3:BT$200,2)","v":55},null,{"$f":"SUM(BV204:BV205)","v":198},{"$f":"COUNTIF(BW$3:BW$200,2)","v":28},"Spanish",{"$f":"COUNTIF(BY$3:BY$200,\"spa\")","v":21},{"$f":"COUNTIF(BZ$3:BZ$200,\"spa\")","v":0},{"$f":"COUNTIF(CA$3:CA$200,\"spa\")","v":0},{"$f":"COUNTIF(CB$3:CB$200,\"spa\")","v":0},{"$f":"COUNTIF(CC$3:CC$200,\"-\")","v":88},null,null,{"$f":"SUM(CF204:CF205)","v":198},{"$f":"SUM(CG204:CG205)","v":194},{"$f":"COUNTIF(CH$3:CH$200,2)","v":12},{"$f":"COUNTIFS(CI5:CI201,\">=2005\",CI5:CI201,\"<2010\")","v":63},{"$f":"SUM(CJ204:CJ205)","v":194},{"$f":"COUNTIF(CK$3:CK$200,3)","v":2},{"$f":"COUNTIF(CL$3:CL$200,0)+COUNTIF(CL$3:CL$200,\"-\")","v":7},"Unknown/No FMIS",{"$f":"SUM(CN204:CN205)","v":191},{"$f":"COUNTIF(CO$3:CO$200,2)","v":82},null,{"$f":"COUNTIF($CQ$3:$CQ$200,CS206)","v":84},null,"Public",null,null,null,null,null,null,null,null,null,null,null,null,null,{"$f":"SUM(DG204:DG205)","v":60},{"$f":"COUNTIF($DH$3:$DH$200,2)","v":42},null,null,null,null,null,null,null,null,null,null,"LCR",32,null,null,null,null,"EU",{"$f":"SUM(EA206:ED206)","v":15},5,9,1,null,null,null,null,null,null,null,{"$f":"EM206/$EM$208","v":0.31818181818181818},"C",{"$f":"COUNTIF($EM$3:$EM$200,EL206)","v":63}," Limited Visibility",null,"(some information; ongoing activities to improve web content or publish PF data)"," "," "," ",2,{"$f":"COUNTIF($EU$2:$EU$200,2)","v":97},null,null,null,null,null,null,null,null,null,"MoIA   3",{"$f":"COUNTIF(FF$3:FF$200,3)","v":0},null,null,null,2,{"$f":"COUNTIF($FK$2:$FK$200,2)","v":69},{"$f":"COUNTIF($FL$2:$FL$200,2)","v":10},"25-50%",null,null,null,null,null,null,2,{"$f":"COUNTIF(FU$3:FU202,2)","v":133},null,null,2,{"$f":"COUNTIF($FY$2:$FY$200,2)","v":8},{"$f":"COUNTIF($FZ$2:$FZ$200,2)","v":140},null,null,2,{"$f":"COUNTIF($GD$2:$GD$200,2)","v":11},null,2,{"$f":"COUNTIF(GG$3:GG202,2)","v":165},null,null,2,{"$f":"COUNTIF($GK$2:$GK$200,2)","v":3},{"$f":"COUNTIF($GL$2:$GL$200,2)","v":144},{"$f":"COUNTIF(GM$3:GM$200,\"1\")","v":151},{"$f":"COUNTIF(GN$3:GN$200,\"1\")","v":73},"yes",2,{"$f":"COUNTIF($GQ$2:$GQ$200,2)","v":46},{"$f":"COUNTIF(GR$3:GR$200,\"1\")","v":75}," yes",2,{"$f":"COUNTIF(GU$3:GU$200,2)","v":52},null,2,{"$f":"COUNTIF(GX$3:GX$200,2)","v":38},2,{"$f":"COUNTIF(GZ$3:GZ$200,2)","v":120},null,null,null,2,{"$f":"COUNTIF(HE$2:HE$200,2)","v":75},null,null,2,{"$f":"COUNTIF(HI$2:HI$200,2)","v":32},{"$f":"COUNTIF(HJ$2:HJ$200,2)","v":139},2,2,{"$f":"COUNTIF(HM$2:HM$200,2)","v":83},null,null,2,{"$f":"COUNTIF(HQ$2:HQ$200,2)","v":23},{"$f":"COUNTIF(HR$2:HR$200,2)","v":141},2,null,null,2,{"$f":"COUNTIF($HW$3:$HW$200,2)","v":24},{"$f":"COUNTIF(HX$2:HX$200,2)","v":72},null,null,{"$f":"COUNTIF(IA$3:IA$200,2)","v":117},{"$f":"COUNTIF(IB$3:IB$200,\"DMFAS 5.3\")","v":29},null,null,{"$f":"COUNTIF(IE$3:IE$200,2)","v":5},{"$f":"COUNTIF(IF$3:IF$200,\"CB\")","v":9},{"$f":"COUNTIF(IG$3:IG$200,2)+COUNTIF(IG$3:IG$200,\"2F\")+COUNTIF(IG$3:IG$200,\"2T\")+COUNTIF(IG$3:IG$200,\"2FT\")","v":0},{"$f":"IJ206/$EM$208","v":0.14646464646464646},"C",{"$f":"COUNTIF(IJ$3:IJ$200,II206)","v":29}]
[null,null,"LIC",{"$f":"COUNTIF($D$3:$D$200,C207)","v":38},6840507.0025393004,62492517.230076395,9135.6557645329904,null,null,{"$f":"SUM(J204:J206)","v":198},null,{"$f":"SUM(L204:L206)","v":198},null,{"$f":"COUNTIF(N$3:N$200,3)","v":13}," 3 = Dynamic",null,null,null,null,null,{"$f":"SUM(U204:U206)","v":198},null,{"$f":"SUM(W204:W206)","v":198},null,null,null,null,null,null,null,null,{"$f":"COUNTIF(AF$2:AF$200,5)","v":22},5,null,null,null,null,{"$f":"COUNTIF($AL$2:$AL$200,4)","v":80},null,null,null,null,null,{"$f":"SUM(AR204:AR206)","v":198},{"$f":"SUM(AS204:AS206)","v":198},198,198,198,198,198,198,198,198,198,null,null,null,{"$f":"COUNTIF(BF$3:BF$200,\"n/a\")","v":2},null,{"$f":"SUM(BH204:BH206)","v":198},null,{"$f":"COUNTIF(BJ$3:BJ$200,3)","v":23},null,null,null,null,null,null,null,null,null,{"$f":"SUM(BT204:BT206)","v":198},null,null,{"$f":"COUNTIF(BW$3:BW$200,3)","v":100},"Arabic",{"$f":"COUNTIF(BY$3:BY$200,\"ara\")","v":18},{"$f":"COUNTIF(BZ$3:BZ$200,\"ara\")","v":4},{"$f":"COUNTIF(CA$3:CA$200,\"ara\")","v":0},{"$f":"COUNTIF(CB$3:CB$200,\"ara\")","v":0},null,null,null,null,null,{"$f":"COUNTIF(CH$3:CH$200,3)","v":177},{"$f":"COUNTIF(CI3:CI200,\">=2010\")","v":65},null,{"$f":"COUNTIF(CK$3:CK$200,4)","v":1},{"$f":"SUM(CL204:CL206)","v":198},null,null,{"$f":"COUNTIF(CO$3:CO$200,3)","v":90},null,{"$f":"COUNTIF($CQ$3:$CQ$200,CS207)","v":34},null,"Final",null,null,null,null,null,null,null,null,null,null,null,null,null,null,{"$f":"COUNTIF($DH$3:$DH$200,3)","v":19},null,null,null,null,null,null,null,null,null,null,"MNA",21,null,null,null,null,"OECD",{"$f":"SUM(EA207:ED207)","v":1},null,1,null,null,null,null,null,null,null,null,{"$f":"EM207/$EM$208","v":0.19191919191919191},"D",{"$f":"COUNTIF($EM$3:$EM$200,EL207)","v":38}," Minimal Visibility",null,"(minimal or no information; no MoF web site or PF data)"," "," "," "," ",{"$f":"SUM(EU204:EU206)","v":198},null,null,null,null,null,null,null,null,null,"Auton   4",{"$f":"COUNTIF(FF$3:FF$200,4)","v":0},null,null,null,3,{"$f":"COUNTIF($FK$2:$FK$200,3)","v":66},{"$f":"COUNTIF($FL$2:$FL$200,3)","v":8},"50-75&",null,null,null,null,null,null,null,{"$f":"SUM(FU204:FU206)","v":198},null,null,3,{"$f":"COUNTIF($FY$2:$FY$200,3)","v":159},{"$f":"COUNTIF($FZ$2:$FZ$200,3)","v":29},null,null,3,{"$f":"COUNTIF($GD$2:$GD$200,3)","v":41},null,null,{"$f":"SUM(GG204:GG206)","v":198},null,null,3,{"$f":"COUNTIF($GK$2:$GK$200,3)","v":179},{"$f":"COUNTIF($GL$2:$GL$200,3)","v":38},{"$f":"SUM(GM204:GM206)","v":198},{"$f":"SUM(GN204:GN206)","v":198},null,3,{"$f":"COUNTIF($GQ$2:$GQ$200,3)","v":79},{"$f":"SUM(GR204:GR206)","v":198},null,null,{"$f":"SUM(GU204:GU206)","v":198},null,3,{"$f":"COUNTIF(GX$3:GX$200,3)","v":66},null,{"$f":"SUM(GZ204:GZ206)","v":198},null,null,null,null,{"$f":"SUM(HE204:HE206)","v":198},null,null,3,{"$f":"COUNTIF(HI$2:HI$200,3)","v":140},{"$f":"SUM(HJ204:HJ206)","v":198},null,null,{"$f":"SUM(HM204:HM206)","v":198},null,null,3,{"$f":"COUNTIF(HQ$2:HQ$200,3)","v":154},{"$f":"SUM(HR204:HR206)","v":198},null,null,null,3,{"$f":"COUNTIF($HW$3:$HW$200,3)","v":118},{"$f":"COUNTIF(HX$2:HX$200,3)","v":4},null,null,{"$f":"SUM(IA204:IA206)","v":120},{"$f":"COUNTIF(IB$3:IB$200,\"DMFAS 6.0\")","v":27},null,null,{"$f":"COUNTIF(IE$3:IE$200,3)","v":100},{"$f":"COUNTIF(IF$3:IF$200,\"CRD\")","v":0},{"$f":"COUNTIF(IG$3:IG$200,3)+COUNTIF(IG$3:IG$200,\"3F\")+COUNTIF(IG$3:IG$200,\"3T\")+COUNTIF(IG$3:IG$200,\"3FT\")","v":5},{"$f":"IJ207/$EM$208","v":5.5555555555555552E-2},"D",{"$f":"COUNTIF(IJ$3:IJ$200,II207)","v":11}]
[null,null,null,{"$f":"SUM(D204:D207)","v":198},null,null,null,null,null,null,null,null,null,{"$f":"SUM(N204:N207)","v":198},null,null,null,null,null,null,null,null,null,null,null,null,null,null,null,null,null,{"$f":"COUNTIF(AF$2:AF$200,AG208)","v":1},"> 5",null,null,null,null,{"$f":"SUM(AL204:AL207)","v":149},null,null,null,null,null,null,null,null,null,null,null,null,null,null,null,null,null,null,null,{"$f":"SUM(BF204:BF207)","v":198},null,null,null,{"$f":"SUM(BJ204:BJ207)","v":198},null,null,null,null,null,null,null,null,null,null,null,null,{"$f":"SUM(BW204:BW207)","v":198},"Russian",{"$f":"COUNTIF(BY$3:BY$200,\"rus\")","v":3},{"$f":"COUNTIF(BZ$3:BZ$200,\"rus\")","v":6},{"$f":"COUNTIF(CA$3:CA$200,\"rus\")","v":1},{"$f":"COUNTIF(CB$3:CB$200,\"rus\")","v":0},null,null,null,null,null,{"$f":"SUM(CH204:CH207)","v":198},{"$f":"SUM(CI204:CI207)","v":194},null,{"$f":"COUNTIF(CK$3:CK$200,5)","v":2},null,null,null,{"$f":"SUM(CO204:CO207)","v":198},null,{"$f":"COUNTIF($CQ$3:$CQ$200,CS208)","v":12},null,"Draft",null,null,null,null,null,null,null,null,null,null,null,null,null,null,{"$f":"SUM(DH204:DH207)","v":181},null,null,null,null,null,null,null,null,null,null,"SAR",8,null,null,null,null,"UN",2,null,2,null,null,null,null,null,null,null,null,null,null,{"$f":"SUM(EM204:EM207)","v":198},null,null,null,null,null,null,null,null,null,null,null,null,null,null,null,null,null,"Pres/PM   5",{"$f":"COUNTIF(FF$3:FF$200,5)","v":0},null,null,null,null,{"$f":"SUM(FK204:FK207)","v":198},{"$f":"COUNTIF($FL$2:$FL$200,4)","v":117},">75%",null,null,null,null,null,null,null,null,null,null,null,{"$f":"SUM(FY204:FY207)","v":198},{"$f":"SUM(FZ204:FZ207)","v":198},null,null,4,{"$f":"COUNTIF($GD$2:$GD$200,4)","v":63},null,null,null,null,null,null,{"$f":"SUM(GK204:GK207)","v":198},{"$f":"SUM(GL204:GL207)","v":198},null,null,null,null,{"$f":"SUM(GQ204:GQ207)","v":198},null,null,null,null,null,null,{"$f":"SUM(GX204:GX207)","v":198},null,null,null,null,null,null,null,null,null,null,{"$f":"SUM(HI204:HI207)","v":198},null,null,null,null,null,null,null,{"$f":"SUM(HQ204:HQ207)","v":198},null,null,null,null,null,{"$f":"SUM(HW204:HW207)","v":198},{"$f":"SUM(HX204:HX207)","v":198},null,null,null,{"$f":"SUM(IB204:IB207)","v":68},"DMFAS",null,{"$f":"SUM(IE204:IE207)","v":118},{"$f":"COUNTIF(IF$3:IF$200,\"SDMO\")","v":2},{"$f":"COUNTIF(IG$3:IG$200,4)+COUNTIF(IG$3:IG$200,\"4F\")+COUNTIF(IG$3:IG$200,\"4T\")+COUNTIF(IG$3:IG$200,\"4FT\")","v":52},null,null,{"$f":"SUM(IJ204:IJ207)","v":198}]
[null,null,null,null,null,null,null,null,null,null,null,null,null,null,null,null,"http://opendataforafrica.org/",null,null,null,null,null,null,null,null,null,null,null,null,null,null,{"$f":"SUM(AF204:AF208)","v":103},null,null,null,null,null,null,null,null,null,null,null,null,null,null,null,null,null,null,null,null,null,null,null,null,null,null,null,null,null,null,null,null,null,null,null,null,null,null,null,null,null,null,null,"Portuguese",{"$f":"COUNTIF(BY$3:BY$200,\"por\")","v":7},{"$f":"COUNTIF(BZ$3:BZ$200,\"por\")","v":1},{"$f":"COUNTIF(CA$3:CA$200,\"por\")","v":1},{"$f":"COUNTIF(CB$3:CB$200,\"por\")","v":0},null,null,null,null,null,null,null,null,{"$f":"SUM(CK204:CK208)","v":194},null,null,null,"Status+Func+TSA",null,{"$f":"COUNTIF($CQ$3:$CQ$200,CS209)","v":2},null,"Planned",null,null,null,null,null,null,null,null,null,null,null,null,null,null,null,null,null,null,null,null,null,null,null,null,null,null,{"$f":"SUM(DT203:DT208)","v":168},null,null,null,null,null,{"$f":"SUM(EA206:EC208)","v":18},null,null,null,null,null,null,null,null,null,null,"Avg Score >",{"$f":"AVERAGE(EL3:EL200)","v":46.658896658896701},null,null,null,null,null,null,null,null,null,null,null,null,null,null,null,null,null,null,"Other   6",{"$f":"COUNTIF(FF$3:FF$200,6)","v":0},null,null,null,null,null,{"$f":"SUM(FL204:FL208)","v":198},null,null,null,null,null,null,null,null,null,null,null,null,null,null,null,null,null,{"$f":"SUM(GD204:GD208)","v":198},null,null,null,null,null,null,null,null,null,null,null,null,null,null,null,null,null,null,null,null,null,null,null,null,null,null,null,null,null,null,null,null,null,null,null,null,null,null,null,null,null,null,null,null,null,null,null,null,null,{"$f":"COUNTIF(IB$3:IB$200,\"CS-DRMS\")","v":49},"CS-DRMS",null,null,{"$f":"COUNTIF(IF$3:IF$200,\"MoE\")+COUNTIF(IF$3:IF$200,\"CAA\")+COUNTIF(IF$3:IF$200,\"Other\")","v":4},{"$f":"SUM(IG204:IG208)","v":73},null,{"$f":"AVERAGE(II3:II200)","v":61.63911845730027}," < Avg Score"]
[null,null,null,null,null,null,null,null,null,null,null,null,null,null,null,null,null,null,null,null,null,null,null,null,null,null,null,null,null,null,null,null,null,null,null,null,null,null,null,null,null,null,null,null,null,null,null,null,null,null,null,null,null,null,null,null,null,null,null,null,null,null,null,null,null,null,null,null,null,null,null,null,null,null,null,"Chinese",{"$f":"COUNTIF(BY$3:BY$200,\"chi\")","v":4},{"$f":"COUNTIF(BZ$3:BZ$200,\"chi\")","v":0},{"$f":"COUNTIF(CA$3:CA$200,\"chi\")","v":0},{"$f":"COUNTIF(CB$3:CB$200,\"chi\")","v":0},null,null,null,null,null,null,null,null,null,null,null,null,null,null,{"$f":"SUM(CQ206:CQ209)","v":132},null,null,null,null,null,null,null,null,null,null,null,null,null,null,null,null,null,null,null,null,null,null,null,null,null,null,null,null,null,null,null,null,null,null,null,null,null,null,null,null,null,null,null,null,null,null,null,null,null,null,null,null,null,null,null,null,null,null,null,null,null,null,null,null,null,null,{"$f":"SUM(FF204:FF209)","v":0},null,null,null,null,null,null,null,null,null,null,null,null,null,null,null,null,null,null,null,null,null,null,null,null,null,null,null,null,null,null,null,null,null,null,null,null,null,null,null,null,null,null,null,null,null,null,null,null,null,null,null,null,null,null,null,null,null,null,null,null,null,null,null,null,null,null,null,null,null,null,null,null,null,{"$f":"COUNTIF(IB$3:IB$200,\"LDSW\")","v":3},"LDSW",null,null,{"$f":"SUM(IF204:IF209)","v":118}]
[null,null,"FMIS World Map:",null,null,null,null,null,null,null,null,null,null,null,null,null,null,null,null,null,null,null,null,null,null,null,null,"Historical trends in publishing PF information",null,null,null,null,null,null,null,null,null,null,null,null,null,null,null,null,null,null,null,null,null,null,null,null,null,null,null,null,null,null,null,null,null,null,null,null,null,null,null,null,null,null,null,null,null,null,null,"German",{"$f":"COUNTIF(BY$3:BY$200,\"ger\")","v":4},{"$f":"COUNTIF(BZ$3:BZ$200,\"ger\")","v":0},{"$f":"COUNTIF(CA$3:CA$200,\"ger\")","v":0},{"$f":"COUNTIF(CB$3:CB$200,\"ger\")","v":1},null,null,null,null,null,null,null,null,null,null,null,null,null,null,null,null,null,null,null,null,null,null,null,null,null,null,null,null,null,null,null,null,null,null,null,null,null,null,null,null,null,null,null,null,null,null,null,null,"Total # of policies > ",{"$f":"DZ203+EE203+DZ209","v":362},{"$f":"EA203+EF203+EA206","v":99},{"$f":"EB203+EG203+SUM(EB206:EB208)","v":97},{"$f":"EC203+EH203+EC206","v":113},{"$f":"ED203+EI203","v":53},null,null,null,null,null,null,null,null,null,null,null,null,null,null,null,null,null,null,null,null,null,null,null,null,null,null,null,null,null,null,null,null,null,null,null,null,null,null,null,null,null,null,null,null,null,null,null,null,null,null,null,null,null,null,null,null,null,null,null,null,null,null,null,null,null,null,null,null,null,null,null,null,null,null,null,null,null,null,null,null,null,null,null,null,null,null,null,null,null,null,null,null,null,null,null,null,null,null,null,null,null,{"$f":"COUNTIF(IB$3:IB$200,\"COTS\")","v":0},"COTS"]
[null,null,"http://maps.google.com/maps/ms?ie=UTF&msa=0&msid=213542822110887565899.0004c2f44512d9ce6795f",null,null,null,null,null,null,null,null,null,null,null,null,null,null,null,null,null,null,null,null,null,null,null,null,">=1980",{"$f":"COUNTIFS(AC$2:AC$200,$AB$212,AC$2:AC$200,$AD$212)+1","v":3},"<=1989",null,null,{"$f":"COUNTIFS(AG$2:AG$200,$AB$212,AG$2:AG$200,$AD$212)","v":0},null,null,{"$f":"COUNTIFS(AJ$2:AJ$200,$AB$212,AJ$2:AJ$200,$AD$212)","v":0},null,null,null,{"$f":"COUNTIFS(AN$2:AN$200,$AB$212,AN$2:AN$200,$AD$212)","v":2},null,null,{"$f":"COUNTIFS(AQ$2:AQ$200,$AB$212,AQ$2:AQ$200,$AD$212)","v":0},null,null,null,null,null,null,null,null,null,null,null,null,null,null,null,null,null,null,null,null,null,null,null,null,null,null,null,null,null,null,null,null,"Dutch",{"$f":"COUNTIF(BY$3:BY$200,\"dut\")","v":3},{"$f":"COUNTIF(BZ$3:BZ$200,\"dut\")","v":0},{"$f":"COUNTIF(CA$3:CA$200,\"dut\")","v":0},{"$f":"COUNTIF(CB$3:CB$200,\"dut\")","v":0},null,null,null,null,null,null,null,null,null,null,null,null,null,null,null,null,null,null,null,null,null,null,null,null,null,null,null,null,null,null,null,null,null,null,null,null,null,null,null,null,null,null,null,null,null,null,null,null,null,null,null,null,null,null,null,null,null,null,null,null,null,null,null,null,null,null,null,null,null,"http://unpan3.un.org/egovkb/Data-Center",null,"http://www.comesa.int",null,null,null,null,null,null,null,null,null,null,null,null,null,null,null,null,null,null,null,null,"http://oceantax.co.uk/links/tax-authorities-worldwide.html",null,"Tax havens:",null,null,null,null,null,null,null,null,null,null,null,"http://www.asycuda.org/countrydb.asp",null,null,null,null,null,null,null,"http://www.doingbusiness.org/data/exploretopics/trading-across-borders/good-practices",null,null,null,null,null,"http://www.bis.org/cpss/paysysinfo.htm",null,null,null,null,null,"http://www.oecd.org/gov/pem/hrpractices.htm",null,null,null,null,"http://en.wikipedia.org/wiki/Category:Civil_service_by_country",null,null,null,null,null,null,"http://icsc.un.org/map/",null,null,null,null,null,null,null,null,null,"http://www.mdb-egp.org",null,null,null,null,null,null,{"$f":"SUM(IB208:IB211)","v":120}]
[null,null,null,null,null,null,null,null,null,null,null,null,null,null,null,null,null,null,null,null,null,null,null,null,null,null,null,">=1990",{"$f":"COUNTIFS(AC$2:AC$200,$AB$213,AC$2:AC$200,$AD$213)","v":29},"<=1999",null,null,{"$f":"COUNTIFS(AG$2:AG$200,$AB$213,AG$2:AG$200,$AD$213)","v":12},null,null,{"$f":"COUNTIFS(AJ$2:AJ$200,$AB$213,AJ$2:AJ$200,$AD$213)","v":6},null,null,null,{"$f":"COUNTIFS(AN$2:AN$200,$AB$213,AN$2:AN$200,$AD$213)","v":27},null,null,{"$f":"COUNTIFS(AQ$2:AQ$200,$AB$213,AQ$2:AQ$200,$AD$213)","v":13},null,null,null,null,null,null,null,null,null,null,null,null,null,null,null,null,null,null,null,null,null,null,null,null,null,null,null,null,null,null,null,null,"other",{"$f":"198-SUM(BY204:BY212)-BY214","v":61},{"$f":"198-SUM(BZ204:BZ212)-BZ214","v":9},{"$f":"198-SUM(CA204:CA212)-CA214","v":4},{"$f":"198-SUM(CB204:CB212)-CB214","v":2},null,null,null,null,null,null,null,null,null,null,null,null,null,null,null,null,null,null,null,null,null,null,null,null,null,null,null,null,null,null,null,null,null,null,null,null,null,null,null,null,null,null,null,null,null,null,null,null,null,null,null,null,null,null,null,null,null,null,null,null,null,null,null,null,null,null,null,null,null,"http://en.wikipedia.org/wiki/E-services",null,"http://www.ptabank.org",null,null,null,null,null,null,null,null,null,null,null,null,null,null,null,null,null,null,null,null,null,null,"Examples of typical tax haven countries: ",null,null,null,null,null,null,null,null,null,null,null,"http://unctad.org/en/PublicationsLibrary/dtlasycuda2011d1_en.pdf",null,null,null,null,null,null,null,null,null,null,null,null,null,null,null,null,null,null,null,"http://laborsta.ilo.org/STP/guest",null,null,null,null,"http://www.unpan.org/DPADM/ProductsServices/ThematicPortals/PublicAdministrationCountryProfiles/tabid/677/Default.aspx",null,null,null,null,null,null,null,null,null,null,null,null,null,null,null,null,"http://blogs.worldbank.org/governance/open-government-contracts-platform-now-live",null,null,null,null,"http://www.publicdebtnet.org/public/links/index.html"]
[null,null,null,null,null,null,null,null,null,null,null,null,null,null,null,null,null,null,null,null,null,null,null,null,null,null,null,">=2000",{"$f":"COUNTIFS(AC$2:AC$200,$AB$214,AC$2:AC$200,$AD$214)","v":104},"<=2009",null,null,{"$f":"COUNTIFS(AG$2:AG$200,$AB$214,AG$2:AG$200,$AD$214)","v":58},null,null,{"$f":"COUNTIFS(AJ$2:AJ$200,$AB$214,AJ$2:AJ$200,$AD$214)","v":30},null,null,null,{"$f":"COUNTIFS(AN$2:AN$200,$AB$214,AN$2:AN$200,$AD$214)","v":103},null,null,{"$f":"COUNTIFS(AQ$2:AQ$200,$AB$214,AQ$2:AQ$200,$AD$214)","v":55},null,null,null,null,null,null,null,null,null,null,null,null,null,null,null,null,null,null,null,null,null,null,null,null,null,null,null,null,null,null,null,null,"n/a",{"$f":"COUNTIF(BY$3:BY$200,\"-\")","v":0},{"$f":"COUNTIF(BZ$3:BZ$200,\"-\")","v":88},{"$f":"COUNTIF(CA$3:CA$200,\"-\")","v":174},{"$f":"COUNTIF(CB$3:CB$200,\"-\")","v":194},null,null,null,null,null,null,null,null,null,null,null,null,null,null,null,null,null,null,null,null,null,null,null,null,null,null,null,null,null,null,null,null,null,null,null,null,null,null,null,null,null,null,null,null,null,null,null,null,null,null,null,null,null,null,null,null,null,null,null,null,null,null,null,null,null,null,null,null,null,null,null,"http://www.erepublic.org",null,null,null,null,null,null,null,null,null,null,null,null,null,null,null,null,null,null,null,null,"http://www.ciat.org",null,"Bahamas, Belize, Bermuda, British Virgin Islands, Cayman Islands,",null,null,null,null,null,null,null,"http://ec.europa.eu/ecip/national_customs_websites/index_en.htm"]
[null,null,null,null,null,null,null,null,null,null,null,null,null,null,null,null,null,null,null,null,null,null,null,null,null,null,null,">=2010",{"$f":"COUNTIFS(AC$2:AC$200,$AB$215,AC$2:AC$200,$AD$215)","v":19},"<=2013",null,null,{"$f":"COUNTIFS(AG$2:AG$200,$AB$215,AG$2:AG$200,$AD$215)","v":33},null,null,{"$f":"COUNTIFS(AJ$2:AJ$200,$AB$215,AJ$2:AJ$200,$AD$215)","v":9},null,null,null,{"$f":"COUNTIFS(AN$2:AN$200,$AB$215,AN$2:AN$200,$AD$215)","v":17},null,null,{"$f":"COUNTIFS(AQ$2:AQ$200,$AB$215,AQ$2:AQ$200,$AD$215)","v":8},null,null,null,null,null,null,null,null,null,null,null,null,null,null,null,null,null,null,null,null,null,null,null,null,null,null,null,null,null,null,null,null,null,{"$f":"SUM(BY204:BY214)","v":198},{"$f":"SUM(BZ204:BZ214)","v":198},{"$f":"SUM(CA204:CA214)","v":198},{"$f":"SUM(CB204:CB214)","v":198},null,null,null,null,null,null,null,null,null,null,null,null,null,null,null,null,null,null,null,null,null,null,null,null,null,null,null,null,null,null,null,null,null,null,null,null,null,null,null,null,null,null,null,null,null,null,null,null,null,null,null,null,null,null,null,null,null,null,null,null,null,null,null,null,null,null,null,null,null,"http://egobex.net/home",null,"http://journals.sas.ac.uk/deeslr/index",null,null,null,null,null,null,null,null,null,null,null,null,null,null,null,null,null,null,null,null,null,null,"Gibraltar, Guernsey, Jersey, Hong Kong, Cyprus, Isle of Man, Monaco, Panama",null,null,null,null,null,null,null,null,null,"http://www.wcoomd.org/en/topics/facilitation/instrument-and-tools/tools/pf_tools_datamodel.aspx",null,null,null,null,null,null,null,null,null,null,null,null,null,null,null,null,null,null,null,null,null,"http://www.wapes.org/en/system/files/eng_survey_rapport.pdf",null,null,null,null,null,null,null,null,null,null,null,null,null,null,null,null,null,null,null,null,null,"http://adbprocurementforum.net/?page_id=1418",null,null,null,null,"http://unctad.org/divs/gds/dmfas/Pages/default.aspx"]
[null,null,null,null,null,null,null,null,null,null,null,null,null,null,null,null,null,null,null,null,null,null,null,null,null,null,null,null,{"$f":"SUM(AC212:AC215)","v":155},null,null,null,{"$f":"SUM(AG212:AG215)","v":103},null,null,{"$f":"SUM(AJ212:AJ215)","v":45},null,null,null,{"$f":"SUM(AN212:AN215)","v":149},null,null,{"$f":"SUM(AQ212:AQ215)","v":76},null,null,null,null,null,null,null,null,null,null,null,null,null,null,null,null,null,null,null,null,null,null,null,null,null,null,null,null,null,null,null,null,null,null,null,null,null,null,null,null,null,null,null,null,null,null,null,null,null,null,null,null,null,null,null,null,null,null,null,null,null,null,null,null,null,null,null,null,null,null,null,null,null,null,null,null,null,null,null,null,null,null,null,null,null,null,null,null,null,null,null,null,null,null,null,null,null,null,null,null,null,null,null,null,null,null,"http://www.redgealc.net",null,"http://www.opengovguide.com",null,null,null,null,null,null,null,null,null,null,null,null,null,null,null,null,null,null,null,null,null,null,"Strict bank secrecy countries: ",null,null,null,null,null,null,null,null,null,null,null,null,null,null,null,null,null,null,null,null,null,null,null,null,null,null,null,null,null,null,null,null,null,null,null,null,"http://www.ihris.org",null,null,null,null,null,null,null,null,null,null,null,null,null,null,null,null,null,null,null,null,null,"http://thecommonwealth.org/organisation/trade-and-debt-management-advisory-services",null,null,null,null,null,null,null,"https://www.nationalpriorities.org/smart/"]
[null,null,null,null,null,null,null,null,null,null,null,null,null,null,null,null,null,null,null,null,null,null,null,null,null,null,null,null,{"$f":"AC216/198","v":0.78282828282828287},null,null,null,{"$f":"AG216/198","v":0.52020202020202022},null,null,{"$f":"AJ216/198","v":0.22727272727272727},null,null,null,{"$f":"AN216/198","v":0.75252525252525249},null,null,{"$f":"AQ216/198","v":0.38383838383838381},null,null,null,null,null,null,null,null,null,null,null,null,null,null,null,null,null,null,null,null,null,null,null,null,null,null,null,null,null,null,null,null,null,null,null,null,null,null,null,null,null,null,null,null,null,null,null,null,null,null,null,null,null,null,null,null,null,null,null,null,null,null,null,null,null,null,null,null,null,null,null,null,null,null,null,null,null,null,null,null,null,null,null,null,null,null,null,null,null,null,null,null,null,null,null,null,null,null,null,null,null,null,null,null,null,null,null,null,null,null,null,null,null,null,null,null,null,null,null,null,null,null,null,null,null,null,null,null,null,"FMIS Op Yr","First operation year of the existing FMIS solution (FMIS operations might have been started earlier than this)","Austria, Liechtenstein, Luxembourg and Switzerland",null,null,null,null,null,null,null,null,null,null,null,"http://www.unece.org/cefact/single_window/welcome.html",null,null,null,null,null,"http://www.unece.org/fileadmin/DAM/trade/Publications/ECE-TRADE-404_SingleWindow.pdf",null,null,null,null,null,null,null,null,null,null,null,null,null,null,null,null,null,null,null,null,null,null,null,null,null,null,null,null,null,null,null,null,null,null,null,"http://promis.comesa.int/",null,null,null,null,"http://www.csdrms.org/"]
[null,null,null,null,null,null,null,null,null,null,null,null,null,null,null,null,null,null,null,null,null,null,null,null,null,null,null,"Regular publication trends",null,null,null,null,null,null,null,null,null,null,null,null,null,null,null,null,null,null,null,null,null,null,null,null,null,null,null,null,null,null,null,null,null,null,null,null,null,null,null,null,null,null,null,null,null,null,null,null,null,null,null,null,null,null,null,null,null,null,null,null,null,null,null,null,null,null,null,null,null,null,null,null,null,null,null,null,null,null,null,null,null,null,null,null,null,null,null,null,null,null,null,null,null,null,null,null,null,null,null,null,null,null,null,null,null,null,null,null,null,null,null,null,null,null,null,null,null,null,null,null,null,"http://ec.europa.eu/digital-agenda/en/living-online/public-services",null,null,null,null,null,null,null,null,null,null,null,null,null,null,null,null,null,null,null,null,null,null,"Tre Yr","Establishment year of the existing Treasury organization (Treasury might have been established earlier than this)","According to some views,",null,null,null,null,null,null,null,null,null,null,null,"http://ec.europa.eu/ecip/information_resources/links/index_en.htm"]
[null,null,null,null,null,null,null,null,null,null,null,null,null,null,null,null,null,null,null,null,null,null,null,null,null,null,null,">=1980",{"$f":"COUNTIFS(AC$2:AC$200,$AB$212,AC$2:AC$200,$AD$212,AB$2:AB$200,1)+1","v":3},"<=1989",null,null,{"$f":"COUNTIFS(AG$2:AG$200,$AB$212,AG$2:AG$200,$AD$212,AE$2:AE$200,1)","v":0},null,null,{"$f":"COUNTIFS(AJ$2:AJ$200,$AB$212,AJ$2:AJ$200,$AD$212,AI$2:AI$200,1)","v":0},null,null,null,{"$f":"COUNTIFS(AN$2:AN$200,$AB$212,AN$2:AN$200,$AD$212,AM$2:AM$200,1)","v":1},null,null,{"$f":"COUNTIFS(AQ$2:AQ$200,$AB$212,AQ$2:AQ$200,$AD$212,AP$2:AP$200,1)","v":0},null,null,null,null,null,null,null,null,null,null,null,null,null,null,null,null,null,null,null,null,null,null,null,null,null,null,null,null,null,null,null,null,null,null,null,null,null,null,null,null,null,null,null,null,null,null,null,null,null,null,null,null,null,null,null,null,null,null,null,null,null,null,null,null,null,null,null,null,null,null,null,null,null,null,null,null,null,null,null,null,null,null,null,null,null,null,null,null,null,null,null,null,null,null,null,null,null,null,null,null,null,null,null,null,null,null,"http://ocw.unu.edu/international-institute-for-software-technology/index.html",null,null,null,null,null,null,null,null,null,null,null,null,null,null,null,null,null,null,null,null,null,null,"TSA Yr","Start of the TSA in operations (may be before the \"FMIS Op Yr\" in some cases)","the world's worst tax havens instead of the previous are the United States and the City of London",null,null,null,null,null,null,null,null,null,null,null,"http://ec.europa.eu/taxation_customs/customs/policy_issues/electronic_customs_initiative/it_projects/index_en.htm",null,null,null,null,null,null,null,null,null,null,null,null,null,null,null,null,null,null,null,null,null,null,null,null,null,null,null,null,null,null,null,null,null,null,null,null,null,null,null,null,null,"http://apperi.org/public-procurement-entrepreneurship-resources/official-procurement-offices/"]
[null,null,null,null,null,null,null,null,null,null,null,null,null,null,null,null,null,null,null,null,null,null,null,null,null,null,null,">=1990",{"$f":"COUNTIFS(AC$2:AC$200,$AB$213,AC$2:AC$200,$AD$213,AB$2:AB$200,1)","v":29},"<=1999",null,null,{"$f":"COUNTIFS(AG$2:AG$200,$AB$213,AG$2:AG$200,$AD$213,AE$2:AE$200,1)","v":12},null,null,{"$f":"COUNTIFS(AJ$2:AJ$200,$AB$213,AJ$2:AJ$200,$AD$213,AI$2:AI$200,1)","v":6},null,null,null,{"$f":"COUNTIFS(AN$2:AN$200,$AB$213,AN$2:AN$200,$AD$213,AM$2:AM$200,1)","v":27},null,null,{"$f":"COUNTIFS(AQ$2:AQ$200,$AB$213,AQ$2:AQ$200,$AD$213,AP$2:AP$200,1)","v":13},null,null,null,null,null,null,null,null,null,null,null,null,null,null,null,null,null,null,null,null,null,null,null,null,null,null,null,null,null,null,null,null,null,null,null,null,null,null,null,null,null,null,null,null,null,null,null,null,null,null,null,null,null,null,null,null,null,null,null,null,null,null,null,null,null,null,null,null,null,null,null,null,null,null,null,null,null,null,null,null,null,null,null,null,null,null,null,null,null,null,null,null,null,null,null,null,null,null,null,null,null,null,null,null,null,null,null,null,null,null,null,null,null,null,null,null,null,null,null,null,null,null,null,null,null,null,null,null,null,"Tax Yr","Establishment year of the existing Treasury organization (Treasury might have been established earlier than this)"]
[null,null,null,null,null,null,null,null,null,null,null,null,null,null,null,null,null,null,null,null,null,null,null,null,null,null,null,">=2000",{"$f":"COUNTIFS(AC$2:AC$200,$AB$214,AC$2:AC$200,$AD$214,AB$2:AB$200,1)","v":80},"<=2009",null,null,{"$f":"COUNTIFS(AG$2:AG$200,$AB$214,AG$2:AG$200,$AD$214,AE$2:AE$200,1)","v":44},null,null,{"$f":"COUNTIFS(AJ$2:AJ$200,$AB$214,AJ$2:AJ$200,$AD$214,AI$2:AI$200,1)","v":22},null,null,null,{"$f":"COUNTIFS(AN$2:AN$200,$AB$214,AN$2:AN$200,$AD$214,AM$2:AM$200,1)","v":81},null,null,{"$f":"COUNTIFS(AQ$2:AQ$200,$AB$214,AQ$2:AQ$200,$AD$214,AP$2:AP$200,1)","v":46},null,null,null,null,null,null,null,null,null,null,null,null,null,null,null,null,null,null,null,null,null,null,null,null,null,null,null,null,null,null,null,null,null,null,null,null,null,null,null,null,null,null,null,null,null,null,null,null,null,null,null,null,null,null,null,null,null,null,null,null,null,null,null,null,null,null,null,null,null,null,null,null,null,null,null,null,null,null,null,null,null,null,null,null,null,null,null,null,null,null,null,null,null,null,null,null,null,null,null,null,null,null,null,null,"http://www.aidinfo.org/resources/aid-databases",null,null,null,null,null,null,null,null,null,null,null,null,null,null,null,null,null,null,null,null,null,null,null,null,"TMIS Yr","First operation year of the existing Tax MIS solution (TMIS operations might have been started earlier than this)"]
[null,null,"“It is possible to fly without motors, but not without knowledge and skill.” ~ Wilbur and Orville Wright",null,null,null,null,null,null,null,null,null,null,null,null,null,null,null,null,null,null,null,null,null,null,null,null,">=2010",{"$f":"COUNTIFS(AC$2:AC$200,$AB$215,AC$2:AC$200,$AD$215,AB$2:AB$200,1)","v":10},"<=2013",null,null,{"$f":"COUNTIFS(AG$2:AG$200,$AB$215,AG$2:AG$200,$AD$215,AE$2:AE$200,1)","v":8},null,null,{"$f":"COUNTIFS(AJ$2:AJ$200,$AB$215,AJ$2:AJ$200,$AD$215,AI$2:AI$200,1)","v":5},null,null,null,{"$f":"COUNTIFS(AN$2:AN$200,$AB$215,AN$2:AN$200,$AD$215,AM$2:AM$200,1)","v":10},null,null,{"$f":"COUNTIFS(AQ$2:AQ$200,$AB$215,AQ$2:AQ$200,$AD$215,AP$2:AP$200,1)","v":2},null,null,null,null,null,null,null,null,null,null,null,null,null,null,null,null,null,null,null,null,null,null,null,null,null,null,null,null,null,null,null,null,null,null,null,null,null,null,null,null,null,null,null,null,null,null,null,null,null,null,null,null,null,null,null,null,null,null,null,null,null,null,null,null,null,null,null,null,null,null,null,null,null,null,null,null,null,null,null,null,null,null,null,null,null,null,null,null,null,null,null,null,null,null,null,null,null,null,null,null,null,null,null,null,null,null,null,null,null,null,null,null,null,null,null,null,null,null,null,null,null,null,null,null,null,null,null,null,null,"Cust Yr","Establishment year of the existing Customs organization (Customs might have been established earlier than this)"]
[null,null,null,null,null,null,null,null,null,null,null,null,null,null,null,null,null,null,null,null,null,null,null,null,null,null,null,null,{"$f":"SUM(AC219:AC222)","v":122},null,null,null,{"$f":"SUM(AG219:AG222)","v":64},null,null,{"$f":"SUM(AJ219:AJ222)","v":33},null,null,null,{"$f":"SUM(AN219:AN222)","v":119},null,null,{"$f":"SUM(AQ219:AQ222)","v":61},null,null,null,null,null,null,null,null,null,null,null,null,null,null,null,null,null,null,null,null,null,null,null,null,null,null,null,null,null,null,null,null,null,null,null,null,null,null,null,null,null,null,null,null,null,null,null,null,null,null,null,null,null,null,null,null,null,null,null,null,null,null,null,null,null,null,null,null,null,null,null,null,null,null,null,null,null,null,null,null,null,null,null,null,null,null,null,null,null,null,null,null,null,null,null,null,null,null,null,null,null,null,null,null,null,null,null,null,"http://www.rcc.gov.pt/Directorio/Temas/AE/Paginas/Plataforma-Integrada-de-Servi%C3%A7os-On-line.aspx",null,null,null,null,null,null,null,null,null,null,null,null,null,null,null,null,null,null,null,null,"CMIS Yr","First operation year of the existing Customs MIS solution (CMIS operations might have been started earlier than this)",null,null,null,null,null,null,null,null,null,null,null,null,null,null,null,null,null,null,null,null,null,null,null,null,null,null,null,null,null,null,null,null,null,null,null,null,null,null,null,null,null,null,null,null,null,null,null,null,null,null,null,null,null,null,null,null,null,null,null,null,null,null,null,null,null,null,null,"http://www.publicdebtnet.org/public/links/index.html"]
[null,null,null,null,null,null,null,null,null,null,null,null,null,null,null,null,null,null,null,null,null,null,null,null,null,null,null,null,{"$f":"AC223/198","v":0.61616161616161613},null,null,null,{"$f":"AG223/198","v":0.32323232323232326},null,null,{"$f":"AJ223/198","v":0.16666666666666666},null,null,null,{"$f":"AN223/198","v":0.60101010101010099},null,null,{"$f":"AQ223/198","v":0.30808080808080807},null,null,null,null,null,null,null,null,null,null,null,null,null,null,null,null,null,null,null,null,null,null,null,null,null,null,null,null,null,null,null,null,null,null,null,null,null,null,null,null,null,null,null,null,null,null,null,null,null,null,null,null,null,null,null,null,null,null,null,null,null,null,null,null,null,null,null,null,null,null,null,null,null,null,null,null,null,null,null,null,null,null,null,null,null,null,null,null,null,null,null,null,null,null,null,null,null,null,null,null,null,null,null,null,null,null,null,null,null,null,null,null,null,null,null,null,null,null,null,null,null,null,null,null,null,null,null,null,null,"eFil Yr","Start of the e-Filing operations (may be before the \"TMIS Yr\" in some cases)"]
[null,null,null,null,null,null,null,null,null,null,null,null,null,null,null,null,null,null,null,null,null,null,null,null,null,null,null,null,null,null,null,null,null,null,null,null,null,null,null,null,null,null,null,null,null,null,null,null,null,null,null,null,null,null,null,null,null,null,null,null,null,null,null,null,null,null,null,null,null,null,null,null,null,null,null,null,null,null,null,null,null,null,null,null,null,null,null,null,null,null,null,null,null,null,null,null,null,null,null,null,null,null,null,null,null,null,null,null,null,null,null,null,null,null,null,null,null,null,null,null,null,null,null,null,null,null,null,null,null,null,null,null,null,null,null,null,null,null,null,null,null,null,null,null,null,null,null,null,null,null,null,"http://www.ogcio.gov.hk/en/facts/government_it_expenditure.htm",null,null,null,null,null,null,null,null,null,null,null,null,null,null,null,null,null,null,null,null,"ePay Yr","Start of the e-Payment operations (may be before the \"TMIS Yr\" in some cases)"]
[null,null,null,null,null,null,null,null,null,null,null,null,null,null,null,null,null,null,null,null,null,null,null,null,null,null,null,null,null,null,null,null,null,null,null,null,null,null,null,null,null,null,null,null,null,null,null,null,null,null,null,null,null,null,null,null,null,null,null,null,null,null,null,null,null,null,null,null,null,null,null,null,null,null,null,null,null,null,null,null,null,null,null,null,null,null,null,null,null,null,null,null,null,null,null,null,null,null,null,null,null,null,null,null,null,null,null,null,null,null,null,null,null,null,null,null,null,null,null,null,null,null,null,null,null,null,null,null,null,null,null,null,null,null,null,null,null,null,null,null,null,null,null,null,null,null,null,null,null,null,null,"http://www.epd.gov.hk/epd/english/how_help/tools_epr/files/treasury_er2012e.pdf",null,null,null,null,null,null,null,null,null,null,null,null,null,null,null,null,null,null,null,null,"Dsign Yr","Start of the digital signature in operations"]
[null,null,null,null,null,null,null,null,null,null,null,null,null,null,null,null,null,null,null,null,null,null,null,null,null,null,null,null,null,null,null,null,null,null,null,null,null,null,null,null,null,null,null,null,null,null,null,null,null,null,null,null,null,null,null,null,null,null,null,null,null,null,null,null,null,null,null,null,null,null,null,null,null,null,null,null,null,null,null,null,null,null,null,null,null,null,null,null,null,null,null,null,null,null,null,null,null,null,null,null,null,null,null,null,null,null,null,null,null,null,null,null,null,null,null,null,null,null,null,null,null,null,null,null,null,null,null,null,null,null,null,null,null,null,null,null,null,null,null,null,null,null,null,null,null,null,null,null,null,null,null,null,null,null,null,null,null,null,null,null,null,null,null,null,null,null,null,null,null,null,null,null,"HRM Yr","First operation year of the existing HRMIS solution (HRMIS operations might have been started earlier than this)"]
[null,null,null,null,null,null,null,null,null,null,null,null,null,null,null,null,null,null,null,null,null,null,null,null,null,null,null,null,null,null,null,null,null,null,null,null,null,null,null,null,null,null,null,null,null,null,null,null,null,null,null,null,null,null,null,null,null,null,null,null,null,null,null,null,null,null,null,null,null,null,null,null,null,null,null,null,null,null,null,null,null,null,null,null,null,null,null,null,null,null,null,null,null,null,null,null,null,null,null,null,null,null,null,null,null,null,null,null,null,null,null,null,null,null,null,null,null,null,null,null,null,null,null,null,null,null,null,null,null,null,null,null,null,null,null,null,null,null,null,null,null,null,null,null,null,null,null,null,null,null,null,null,null,null,null,null,null,null,null,null,null,null,null,null,null,null,null,null,null,null,null,null,"Payr Yr","First operation year of the existing Payroll solution (Payroll automation might have been started earlier than this)"]
[null,null,null,null,null,null,null,null,null,null,null,null,null,null,null,null,null,null,null,null,null,null,null,null,null,null,null,null,null,null,null,null,null,null,null,null,null,null,null,null,null,null,null,null,null,null,null,null,null,null,null,null,null,null,null,null,null,null,null,null,null,null,null,null,null,null,null,null,null,null,null,null,null,null,null,null,null,null,null,null,null,null,null,null,null,null,null,null,null,null,null,null,null,null,null,null,null,null,null,null,null,null,null,null,null,null,null,null,null,null,null,null,null,null,null,null,null,null,null,null,null,null,null,null,null,null,null,null,null,null,null,null,null,null,null,null,null,null,null,null,null,null,null,null,null,null,null,null,null,null,null,null,null,null,null,null,null,null,null,null,null,null,null,null,null,null,null,null,null,null,null,null,"ePrc Yr","First operation year of the existing e-Procurement solution (e-Proc might have been started earlier than this)"]
[]
[]
[]
[]
[null,null,null,null,null,null,null,null,null,null,null,null,null,null,null,null,null,null,null,null,null,null,null,null,null,null,null,null,null,null,null,null,null,null,null,null,null,null,null,null,null,null,null,null,null,null,null,null,null,null,null,null,null,null,null,null,null,null,null,null,null,null,null,null,null,null,null,null,null,null,null,null,null,null,null,null,null,null,null,null,null,null,null,null,null,null,null,null,null,null,null,null,null,null,null,null,null,null,null,null,null,null,null,null,null,null,null,null,null,null,null,null,null,null,null,null,null,null,null,null,null,null,null,null,null,null,null,null,null,null,null,null,null,null,null,null,null,null,null,null,null,null,null,null,null,null,null,null,null,null,null,null,null,null,null,null,null,null,null,null,null,null,null,null,null,null,null,null,null,null,null,null,"http://en.wikipedia.org/wiki/International_taxation#cite_note-102"]
[null,null,null,null,null,null,null,null,null,null,null,null,null,null,null,null,null,null,null,null,null,null,null,null,null,null,null,null,null,null,null,null,null,null,null,null,null,null,null,null,null,null,null,null,null,null,null,null,null,null,null,null,null,null,null,null,null,null,null,null,null,null,null,null,null,null,null,null,null,null,null,null,null,null,null,null,null,null,null,null,null,null,null,null,null,null,null,null,null,null,null,null,null,null,null,null,null,null,null,null,null,null,null,null,null,null,null,null,null,null,null,null,null,null,null,null,null,null,null,null,null,null,null,null,null,null,null,null,null,null,null,null,null,null,null,null,null,null,null,null,null,null,null,null,null,null,null,null,null,null,null,null,null,null,null,null,null,null,null,null,null,null,null,null,null,null,null,null,null,null,null,null,"http://www.ataftax.net/en/e-resources/e-resources-public.html"]

{"sheet":"e-Services Stats","index":1,"n_rows":161,"n_cols":115,"rows_kept":161,"cut":false,"hidden":false,"merged":[[1,95,1,100],[1,109,1,114]]}
[null,"Current status of government practices in PFM systems and e-Services",null,null,null,null,null,null,null,null,null,null,null,null,null,null,null,null,null,null,null,null,null,null,null,null,null,null,null,null,null,null,null,null,null,null,null,null,null,null,null,null,null,null,null,null,null,null,null,null,null,null,null,null,null,null,null,null,null,null,null,null,null,null,null,null,null,null,null,null,null,null,null,null,null,null,null,"Income level distribution",null,null,null,null,null,null,"Regional distribution",null,null,null,null,null,null,null,null,null,null,"e-Services (198 economies)",null,null,null,null,null,null,null,null,null,null,null,null,null,"e-services (Regions)"]
[]
[null,"Econ","A","B","C","D","Sum",null,null,null,"Region","A","B","C","D","Sum",null,null,"TSA","Status",null,null,null,null,null,null,null,null,null,null,null,null,null,null,null,null,null,null,null,null,null,"Year","FMIS","F","Bpln","Bp","Bexe","Be","Trea","Tr","TSA","Ts","Tax","Tx","TMIS","T","Cust","Cx","CMIS","C","eFile","Fe","ePay","P","dSign","D","dS Op","DS","HRM","H","Payr","Pay","eProc","Pro",null,null,null,"Econ",0,1,2,3,"Sum",null,"Region",0,1,2,3,"Sum",null,null,null,null,"#","Ind",0,1,2,3,"Total","ref","quest",null,0,1,2,3,null,"Ind",0,1,2,3,"Total"]
[null,"HIC",{"$f":"COUNTIFS('FMIS+eServices'!$IJ$3:$IJ$200,C$3,'FMIS+eServices'!$D$3:$D$200,$B4)","v":22},{"$f":"COUNTIFS('FMIS+eServices'!$IJ$3:$IJ$200,D$3,'FMIS+eServices'!$D$3:$D$200,$B4)","v":25},{"$f":"COUNTIFS('FMIS+eServices'!$IJ$3:$IJ$200,E$3,'FMIS+eServices'!$D$3:$D$200,$B4)","v":4},{"$f":"COUNTIFS('FMIS+eServices'!$IJ$3:$IJ$200,F$3,'FMIS+eServices'!$D$3:$D$200,$B4)","v":3},{"$f":"SUM(C4:F4)","v":54},null,null,null,"AFR",{"$f":"COUNTIFS('FMIS+eServices'!$IJ$3:$IJ$200,C$3,'FMIS+eServices'!$DT$3:$DT$200,$K4)","v":0},{"$f":"COUNTIFS('FMIS+eServices'!$IJ$3:$IJ$200,D$3,'FMIS+eServices'!$DT$3:$DT$200,$K4)","v":31},{"$f":"COUNTIFS('FMIS+eServices'!$IJ$3:$IJ$200,E$3,'FMIS+eServices'!$DT$3:$DT$200,$K4)","v":15},{"$f":"COUNTIFS('FMIS+eServices'!$IJ$3:$IJ$200,F$3,'FMIS+eServices'!$DT$3:$DT$200,$K4)","v":2},{"$f":"SUM(L4:O4)","v":48},null,null,"0:  No TSA yet",{"$f":"'FMIS+eServices'!FK204","v":37},{"$f":"T4/T8","v":0.18686868686868688},null,null,null,null,null,null,null,null,null,null,null,null,null,null,null,null,null,null,null,null,1984,{"$f":"COUNTIF('FMIS+eServices'!$CI$3:$CI$200,\"<=1984\")","v":0},{"$f":"AQ4","v":0},{"$f":"COUNTIF('FMIS+eServices'!$AC$3:$AC$200,\"<=1984\")","v":2},{"$f":"AS4","v":2},{"$f":"COUNTIF('FMIS+eServices'!$AN$3:$AN$200,\"<=1984\")","v":1},{"$f":"AU4","v":1},{"$f":"COUNTIF('FMIS+eServices'!$FH$3:$FH$200,\"<=1984\")","v":114},{"$f":"AW4","v":114},{"$f":"COUNTIF('FMIS+eServices'!$FJ$3:$FJ$200,\"<=1984\")","v":14},{"$f":"AY4","v":14},{"$f":"COUNTIF('FMIS+eServices'!$FR$3:$FR$200,\"<=1984\")","v":83},{"$f":"BA4","v":83},{"$f":"COUNTIF('FMIS+eServices'!$FX$3:$FX$200,\"<=1984\")","v":1},{"$f":"BC4","v":1},{"$f":"COUNTIF('FMIS+eServices'!$GB$3:$GB$200,\"<=1984\")","v":104},{"$f":"BE4","v":104},{"$f":"COUNTIF('FMIS+eServices'!$GJ$3:$GJ$200,\"<=1984\")","v":2},{"$f":"BG4","v":2},{"$f":"COUNTIF('FMIS+eServices'!$GP$3:$GP$200,\"<=1984\")","v":0},{"$f":"BI4","v":0},{"$f":"COUNTIF('FMIS+eServices'!$GT$3:$GT$200,\"<=1984\")","v":0},{"$f":"BK4","v":0},{"$f":"COUNTIF('FMIS+eServices'!$GW$3:$GW$200,\"<=1984\")","v":0},{"$f":"BM4","v":0},{"$f":"COUNTIFS('FMIS+eServices'!$GW$3:$GW$200,\"<=1984\",'FMIS+eServices'!$GX$3:$GX$200,3)","v":0},{"$f":"BO4","v":0},{"$f":"COUNTIF('FMIS+eServices'!$HH$3:$HH$200,\"<=1984\")","v":1},{"$f":"BQ4","v":1},{"$f":"COUNTIF('FMIS+eServices'!$HP$3:$HP$200,\"<=1984\")","v":0},{"$f":"BS4","v":0},{"$f":"COUNTIF('FMIS+eServices'!$HV$3:$HV$200,\"<=1984\")","v":0},{"$f":"BU4","v":0},null,null,null,"HIC",{"$f":"COUNTIFS(INDIRECT(\"'FMIS+eServices'!$\"&$CF$16&\"$3:$\"&$CF$16&\"$200\"),CA$3,'FMIS+eServices'!$D$3:$D$200,$BZ4)","v":2},{"$f":"COUNTIFS(INDIRECT(\"'FMIS+eServices'!$\"&$CF$16&\"$3:$\"&$CF$16&\"$200\"),CB$3,'FMIS+eServices'!$D$3:$D$200,$BZ4)","v":6},{"$f":"COUNTIFS(INDIRECT(\"'FMIS+eServices'!$\"&$CF$16&\"$3:$\"&$CF$16&\"$200\"),CC$3,'FMIS+eServices'!$D$3:$D$200,$BZ4)","v":46},{"$f":"COUNTIFS(INDIRECT(\"'FMIS+eServices'!$\"&$CF$16&\"$3:$\"&$CF$16&\"$200\"),CD$3,'FMIS+eServices'!$D$3:$D$200,$BZ4)","v":0},{"$f":"SUM(CA4:CD4)","v":54},null,"AFR",{"$f":"COUNTIFS(INDIRECT(\"'FMIS+eServices'!$\"&$CF$16&\"$3:$\"&$CF$16&\"$200\"),CH$3,'FMIS+eServices'!$DT$3:$DT$200,$CG4)","v":32},{"$f":"COUNTIFS(INDIRECT(\"'FMIS+eServices'!$\"&$CF$16&\"$3:$\"&$CF$16&\"$200\"),CI$3,'FMIS+eServices'!$DT$3:$DT$200,$CG4)","v":10},{"$f":"COUNTIFS(INDIRECT(\"'FMIS+eServices'!$\"&$CF$16&\"$3:$\"&$CF$16&\"$200\"),CJ$3,'FMIS+eServices'!$DT$3:$DT$200,$CG4)","v":6},{"$f":"COUNTIFS(INDIRECT(\"'FMIS+eServices'!$\"&$CF$16&\"$3:$\"&$CF$16&\"$200\"),CK$3,'FMIS+eServices'!$DT$3:$DT$200,$CG4)","v":0},{"$f":"SUM(CH4:CK4)","v":48},null,null,null,null,1,1,{"$f":"COUNTIF('FMIS+eServices'!$EU$3:$EU$200,CS$3)","v":63},{"$f":"COUNTIF('FMIS+eServices'!$EU$3:$EU$200,CT$3)","v":38},{"$f":"COUNTIF('FMIS+eServices'!$EU$3:$EU$200,CU$3)","v":97},null,{"$f":"SUM(CS4:CV4)","v":198},"EU","Type of e-Gov/e-Service portal",null,{"$f":"CS4/$AP4","v":3.1754032258064516E-2},1.9153225806451613E-2,4.8891129032258063E-2,null,null,1,{"$f":"COUNTIFS('FMIS+eServices'!$EU$3:$EU$200,DG$3,'FMIS+eServices'!$DT$3:$DT$200,\">A\")","v":61},{"$f":"COUNTIFS('FMIS+eServices'!$EU$3:$EU$200,DH$3,'FMIS+eServices'!$DT$3:$DT$200,\">A\")","v":36},{"$f":"COUNTIFS('FMIS+eServices'!$EU$3:$EU$200,DI$3,'FMIS+eServices'!$DT$3:$DT$200,\">A\")","v":71},null,{"$f":"SUM(DG4:DJ4)","v":168}]
[null,"UMIC",{"$f":"COUNTIFS('FMIS+eServices'!$IJ$3:$IJ$200,C$3,'FMIS+eServices'!$D$3:$D$200,$B5)","v":15},{"$f":"COUNTIFS('FMIS+eServices'!$IJ$3:$IJ$200,D$3,'FMIS+eServices'!$D$3:$D$200,$B5)","v":29},{"$f":"COUNTIFS('FMIS+eServices'!$IJ$3:$IJ$200,E$3,'FMIS+eServices'!$D$3:$D$200,$B5)","v":6},{"$f":"COUNTIFS('FMIS+eServices'!$IJ$3:$IJ$200,F$3,'FMIS+eServices'!$D$3:$D$200,$B5)","v":2},{"$f":"SUM(C5:F5)","v":52},null,null,null,"EAP",{"$f":"COUNTIFS('FMIS+eServices'!$IJ$3:$IJ$200,C$3,'FMIS+eServices'!$DT$3:$DT$200,$K5)","v":9},{"$f":"COUNTIFS('FMIS+eServices'!$IJ$3:$IJ$200,D$3,'FMIS+eServices'!$DT$3:$DT$200,$K5)","v":12},{"$f":"COUNTIFS('FMIS+eServices'!$IJ$3:$IJ$200,E$3,'FMIS+eServices'!$DT$3:$DT$200,$K5)","v":4},{"$f":"COUNTIFS('FMIS+eServices'!$IJ$3:$IJ$200,F$3,'FMIS+eServices'!$DT$3:$DT$200,$K5)","v":4},29,null,null,"1: Planned / initiated",{"$f":"'FMIS+eServices'!FK205","v":26},{"$f":"T5/T8","v":0.13131313131313133},null,null,null,null,null,null,null,null,null,null,null,null,null,null,null,null,null,null,null,null,1985,{"$f":"COUNTIF('FMIS+eServices'!$CI$3:$CI$200,$AP5)","v":0},{"$f":"AR4+AQ5","v":0},{"$f":"COUNTIF('FMIS+eServices'!$AC$3:$AC$200,$AP5)","v":0},{"$f":"AT4+AS5","v":2},{"$f":"COUNTIF('FMIS+eServices'!$AN$3:$AN$200,$AP5)","v":0},{"$f":"AV4+AU5","v":1},{"$f":"COUNTIF('FMIS+eServices'!$FH$3:$FH$200,$AP5)","v":0},{"$f":"AX4+AW5","v":114},{"$f":"COUNTIF('FMIS+eServices'!$FJ$3:$FJ$200,$AP5)","v":2},16,{"$f":"COUNTIF('FMIS+eServices'!$FR$3:$FR$200,$AP5)","v":0},83,{"$f":"COUNTIF('FMIS+eServices'!$FX$3:$FX$200,$AP5)","v":0},1,{"$f":"COUNTIF('FMIS+eServices'!$GB$3:$GB$200,$AP5)","v":0},104,{"$f":"COUNTIF('FMIS+eServices'!$GJ$3:$GJ$200,$AP5)","v":0},2,{"$f":"COUNTIF('FMIS+eServices'!$GP$3:$GP$200,$AP5)","v":0},0,{"$f":"COUNTIF('FMIS+eServices'!$GT$3:$GT$200,$AP5)","v":0},0,{"$f":"COUNTIF('FMIS+eServices'!$GW$3:$GW$200,$AP5)","v":0},{"$f":"BN4+BM5","v":0},{"$f":"COUNTIFS('FMIS+eServices'!$GW$3:$GW$200,$AP5,'FMIS+eServices'!$GX$3:$GX$200,3)","v":0},{"$f":"BP4+BO5","v":0},{"$f":"COUNTIF('FMIS+eServices'!$HH$3:$HH$200,$AP5)","v":0},{"$f":"BR4+BQ5","v":1},{"$f":"COUNTIF('FMIS+eServices'!$HP$3:$HP$200,$AP5)","v":0},{"$f":"BT4+BS5","v":0},{"$f":"COUNTIF('FMIS+eServices'!$HV$3:$HV$200,$AP5)","v":0},{"$f":"BV4+BU5","v":0},null,null,null,"UMIC",{"$f":"COUNTIFS(INDIRECT(\"'FMIS+eServices'!$\"&$CF$16&\"$3:$\"&$CF$16&\"$200\"),CA$3,'FMIS+eServices'!$D$3:$D$200,$BZ5)","v":9},{"$f":"COUNTIFS(INDIRECT(\"'FMIS+eServices'!$\"&$CF$16&\"$3:$\"&$CF$16&\"$200\"),CB$3,'FMIS+eServices'!$D$3:$D$200,$BZ5)","v":13},{"$f":"COUNTIFS(INDIRECT(\"'FMIS+eServices'!$\"&$CF$16&\"$3:$\"&$CF$16&\"$200\"),CC$3,'FMIS+eServices'!$D$3:$D$200,$BZ5)","v":30},{"$f":"COUNTIFS(INDIRECT(\"'FMIS+eServices'!$\"&$CF$16&\"$3:$\"&$CF$16&\"$200\"),CD$3,'FMIS+eServices'!$D$3:$D$200,$BZ5)","v":0},{"$f":"SUM(CA5:CD5)","v":52},null,"EAP",{"$f":"COUNTIFS(INDIRECT(\"'FMIS+eServices'!$\"&$CF$16&\"$3:$\"&$CF$16&\"$200\"),CH$3,'FMIS+eServices'!$DT$3:$DT$200,$CG5)","v":14},{"$f":"COUNTIFS(INDIRECT(\"'FMIS+eServices'!$\"&$CF$16&\"$3:$\"&$CF$16&\"$200\"),CI$3,'FMIS+eServices'!$DT$3:$DT$200,$CG5)","v":2},{"$f":"COUNTIFS(INDIRECT(\"'FMIS+eServices'!$\"&$CF$16&\"$3:$\"&$CF$16&\"$200\"),CJ$3,'FMIS+eServices'!$DT$3:$DT$200,$CG5)","v":13},{"$f":"COUNTIFS(INDIRECT(\"'FMIS+eServices'!$\"&$CF$16&\"$3:$\"&$CF$16&\"$200\"),CK$3,'FMIS+eServices'!$DT$3:$DT$200,$CG5)","v":0},29,null,null,null,null,2,2,{"$f":"COUNTIF('FMIS+eServices'!$FK$3:$FK$200,CS$3)","v":37},{"$f":"COUNTIF('FMIS+eServices'!$FK$3:$FK$200,CT$3)","v":26},{"$f":"COUNTIF('FMIS+eServices'!$FK$3:$FK$200,CU$3)","v":69},{"$f":"COUNTIF('FMIS+eServices'!$FK$3:$FK$200,CV$3)","v":66},198,"FG","Type of TSA architecture",null,1.8639798488664986E-2,1.3098236775818639E-2,3.4760705289672546E-2,null,null,2,{"$f":"COUNTIFS('FMIS+eServices'!$FK$3:$FK$200,DG$3,'FMIS+eServices'!$DT$3:$DT$200,\">A\")","v":29},{"$f":"COUNTIFS('FMIS+eServices'!$FK$3:$FK$200,DH$3,'FMIS+eServices'!$DT$3:$DT$200,\">A\")","v":26},{"$f":"COUNTIFS('FMIS+eServices'!$FK$3:$FK$200,DI$3,'FMIS+eServices'!$DT$3:$DT$200,\">A\")","v":55},{"$f":"COUNTIFS('FMIS+eServices'!$FK$3:$FK$200,DJ$3,'FMIS+eServices'!$DT$3:$DT$200,\">A\")","v":58},168]
[null,"LMIC",{"$f":"COUNTIFS('FMIS+eServices'!$IJ$3:$IJ$200,C$3,'FMIS+eServices'!$D$3:$D$200,$B6)","v":8},{"$f":"COUNTIFS('FMIS+eServices'!$IJ$3:$IJ$200,D$3,'FMIS+eServices'!$D$3:$D$200,$B6)","v":34},{"$f":"COUNTIFS('FMIS+eServices'!$IJ$3:$IJ$200,E$3,'FMIS+eServices'!$D$3:$D$200,$B6)","v":8},{"$f":"COUNTIFS('FMIS+eServices'!$IJ$3:$IJ$200,F$3,'FMIS+eServices'!$D$3:$D$200,$B6)","v":4},{"$f":"SUM(C6:F6)","v":54},null,null,null,"ECA",{"$f":"COUNTIFS('FMIS+eServices'!$IJ$3:$IJ$200,C$3,'FMIS+eServices'!$DT$3:$DT$200,$K6)","v":6},{"$f":"COUNTIFS('FMIS+eServices'!$IJ$3:$IJ$200,D$3,'FMIS+eServices'!$DT$3:$DT$200,$K6)","v":23},{"$f":"COUNTIFS('FMIS+eServices'!$IJ$3:$IJ$200,E$3,'FMIS+eServices'!$DT$3:$DT$200,$K6)","v":0},{"$f":"COUNTIFS('FMIS+eServices'!$IJ$3:$IJ$200,F$3,'FMIS+eServices'!$DT$3:$DT$200,$K6)","v":1},30,null,null,"2: In use - Decentralized",{"$f":"'FMIS+eServices'!FK206","v":69},{"$f":"T6/T8","v":0.34848484848484851},null,null,null,null,null,null,null,null,null,null,null,null,null,null,null,null,null,null,null,null,1986,{"$f":"COUNTIF('FMIS+eServices'!$CI$3:$CI$200,$AP6)","v":0},{"$f":"AR5+AQ6","v":0},{"$f":"COUNTIF('FMIS+eServices'!$AC$3:$AC$200,$AP6)","v":0},2,{"$f":"COUNTIF('FMIS+eServices'!$AN$3:$AN$200,$AP6)","v":0},1,{"$f":"COUNTIF('FMIS+eServices'!$FH$3:$FH$200,$AP6)","v":4},118,{"$f":"COUNTIF('FMIS+eServices'!$FJ$3:$FJ$200,$AP6)","v":0},16,{"$f":"COUNTIF('FMIS+eServices'!$FR$3:$FR$200,$AP6)","v":0},83,{"$f":"COUNTIF('FMIS+eServices'!$FX$3:$FX$200,$AP6)","v":0},1,{"$f":"COUNTIF('FMIS+eServices'!$GB$3:$GB$200,$AP6)","v":0},104,{"$f":"COUNTIF('FMIS+eServices'!$GJ$3:$GJ$200,$AP6)","v":0},2,{"$f":"COUNTIF('FMIS+eServices'!$GP$3:$GP$200,$AP6)","v":0},0,{"$f":"COUNTIF('FMIS+eServices'!$GT$3:$GT$200,$AP6)","v":0},0,{"$f":"COUNTIF('FMIS+eServices'!$GW$3:$GW$200,$AP6)","v":0},0,{"$f":"COUNTIFS('FMIS+eServices'!$GW$3:$GW$200,$AP6,'FMIS+eServices'!$GX$3:$GX$200,3)","v":0},0,{"$f":"COUNTIF('FMIS+eServices'!$HH$3:$HH$200,$AP6)","v":0},1,{"$f":"COUNTIF('FMIS+eServices'!$HP$3:$HP$200,$AP6)","v":0},0,{"$f":"COUNTIF('FMIS+eServices'!$HV$3:$HV$200,$AP6)","v":0},0,null,null,null,"LMIC",{"$f":"COUNTIFS(INDIRECT(\"'FMIS+eServices'!$\"&$CF$16&\"$3:$\"&$CF$16&\"$200\"),CA$3,'FMIS+eServices'!$D$3:$D$200,$BZ6)","v":22},{"$f":"COUNTIFS(INDIRECT(\"'FMIS+eServices'!$\"&$CF$16&\"$3:$\"&$CF$16&\"$200\"),CB$3,'FMIS+eServices'!$D$3:$D$200,$BZ6)","v":15},{"$f":"COUNTIFS(INDIRECT(\"'FMIS+eServices'!$\"&$CF$16&\"$3:$\"&$CF$16&\"$200\"),CC$3,'FMIS+eServices'!$D$3:$D$200,$BZ6)","v":17},{"$f":"COUNTIFS(INDIRECT(\"'FMIS+eServices'!$\"&$CF$16&\"$3:$\"&$CF$16&\"$200\"),CD$3,'FMIS+eServices'!$D$3:$D$200,$BZ6)","v":0},{"$f":"SUM(CA6:CD6)","v":54},null,"ECA",{"$f":"COUNTIFS(INDIRECT(\"'FMIS+eServices'!$\"&$CF$16&\"$3:$\"&$CF$16&\"$200\"),CH$3,'FMIS+eServices'!$DT$3:$DT$200,$CG6)","v":5},{"$f":"COUNTIFS(INDIRECT(\"'FMIS+eServices'!$\"&$CF$16&\"$3:$\"&$CF$16&\"$200\"),CI$3,'FMIS+eServices'!$DT$3:$DT$200,$CG6)","v":5},{"$f":"COUNTIFS(INDIRECT(\"'FMIS+eServices'!$\"&$CF$16&\"$3:$\"&$CF$16&\"$200\"),CJ$3,'FMIS+eServices'!$DT$3:$DT$200,$CG6)","v":20},{"$f":"COUNTIFS(INDIRECT(\"'FMIS+eServices'!$\"&$CF$16&\"$3:$\"&$CF$16&\"$200\"),CK$3,'FMIS+eServices'!$DT$3:$DT$200,$CG6)","v":0},30,null,null,null,null,3,3,{"$f":"COUNTIF('FMIS+eServices'!$FU$3:$FU$200,CS$3)","v":31},{"$f":"COUNTIF('FMIS+eServices'!$FU$3:$FU$200,CT$3)","v":34},{"$f":"COUNTIF('FMIS+eServices'!$FU$3:$FU$200,CU$3)","v":133},null,198,"FQ","Tax MIS application software",null,1.5609264853977844E-2,1.7119838872104734E-2,6.6968781470292046E-2,{"$f":"CV6/$AP6","v":0},null,3,{"$f":"COUNTIFS('FMIS+eServices'!$FU$3:$FU$200,DG$3,'FMIS+eServices'!$DT$3:$DT$200,\">A\")","v":30},{"$f":"COUNTIFS('FMIS+eServices'!$FU$3:$FU$200,DH$3,'FMIS+eServices'!$DT$3:$DT$200,\">A\")","v":30},{"$f":"COUNTIFS('FMIS+eServices'!$FU$3:$FU$200,DI$3,'FMIS+eServices'!$DT$3:$DT$200,\">A\")","v":108},null,168]
[null,"LIC",{"$f":"COUNTIFS('FMIS+eServices'!$IJ$3:$IJ$200,C$3,'FMIS+eServices'!$D$3:$D$200,$B7)","v":0},{"$f":"COUNTIFS('FMIS+eServices'!$IJ$3:$IJ$200,D$3,'FMIS+eServices'!$D$3:$D$200,$B7)","v":25},{"$f":"COUNTIFS('FMIS+eServices'!$IJ$3:$IJ$200,E$3,'FMIS+eServices'!$D$3:$D$200,$B7)","v":11},{"$f":"COUNTIFS('FMIS+eServices'!$IJ$3:$IJ$200,F$3,'FMIS+eServices'!$D$3:$D$200,$B7)","v":2},{"$f":"SUM(C7:F7)","v":38},null,null,null,"LCR",{"$f":"COUNTIFS('FMIS+eServices'!$IJ$3:$IJ$200,C$3,'FMIS+eServices'!$DT$3:$DT$200,$K7)","v":14},{"$f":"COUNTIFS('FMIS+eServices'!$IJ$3:$IJ$200,D$3,'FMIS+eServices'!$DT$3:$DT$200,$K7)","v":16},{"$f":"COUNTIFS('FMIS+eServices'!$IJ$3:$IJ$200,E$3,'FMIS+eServices'!$DT$3:$DT$200,$K7)","v":2},{"$f":"COUNTIFS('FMIS+eServices'!$IJ$3:$IJ$200,F$3,'FMIS+eServices'!$DT$3:$DT$200,$K7)","v":0},32,null,null,"3: In use - Centralized ",{"$f":"'FMIS+eServices'!FK207","v":66},{"$f":"T7/T8","v":0.33333333333333331},null,null,null,null,null,null,null,null,null,null,null,null,null,null,null,null,null,null,null,null,1987,{"$f":"COUNTIF('FMIS+eServices'!$CI$3:$CI$200,$AP7)","v":1},1,{"$f":"COUNTIF('FMIS+eServices'!$AC$3:$AC$200,$AP7)","v":0},2,{"$f":"COUNTIF('FMIS+eServices'!$AN$3:$AN$200,$AP7)","v":0},1,{"$f":"COUNTIF('FMIS+eServices'!$FH$3:$FH$200,$AP7)","v":1},119,{"$f":"COUNTIF('FMIS+eServices'!$FJ$3:$FJ$200,$AP7)","v":1},17,{"$f":"COUNTIF('FMIS+eServices'!$FR$3:$FR$200,$AP7)","v":0},83,{"$f":"COUNTIF('FMIS+eServices'!$FX$3:$FX$200,$AP7)","v":0},1,{"$f":"COUNTIF('FMIS+eServices'!$GB$3:$GB$200,$AP7)","v":1},105,{"$f":"COUNTIF('FMIS+eServices'!$GJ$3:$GJ$200,$AP7)","v":0},2,{"$f":"COUNTIF('FMIS+eServices'!$GP$3:$GP$200,$AP7)","v":0},0,{"$f":"COUNTIF('FMIS+eServices'!$GT$3:$GT$200,$AP7)","v":0},0,{"$f":"COUNTIF('FMIS+eServices'!$GW$3:$GW$200,$AP7)","v":0},0,{"$f":"COUNTIFS('FMIS+eServices'!$GW$3:$GW$200,$AP7,'FMIS+eServices'!$GX$3:$GX$200,3)","v":0},0,{"$f":"COUNTIF('FMIS+eServices'!$HH$3:$HH$200,$AP7)","v":0},1,{"$f":"COUNTIF('FMIS+eServices'!$HP$3:$HP$200,$AP7)","v":1},1,{"$f":"COUNTIF('FMIS+eServices'!$HV$3:$HV$200,$AP7)","v":0},0,null,null,null,"LIC",{"$f":"COUNTIFS(INDIRECT(\"'FMIS+eServices'!$\"&$CF$16&\"$3:$\"&$CF$16&\"$200\"),CA$3,'FMIS+eServices'!$D$3:$D$200,$BZ7)","v":30},{"$f":"COUNTIFS(INDIRECT(\"'FMIS+eServices'!$\"&$CF$16&\"$3:$\"&$CF$16&\"$200\"),CB$3,'FMIS+eServices'!$D$3:$D$200,$BZ7)","v":4},{"$f":"COUNTIFS(INDIRECT(\"'FMIS+eServices'!$\"&$CF$16&\"$3:$\"&$CF$16&\"$200\"),CC$3,'FMIS+eServices'!$D$3:$D$200,$BZ7)","v":4},{"$f":"COUNTIFS(INDIRECT(\"'FMIS+eServices'!$\"&$CF$16&\"$3:$\"&$CF$16&\"$200\"),CD$3,'FMIS+eServices'!$D$3:$D$200,$BZ7)","v":0},{"$f":"SUM(CA7:CD7)","v":38},null,"LCR",{"$f":"COUNTIFS(INDIRECT(\"'FMIS+eServices'!$\"&$CF$16&\"$3:$\"&$CF$16&\"$200\"),CH$3,'FMIS+eServices'!$DT$3:$DT$200,$CG7)","v":6},{"$f":"COUNTIFS(INDIRECT(\"'FMIS+eServices'!$\"&$CF$16&\"$3:$\"&$CF$16&\"$200\"),CI$3,'FMIS+eServices'!$DT$3:$DT$200,$CG7)","v":10},{"$f":"COUNTIFS(INDIRECT(\"'FMIS+eServices'!$\"&$CF$16&\"$3:$\"&$CF$16&\"$200\"),CJ$3,'FMIS+eServices'!$DT$3:$DT$200,$CG7)","v":16},{"$f":"COUNTIFS(INDIRECT(\"'FMIS+eServices'!$\"&$CF$16&\"$3:$\"&$CF$16&\"$200\"),CK$3,'FMIS+eServices'!$DT$3:$DT$200,$CG7)","v":0},32,null,null,null,null,4,4,{"$f":"COUNTIF('FMIS+eServices'!$FY$3:$FY$200,CS$3)","v":31},{"$f":"COUNTIF('FMIS+eServices'!$FY$3:$FY$200,CT$3)","v":0},{"$f":"COUNTIF('FMIS+eServices'!$FY$3:$FY$200,CU$3)","v":8},{"$f":"COUNTIF('FMIS+eServices'!$FY$3:$FY$200,CV$3)","v":159},198,"FU","TMIS implementation status",null,1.560140915953699E-2,0,null,null,null,4,{"$f":"COUNTIFS('FMIS+eServices'!$FY$3:$FY$200,DG$3,'FMIS+eServices'!$DT$3:$DT$200,\">A\")","v":30},{"$f":"COUNTIFS('FMIS+eServices'!$FY$3:$FY$200,DH$3,'FMIS+eServices'!$DT$3:$DT$200,\">A\")","v":0},{"$f":"COUNTIFS('FMIS+eServices'!$FY$3:$FY$200,DI$3,'FMIS+eServices'!$DT$3:$DT$200,\">A\")","v":8},{"$f":"COUNTIFS('FMIS+eServices'!$FY$3:$FY$200,DJ$3,'FMIS+eServices'!$DT$3:$DT$200,\">A\")","v":130},168]
[null,"Sum",{"$f":"SUM(C4:C7)","v":45},{"$f":"SUM(D4:D7)","v":113},{"$f":"SUM(E4:E7)","v":29},{"$f":"SUM(F4:F7)","v":11},{"$f":"SUM(G4:G7)","v":198},null,null,null,"MNA",{"$f":"COUNTIFS('FMIS+eServices'!$IJ$3:$IJ$200,C$3,'FMIS+eServices'!$DT$3:$DT$200,$K8)","v":1},{"$f":"COUNTIFS('FMIS+eServices'!$IJ$3:$IJ$200,D$3,'FMIS+eServices'!$DT$3:$DT$200,$K8)","v":13},{"$f":"COUNTIFS('FMIS+eServices'!$IJ$3:$IJ$200,E$3,'FMIS+eServices'!$DT$3:$DT$200,$K8)","v":6},{"$f":"COUNTIFS('FMIS+eServices'!$IJ$3:$IJ$200,F$3,'FMIS+eServices'!$DT$3:$DT$200,$K8)","v":1},21,null,null,null,{"$f":"SUM(T4:T7)","v":198},null,null,null,null,null,null,null,null,null,null,null,null,null,null,null,null,null,null,null,null,null,1988,{"$f":"COUNTIF('FMIS+eServices'!$CI$3:$CI$200,$AP8)","v":0},1,{"$f":"COUNTIF('FMIS+eServices'!$AC$3:$AC$200,$AP8)","v":0},2,{"$f":"COUNTIF('FMIS+eServices'!$AN$3:$AN$200,$AP8)","v":0},1,{"$f":"COUNTIF('FMIS+eServices'!$FH$3:$FH$200,$AP8)","v":1},120,{"$f":"COUNTIF('FMIS+eServices'!$FJ$3:$FJ$200,$AP8)","v":2},19,{"$f":"COUNTIF('FMIS+eServices'!$FR$3:$FR$200,$AP8)","v":2},85,{"$f":"COUNTIF('FMIS+eServices'!$FX$3:$FX$200,$AP8)","v":0},1,{"$f":"COUNTIF('FMIS+eServices'!$GB$3:$GB$200,$AP8)","v":0},105,{"$f":"COUNTIF('FMIS+eServices'!$GJ$3:$GJ$200,$AP8)","v":0},2,{"$f":"COUNTIF('FMIS+eServices'!$GP$3:$GP$200,$AP8)","v":0},0,{"$f":"COUNTIF('FMIS+eServices'!$GT$3:$GT$200,$AP8)","v":0},0,{"$f":"COUNTIF('FMIS+eServices'!$GW$3:$GW$200,$AP8)","v":0},0,{"$f":"COUNTIFS('FMIS+eServices'!$GW$3:$GW$200,$AP8,'FMIS+eServices'!$GX$3:$GX$200,3)","v":0},0,{"$f":"COUNTIF('FMIS+eServices'!$HH$3:$HH$200,$AP8)","v":0},1,{"$f":"COUNTIF('FMIS+eServices'!$HP$3:$HP$200,$AP8)","v":0},1,{"$f":"COUNTIF('FMIS+eServices'!$HV$3:$HV$200,$AP8)","v":0},0,null,null,null,"Sum",{"$f":"SUM(CA4:CA7)","v":63},{"$f":"SUM(CB4:CB7)","v":38},{"$f":"SUM(CC4:CC7)","v":97},{"$f":"SUM(CD4:CD7)","v":0},{"$f":"SUM(CE4:CE7)","v":198},null,"MNA",{"$f":"COUNTIFS(INDIRECT(\"'FMIS+eServices'!$\"&$CF$16&\"$3:$\"&$CF$16&\"$200\"),CH$3,'FMIS+eServices'!$DT$3:$DT$200,$CG8)","v":3},{"$f":"COUNTIFS(INDIRECT(\"'FMIS+eServices'!$\"&$CF$16&\"$3:$\"&$CF$16&\"$200\"),CI$3,'FMIS+eServices'!$DT$3:$DT$200,$CG8)","v":5},{"$f":"COUNTIFS(INDIRECT(\"'FMIS+eServices'!$\"&$CF$16&\"$3:$\"&$CF$16&\"$200\"),CJ$3,'FMIS+eServices'!$DT$3:$DT$200,$CG8)","v":13},{"$f":"COUNTIFS(INDIRECT(\"'FMIS+eServices'!$\"&$CF$16&\"$3:$\"&$CF$16&\"$200\"),CK$3,'FMIS+eServices'!$DT$3:$DT$200,$CG8)","v":0},21,null,null,null,null,5,5,{"$f":"COUNTIF('FMIS+eServices'!$FZ$3:$FZ$200,CS$3)","v":8},{"$f":"COUNTIF('FMIS+eServices'!$FZ$3:$FZ$200,CT$3)","v":21},{"$f":"COUNTIF('FMIS+eServices'!$FZ$3:$FZ$200,CU$3)","v":140},{"$f":"COUNTIF('FMIS+eServices'!$FZ$3:$FZ$200,CV$3)","v":29},198,"FV","TMIS services/functionality",null,4.0241448692152921E-3,1.0563380281690141E-2,null,null,null,5,{"$f":"COUNTIFS('FMIS+eServices'!$FZ$3:$FZ$200,DG$3,'FMIS+eServices'!$DT$3:$DT$200,\">A\")","v":7},{"$f":"COUNTIFS('FMIS+eServices'!$FZ$3:$FZ$200,DH$3,'FMIS+eServices'!$DT$3:$DT$200,\">A\")","v":21},{"$f":"COUNTIFS('FMIS+eServices'!$FZ$3:$FZ$200,DI$3,'FMIS+eServices'!$DT$3:$DT$200,\">A\")","v":122},{"$f":"COUNTIFS('FMIS+eServices'!$FZ$3:$FZ$200,DJ$3,'FMIS+eServices'!$DT$3:$DT$200,\">A\")","v":18},168]
[null,null,{"$f":"C8/$G$8","v":0.22727272727272727},{"$f":"D8/$G$8","v":0.57070707070707072},{"$f":"E8/$G$8","v":0.14646464646464646},{"$f":"F8/$G$8","v":5.5555555555555552E-2},null,null,null,null,"SAR",{"$f":"COUNTIFS('FMIS+eServices'!$IJ$3:$IJ$200,C$3,'FMIS+eServices'!$DT$3:$DT$200,$K9)","v":1},{"$f":"COUNTIFS('FMIS+eServices'!$IJ$3:$IJ$200,D$3,'FMIS+eServices'!$DT$3:$DT$200,$K9)","v":7},{"$f":"COUNTIFS('FMIS+eServices'!$IJ$3:$IJ$200,E$3,'FMIS+eServices'!$DT$3:$DT$200,$K9)","v":0},{"$f":"COUNTIFS('FMIS+eServices'!$IJ$3:$IJ$200,F$3,'FMIS+eServices'!$DT$3:$DT$200,$K9)","v":0},8,null,null,null,null,null,null,null,null,null,null,null,null,null,null,null,null,null,null,null,null,null,null,null,null,null,1989,{"$f":"COUNTIF('FMIS+eServices'!$CI$3:$CI$200,$AP9)","v":0},1,{"$f":"COUNTIF('FMIS+eServices'!$AC$3:$AC$200,$AP9)","v":1},3,{"$f":"COUNTIF('FMIS+eServices'!$AN$3:$AN$200,$AP9)","v":1},2,{"$f":"COUNTIF('FMIS+eServices'!$FH$3:$FH$200,$AP9)","v":1},121,{"$f":"COUNTIF('FMIS+eServices'!$FJ$3:$FJ$200,$AP9)","v":2},21,{"$f":"COUNTIF('FMIS+eServices'!$FR$3:$FR$200,$AP9)","v":1},86,{"$f":"COUNTIF('FMIS+eServices'!$FX$3:$FX$200,$AP9)","v":0},1,{"$f":"COUNTIF('FMIS+eServices'!$GB$3:$GB$200,$AP9)","v":1},106,{"$f":"COUNTIF('FMIS+eServices'!$GJ$3:$GJ$200,$AP9)","v":1},3,{"$f":"COUNTIF('FMIS+eServices'!$GP$3:$GP$200,$AP9)","v":0},0,{"$f":"COUNTIF('FMIS+eServices'!$GT$3:$GT$200,$AP9)","v":0},0,{"$f":"COUNTIF('FMIS+eServices'!$GW$3:$GW$200,$AP9)","v":0},0,{"$f":"COUNTIFS('FMIS+eServices'!$GW$3:$GW$200,$AP9,'FMIS+eServices'!$GX$3:$GX$200,3)","v":0},0,{"$f":"COUNTIF('FMIS+eServices'!$HH$3:$HH$200,$AP9)","v":0},1,{"$f":"COUNTIF('FMIS+eServices'!$HP$3:$HP$200,$AP9)","v":1},2,{"$f":"COUNTIF('FMIS+eServices'!$HV$3:$HV$200,$AP9)","v":0},0,null,null,null,null,{"$f":"CA8/$CE$8","v":0.31818181818181818},{"$f":"CB8/$CE$8","v":0.19191919191919191},0.48989898989898989,0,null,null,"SAR",{"$f":"COUNTIFS(INDIRECT(\"'FMIS+eServices'!$\"&$CF$16&\"$3:$\"&$CF$16&\"$200\"),CH$3,'FMIS+eServices'!$DT$3:$DT$200,$CG9)","v":1},{"$f":"COUNTIFS(INDIRECT(\"'FMIS+eServices'!$\"&$CF$16&\"$3:$\"&$CF$16&\"$200\"),CI$3,'FMIS+eServices'!$DT$3:$DT$200,$CG9)","v":4},{"$f":"COUNTIFS(INDIRECT(\"'FMIS+eServices'!$\"&$CF$16&\"$3:$\"&$CF$16&\"$200\"),CJ$3,'FMIS+eServices'!$DT$3:$DT$200,$CG9)","v":3},{"$f":"COUNTIFS(INDIRECT(\"'FMIS+eServices'!$\"&$CF$16&\"$3:$\"&$CF$16&\"$200\"),CK$3,'FMIS+eServices'!$DT$3:$DT$200,$CG9)","v":0},8,null,null,null,null,6,6,{"$f":"COUNTIF('FMIS+eServices'!$GG$3:$GG$200,CS$3)","v":16},{"$f":"COUNTIF('FMIS+eServices'!$GG$3:$GG$200,CT$3)","v":17},{"$f":"COUNTIF('FMIS+eServices'!$GG$3:$GG$200,CU$3)","v":165},null,198,"GC","Customs MIS application software",null,8.0442433383609846E-3,8.5470085470085479E-3,null,null,null,6,{"$f":"COUNTIFS('FMIS+eServices'!$GG$3:$GG$200,DG$3,'FMIS+eServices'!$DT$3:$DT$200,\">A\")","v":11},{"$f":"COUNTIFS('FMIS+eServices'!$GG$3:$GG$200,DH$3,'FMIS+eServices'!$DT$3:$DT$200,\">A\")","v":14},{"$f":"COUNTIFS('FMIS+eServices'!$GG$3:$GG$200,DI$3,'FMIS+eServices'!$DT$3:$DT$200,\">A\")","v":143},null,168]
[null,null,null,null,null,null,null,null,null,null,"Sum",{"$f":"SUM(L4:L9)","v":31},{"$f":"SUM(M4:M9)","v":102},{"$f":"SUM(N4:N9)","v":27},{"$f":"SUM(O4:O9)","v":8},{"$f":"SUM(P4:P9)","v":168},null,null,null,null,null,null,null,null,null,null,null,null,null,null,null,null,null,null,null,null,null,null,null,null,null,1990,{"$f":"COUNTIF('FMIS+eServices'!$CI$3:$CI$200,$AP10)","v":0},1,{"$f":"COUNTIF('FMIS+eServices'!$AC$3:$AC$200,$AP10)","v":2},5,{"$f":"COUNTIF('FMIS+eServices'!$AN$3:$AN$200,$AP10)","v":1},3,{"$f":"COUNTIF('FMIS+eServices'!$FH$3:$FH$200,$AP10)","v":5},126,{"$f":"COUNTIF('FMIS+eServices'!$FJ$3:$FJ$200,$AP10)","v":1},22,{"$f":"COUNTIF('FMIS+eServices'!$FR$3:$FR$200,$AP10)","v":10},96,{"$f":"COUNTIF('FMIS+eServices'!$FX$3:$FX$200,$AP10)","v":1},2,{"$f":"COUNTIF('FMIS+eServices'!$GB$3:$GB$200,$AP10)","v":6},112,{"$f":"COUNTIF('FMIS+eServices'!$GJ$3:$GJ$200,$AP10)","v":0},3,{"$f":"COUNTIF('FMIS+eServices'!$GP$3:$GP$200,$AP10)","v":2},2,{"$f":"COUNTIF('FMIS+eServices'!$GT$3:$GT$200,$AP10)","v":0},0,{"$f":"COUNTIF('FMIS+eServices'!$GW$3:$GW$200,$AP10)","v":0},0,{"$f":"COUNTIFS('FMIS+eServices'!$GW$3:$GW$200,$AP10,'FMIS+eServices'!$GX$3:$GX$200,3)","v":0},0,{"$f":"COUNTIF('FMIS+eServices'!$HH$3:$HH$200,$AP10)","v":1},2,{"$f":"COUNTIF('FMIS+eServices'!$HP$3:$HP$200,$AP10)","v":0},2,{"$f":"COUNTIF('FMIS+eServices'!$HV$3:$HV$200,$AP10)","v":0},0,null,null,null,null,null,null,null,null,null,null,"Sum",{"$f":"SUM(CH4:CH9)","v":61},{"$f":"SUM(CI4:CI9)","v":36},{"$f":"SUM(CJ4:CJ9)","v":71},{"$f":"SUM(CK4:CK9)","v":0},{"$f":"SUM(CL4:CL9)","v":168},null,null,null,null,7,7,{"$f":"COUNTIF('FMIS+eServices'!$GK$3:$GK$200,CS$3)","v":16},{"$f":"COUNTIF('FMIS+eServices'!$GK$3:$GK$200,CT$3)","v":0},{"$f":"COUNTIF('FMIS+eServices'!$GK$3:$GK$200,CU$3)","v":3},{"$f":"COUNTIF('FMIS+eServices'!$GK$3:$GK$200,CV$3)","v":179},198,"GG","CMIS implementation status",null,8.0402010050251264E-3,0,{"$f":"CU10/$AP10","v":1.507537688442211E-3},null,null,7,{"$f":"COUNTIFS('FMIS+eServices'!$GK$3:$GK$200,DG$3,'FMIS+eServices'!$DT$3:$DT$200,\">A\")","v":11},{"$f":"COUNTIFS('FMIS+eServices'!$GK$3:$GK$200,DH$3,'FMIS+eServices'!$DT$3:$DT$200,\">A\")","v":0},{"$f":"COUNTIFS('FMIS+eServices'!$GK$3:$GK$200,DI$3,'FMIS+eServices'!$DT$3:$DT$200,\">A\")","v":3},{"$f":"COUNTIFS('FMIS+eServices'!$GK$3:$GK$200,DJ$3,'FMIS+eServices'!$DT$3:$DT$200,\">A\")","v":154},168]
[null,"Other","A","B","C","D","Sum",null,null,null,null,{"$f":"L10/$P$10","v":0.18452380952380953},{"$f":"M10/$P$10","v":0.6071428571428571},{"$f":"N10/$P$10","v":0.16071428571428573},{"$f":"O10/$P$10","v":4.7619047619047616E-2},null,null,null,null,null,null,null,null,null,null,null,null,null,null,null,null,null,null,null,null,null,null,null,null,null,null,1991,{"$f":"COUNTIF('FMIS+eServices'!$CI$3:$CI$200,$AP11)","v":0},1,{"$f":"COUNTIF('FMIS+eServices'!$AC$3:$AC$200,$AP11)","v":2},7,{"$f":"COUNTIF('FMIS+eServices'!$AN$3:$AN$200,$AP11)","v":2},5,{"$f":"COUNTIF('FMIS+eServices'!$FH$3:$FH$200,$AP11)","v":4},130,{"$f":"COUNTIF('FMIS+eServices'!$FJ$3:$FJ$200,$AP11)","v":0},22,{"$f":"COUNTIF('FMIS+eServices'!$FR$3:$FR$200,$AP11)","v":5},101,{"$f":"COUNTIF('FMIS+eServices'!$FX$3:$FX$200,$AP11)","v":0},2,{"$f":"COUNTIF('FMIS+eServices'!$GB$3:$GB$200,$AP11)","v":6},118,{"$f":"COUNTIF('FMIS+eServices'!$GJ$3:$GJ$200,$AP11)","v":3},6,{"$f":"COUNTIF('FMIS+eServices'!$GP$3:$GP$200,$AP11)","v":1},3,{"$f":"COUNTIF('FMIS+eServices'!$GT$3:$GT$200,$AP11)","v":0},0,{"$f":"COUNTIF('FMIS+eServices'!$GW$3:$GW$200,$AP11)","v":0},0,{"$f":"COUNTIFS('FMIS+eServices'!$GW$3:$GW$200,$AP11,'FMIS+eServices'!$GX$3:$GX$200,3)","v":0},0,{"$f":"COUNTIF('FMIS+eServices'!$HH$3:$HH$200,$AP11)","v":0},2,{"$f":"COUNTIF('FMIS+eServices'!$HP$3:$HP$200,$AP11)","v":0},2,{"$f":"COUNTIF('FMIS+eServices'!$HV$3:$HV$200,$AP11)","v":0},0,null,null,null,"Other",0,1,2,3,"Sum",null,null,{"$f":"CH10/$CL$10","v":0.36309523809523808},{"$f":"CI10/$CL$10","v":0.21428571428571427},0.42261904761904762,0,null,null,null,null,null,8,8,{"$f":"COUNTIF('FMIS+eServices'!$GL$3:$GL$200,CS$3)","v":8},{"$f":"COUNTIF('FMIS+eServices'!$GL$3:$GL$200,CT$3)","v":8},{"$f":"COUNTIF('FMIS+eServices'!$GL$3:$GL$200,CU$3)","v":144},{"$f":"COUNTIF('FMIS+eServices'!$GL$3:$GL$200,CV$3)","v":38},198,"GH","CMIS services/functionality",null,4.0180813661476649E-3,4.0180813661476649E-3,null,null,null,8,{"$f":"COUNTIFS('FMIS+eServices'!$GL$3:$GL$200,DG$3,'FMIS+eServices'!$DT$3:$DT$200,\">A\")","v":4},{"$f":"COUNTIFS('FMIS+eServices'!$GL$3:$GL$200,DH$3,'FMIS+eServices'!$DT$3:$DT$200,\">A\")","v":7},{"$f":"COUNTIFS('FMIS+eServices'!$GL$3:$GL$200,DI$3,'FMIS+eServices'!$DT$3:$DT$200,\">A\")","v":132},{"$f":"COUNTIFS('FMIS+eServices'!$GL$3:$GL$200,DJ$3,'FMIS+eServices'!$DT$3:$DT$200,\">A\")","v":25},168]
[null,"EU",{"$f":"COUNTIFS('FMIS+eServices'!$IJ$3:$IJ$200,C$3,'FMIS+eServices'!$DU$3:$DU$200,$B12)","v":12},{"$f":"COUNTIFS('FMIS+eServices'!$IJ$3:$IJ$200,D$3,'FMIS+eServices'!$DU$3:$DU$200,$B12)","v":15},{"$f":"COUNTIFS('FMIS+eServices'!$IJ$3:$IJ$200,E$3,'FMIS+eServices'!$DU$3:$DU$200,$B12)","v":0},{"$f":"COUNTIFS('FMIS+eServices'!$IJ$3:$IJ$200,F$3,'FMIS+eServices'!$DU$3:$DU$200,$B12)","v":0},{"$f":"SUM(C12:F12)","v":27},null,null,null,null,null,null,null,null,null,null,null,"TMIS ASW","Status",null,null,null,null,null,null,null,null,null,null,null,null,null,null,null,null,null,null,null,null,null,1992,{"$f":"COUNTIF('FMIS+eServices'!$CI$3:$CI$200,$AP12)","v":0},1,{"$f":"COUNTIF('FMIS+eServices'!$AC$3:$AC$200,$AP12)","v":1},8,{"$f":"COUNTIF('FMIS+eServices'!$AN$3:$AN$200,$AP12)","v":0},5,{"$f":"COUNTIF('FMIS+eServices'!$FH$3:$FH$200,$AP12)","v":2},132,{"$f":"COUNTIF('FMIS+eServices'!$FJ$3:$FJ$200,$AP12)","v":0},22,{"$f":"COUNTIF('FMIS+eServices'!$FR$3:$FR$200,$AP12)","v":7},108,{"$f":"COUNTIF('FMIS+eServices'!$FX$3:$FX$200,$AP12)","v":0},2,{"$f":"COUNTIF('FMIS+eServices'!$GB$3:$GB$200,$AP12)","v":9},127,{"$f":"COUNTIF('FMIS+eServices'!$GJ$3:$GJ$200,$AP12)","v":3},9,{"$f":"COUNTIF('FMIS+eServices'!$GP$3:$GP$200,$AP12)","v":1},4,{"$f":"COUNTIF('FMIS+eServices'!$GT$3:$GT$200,$AP12)","v":0},0,{"$f":"COUNTIF('FMIS+eServices'!$GW$3:$GW$200,$AP12)","v":0},0,{"$f":"COUNTIFS('FMIS+eServices'!$GW$3:$GW$200,$AP12,'FMIS+eServices'!$GX$3:$GX$200,3)","v":0},0,{"$f":"COUNTIF('FMIS+eServices'!$HH$3:$HH$200,$AP12)","v":1},3,{"$f":"COUNTIF('FMIS+eServices'!$HP$3:$HP$200,$AP12)","v":1},3,{"$f":"COUNTIF('FMIS+eServices'!$HV$3:$HV$200,$AP12)","v":0},0,null,null,null,"EU",{"$f":"COUNTIFS(INDIRECT(\"'FMIS+eServices'!$\"&$CF$16&\"$3:$\"&$CF$16&\"$200\"),CA$3,'FMIS+eServices'!$DU$3:$DU$200,$BZ12)","v":0},{"$f":"COUNTIFS(INDIRECT(\"'FMIS+eServices'!$\"&$CF$16&\"$3:$\"&$CF$16&\"$200\"),CB$3,'FMIS+eServices'!$DU$3:$DU$200,$BZ12)","v":3},{"$f":"COUNTIFS(INDIRECT(\"'FMIS+eServices'!$\"&$CF$16&\"$3:$\"&$CF$16&\"$200\"),CC$3,'FMIS+eServices'!$DU$3:$DU$200,$BZ12)","v":24},{"$f":"COUNTIFS(INDIRECT(\"'FMIS+eServices'!$\"&$CF$16&\"$3:$\"&$CF$16&\"$200\"),CD$3,'FMIS+eServices'!$DU$3:$DU$200,$BZ12)","v":0},{"$f":"SUM(CA12:CD12)","v":27},null,null,null,null,null,null,null,null,null,null,null,9,9,{"$f":"COUNTIF('FMIS+eServices'!$GQ$3:$GQ$200,CS$3)","v":38},{"$f":"COUNTIF('FMIS+eServices'!$GQ$3:$GQ$200,CT$3)","v":35},{"$f":"COUNTIF('FMIS+eServices'!$GQ$3:$GQ$200,CU$3)","v":46},{"$f":"COUNTIF('FMIS+eServices'!$GQ$3:$GQ$200,CV$3)","v":79},198,"GM","e-Filing services",null,1.9076305220883535E-2,1.7570281124497992E-2,{"$f":"CU12/$AP12","v":2.3092369477911646E-2},null,null,9,{"$f":"COUNTIFS('FMIS+eServices'!$GQ$3:$GQ$200,DG$3,'FMIS+eServices'!$DT$3:$DT$200,\">A\")","v":35},{"$f":"COUNTIFS('FMIS+eServices'!$GQ$3:$GQ$200,DH$3,'FMIS+eServices'!$DT$3:$DT$200,\">A\")","v":34},{"$f":"COUNTIFS('FMIS+eServices'!$GQ$3:$GQ$200,DI$3,'FMIS+eServices'!$DT$3:$DT$200,\">A\")","v":41},{"$f":"COUNTIFS('FMIS+eServices'!$GQ$3:$GQ$200,DJ$3,'FMIS+eServices'!$DT$3:$DT$200,\">A\")","v":58},168]
[null,"OECD",{"$f":"COUNTIFS('FMIS+eServices'!$IJ$3:$IJ$200,C$3,'FMIS+eServices'!$DV$3:$DV$200,$B13)","v":22},{"$f":"COUNTIFS('FMIS+eServices'!$IJ$3:$IJ$200,D$3,'FMIS+eServices'!$DV$3:$DV$200,$B13)","v":12},{"$f":"COUNTIFS('FMIS+eServices'!$IJ$3:$IJ$200,E$3,'FMIS+eServices'!$DV$3:$DV$200,$B13)","v":0},{"$f":"COUNTIFS('FMIS+eServices'!$IJ$3:$IJ$200,F$3,'FMIS+eServices'!$DV$3:$DV$200,$B13)","v":0},{"$f":"SUM(C13:F13)","v":34},null,null,null,"Fragile","A","B","C","D","Sum",null,null,"0 : No TMIS yet",{"$f":"'FMIS+eServices'!FU204","v":31},{"$f":"T13/T16","v":0.15656565656565657},null,null,null,null,null,null,null,null,null,null,null,null,null,null,null,null,null,null,null,null,1993,{"$f":"COUNTIF('FMIS+eServices'!$CI$3:$CI$200,$AP13)","v":0},1,{"$f":"COUNTIF('FMIS+eServices'!$AC$3:$AC$200,$AP13)","v":1},9,{"$f":"COUNTIF('FMIS+eServices'!$AN$3:$AN$200,$AP13)","v":1},6,{"$f":"COUNTIF('FMIS+eServices'!$FH$3:$FH$200,$AP13)","v":7},139,{"$f":"COUNTIF('FMIS+eServices'!$FJ$3:$FJ$200,$AP13)","v":1},23,{"$f":"COUNTIF('FMIS+eServices'!$FR$3:$FR$200,$AP13)","v":5},113,{"$f":"COUNTIF('FMIS+eServices'!$FX$3:$FX$200,$AP13)","v":2},4,{"$f":"COUNTIF('FMIS+eServices'!$GB$3:$GB$200,$AP13)","v":5},132,{"$f":"COUNTIF('FMIS+eServices'!$GJ$3:$GJ$200,$AP13)","v":4},13,{"$f":"COUNTIF('FMIS+eServices'!$GP$3:$GP$200,$AP13)","v":0},4,{"$f":"COUNTIF('FMIS+eServices'!$GT$3:$GT$200,$AP13)","v":0},0,{"$f":"COUNTIF('FMIS+eServices'!$GW$3:$GW$200,$AP13)","v":0},0,{"$f":"COUNTIFS('FMIS+eServices'!$GW$3:$GW$200,$AP13,'FMIS+eServices'!$GX$3:$GX$200,3)","v":0},0,{"$f":"COUNTIF('FMIS+eServices'!$HH$3:$HH$200,$AP13)","v":0},3,{"$f":"COUNTIF('FMIS+eServices'!$HP$3:$HP$200,$AP13)","v":0},3,{"$f":"COUNTIF('FMIS+eServices'!$HV$3:$HV$200,$AP13)","v":0},0,null,null,null,"OECD",{"$f":"COUNTIFS(INDIRECT(\"'FMIS+eServices'!$\"&$CF$16&\"$3:$\"&$CF$16&\"$200\"),CA$3,'FMIS+eServices'!$DV$3:$DV$200,$BZ13)","v":0},{"$f":"COUNTIFS(INDIRECT(\"'FMIS+eServices'!$\"&$CF$16&\"$3:$\"&$CF$16&\"$200\"),CB$3,'FMIS+eServices'!$DV$3:$DV$200,$BZ13)","v":1},{"$f":"COUNTIFS(INDIRECT(\"'FMIS+eServices'!$\"&$CF$16&\"$3:$\"&$CF$16&\"$200\"),CC$3,'FMIS+eServices'!$DV$3:$DV$200,$BZ13)","v":33},{"$f":"COUNTIFS(INDIRECT(\"'FMIS+eServices'!$\"&$CF$16&\"$3:$\"&$CF$16&\"$200\"),CD$3,'FMIS+eServices'!$DV$3:$DV$200,$BZ13)","v":0},{"$f":"SUM(CA13:CD13)","v":34},null,"Fragile",0,1,2,3,"Sum",null,null,null,null,10,10,{"$f":"COUNTIF('FMIS+eServices'!$GU$3:$GU$200,CS$3)","v":120},{"$f":"COUNTIF('FMIS+eServices'!$GU$3:$GU$200,CT$3)","v":26},{"$f":"COUNTIF('FMIS+eServices'!$GU$3:$GU$200,CU$3)","v":52},null,198,"GQ","e-Payment services",null,6.0210737581535376E-2,1.3045659809332665E-2,null,null,null,10,{"$f":"COUNTIFS('FMIS+eServices'!$GU$3:$GU$200,DG$3,'FMIS+eServices'!$DT$3:$DT$200,\">A\")","v":114},{"$f":"COUNTIFS('FMIS+eServices'!$GU$3:$GU$200,DH$3,'FMIS+eServices'!$DT$3:$DT$200,\">A\")","v":15},{"$f":"COUNTIFS('FMIS+eServices'!$GU$3:$GU$200,DI$3,'FMIS+eServices'!$DT$3:$DT$200,\">A\")","v":39},null,168]
[null,"APEC",{"$f":"COUNTIFS('FMIS+eServices'!$IJ$3:$IJ$200,C$3,'FMIS+eServices'!$DW$3:$DW$200,$B14)","v":15},{"$f":"COUNTIFS('FMIS+eServices'!$IJ$3:$IJ$200,D$3,'FMIS+eServices'!$DW$3:$DW$200,$B14)","v":6},{"$f":"COUNTIFS('FMIS+eServices'!$IJ$3:$IJ$200,E$3,'FMIS+eServices'!$DW$3:$DW$200,$B14)","v":0},{"$f":"COUNTIFS('FMIS+eServices'!$IJ$3:$IJ$200,F$3,'FMIS+eServices'!$DW$3:$DW$200,$B14)","v":0},{"$f":"SUM(C14:F14)","v":21},null,null,null,"F",{"$f":"COUNTIFS('FMIS+eServices'!$IJ$3:$IJ$200,C$3,'FMIS+eServices'!$DX$3:$DX$200,$K14)","v":0},{"$f":"COUNTIFS('FMIS+eServices'!$IJ$3:$IJ$200,D$3,'FMIS+eServices'!$DX$3:$DX$200,$K14)","v":14},{"$f":"COUNTIFS('FMIS+eServices'!$IJ$3:$IJ$200,E$3,'FMIS+eServices'!$DX$3:$DX$200,$K14)","v":13},{"$f":"COUNTIFS('FMIS+eServices'!$IJ$3:$IJ$200,F$3,'FMIS+eServices'!$DX$3:$DX$200,$K14)","v":6},{"$f":"SUM(L14:O14)","v":33},null,null,"1 : LDSW",{"$f":"'FMIS+eServices'!FU205","v":34},{"$f":"T14/T16","v":0.17171717171717171},null,null,null,null,null,null,null,null,null,null,null,null,null,null,null,null,null,null,null,null,1994,{"$f":"COUNTIF('FMIS+eServices'!$CI$3:$CI$200,$AP14)","v":1},2,{"$f":"COUNTIF('FMIS+eServices'!$AC$3:$AC$200,$AP14)","v":0},9,{"$f":"COUNTIF('FMIS+eServices'!$AN$3:$AN$200,$AP14)","v":1},7,{"$f":"COUNTIF('FMIS+eServices'!$FH$3:$FH$200,$AP14)","v":5},144,{"$f":"COUNTIF('FMIS+eServices'!$FJ$3:$FJ$200,$AP14)","v":1},24,{"$f":"COUNTIF('FMIS+eServices'!$FR$3:$FR$200,$AP14)","v":6},119,{"$f":"COUNTIF('FMIS+eServices'!$FX$3:$FX$200,$AP14)","v":1},5,{"$f":"COUNTIF('FMIS+eServices'!$GB$3:$GB$200,$AP14)","v":5},137,{"$f":"COUNTIF('FMIS+eServices'!$GJ$3:$GJ$200,$AP14)","v":6},19,{"$f":"COUNTIF('FMIS+eServices'!$GP$3:$GP$200,$AP14)","v":0},4,{"$f":"COUNTIF('FMIS+eServices'!$GT$3:$GT$200,$AP14)","v":0},0,{"$f":"COUNTIF('FMIS+eServices'!$GW$3:$GW$200,$AP14)","v":0},0,{"$f":"COUNTIFS('FMIS+eServices'!$GW$3:$GW$200,$AP14,'FMIS+eServices'!$GX$3:$GX$200,3)","v":0},0,{"$f":"COUNTIF('FMIS+eServices'!$HH$3:$HH$200,$AP14)","v":1},4,{"$f":"COUNTIF('FMIS+eServices'!$HP$3:$HP$200,$AP14)","v":1},4,{"$f":"COUNTIF('FMIS+eServices'!$HV$3:$HV$200,$AP14)","v":1},1,null,null,null,"APEC",{"$f":"COUNTIFS(INDIRECT(\"'FMIS+eServices'!$\"&$CF$16&\"$3:$\"&$CF$16&\"$200\"),CA$3,'FMIS+eServices'!$DW$3:$DW$200,$BZ14)","v":1},{"$f":"COUNTIFS(INDIRECT(\"'FMIS+eServices'!$\"&$CF$16&\"$3:$\"&$CF$16&\"$200\"),CB$3,'FMIS+eServices'!$DW$3:$DW$200,$BZ14)","v":2},{"$f":"COUNTIFS(INDIRECT(\"'FMIS+eServices'!$\"&$CF$16&\"$3:$\"&$CF$16&\"$200\"),CC$3,'FMIS+eServices'!$DW$3:$DW$200,$BZ14)","v":18},{"$f":"COUNTIFS(INDIRECT(\"'FMIS+eServices'!$\"&$CF$16&\"$3:$\"&$CF$16&\"$200\"),CD$3,'FMIS+eServices'!$DW$3:$DW$200,$BZ14)","v":0},{"$f":"SUM(CA14:CD14)","v":21},null,"F",{"$f":"COUNTIFS(INDIRECT(\"'FMIS+eServices'!$\"&$CF$16&\"$3:$\"&$CF$16&\"$200\"),CA$3,'FMIS+eServices'!$DX$3:$DX$200,$CG14)","v":27},{"$f":"COUNTIFS(INDIRECT(\"'FMIS+eServices'!$\"&$CF$16&\"$3:$\"&$CF$16&\"$200\"),CB$3,'FMIS+eServices'!$DX$3:$DX$200,$CG14)","v":6},{"$f":"COUNTIFS(INDIRECT(\"'FMIS+eServices'!$\"&$CF$16&\"$3:$\"&$CF$16&\"$200\"),CC$3,'FMIS+eServices'!$DX$3:$DX$200,$CG14)","v":0},{"$f":"COUNTIFS(INDIRECT(\"'FMIS+eServices'!$\"&$CF$16&\"$3:$\"&$CF$16&\"$200\"),CD$3,'FMIS+eServices'!$DX$3:$DX$200,$CG14)","v":0},{"$f":"SUM(CH14:CK14)","v":33},null,null,null,null,11,11,{"$f":"COUNTIF('FMIS+eServices'!$GX$3:$GX$200,CS$3)","v":53},{"$f":"COUNTIF('FMIS+eServices'!$GX$3:$GX$200,CT$3)","v":41},{"$f":"COUNTIF('FMIS+eServices'!$GX$3:$GX$200,CU$3)","v":38},{"$f":"COUNTIF('FMIS+eServices'!$GX$3:$GX$200,CV$3)","v":66},198,"GT","Digital Signature",null,2.657973921765296E-2,2.0561685055165497E-2,null,null,null,11,{"$f":"COUNTIFS('FMIS+eServices'!$GX$3:$GX$200,DG$3,'FMIS+eServices'!$DT$3:$DT$200,\">A\")","v":50},{"$f":"COUNTIFS('FMIS+eServices'!$GX$3:$GX$200,DH$3,'FMIS+eServices'!$DT$3:$DT$200,\">A\")","v":39},{"$f":"COUNTIFS('FMIS+eServices'!$GX$3:$GX$200,DI$3,'FMIS+eServices'!$DT$3:$DT$200,\">A\")","v":33},{"$f":"COUNTIFS('FMIS+eServices'!$GX$3:$GX$200,DJ$3,'FMIS+eServices'!$DT$3:$DT$200,\">A\")","v":46},168]
[null,null,null,null,null,null,null,null,null,null,null,null,null,null,null,null,null,null,"2 : COTS",{"$f":"'FMIS+eServices'!FU206","v":133},{"$f":"T15/T16","v":0.67171717171717171},null,null,null,1,null,null,null,null,null,null,null,null,null,null,null,null,null,null,null,null,1995,{"$f":"COUNTIF('FMIS+eServices'!$CI$3:$CI$200,$AP15)","v":1},3,{"$f":"COUNTIF('FMIS+eServices'!$AC$3:$AC$200,$AP15)","v":0},9,{"$f":"COUNTIF('FMIS+eServices'!$AN$3:$AN$200,$AP15)","v":4},11,{"$f":"COUNTIF('FMIS+eServices'!$FH$3:$FH$200,$AP15)","v":3},147,{"$f":"COUNTIF('FMIS+eServices'!$FJ$3:$FJ$200,$AP15)","v":3},27,{"$f":"COUNTIF('FMIS+eServices'!$FR$3:$FR$200,$AP15)","v":6},125,{"$f":"COUNTIF('FMIS+eServices'!$FX$3:$FX$200,$AP15)","v":3},8,{"$f":"COUNTIF('FMIS+eServices'!$GB$3:$GB$200,$AP15)","v":4},141,{"$f":"COUNTIF('FMIS+eServices'!$GJ$3:$GJ$200,$AP15)","v":0},19,{"$f":"COUNTIF('FMIS+eServices'!$GP$3:$GP$200,$AP15)","v":1},5,{"$f":"COUNTIF('FMIS+eServices'!$GT$3:$GT$200,$AP15)","v":0},0,{"$f":"COUNTIF('FMIS+eServices'!$GW$3:$GW$200,$AP15)","v":0},0,{"$f":"COUNTIFS('FMIS+eServices'!$GW$3:$GW$200,$AP15,'FMIS+eServices'!$GX$3:$GX$200,3)","v":0},0,{"$f":"COUNTIF('FMIS+eServices'!$HH$3:$HH$200,$AP15)","v":0},4,{"$f":"COUNTIF('FMIS+eServices'!$HP$3:$HP$200,$AP15)","v":1},5,{"$f":"COUNTIF('FMIS+eServices'!$HV$3:$HV$200,$AP15)","v":0},1,null,null,null,null,null,null,null,null,null,1,null,null,null,null,null,null,null,null,null,null,12,12,{"$f":"COUNTIF('FMIS+eServices'!$HE$3:$HE$200,CS$3)","v":26},{"$f":"COUNTIF('FMIS+eServices'!$HE$3:$HE$200,CT$3)","v":97},{"$f":"COUNTIF('FMIS+eServices'!$HE$3:$HE$200,CU$3)","v":75},null,198,"HA","HRMIS application software",null,1.3032581453634085E-2,4.8621553884711781E-2,null,null,null,12,{"$f":"COUNTIFS('FMIS+eServices'!$HE$3:$HE$200,DG$3,'FMIS+eServices'!$DT$3:$DT$200,\">A\")","v":21},{"$f":"COUNTIFS('FMIS+eServices'!$HE$3:$HE$200,DH$3,'FMIS+eServices'!$DT$3:$DT$200,\">A\")","v":91},{"$f":"COUNTIFS('FMIS+eServices'!$HE$3:$HE$200,DI$3,'FMIS+eServices'!$DT$3:$DT$200,\">A\")","v":56},null,168]
[null,null,null,null,null,null,null,null,null,null,null,null,null,null,null,null,null,null,null,{"$f":"SUM(T13:T15)","v":198},null,null,null,null,null,null,null,null,null,null,null,null,null,null,null,null,null,null,null,null,null,1996,{"$f":"COUNTIF('FMIS+eServices'!$CI$3:$CI$200,$AP16)","v":1},4,{"$f":"COUNTIF('FMIS+eServices'!$AC$3:$AC$200,$AP16)","v":9},18,{"$f":"COUNTIF('FMIS+eServices'!$AN$3:$AN$200,$AP16)","v":5},16,{"$f":"COUNTIF('FMIS+eServices'!$FH$3:$FH$200,$AP16)","v":8},155,{"$f":"COUNTIF('FMIS+eServices'!$FJ$3:$FJ$200,$AP16)","v":0},27,{"$f":"COUNTIF('FMIS+eServices'!$FR$3:$FR$200,$AP16)","v":1},126,{"$f":"COUNTIF('FMIS+eServices'!$FX$3:$FX$200,$AP16)","v":3},11,{"$f":"COUNTIF('FMIS+eServices'!$GB$3:$GB$200,$AP16)","v":2},143,{"$f":"COUNTIF('FMIS+eServices'!$GJ$3:$GJ$200,$AP16)","v":4},23,{"$f":"COUNTIF('FMIS+eServices'!$GP$3:$GP$200,$AP16)","v":1},6,{"$f":"COUNTIF('FMIS+eServices'!$GT$3:$GT$200,$AP16)","v":0},0,{"$f":"COUNTIF('FMIS+eServices'!$GW$3:$GW$200,$AP16)","v":0},0,{"$f":"COUNTIFS('FMIS+eServices'!$GW$3:$GW$200,$AP16,'FMIS+eServices'!$GX$3:$GX$200,3)","v":0},0,{"$f":"COUNTIF('FMIS+eServices'!$HH$3:$HH$200,$AP16)","v":0},4,{"$f":"COUNTIF('FMIS+eServices'!$HP$3:$HP$200,$AP16)","v":0},5,{"$f":"COUNTIF('FMIS+eServices'!$HV$3:$HV$200,$AP16)","v":1},2,null,null,"Indicator > ",null,null,null,null,null,null,{"$f":"VLOOKUP(CF15,CQ4:CX42,8,FALSE)","v":"EU"},null,null,null,null,null,null,null,null,null,null,13,13,{"$f":"COUNTIF('FMIS+eServices'!$HI$3:$HI$200,CS$3)","v":15},{"$f":"COUNTIF('FMIS+eServices'!$HI$3:$HI$200,CT$3)","v":11},{"$f":"COUNTIF('FMIS+eServices'!$HI$3:$HI$200,CU$3)","v":32},{"$f":"COUNTIF('FMIS+eServices'!$HI$3:$HI$200,CV$3)","v":140},198,"HE","HRMIS implementation status",null,7.5150300601202402E-3,5.5110220440881767E-3,null,null,null,13,{"$f":"COUNTIFS('FMIS+eServices'!$HI$3:$HI$200,DG$3,'FMIS+eServices'!$DT$3:$DT$200,\">A\")","v":12},{"$f":"COUNTIFS('FMIS+eServices'!$HI$3:$HI$200,DH$3,'FMIS+eServices'!$DT$3:$DT$200,\">A\")","v":9},{"$f":"COUNTIFS('FMIS+eServices'!$HI$3:$HI$200,DI$3,'FMIS+eServices'!$DT$3:$DT$200,\">A\")","v":30},{"$f":"COUNTIFS('FMIS+eServices'!$HI$3:$HI$200,DJ$3,'FMIS+eServices'!$DT$3:$DT$200,\">A\")","v":117},168]
[null,"Gov Practices > PFM Systems and e-Services",null,null,null,null,null,null,null,null,null,null,null,null,null,null,null,null,null,null,null,null,null,null,null,null,null,null,null,null,null,null,null,null,null,null,null,null,null,null,null,1997,{"$f":"COUNTIF('FMIS+eServices'!$CI$3:$CI$200,$AP17)","v":3},7,{"$f":"COUNTIF('FMIS+eServices'!$AC$3:$AC$200,$AP17)","v":6},24,{"$f":"COUNTIF('FMIS+eServices'!$AN$3:$AN$200,$AP17)","v":4},20,{"$f":"COUNTIF('FMIS+eServices'!$FH$3:$FH$200,$AP17)","v":6},161,{"$f":"COUNTIF('FMIS+eServices'!$FJ$3:$FJ$200,$AP17)","v":7},34,{"$f":"COUNTIF('FMIS+eServices'!$FR$3:$FR$200,$AP17)","v":6},132,{"$f":"COUNTIF('FMIS+eServices'!$FX$3:$FX$200,$AP17)","v":5},16,{"$f":"COUNTIF('FMIS+eServices'!$GB$3:$GB$200,$AP17)","v":6},149,{"$f":"COUNTIF('FMIS+eServices'!$GJ$3:$GJ$200,$AP17)","v":4},27,{"$f":"COUNTIF('FMIS+eServices'!$GP$3:$GP$200,$AP17)","v":2},8,{"$f":"COUNTIF('FMIS+eServices'!$GT$3:$GT$200,$AP17)","v":0},0,{"$f":"COUNTIF('FMIS+eServices'!$GW$3:$GW$200,$AP17)","v":0},0,{"$f":"COUNTIFS('FMIS+eServices'!$GW$3:$GW$200,$AP17,'FMIS+eServices'!$GX$3:$GX$200,3)","v":0},0,{"$f":"COUNTIF('FMIS+eServices'!$HH$3:$HH$200,$AP17)","v":2},6,{"$f":"COUNTIF('FMIS+eServices'!$HP$3:$HP$200,$AP17)","v":1},6,{"$f":"COUNTIF('FMIS+eServices'!$HV$3:$HV$200,$AP17)","v":0},2,null,null,null,null,"Indicator",{"$f":"VLOOKUP($CF$15,$CQ$4:$CY$22,2,FALSE)","v":1},null,{"$f":"VLOOKUP($CF$15,$CQ$4:$CY$22,9,FALSE)","v":"Type of e-Gov/e-Service portal"},null,null,null,null,null,null,null,null,null,null,null,null,14,14,{"$f":"COUNTIF('FMIS+eServices'!$HJ$3:$HJ$200,CS$3)","v":26},{"$f":"COUNTIF('FMIS+eServices'!$HJ$3:$HJ$200,CT$3)","v":33},{"$f":"COUNTIF('FMIS+eServices'!$HJ$3:$HJ$200,CU$3)","v":139},null,198,"HF","HRMIS services/functionality",null,1.3019529293940912E-2,1.6524787180771158E-2,null,null,null,14,{"$f":"COUNTIFS('FMIS+eServices'!$HJ$3:$HJ$200,DG$3,'FMIS+eServices'!$DT$3:$DT$200,\">A\")","v":21},{"$f":"COUNTIFS('FMIS+eServices'!$HJ$3:$HJ$200,DH$3,'FMIS+eServices'!$DT$3:$DT$200,\">A\")","v":23},{"$f":"COUNTIFS('FMIS+eServices'!$HJ$3:$HJ$200,DI$3,'FMIS+eServices'!$DT$3:$DT$200,\">A\")","v":124},null,168]
[null,"A","Highly Visible",null,null,null,null,null,null,null,null,null,null,null,null,null,null,null,null,null,null,null,null,null,null,null,null,null,null,null,null,null,null,null,null,null,null,null,null,null,null,1998,{"$f":"COUNTIF('FMIS+eServices'!$CI$3:$CI$200,$AP18)","v":3},10,{"$f":"COUNTIF('FMIS+eServices'!$AC$3:$AC$200,$AP18)","v":6},30,{"$f":"COUNTIF('FMIS+eServices'!$AN$3:$AN$200,$AP18)","v":6},26,{"$f":"COUNTIF('FMIS+eServices'!$FH$3:$FH$200,$AP18)","v":4},165,{"$f":"COUNTIF('FMIS+eServices'!$FJ$3:$FJ$200,$AP18)","v":4},38,{"$f":"COUNTIF('FMIS+eServices'!$FR$3:$FR$200,$AP18)","v":5},137,{"$f":"COUNTIF('FMIS+eServices'!$FX$3:$FX$200,$AP18)","v":5},21,{"$f":"COUNTIF('FMIS+eServices'!$GB$3:$GB$200,$AP18)","v":2},151,{"$f":"COUNTIF('FMIS+eServices'!$GJ$3:$GJ$200,$AP18)","v":6},33,{"$f":"COUNTIF('FMIS+eServices'!$GP$3:$GP$200,$AP18)","v":5},13,{"$f":"COUNTIF('FMIS+eServices'!$GT$3:$GT$200,$AP18)","v":0},0,{"$f":"COUNTIF('FMIS+eServices'!$GW$3:$GW$200,$AP18)","v":0},0,{"$f":"COUNTIFS('FMIS+eServices'!$GW$3:$GW$200,$AP18,'FMIS+eServices'!$GX$3:$GX$200,3)","v":0},0,{"$f":"COUNTIF('FMIS+eServices'!$HH$3:$HH$200,$AP18)","v":1},7,{"$f":"COUNTIF('FMIS+eServices'!$HP$3:$HP$200,$AP18)","v":0},6,{"$f":"COUNTIF('FMIS+eServices'!$HV$3:$HV$200,$AP18)","v":0},2,null,null,null,null,null,null,null,null,null,null,null,null,null,null,null,null,null,null,null,null,15,15,{"$f":"COUNTIF('FMIS+eServices'!$HM$3:$HM$200,CS$3)","v":21},{"$f":"COUNTIF('FMIS+eServices'!$HM$3:$HM$200,CT$3)","v":94},{"$f":"COUNTIF('FMIS+eServices'!$HM$3:$HM$200,CU$3)","v":83},null,198,"HI","Payroll application software",null,1.0510510510510511E-2,4.7047047047047048E-2,null,null,null,15,{"$f":"COUNTIFS('FMIS+eServices'!$HM$3:$HM$200,DG$3,'FMIS+eServices'!$DT$3:$DT$200,\">A\")","v":16},{"$f":"COUNTIFS('FMIS+eServices'!$HM$3:$HM$200,DH$3,'FMIS+eServices'!$DT$3:$DT$200,\">A\")","v":86},{"$f":"COUNTIFS('FMIS+eServices'!$HM$3:$HM$200,DI$3,'FMIS+eServices'!$DT$3:$DT$200,\">A\")","v":66},null,168]
[null,"B","Visible",null,null,null,null,null,null,null,null,null,null,null,null,null,null,null,null,null,null,null,null,null,null,null,null,null,null,null,null,null,null,null,null,null,null,null,null,null,null,1999,{"$f":"COUNTIF('FMIS+eServices'!$CI$3:$CI$200,$AP19)","v":9},19,{"$f":"COUNTIF('FMIS+eServices'!$AC$3:$AC$200,$AP19)","v":2},32,{"$f":"COUNTIF('FMIS+eServices'!$AN$3:$AN$200,$AP19)","v":3},29,{"$f":"COUNTIF('FMIS+eServices'!$FH$3:$FH$200,$AP19)","v":4},169,{"$f":"COUNTIF('FMIS+eServices'!$FJ$3:$FJ$200,$AP19)","v":5},43,{"$f":"COUNTIF('FMIS+eServices'!$FR$3:$FR$200,$AP19)","v":4},141,{"$f":"COUNTIF('FMIS+eServices'!$FX$3:$FX$200,$AP19)","v":8},29,{"$f":"COUNTIF('FMIS+eServices'!$GB$3:$GB$200,$AP19)","v":3},154,{"$f":"COUNTIF('FMIS+eServices'!$GJ$3:$GJ$200,$AP19)","v":12},45,{"$f":"COUNTIF('FMIS+eServices'!$GP$3:$GP$200,$AP19)","v":4},17,{"$f":"COUNTIF('FMIS+eServices'!$GT$3:$GT$200,$AP19)","v":0},0,{"$f":"COUNTIF('FMIS+eServices'!$GW$3:$GW$200,$AP19)","v":1},1,{"$f":"COUNTIFS('FMIS+eServices'!$GW$3:$GW$200,$AP19,'FMIS+eServices'!$GX$3:$GX$200,3)","v":0},0,{"$f":"COUNTIF('FMIS+eServices'!$HH$3:$HH$200,$AP19)","v":1},8,{"$f":"COUNTIF('FMIS+eServices'!$HP$3:$HP$200,$AP19)","v":4},10,{"$f":"COUNTIF('FMIS+eServices'!$HV$3:$HV$200,$AP19)","v":3},5,null,null,null,"# of points: 2",null,null,null,null,null,null,null,null,null,null,null,null,null,null,null,null,16,16,{"$f":"COUNTIF('FMIS+eServices'!$HQ$3:$HQ$200,CS$3)","v":14},{"$f":"COUNTIF('FMIS+eServices'!$HQ$3:$HQ$200,CT$3)","v":7},{"$f":"COUNTIF('FMIS+eServices'!$HQ$3:$HQ$200,CU$3)","v":23},{"$f":"COUNTIF('FMIS+eServices'!$HQ$3:$HQ$200,CV$3)","v":154},198,"HM","Payroll implementation status",null,7.0035017508754379E-3,3.5017508754377189E-3,null,null,null,16,{"$f":"COUNTIFS('FMIS+eServices'!$HQ$3:$HQ$200,DG$3,'FMIS+eServices'!$DT$3:$DT$200,\">A\")","v":11},{"$f":"COUNTIFS('FMIS+eServices'!$HQ$3:$HQ$200,DH$3,'FMIS+eServices'!$DT$3:$DT$200,\">A\")","v":5},{"$f":"COUNTIFS('FMIS+eServices'!$HQ$3:$HQ$200,DI$3,'FMIS+eServices'!$DT$3:$DT$200,\">A\")","v":20},{"$f":"COUNTIFS('FMIS+eServices'!$HQ$3:$HQ$200,DJ$3,'FMIS+eServices'!$DT$3:$DT$200,\">A\")","v":132},168]
[null,"C","Limited Visibility",null,null,null,null,null,null,null,null,null,null,null,null,null,null,null,null,null,null,null,null,null,null,null,null,null,null,null,null,null,null,null,null,null,null,null,null,null,null,2000,{"$f":"COUNTIF('FMIS+eServices'!$CI$3:$CI$200,$AP20)","v":4},23,{"$f":"COUNTIF('FMIS+eServices'!$AC$3:$AC$200,$AP20)","v":9},41,{"$f":"COUNTIF('FMIS+eServices'!$AN$3:$AN$200,$AP20)","v":9},38,{"$f":"COUNTIF('FMIS+eServices'!$FH$3:$FH$200,$AP20)","v":1},170,{"$f":"COUNTIF('FMIS+eServices'!$FJ$3:$FJ$200,$AP20)","v":2},45,{"$f":"COUNTIF('FMIS+eServices'!$FR$3:$FR$200,$AP20)","v":4},145,{"$f":"COUNTIF('FMIS+eServices'!$FX$3:$FX$200,$AP20)","v":3},32,{"$f":"COUNTIF('FMIS+eServices'!$GB$3:$GB$200,$AP20)","v":2},156,{"$f":"COUNTIF('FMIS+eServices'!$GJ$3:$GJ$200,$AP20)","v":5},50,{"$f":"COUNTIF('FMIS+eServices'!$GP$3:$GP$200,$AP20)","v":7},24,{"$f":"COUNTIF('FMIS+eServices'!$GT$3:$GT$200,$AP20)","v":4},4,{"$f":"COUNTIF('FMIS+eServices'!$GW$3:$GW$200,$AP20)","v":7},8,{"$f":"COUNTIFS('FMIS+eServices'!$GW$3:$GW$200,$AP20,'FMIS+eServices'!$GX$3:$GX$200,3)","v":3},3,{"$f":"COUNTIF('FMIS+eServices'!$HH$3:$HH$200,$AP20)","v":2},10,{"$f":"COUNTIF('FMIS+eServices'!$HP$3:$HP$200,$AP20)","v":2},12,{"$f":"COUNTIF('FMIS+eServices'!$HV$3:$HV$200,$AP20)","v":2},7,null,null,null,null,null,null,null,null,null,null,null,null,null,null,null,null,null,null,null,null,17,17,{"$f":"COUNTIF('FMIS+eServices'!$HR$3:$HR$200,CS$3)","v":21},{"$f":"COUNTIF('FMIS+eServices'!$HR$3:$HR$200,CT$3)","v":36},{"$f":"COUNTIF('FMIS+eServices'!$HR$3:$HR$200,CU$3)","v":141},null,198,"HN","Payroll services/functionality",null,{"$f":"CS20/$AP20","v":1.0500000000000001E-2},1.7999999999999999E-2,null,null,null,17,{"$f":"COUNTIFS('FMIS+eServices'!$HR$3:$HR$200,DG$3,'FMIS+eServices'!$DT$3:$DT$200,\">A\")","v":16},{"$f":"COUNTIFS('FMIS+eServices'!$HR$3:$HR$200,DH$3,'FMIS+eServices'!$DT$3:$DT$200,\">A\")","v":25},{"$f":"COUNTIFS('FMIS+eServices'!$HR$3:$HR$200,DI$3,'FMIS+eServices'!$DT$3:$DT$200,\">A\")","v":127},null,168]
[null,"D","Minimal Visibility",null,null,null,null,null,null,null,null,null,null,null,null,null,null,null,"TMIS Oper","Status",null,null,null,null,null,null,null,null,null,null,null,null,null,null,null,null,null,null,null,null,null,2001,{"$f":"COUNTIF('FMIS+eServices'!$CI$3:$CI$200,$AP21)","v":9},32,{"$f":"COUNTIF('FMIS+eServices'!$AC$3:$AC$200,$AP21)","v":17},58,{"$f":"COUNTIF('FMIS+eServices'!$AN$3:$AN$200,$AP21)","v":10},48,{"$f":"COUNTIF('FMIS+eServices'!$FH$3:$FH$200,$AP21)","v":3},173,{"$f":"COUNTIF('FMIS+eServices'!$FJ$3:$FJ$200,$AP21)","v":5},50,{"$f":"COUNTIF('FMIS+eServices'!$FR$3:$FR$200,$AP21)","v":6},151,{"$f":"COUNTIF('FMIS+eServices'!$FX$3:$FX$200,$AP21)","v":8},40,{"$f":"COUNTIF('FMIS+eServices'!$GB$3:$GB$200,$AP21)","v":4},160,{"$f":"COUNTIF('FMIS+eServices'!$GJ$3:$GJ$200,$AP21)","v":4},54,{"$f":"COUNTIF('FMIS+eServices'!$GP$3:$GP$200,$AP21)","v":6},30,{"$f":"COUNTIF('FMIS+eServices'!$GT$3:$GT$200,$AP21)","v":3},7,{"$f":"COUNTIF('FMIS+eServices'!$GW$3:$GW$200,$AP21)","v":5},13,{"$f":"COUNTIFS('FMIS+eServices'!$GW$3:$GW$200,$AP21,'FMIS+eServices'!$GX$3:$GX$200,3)","v":2},5,{"$f":"COUNTIF('FMIS+eServices'!$HH$3:$HH$200,$AP21)","v":1},11,{"$f":"COUNTIF('FMIS+eServices'!$HP$3:$HP$200,$AP21)","v":2},14,{"$f":"COUNTIF('FMIS+eServices'!$HV$3:$HV$200,$AP21)","v":2},9,null,null,null,null,null,null,null,null,null,null,null,null,null,null,null,null,null,null,null,null,18,18,{"$f":"COUNTIF('FMIS+eServices'!$HW$3:$HW$200,CS$3)","v":30},{"$f":"COUNTIF('FMIS+eServices'!$HW$3:$HW$200,CT$3)","v":26},{"$f":"COUNTIF('FMIS+eServices'!$HW$3:$HW$200,CU$3)","v":24},{"$f":"COUNTIF('FMIS+eServices'!$HW$3:$HW$200,CV$3)","v":118},198,"HS","e-Procurement system implementation status",null,1.4992503748125937E-2,1.2993503248375811E-2,null,null,null,18,{"$f":"COUNTIFS('FMIS+eServices'!$HW$3:$HW$200,DG$3,'FMIS+eServices'!$DT$3:$DT$200,\">A\")","v":24},{"$f":"COUNTIFS('FMIS+eServices'!$HW$3:$HW$200,DH$3,'FMIS+eServices'!$DT$3:$DT$200,\">A\")","v":26},{"$f":"COUNTIFS('FMIS+eServices'!$HW$3:$HW$200,DI$3,'FMIS+eServices'!$DT$3:$DT$200,\">A\")","v":23},{"$f":"COUNTIFS('FMIS+eServices'!$HW$3:$HW$200,DJ$3,'FMIS+eServices'!$DT$3:$DT$200,\">A\")","v":95},168]
[null,null,null,null,null,null,null,null,null,null,null,null,null,null,null,null,null,null,"0= No TMIS yet",{"$f":"'FMIS+eServices'!FY204","v":31},{"$f":"T22/T26","v":0.15656565656565657},null,null,null,null,null,null,null,null,null,null,null,null,null,null,null,null,null,null,null,null,2002,{"$f":"COUNTIF('FMIS+eServices'!$CI$3:$CI$200,$AP22)","v":11},43,{"$f":"COUNTIF('FMIS+eServices'!$AC$3:$AC$200,$AP22)","v":7},65,{"$f":"COUNTIF('FMIS+eServices'!$AN$3:$AN$200,$AP22)","v":10},58,{"$f":"COUNTIF('FMIS+eServices'!$FH$3:$FH$200,$AP22)","v":5},178,{"$f":"COUNTIF('FMIS+eServices'!$FJ$3:$FJ$200,$AP22)","v":10},60,{"$f":"COUNTIF('FMIS+eServices'!$FR$3:$FR$200,$AP22)","v":6},157,{"$f":"COUNTIF('FMIS+eServices'!$FX$3:$FX$200,$AP22)","v":7},47,{"$f":"COUNTIF('FMIS+eServices'!$GB$3:$GB$200,$AP22)","v":3},163,{"$f":"COUNTIF('FMIS+eServices'!$GJ$3:$GJ$200,$AP22)","v":8},62,{"$f":"COUNTIF('FMIS+eServices'!$GP$3:$GP$200,$AP22)","v":1},31,{"$f":"COUNTIF('FMIS+eServices'!$GT$3:$GT$200,$AP22)","v":1},8,{"$f":"COUNTIF('FMIS+eServices'!$GW$3:$GW$200,$AP22)","v":5},18,{"$f":"COUNTIFS('FMIS+eServices'!$GW$3:$GW$200,$AP22,'FMIS+eServices'!$GX$3:$GX$200,3)","v":4},9,{"$f":"COUNTIF('FMIS+eServices'!$HH$3:$HH$200,$AP22)","v":8},19,{"$f":"COUNTIF('FMIS+eServices'!$HP$3:$HP$200,$AP22)","v":9},23,{"$f":"COUNTIF('FMIS+eServices'!$HV$3:$HV$200,$AP22)","v":7},16,null,null,null,null,null,null,null,null,null,null,null,null,null,null,null,null,null,null,null,null,19,19,{"$f":"COUNTIF('FMIS+eServices'!$HX$3:$HX$200,CS$3)","v":56},{"$f":"COUNTIF('FMIS+eServices'!$HX$3:$HX$200,CT$3)","v":66},{"$f":"COUNTIF('FMIS+eServices'!$HX$3:$HX$200,CU$3)","v":72},{"$f":"COUNTIF('FMIS+eServices'!$HX$3:$HX$200,CV$3)","v":4},198,"HT","e-Procurement services/functionality",null,2.7972027972027972E-2,3.2967032967032968E-2,null,null,null,19,{"$f":"COUNTIFS('FMIS+eServices'!$HX$3:$HX$200,DG$3,'FMIS+eServices'!$DT$3:$DT$200,\">A\")","v":50},{"$f":"COUNTIFS('FMIS+eServices'!$HX$3:$HX$200,DH$3,'FMIS+eServices'!$DT$3:$DT$200,\">A\")","v":63},{"$f":"COUNTIFS('FMIS+eServices'!$HX$3:$HX$200,DI$3,'FMIS+eServices'!$DT$3:$DT$200,\">A\")","v":52},{"$f":"COUNTIFS('FMIS+eServices'!$HX$3:$HX$200,DJ$3,'FMIS+eServices'!$DT$3:$DT$200,\">A\")","v":3},168]
[null,null,null,null,null,null,null,null,null,null,null,null,null,null,null,null,null,null,"1= Planned",{"$f":"'FMIS+eServices'!FY205","v":0},{"$f":"T23/T26","v":0},null,null,null,null,null,null,null,null,null,null,null,null,null,null,null,null,null,null,null,null,2003,{"$f":"COUNTIF('FMIS+eServices'!$CI$3:$CI$200,$AP23)","v":10},53,{"$f":"COUNTIF('FMIS+eServices'!$AC$3:$AC$200,$AP23)","v":11},76,{"$f":"COUNTIF('FMIS+eServices'!$AN$3:$AN$200,$AP23)","v":9},67,{"$f":"COUNTIF('FMIS+eServices'!$FH$3:$FH$200,$AP23)","v":4},182,{"$f":"COUNTIF('FMIS+eServices'!$FJ$3:$FJ$200,$AP23)","v":2},62,{"$f":"COUNTIF('FMIS+eServices'!$FR$3:$FR$200,$AP23)","v":6},163,{"$f":"COUNTIF('FMIS+eServices'!$FX$3:$FX$200,$AP23)","v":9},56,{"$f":"COUNTIF('FMIS+eServices'!$GB$3:$GB$200,$AP23)","v":6},169,{"$f":"COUNTIF('FMIS+eServices'!$GJ$3:$GJ$200,$AP23)","v":14},76,{"$f":"COUNTIF('FMIS+eServices'!$GP$3:$GP$200,$AP23)","v":5},36,{"$f":"COUNTIF('FMIS+eServices'!$GT$3:$GT$200,$AP23)","v":0},8,{"$f":"COUNTIF('FMIS+eServices'!$GW$3:$GW$200,$AP23)","v":6},24,{"$f":"COUNTIFS('FMIS+eServices'!$GW$3:$GW$200,$AP23,'FMIS+eServices'!$GX$3:$GX$200,3)","v":3},12,{"$f":"COUNTIF('FMIS+eServices'!$HH$3:$HH$200,$AP23)","v":7},26,{"$f":"COUNTIF('FMIS+eServices'!$HP$3:$HP$200,$AP23)","v":10},33,{"$f":"COUNTIF('FMIS+eServices'!$HV$3:$HV$200,$AP23)","v":7},23,null,null,null,null,null,null,null,null,null,null,null,null,null,null,null,null,null,null,null,null,20]
[null,null,null,null,null,null,null,null,null,null,null,null,null,null,null,null,null,null,"2= Impl in progress",{"$f":"'FMIS+eServices'!FY206","v":8},{"$f":"T24/T26","v":4.0404040404040407E-2},null,null,null,null,null,null,null,null,null,null,null,null,null,null,null,null,null,null,null,null,2004,{"$f":"COUNTIF('FMIS+eServices'!$CI$3:$CI$200,$AP24)","v":13},66,{"$f":"COUNTIF('FMIS+eServices'!$AC$3:$AC$200,$AP24)","v":9},85,{"$f":"COUNTIF('FMIS+eServices'!$AN$3:$AN$200,$AP24)","v":10},77,{"$f":"COUNTIF('FMIS+eServices'!$FH$3:$FH$200,$AP24)","v":3},185,{"$f":"COUNTIF('FMIS+eServices'!$FJ$3:$FJ$200,$AP24)","v":6},68,{"$f":"COUNTIF('FMIS+eServices'!$FR$3:$FR$200,$AP24)","v":7},170,{"$f":"COUNTIF('FMIS+eServices'!$FX$3:$FX$200,$AP24)","v":7},63,{"$f":"COUNTIF('FMIS+eServices'!$GB$3:$GB$200,$AP24)","v":4},173,{"$f":"COUNTIF('FMIS+eServices'!$GJ$3:$GJ$200,$AP24)","v":6},82,{"$f":"COUNTIF('FMIS+eServices'!$GP$3:$GP$200,$AP24)","v":9},45,{"$f":"COUNTIF('FMIS+eServices'!$GT$3:$GT$200,$AP24)","v":3},11,{"$f":"COUNTIF('FMIS+eServices'!$GW$3:$GW$200,$AP24)","v":4},28,{"$f":"COUNTIFS('FMIS+eServices'!$GW$3:$GW$200,$AP24,'FMIS+eServices'!$GX$3:$GX$200,3)","v":4},16,{"$f":"COUNTIF('FMIS+eServices'!$HH$3:$HH$200,$AP24)","v":4},30,{"$f":"COUNTIF('FMIS+eServices'!$HP$3:$HP$200,$AP24)","v":6},39,{"$f":"COUNTIF('FMIS+eServices'!$HV$3:$HV$200,$AP24)","v":2},25,null,null,null,null,null,null,null,null,null,null,null,null,null,null,null,null,null,null,null,null,21]
[null,null,null,null,null,null,null,null,null,null,null,null,null,null,null,null,null,null,"3= Fully operational",{"$f":"'FMIS+eServices'!FY207","v":159},{"$f":"T25/T26","v":0.80303030303030298},null,null,null,null,null,null,null,null,null,null,null,null,null,null,null,null,null,null,null,null,2005,{"$f":"COUNTIF('FMIS+eServices'!$CI$3:$CI$200,$AP25)","v":12},78,{"$f":"COUNTIF('FMIS+eServices'!$AC$3:$AC$200,$AP25)","v":6},91,{"$f":"COUNTIF('FMIS+eServices'!$AN$3:$AN$200,$AP25)","v":9},86,{"$f":"COUNTIF('FMIS+eServices'!$FH$3:$FH$200,$AP25)","v":4},189,{"$f":"COUNTIF('FMIS+eServices'!$FJ$3:$FJ$200,$AP25)","v":6},74,{"$f":"COUNTIF('FMIS+eServices'!$FR$3:$FR$200,$AP25)","v":1},171,{"$f":"COUNTIF('FMIS+eServices'!$FX$3:$FX$200,$AP25)","v":8},71,{"$f":"COUNTIF('FMIS+eServices'!$GB$3:$GB$200,$AP25)","v":3},176,{"$f":"COUNTIF('FMIS+eServices'!$GJ$3:$GJ$200,$AP25)","v":13},95,{"$f":"COUNTIF('FMIS+eServices'!$GP$3:$GP$200,$AP25)","v":5},50,{"$f":"COUNTIF('FMIS+eServices'!$GT$3:$GT$200,$AP25)","v":2},13,{"$f":"COUNTIF('FMIS+eServices'!$GW$3:$GW$200,$AP25)","v":11},39,{"$f":"COUNTIFS('FMIS+eServices'!$GW$3:$GW$200,$AP25,'FMIS+eServices'!$GX$3:$GX$200,3)","v":6},22,{"$f":"COUNTIF('FMIS+eServices'!$HH$3:$HH$200,$AP25)","v":7},37,{"$f":"COUNTIF('FMIS+eServices'!$HP$3:$HP$200,$AP25)","v":12},51,{"$f":"COUNTIF('FMIS+eServices'!$HV$3:$HV$200,$AP25)","v":5},30,null,null,null,null,null,null,null,null,null,null,null,null,null,null,null,null,null,null,null,null,22]
[null,null,null,null,null,null,null,null,null,null,null,null,null,null,null,null,null,null,null,{"$f":"SUM(T22:T25)","v":198},null,null,null,null,null,null,null,null,null,null,null,null,null,null,null,null,null,null,null,null,null,2006,{"$f":"COUNTIF('FMIS+eServices'!$CI$3:$CI$200,$AP26)","v":17},95,{"$f":"COUNTIF('FMIS+eServices'!$AC$3:$AC$200,$AP26)","v":9},100,{"$f":"COUNTIF('FMIS+eServices'!$AN$3:$AN$200,$AP26)","v":13},99,{"$f":"COUNTIF('FMIS+eServices'!$FH$3:$FH$200,$AP26)","v":0},189,{"$f":"COUNTIF('FMIS+eServices'!$FJ$3:$FJ$200,$AP26)","v":9},83,{"$f":"COUNTIF('FMIS+eServices'!$FR$3:$FR$200,$AP26)","v":2},173,{"$f":"COUNTIF('FMIS+eServices'!$FX$3:$FX$200,$AP26)","v":12},83,{"$f":"COUNTIF('FMIS+eServices'!$GB$3:$GB$200,$AP26)","v":2},178,{"$f":"COUNTIF('FMIS+eServices'!$GJ$3:$GJ$200,$AP26)","v":6},101,{"$f":"COUNTIF('FMIS+eServices'!$GP$3:$GP$200,$AP26)","v":7},57,{"$f":"COUNTIF('FMIS+eServices'!$GT$3:$GT$200,$AP26)","v":8},21,{"$f":"COUNTIF('FMIS+eServices'!$GW$3:$GW$200,$AP26)","v":7},46,{"$f":"COUNTIFS('FMIS+eServices'!$GW$3:$GW$200,$AP26,'FMIS+eServices'!$GX$3:$GX$200,3)","v":1},23,{"$f":"COUNTIF('FMIS+eServices'!$HH$3:$HH$200,$AP26)","v":13},50,{"$f":"COUNTIF('FMIS+eServices'!$HP$3:$HP$200,$AP26)","v":13},64,{"$f":"COUNTIF('FMIS+eServices'!$HV$3:$HV$200,$AP26)","v":9},39,null,null,null,null,null,null,null,null,null,null,null,null,null,null,null,null,null,null,null,null,23]
[null,null,null,null,null,null,null,null,null,null,null,null,null,null,null,null,null,null,null,null,null,null,null,null,null,null,null,null,null,null,null,null,null,null,null,null,null,null,null,null,null,2007,{"$f":"COUNTIF('FMIS+eServices'!$CI$3:$CI$200,$AP27)","v":11},106,{"$f":"COUNTIF('FMIS+eServices'!$AC$3:$AC$200,$AP27)","v":12},112,{"$f":"COUNTIF('FMIS+eServices'!$AN$3:$AN$200,$AP27)","v":13},112,{"$f":"COUNTIF('FMIS+eServices'!$FH$3:$FH$200,$AP27)","v":0},189,{"$f":"COUNTIF('FMIS+eServices'!$FJ$3:$FJ$200,$AP27)","v":12},95,{"$f":"COUNTIF('FMIS+eServices'!$FR$3:$FR$200,$AP27)","v":1},174,{"$f":"COUNTIF('FMIS+eServices'!$FX$3:$FX$200,$AP27)","v":7},90,{"$f":"COUNTIF('FMIS+eServices'!$GB$3:$GB$200,$AP27)","v":1},179,{"$f":"COUNTIF('FMIS+eServices'!$GJ$3:$GJ$200,$AP27)","v":19},120,{"$f":"COUNTIF('FMIS+eServices'!$GP$3:$GP$200,$AP27)","v":5},62,{"$f":"COUNTIF('FMIS+eServices'!$GT$3:$GT$200,$AP27)","v":4},25,{"$f":"COUNTIF('FMIS+eServices'!$GW$3:$GW$200,$AP27)","v":12},58,{"$f":"COUNTIFS('FMIS+eServices'!$GW$3:$GW$200,$AP27,'FMIS+eServices'!$GX$3:$GX$200,3)","v":6},29,{"$f":"COUNTIF('FMIS+eServices'!$HH$3:$HH$200,$AP27)","v":8},58,{"$f":"COUNTIF('FMIS+eServices'!$HP$3:$HP$200,$AP27)","v":8},72,{"$f":"COUNTIF('FMIS+eServices'!$HV$3:$HV$200,$AP27)","v":5},44,null,null,null,null,null,null,null,null,null,null,null,null,null,null,null,null,null,null,null,null,24]
[null,null,null,null,null,null,null,null,null,null,null,null,null,null,null,null,null,null,null,null,null,null,null,null,null,null,null,null,null,null,null,null,null,null,null,null,null,null,null,null,null,2008,{"$f":"COUNTIF('FMIS+eServices'!$CI$3:$CI$200,$AP28)","v":13},119,{"$f":"COUNTIF('FMIS+eServices'!$AC$3:$AC$200,$AP28)","v":16},128,{"$f":"COUNTIF('FMIS+eServices'!$AN$3:$AN$200,$AP28)","v":10},122,{"$f":"COUNTIF('FMIS+eServices'!$FH$3:$FH$200,$AP28)","v":1},190,{"$f":"COUNTIF('FMIS+eServices'!$FJ$3:$FJ$200,$AP28)","v":8},103,{"$f":"COUNTIF('FMIS+eServices'!$FR$3:$FR$200,$AP28)","v":3},177,{"$f":"COUNTIF('FMIS+eServices'!$FX$3:$FX$200,$AP28)","v":12},102,{"$f":"COUNTIF('FMIS+eServices'!$GB$3:$GB$200,$AP28)","v":2},181,{"$f":"COUNTIF('FMIS+eServices'!$GJ$3:$GJ$200,$AP28)","v":9},129,{"$f":"COUNTIF('FMIS+eServices'!$GP$3:$GP$200,$AP28)","v":7},69,{"$f":"COUNTIF('FMIS+eServices'!$GT$3:$GT$200,$AP28)","v":5},30,{"$f":"COUNTIF('FMIS+eServices'!$GW$3:$GW$200,$AP28)","v":17},75,{"$f":"COUNTIFS('FMIS+eServices'!$GW$3:$GW$200,$AP28,'FMIS+eServices'!$GX$3:$GX$200,3)","v":9},38,{"$f":"COUNTIF('FMIS+eServices'!$HH$3:$HH$200,$AP28)","v":11},69,{"$f":"COUNTIF('FMIS+eServices'!$HP$3:$HP$200,$AP28)","v":8},80,{"$f":"COUNTIF('FMIS+eServices'!$HV$3:$HV$200,$AP28)","v":9},53,null,null,null,null,null,null,null,null,null,null,null,null,null,null,null,null,null,null,null,null,25]
[null,null,null,null,null,null,null,null,null,null,null,null,null,null,null,null,null,null,null,null,null,null,null,null,null,null,null,null,null,null,null,null,null,null,null,null,null,null,null,null,null,2009,{"$f":"COUNTIF('FMIS+eServices'!$CI$3:$CI$200,$AP29)","v":10},129,{"$f":"COUNTIF('FMIS+eServices'!$AC$3:$AC$200,$AP29)","v":8},136,{"$f":"COUNTIF('FMIS+eServices'!$AN$3:$AN$200,$AP29)","v":10},132,{"$f":"COUNTIF('FMIS+eServices'!$FH$3:$FH$200,$AP29)","v":2},192,{"$f":"COUNTIF('FMIS+eServices'!$FJ$3:$FJ$200,$AP29)","v":13},116,{"$f":"COUNTIF('FMIS+eServices'!$FR$3:$FR$200,$AP29)","v":3},180,{"$f":"COUNTIF('FMIS+eServices'!$FX$3:$FX$200,$AP29)","v":5},107,{"$f":"COUNTIF('FMIS+eServices'!$GB$3:$GB$200,$AP29)","v":3},184,{"$f":"COUNTIF('FMIS+eServices'!$GJ$3:$GJ$200,$AP29)","v":8},137,{"$f":"COUNTIF('FMIS+eServices'!$GP$3:$GP$200,$AP29)","v":7},76,{"$f":"COUNTIF('FMIS+eServices'!$GT$3:$GT$200,$AP29)","v":5},{"$f":"BL28+BK29","v":35},{"$f":"COUNTIF('FMIS+eServices'!$GW$3:$GW$200,$AP29)","v":16},91,{"$f":"COUNTIFS('FMIS+eServices'!$GW$3:$GW$200,$AP29,'FMIS+eServices'!$GX$3:$GX$200,3)","v":7},45,{"$f":"COUNTIF('FMIS+eServices'!$HH$3:$HH$200,$AP29)","v":5},74,{"$f":"COUNTIF('FMIS+eServices'!$HP$3:$HP$200,$AP29)","v":8},88,{"$f":"COUNTIF('FMIS+eServices'!$HV$3:$HV$200,$AP29)","v":11},64,null,null,null,"# of points: 3",null,null,null,null,null,null,null,null,null,null,null,null,null,null,null,null,26]
[null,null,null,null,null,null,null,null,null,null,null,null,null,null,null,null,null,null,"TMIS Srv","Status",null,null,null,null,null,null,null,null,null,null,null,null,null,null,null,null,null,null,null,null,null,2010,{"$f":"COUNTIF('FMIS+eServices'!$CI$3:$CI$200,$AP30)","v":10},139,{"$f":"COUNTIF('FMIS+eServices'!$AC$3:$AC$200,$AP30)","v":11},147,{"$f":"COUNTIF('FMIS+eServices'!$AN$3:$AN$200,$AP30)","v":9},141,{"$f":"COUNTIF('FMIS+eServices'!$FH$3:$FH$200,$AP30)","v":0},192,{"$f":"COUNTIF('FMIS+eServices'!$FJ$3:$FJ$200,$AP30)","v":4},120,{"$f":"COUNTIF('FMIS+eServices'!$FR$3:$FR$200,$AP30)","v":2},182,{"$f":"COUNTIF('FMIS+eServices'!$FX$3:$FX$200,$AP30)","v":15},122,{"$f":"COUNTIF('FMIS+eServices'!$GB$3:$GB$200,$AP30)","v":0},184,{"$f":"COUNTIF('FMIS+eServices'!$GJ$3:$GJ$200,$AP30)","v":12},149,{"$f":"COUNTIF('FMIS+eServices'!$GP$3:$GP$200,$AP30)","v":7},83,{"$f":"COUNTIF('FMIS+eServices'!$GT$3:$GT$200,$AP30)","v":4},39,{"$f":"COUNTIF('FMIS+eServices'!$GW$3:$GW$200,$AP30)","v":8},99,{"$f":"COUNTIFS('FMIS+eServices'!$GW$3:$GW$200,$AP30,'FMIS+eServices'!$GX$3:$GX$200,3)","v":3},48,{"$f":"COUNTIF('FMIS+eServices'!$HH$3:$HH$200,$AP30)","v":15},89,{"$f":"COUNTIF('FMIS+eServices'!$HP$3:$HP$200,$AP30)","v":11},99,{"$f":"COUNTIF('FMIS+eServices'!$HV$3:$HV$200,$AP30)","v":21},85,null,null,null,null,null,null,null,null,null,null,null,null,null,null,null,null,null,null,null,null,27]
[null,null,null,null,null,null,null,null,null,null,null,null,null,null,null,null,null,null,"0 = No info on serv",{"$f":"'FMIS+eServices'!FZ204","v":8},{"$f":"T31/T35","v":4.0404040404040407E-2},null,null,null,null,null,null,null,null,null,null,null,null,null,null,null,null,null,null,null,null,2011,{"$f":"COUNTIF('FMIS+eServices'!$CI$3:$CI$200,$AP31)","v":16},155,{"$f":"COUNTIF('FMIS+eServices'!$AC$3:$AC$200,$AP31)","v":6},153,{"$f":"COUNTIF('FMIS+eServices'!$AN$3:$AN$200,$AP31)","v":7},148,{"$f":"COUNTIF('FMIS+eServices'!$FH$3:$FH$200,$AP31)","v":2},194,{"$f":"COUNTIF('FMIS+eServices'!$FJ$3:$FJ$200,$AP31)","v":8},128,{"$f":"COUNTIF('FMIS+eServices'!$FR$3:$FR$200,$AP31)","v":3},185,{"$f":"COUNTIF('FMIS+eServices'!$FX$3:$FX$200,$AP31)","v":8},130,{"$f":"COUNTIF('FMIS+eServices'!$GB$3:$GB$200,$AP31)","v":3},187,{"$f":"COUNTIF('FMIS+eServices'!$GJ$3:$GJ$200,$AP31)","v":6},155,{"$f":"COUNTIF('FMIS+eServices'!$GP$3:$GP$200,$AP31)","v":8},91,{"$f":"COUNTIF('FMIS+eServices'!$GT$3:$GT$200,$AP31)","v":7},46,{"$f":"COUNTIF('FMIS+eServices'!$GW$3:$GW$200,$AP31)","v":14},113,{"$f":"COUNTIFS('FMIS+eServices'!$GW$3:$GW$200,$AP31,'FMIS+eServices'!$GX$3:$GX$200,3)","v":8},56,{"$f":"COUNTIF('FMIS+eServices'!$HH$3:$HH$200,$AP31)","v":13},102,{"$f":"COUNTIF('FMIS+eServices'!$HP$3:$HP$200,$AP31)","v":13},112,{"$f":"COUNTIF('FMIS+eServices'!$HV$3:$HV$200,$AP31)","v":19},104,null,null,null,null,null,null,null,null,null,null,null,null,null,null,null,null,null,null,null,null,28]
[null,null,null,null,null,null,null,null,null,null,null,null,null,null,null,null,null,null,"1= Info/forms",{"$f":"'FMIS+eServices'!FZ205","v":21},{"$f":"T32/T35","v":0.10606060606060606},null,null,null,null,null,null,null,null,null,null,null,null,null,null,null,null,null,null,null,null,2012,{"$f":"COUNTIF('FMIS+eServices'!$CI$3:$CI$200,$AP32)","v":20},175,{"$f":"COUNTIF('FMIS+eServices'!$AC$3:$AC$200,$AP32)","v":2},155,{"$f":"COUNTIF('FMIS+eServices'!$AN$3:$AN$200,$AP32)","v":1},149,{"$f":"COUNTIF('FMIS+eServices'!$FH$3:$FH$200,$AP32)","v":1},195,{"$f":"COUNTIF('FMIS+eServices'!$FJ$3:$FJ$200,$AP32)","v":6},134,{"$f":"COUNTIF('FMIS+eServices'!$FR$3:$FR$200,$AP32)","v":3},188,{"$f":"COUNTIF('FMIS+eServices'!$FX$3:$FX$200,$AP32)","v":8},138,{"$f":"COUNTIF('FMIS+eServices'!$GB$3:$GB$200,$AP32)","v":2},189,{"$f":"COUNTIF('FMIS+eServices'!$GJ$3:$GJ$200,$AP32)","v":9},164,{"$f":"COUNTIF('FMIS+eServices'!$GP$3:$GP$200,$AP32)","v":10},101,{"$f":"COUNTIF('FMIS+eServices'!$GT$3:$GT$200,$AP32)","v":9},55,{"$f":"COUNTIF('FMIS+eServices'!$GW$3:$GW$200,$AP32)","v":18},131,{"$f":"COUNTIFS('FMIS+eServices'!$GW$3:$GW$200,$AP32,'FMIS+eServices'!$GX$3:$GX$200,3)","v":4},60,{"$f":"COUNTIF('FMIS+eServices'!$HH$3:$HH$200,$AP32)","v":13},115,{"$f":"COUNTIF('FMIS+eServices'!$HP$3:$HP$200,$AP32)","v":16},128,{"$f":"COUNTIF('FMIS+eServices'!$HV$3:$HV$200,$AP32)","v":20},124,null,null,null,null,null,null,null,null,null,null,null,null,null,null,null,null,null,null,null,null,29]
[null,null,null,null,null,null,null,null,null,null,null,null,null,null,null,null,null,null,"2= Transactional",{"$f":"'FMIS+eServices'!FZ206","v":140},{"$f":"T33/T35","v":0.70707070707070707},null,null,null,null,null,null,null,null,null,null,null,null,null,null,null,null,null,null,null,null,2013,{"$f":"COUNTIF('FMIS+eServices'!$CI$3:$CI$200,$AP33)","v":13},188,{"$f":"COUNTIF('FMIS+eServices'!$AC$3:$AC$200,$AP33)","v":0},155,{"$f":"COUNTIF('FMIS+eServices'!$AN$3:$AN$200,$AP33)","v":0},149,{"$f":"COUNTIF('FMIS+eServices'!$FH$3:$FH$200,$AP33)","v":0},195,{"$f":"COUNTIF('FMIS+eServices'!$FJ$3:$FJ$200,$AP33)","v":5},139,{"$f":"COUNTIF('FMIS+eServices'!$FR$3:$FR$200,$AP33)","v":0},188,{"$f":"COUNTIF('FMIS+eServices'!$FX$3:$FX$200,$AP33)","v":16},154,{"$f":"COUNTIF('FMIS+eServices'!$GB$3:$GB$200,$AP33)","v":0},189,{"$f":"COUNTIF('FMIS+eServices'!$GJ$3:$GJ$200,$AP33)","v":10},174,{"$f":"COUNTIF('FMIS+eServices'!$GP$3:$GP$200,$AP33)","v":18},119,{"$f":"COUNTIF('FMIS+eServices'!$GT$3:$GT$200,$AP33)","v":5},60,{"$f":"COUNTIF('FMIS+eServices'!$GW$3:$GW$200,$AP33)","v":11},142,{"$f":"COUNTIFS('FMIS+eServices'!$GW$3:$GW$200,$AP33,'FMIS+eServices'!$GX$3:$GX$200,3)","v":4},64,{"$f":"COUNTIF('FMIS+eServices'!$HH$3:$HH$200,$AP33)","v":7},122,{"$f":"COUNTIF('FMIS+eServices'!$HP$3:$HP$200,$AP33)","v":3},131,{"$f":"COUNTIF('FMIS+eServices'!$HV$3:$HV$200,$AP33)","v":12},136,null,null,null,null,null,null,null,null,null,null,null,null,null,null,null,null,null,null,null,null,30]
[null,null,null,null,null,null,null,null,null,null,null,null,null,null,null,null,null,null,"3= Connected serv",{"$f":"'FMIS+eServices'!FZ207","v":29},{"$f":"T34/T35","v":0.14646464646464646},null,null,null,null,null,null,null,null,null,null,null,null,null,null,null,null,null,null,null,null,2014,{"$f":"COUNTIF('FMIS+eServices'!$CI$3:$CI$200,$AP34)","v":4},192,{"$f":"COUNTIF('FMIS+eServices'!$AC$3:$AC$200,$AP34)","v":1},156,{"$f":"COUNTIF('FMIS+eServices'!$AN$3:$AN$200,$AP34)","v":0},149,{"$f":"COUNTIF('FMIS+eServices'!$FH$3:$FH$200,$AP34)","v":0},195,{"$f":"COUNTIF('FMIS+eServices'!$FJ$3:$FJ$200,$AP34)","v":1},140,{"$f":"COUNTIF('FMIS+eServices'!$FR$3:$FR$200,$AP34)","v":3},191,{"$f":"COUNTIF('FMIS+eServices'!$FX$3:$FX$200,$AP34)","v":7},161,{"$f":"COUNTIF('FMIS+eServices'!$GB$3:$GB$200,$AP34)","v":2},191,{"$f":"COUNTIF('FMIS+eServices'!$GJ$3:$GJ$200,$AP34)","v":5},179,{"$f":"COUNTIF('FMIS+eServices'!$GP$3:$GP$200,$AP34)","v":6},125,{"$f":"COUNTIF('FMIS+eServices'!$GT$3:$GT$200,$AP34)","v":0},60,{"$f":"COUNTIF('FMIS+eServices'!$GW$3:$GW$200,$AP34)","v":3},145,{"$f":"COUNTIFS('FMIS+eServices'!$GW$3:$GW$200,$AP34,'FMIS+eServices'!$GX$3:$GX$200,3)","v":2},66,{"$f":"COUNTIF('FMIS+eServices'!$HH$3:$HH$200,$AP34)","v":8},130,{"$f":"COUNTIF('FMIS+eServices'!$HP$3:$HP$200,$AP34)","v":7},138,{"$f":"COUNTIF('FMIS+eServices'!$HV$3:$HV$200,$AP34)","v":10},146,null,null,null,null,null,null,null,null,null,null,null,null,null,null,null,null,null,null,null,null,31]
[null,null,null,null,null,null,null,null,null,null,null,null,null,null,null,null,null,null,null,{"$f":"SUM(T31:T34)","v":198},null,null,null,null,null,null,null,null,null,null,null,null,null,null,null,null,null,null,null,null,null,2015,{"$f":"COUNTIF('FMIS+eServices'!$CI$3:$CI$200,$AP35)","v":0},192,{"$f":"COUNTIF('FMIS+eServices'!$AC$3:$AC$200,$AP35)","v":0},156,{"$f":"COUNTIF('FMIS+eServices'!$AN$3:$AN$200,$AP35)","v":0},149,{"$f":"COUNTIF('FMIS+eServices'!$FH$3:$FH$200,$AP35)","v":0},195,{"$f":"COUNTIF('FMIS+eServices'!$FJ$3:$FJ$200,$AP35)","v":14},154,{"$f":"COUNTIF('FMIS+eServices'!$FR$3:$FR$200,$AP35)","v":0},191,{"$f":"COUNTIF('FMIS+eServices'!$FX$3:$FX$200,$AP35)","v":0},161,{"$f":"COUNTIF('FMIS+eServices'!$GB$3:$GB$200,$AP35)","v":0},191,{"$f":"COUNTIF('FMIS+eServices'!$GJ$3:$GJ$200,$AP35)","v":0},179,{"$f":"COUNTIF('FMIS+eServices'!$GP$3:$GP$200,$AP35)","v":0},125,{"$f":"COUNTIF('FMIS+eServices'!$GT$3:$GT$200,$AP35)","v":0},60,{"$f":"COUNTIF('FMIS+eServices'!$GW$3:$GW$200,$AP35)","v":0},145,{"$f":"COUNTIFS('FMIS+eServices'!$GW$3:$GW$200,$AP35,'FMIS+eServices'!$GX$3:$GX$200,3)","v":0},66,{"$f":"COUNTIF('FMIS+eServices'!$HH$3:$HH$200,$AP35)","v":0},130,{"$f":"COUNTIF('FMIS+eServices'!$HP$3:$HP$200,$AP35)","v":0},138,{"$f":"COUNTIF('FMIS+eServices'!$HV$3:$HV$200,$AP35)","v":0},146,null,null,null,null,null,null,null,null,null,null,null,null,null,null,null,null,null,null,null,null,32]
[null,null,null,null,null,null,null,null,null,null,null,null,null,null,null,null,null,null,null,null,null,null,null,null,null,null,null,null,null,null,null,null,null,null,null,null,null,null,null,null,null,2016,{"$f":"COUNTIF('FMIS+eServices'!$CI$3:$CI$200,$AP36)","v":2},194,{"$f":"COUNTIF('FMIS+eServices'!$AC$3:$AC$200,$AP36)","v":0},156,{"$f":"COUNTIF('FMIS+eServices'!$AN$3:$AN$200,$AP36)","v":0},149,{"$f":"COUNTIF('FMIS+eServices'!$FH$3:$FH$200,$AP36)","v":0},195,{"$f":"COUNTIF('FMIS+eServices'!$FJ$3:$FJ$200,$AP36)","v":7},161,{"$f":"COUNTIF('FMIS+eServices'!$FR$3:$FR$200,$AP36)","v":0},191,{"$f":"COUNTIF('FMIS+eServices'!$FX$3:$FX$200,$AP36)","v":0},161,{"$f":"COUNTIF('FMIS+eServices'!$GB$3:$GB$200,$AP36)","v":0},191,{"$f":"COUNTIF('FMIS+eServices'!$GJ$3:$GJ$200,$AP36)","v":0},179,{"$f":"COUNTIF('FMIS+eServices'!$GP$3:$GP$200,$AP36)","v":0},125,{"$f":"COUNTIF('FMIS+eServices'!$GT$3:$GT$200,$AP36)","v":0},60,{"$f":"COUNTIF('FMIS+eServices'!$GW$3:$GW$200,$AP36)","v":0},145,{"$f":"COUNTIFS('FMIS+eServices'!$GW$3:$GW$200,$AP36,'FMIS+eServices'!$GX$3:$GX$200,3)","v":0},66,{"$f":"COUNTIF('FMIS+eServices'!$HH$3:$HH$200,$AP36)","v":0},130,{"$f":"COUNTIF('FMIS+eServices'!$HP$3:$HP$200,$AP36)","v":0},138,{"$f":"COUNTIF('FMIS+eServices'!$HV$3:$HV$200,$AP36)","v":0},146,null,null,null,null,null,null,null,null,null,null,null,null,null,null,null,null,null,null,null,null,33]
[null,null,null,null,null,null,null,null,null,null,null,null,null,null,null,null,null,null,null,null,null,null,null,null,null,null,null,null,null,null,null,null,null,null,null,null,null,null,null,null,null,2017,{"$f":"COUNTIF('FMIS+eServices'!$CI$3:$CI$200,$AP37)","v":0},194,{"$f":"COUNTIF('FMIS+eServices'!$AC$3:$AC$200,$AP37)","v":0},156,{"$f":"COUNTIF('FMIS+eServices'!$AN$3:$AN$200,$AP37)","v":0},149,{"$f":"COUNTIF('FMIS+eServices'!$FH$3:$FH$200,$AP37)","v":0},195,{"$f":"COUNTIF('FMIS+eServices'!$FJ$3:$FJ$200,$AP37)","v":0},161,{"$f":"COUNTIF('FMIS+eServices'!$FR$3:$FR$200,$AP37)","v":0},191,{"$f":"COUNTIF('FMIS+eServices'!$FX$3:$FX$200,$AP37)","v":0},161,{"$f":"COUNTIF('FMIS+eServices'!$GB$3:$GB$200,$AP37)","v":0},191,{"$f":"COUNTIF('FMIS+eServices'!$GJ$3:$GJ$200,$AP37)","v":0},179,{"$f":"COUNTIF('FMIS+eServices'!$GP$3:$GP$200,$AP37)","v":0},125,{"$f":"COUNTIF('FMIS+eServices'!$GT$3:$GT$200,$AP37)","v":0},60,{"$f":"COUNTIF('FMIS+eServices'!$GW$3:$GW$200,$AP37)","v":0},145,{"$f":"COUNTIFS('FMIS+eServices'!$GW$3:$GW$200,$AP37,'FMIS+eServices'!$GX$3:$GX$200,3)","v":0},66,{"$f":"COUNTIF('FMIS+eServices'!$HH$3:$HH$200,$AP37)","v":0},130,{"$f":"COUNTIF('FMIS+eServices'!$HP$3:$HP$200,$AP37)","v":0},138,{"$f":"COUNTIF('FMIS+eServices'!$HV$3:$HV$200,$AP37)","v":0},146,null,null,null,null,null,null,null,null,null,null,null,null,null,null,null,null,null,null,null,null,34]
[null,null,null,null,null,null,null,null,null,null,null,null,null,null,null,null,null,null,null,null,null,null,null,null,null,null,null,null,null,null,null,null,null,null,null,null,null,null,null,null,null,2018,null,null,null,null,null,null,null,null,null,null,null,null,null,null,null,null,null,null,null,null,null,null,null,null,null,null,null,null,null,null,null,null,null,null,null,null,null,null,null,null,null,null,null,null,null,null,null,null,null,null,null,null,35]
[null,null,null,null,null,null,null,null,null,null,null,null,null,null,null,null,null,null,"CMIS ASW","Status",null,null,null,null,null,null,null,null,null,null,null,null,null,null,null,null,null,null,null,null,null,2019,null,null,null,null,null,null,null,null,null,null,null,null,null,null,null,null,null,null,null,null,null,null,null,null,null,null,null,null,null,null,null,null,null,null,null,"# of points: 4",null,null,null,null,null,null,null,null,null,null,null,null,null,null,null,null,36]
[null,null,null,null,null,null,null,null,null,null,null,null,null,null,null,null,null,null,"0 : No CMIS yet",{"$f":"'FMIS+eServices'!GG204","v":16},{"$f":"T40/T43","v":8.0808080808080815E-2},null,null,null,null,null,null,null,null,null,null,null,null,null,null,null,null,null,null,null,null,2020,null,null,null,null,null,null,null,null,null,null,null,null,null,null,null,null,null,null,null,null,null,null,null,null,null,null,null,null,null,null,null,null,null,null,null,null,null,null,null,null,null,null,null,null,null,null,null,null,null,null,null,null,37]
[null,null,null,null,null,null,null,null,null,null,null,null,null,null,null,null,null,null,"1 : LDSW",{"$f":"'FMIS+eServices'!GG205","v":17},{"$f":"T41/T43","v":8.5858585858585856E-2},null,null,null,null,null,null,null,null,null,null,null,null,null,null,null,null,null,null,null,null,null,null,null,null,null,null,null,null,null,null,null,null,null,null,null,null,null,null,null,null,null,null,null,null,null,null,null,null,null,null,null,null,null,null,null,null,null,null,null,null,null,null,null,null,null,null,null,null,null,null,null,null,null,38]
[null,null,null,null,null,null,null,null,null,null,null,null,null,null,null,null,null,null,"2 : COTS",{"$f":"'FMIS+eServices'!GG206","v":165},{"$f":"T42/T43","v":0.83333333333333337},null,null,null,1,null,null,null,null,null,null,null,null,null,null,null,null,null,null,null,null,null,{"$f":"SUM(AQ4:AQ41)","v":194},null,{"$f":"SUM(AS4:AS41)","v":156},null,{"$f":"SUM(AU4:AU41)","v":149},null,{"$f":"SUM(AW4:AW41)","v":195},null,{"$f":"SUM(AY4:AY41)","v":161},null,{"$f":"SUM(BA4:BA41)","v":191},null,{"$f":"SUM(BC4:BC41)","v":161},null,{"$f":"SUM(BE4:BE41)","v":191},null,{"$f":"SUM(BG4:BG41)","v":179},null,{"$f":"SUM(BI4:BI41)","v":125},null,{"$f":"SUM(BK4:BK41)","v":60},null,{"$f":"SUM(BM4:BM41)","v":145},null,{"$f":"SUM(BO4:BO41)","v":66},null,{"$f":"SUM(BQ4:BQ41)","v":130},null,{"$f":"SUM(BS4:BS41)","v":138},null,{"$f":"SUM(BU4:BU41)","v":146},null,null,null,null,null,null,null,null,null,null,null,null,null,null,null,null,null,null,null,null,null,39]
[null,null,null,null,null,null,null,null,null,null,null,null,null,null,null,null,null,null,null,{"$f":"SUM(T40:T42)","v":198}]
[]
[]
[]
[]
[null,null,null,null,null,null,null,null,null,null,null,null,null,null,null,null,null,null,"CMIS Oper","Status"]
[null,null,null,null,null,null,null,null,null,null,null,null,null,null,null,null,null,null,"0= No CMIS yet",{"$f":"'FMIS+eServices'!GK204","v":16},{"$f":"T49/T53","v":8.0808080808080815E-2}]
[null,null,null,null,null,null,null,null,null,null,null,null,null,null,null,null,null,null,"1= Planned",{"$f":"'FMIS+eServices'!GK205","v":0},{"$f":"T50/T53","v":0}]
[null,null,null,null,null,null,null,null,null,null,null,null,null,null,null,null,null,null,"2= Impl in progress",{"$f":"'FMIS+eServices'!GK206","v":3},{"$f":"T51/T53","v":1.5151515151515152E-2},null,null,null,null,null,null,null,null,null,null,null,null,null,null,null,null,null,null,null,null,null,null,null,null,null,null,null,null,null,null,null,null,null,null,null,null,null,null,null,null,null,null,null,null,null,null,null,null,null,null,null,null,null,null,null,"Topology"]
[null,null,null,null,null,null,null,null,null,null,null,null,null,null,null,null,null,null,"3= Fully operational",{"$f":"'FMIS+eServices'!GK207","v":179},{"$f":"T52/T53","v":0.90404040404040409},null,null,null,null,null,null,null,null,null,null,null,null,null,null,null,null,null,null,null,null,null,null,null,null,null,null,null,null,null,null,null,null,null,null,null,null,null,null,null,null,null,null,null,null,null,null,null,null,null,null,null,null,null,null,null,{"$f":"'FMIS+eServices'!EK204","v":0.12626262626262627},{"$f":"BY52/BY54","v":0.25773195876288657}]
[null,null,null,null,null,null,null,null,null,null,null,null,null,null,null,null,null,null,null,{"$f":"SUM(T49:T52)","v":198},null,null,null,null,null,null,null,null,null,null,null,null,null,null,null,null,null,null,null,null,null,null,null,null,null,null,null,null,null,null,null,null,null,null,null,null,null,null,null,null,null,null,null,null,null,null,null,null,null,null,null,null,null,null,null,null,{"$f":"'FMIS+eServices'!EK205","v":0.36363636363636365},{"$f":"BY53/BY54","v":0.74226804123711332}]
[null,null,null,null,null,null,null,null,null,null,null,null,null,null,null,null,null,null,null,null,null,null,null,null,null,null,null,null,null,null,null,null,null,null,null,null,null,null,null,null,null,null,null,null,null,null,null,null,null,null,null,null,null,null,null,null,null,null,null,null,null,null,null,null,null,null,null,null,null,null,null,null,null,null,null,null,{"$f":"SUM(BY52:BY53)","v":0.48989898989898994}]
[]
[]
[null,null,null,null,null,null,null,null,null,null,null,null,null,null,null,null,null,null,"CMIS Srv","Status"]
[null,null,null,null,null,null,null,null,null,null,null,null,null,null,null,null,null,null,"0 = No info on serv",{"$f":"'FMIS+eServices'!GL204","v":8},{"$f":"T58/T62","v":4.0404040404040407E-2}]
[null,null,null,null,null,null,null,null,null,null,null,null,null,null,null,null,null,null,"1= Info/forms",{"$f":"'FMIS+eServices'!GL205","v":8},{"$f":"T59/T62","v":4.0404040404040407E-2}]
[null,null,null,null,null,null,null,null,null,null,null,null,null,null,null,null,null,null,"2= Transactional",{"$f":"'FMIS+eServices'!GL206","v":144},{"$f":"T60/T62","v":0.72727272727272729},null,null,null,null,null,null,null,null,null,null,null,null,null,null,null,null,null,null,null,null,null,null,null,null,null,null,null,null,null,null,null,null,null,null,null,null,null,null,null,null,null,null,null,null,null,null,null,null,null,null,null,null,null,null,null,"Functionality"]
[null,null,null,null,null,null,null,null,null,null,null,null,null,null,null,null,null,null,"3= Connected serv",{"$f":"'FMIS+eServices'!GL207","v":38},{"$f":"T61/T62","v":0.19191919191919191},null,null,null,null,null,null,null,null,null,null,null,null,null,null,null,null,null,null,null,null,null,null,null,null,null,null,null,null,null,null,null,null,null,null,null,null,null,null,null,null,null,null,null,null,null,null,null,null,null,null,null,null,null,null,null,{"$f":"'FMIS+eServices'!EL204","v":"A"},{"$f":"BY61/BY63","v":{"$error":"#VALUE!"}}]
[null,null,null,null,null,null,null,null,null,null,null,null,null,null,null,null,null,null,null,{"$f":"SUM(T58:T61)","v":198},null,null,null,null,null,null,null,null,null,null,null,null,null,null,null,null,null,null,null,null,null,null,null,null,null,null,null,null,null,null,null,null,null,null,null,null,null,null,null,null,null,null,null,null,null,null,null,null,null,null,null,null,null,null,null,null,{"$f":"'FMIS+eServices'!EL205","v":"B"},{"$f":"BY62/BY63","v":{"$error":"#VALUE!"}}]
[null,null,null,null,null,null,null,null,null,null,null,null,null,null,null,null,null,null,null,null,null,null,null,null,null,null,null,null,null,null,null,null,null,null,null,null,null,null,null,null,null,null,null,null,null,null,null,null,null,null,null,null,null,null,null,null,null,null,null,null,null,null,null,null,null,null,null,null,null,null,null,null,null,null,null,null,{"$f":"SUM(BY61:BY62)","v":0}]
[]
[]
[null,null,null,null,null,null,null,null,null,null,null,null,null,null,null,null,null,null,"e-Filing Srv","Status"]
[null,null,null,null,null,null,null,null,null,null,null,null,null,null,null,null,null,null,"0 = Not available yet",{"$f":"'FMIS+eServices'!GQ204","v":38},{"$f":"T67/T71","v":0.19191919191919191}]
[null,null,null,null,null,null,null,null,null,null,null,null,null,null,null,null,null,null,"1= Info/forms",{"$f":"'FMIS+eServices'!GQ205","v":35},{"$f":"T68/T71","v":0.17676767676767677}]
[null,null,null,null,null,null,null,null,null,null,null,null,null,null,null,null,null,null,"2= e-Filing for G2C/G2B",{"$f":"'FMIS+eServices'!GQ206","v":46},{"$f":"T69/T71","v":0.23232323232323232},null,null,null,null,null,null,null,null,null,null,null,null,null,null,null,null,null,null,null,null,null,null,null,null,null,null,null,null,null,null,null,null,null,null,null,null,null,null,null,null,null,null,null,null,null,null,null,null,null,null,null,null,null,null,null,"Status"]
[null,null,null,null,null,null,null,null,null,null,null,null,null,null,null,null,null,null,"3= e-Filing+e-Payment",{"$f":"'FMIS+eServices'!GQ207","v":79},{"$f":"T70/T71","v":0.39898989898989901},null,null,null,null,null,null,null,null,null,null,null,null,null,null,null,null,null,null,null,null,null,null,null,null,null,null,null,null,null,null,null,null,null,null,null,null,null,null,null,null,null,null,null,null,null,null,null,null,null,null,null,null,null,null,null,{"$f":"'FMIS+eServices'!EM204","v":25},{"$f":"BY70/BY74","v":0.12626262626262627}]
[null,null,null,null,null,null,null,null,null,null,null,null,null,null,null,null,null,null,null,{"$f":"SUM(T67:T70)","v":198},null,null,null,null,null,null,null,null,null,null,null,null,null,null,null,null,null,null,null,null,null,null,null,null,null,null,null,null,null,null,null,null,null,null,null,null,null,null,null,null,null,null,null,null,null,null,null,null,null,null,null,null,null,null,null,null,{"$f":"'FMIS+eServices'!EM205","v":72},{"$f":"BY71/BY74","v":0.36363636363636365}]
[null,null,null,null,null,null,null,null,null,null,null,null,null,null,null,null,null,null,null,null,null,null,null,null,null,null,null,null,null,null,null,null,null,null,null,null,null,null,null,null,null,null,null,null,null,null,null,null,null,null,null,null,null,null,null,null,null,null,null,null,null,null,null,null,null,null,null,null,null,null,null,null,null,null,null,null,{"$f":"'FMIS+eServices'!EM206","v":63},{"$f":"BY72/BY74","v":0.31818181818181818}]
[null,null,null,null,null,null,null,null,null,null,null,null,null,null,null,null,null,null,null,null,null,null,null,null,null,null,null,null,null,null,null,null,null,null,null,null,null,null,null,null,null,null,null,null,null,null,null,null,null,null,null,null,null,null,null,null,null,null,null,null,null,null,null,null,null,null,null,null,null,null,null,null,null,null,null,null,{"$f":"'FMIS+eServices'!EM207","v":38},{"$f":"BY73/BY74","v":0.19191919191919191}]
[null,null,null,null,null,null,null,null,null,null,null,null,null,null,null,null,null,null,null,null,null,null,null,null,null,null,null,null,null,null,null,null,null,null,null,null,null,null,null,null,null,null,null,null,null,null,null,null,null,null,null,null,null,null,null,null,null,null,null,null,null,null,null,null,null,null,null,null,null,null,null,null,null,null,null,null,{"$f":"SUM(BY70:BY73)","v":198}]
[null,null,null,null,null,null,null,null,null,null,null,null,null,null,null,null,null,null,"e=Payment Srv","Status"]
[null,null,null,null,null,null,null,null,null,null,null,null,null,null,null,null,null,null,"0 : No e-Payment srv",{"$f":"'FMIS+eServices'!GU204","v":120},{"$f":"T76/T79","v":0.60606060606060608}]
[null,null,null,null,null,null,null,null,null,null,null,null,null,null,null,null,null,null,"1 : Fragmented srv",{"$f":"'FMIS+eServices'!GU205","v":26},{"$f":"T77/T79","v":0.13131313131313133}]
[null,null,null,null,null,null,null,null,null,null,null,null,null,null,null,null,null,null,"2 : Centralized sln",{"$f":"'FMIS+eServices'!GU206","v":52},{"$f":"T78/T79","v":0.26262626262626265},null,null,null,1,null,null,null,null,null,null,null,null,null,null,null,null,null,null,null,null,null,null,null,null,null,null,null,null,null,null,null,null,null,null,null,null,null,null,null,null,null,null,null,null,null,null,null,null,null,null,null,null,null,null,null,"Since"]
[null,null,null,null,null,null,null,null,null,null,null,null,null,null,null,null,null,null,null,{"$f":"SUM(T76:T78)","v":198},null,null,null,null,null,null,null,null,null,null,null,null,null,null,null,null,null,null,null,null,null,null,null,null,null,null,null,null,null,null,null,null,null,null,null,null,null,null,null,null,null,null,null,null,null,null,null,null,null,null,null,null,null,null,null,null,{"$f":"'FMIS+eServices'!EN204","v":" Highly Visible"},{"$f":"BY79/BY83","v":{"$error":"#VALUE!"}}]
[null,null,null,null,null,null,null,null,null,null,null,null,null,null,null,null,null,null,null,null,null,null,null,null,null,null,null,null,null,null,null,null,null,null,null,null,null,null,null,null,null,null,null,null,null,null,null,null,null,null,null,null,null,null,null,null,null,null,null,null,null,null,null,null,null,null,null,null,null,null,null,null,null,null,null,null,{"$f":"'FMIS+eServices'!EN205","v":" Visible"},{"$f":"BY80/BY83","v":{"$error":"#VALUE!"}}]
[null,null,null,null,null,null,null,null,null,null,null,null,null,null,null,null,null,null,null,null,null,null,null,null,null,null,null,null,null,null,null,null,null,null,null,null,null,null,null,null,null,null,null,null,null,null,null,null,null,null,null,null,null,null,null,null,null,null,null,null,null,null,null,null,null,null,null,null,null,null,null,null,null,null,null,null,{"$f":"'FMIS+eServices'!EN206","v":" Limited Visibility"},{"$f":"BY81/BY83","v":{"$error":"#VALUE!"}}]
[null,null,null,null,null,null,null,null,null,null,null,null,null,null,null,null,null,null,null,null,null,null,null,null,null,null,null,null,null,null,null,null,null,null,null,null,null,null,null,null,null,null,null,null,null,null,null,null,null,null,null,null,null,null,null,null,null,null,null,null,null,null,null,null,null,null,null,null,null,null,null,null,null,null,null,null,{"$f":"'FMIS+eServices'!EN207","v":" Minimal Visibility"},{"$f":"BY82/BY83","v":{"$error":"#VALUE!"}}]
[null,null,null,null,null,null,null,null,null,null,null,null,null,null,null,null,null,null,null,null,null,null,null,null,null,null,null,null,null,null,null,null,null,null,null,null,null,null,null,null,null,null,null,null,null,null,null,null,null,null,null,null,null,null,null,null,null,null,null,null,null,null,null,null,null,null,null,null,null,null,null,null,null,null,null,null,{"$f":"SUM(BY79:BY82)","v":0}]
[null,null,null,null,null,null,null,null,null,null,null,null,null,null,null,null,null,null,"Digital Signature","Status"]
[null,null,null,null,null,null,null,null,null,null,null,null,null,null,null,null,null,null,"0= No Digital Sign",{"$f":"'FMIS+eServices'!GX204","v":53},{"$f":"T85/T89","v":0.26767676767676768}]
[null,null,null,null,null,null,null,null,null,null,null,null,null,null,null,null,null,null,"1= Legal basis only",{"$f":"'FMIS+eServices'!GX205","v":41},{"$f":"T86/T89","v":0.20707070707070707}]
[null,null,null,null,null,null,null,null,null,null,null,null,null,null,null,null,null,null,"2= Leg+Infra in place",{"$f":"'FMIS+eServices'!GX206","v":38},{"$f":"T87/T89","v":0.19191919191919191},null,null,null,null,null,null,null,null,null,null,null,null,null,null,null,null,null,null,null,null,null,null,null,null,null,null,null,null,null,null,null,null,null,null,null,null,null,null,null,null,null,null,null,null,null,null,null,null,null,null,null,null,null,null,null,"Scope"]
[null,null,null,null,null,null,null,null,null,null,null,null,null,null,null,null,null,null,"3= Used in practice",{"$f":"'FMIS+eServices'!GX207","v":66},{"$f":"T88/T89","v":0.33333333333333331},null,null,null,null,null,null,null,null,null,null,null,null,null,null,null,null,null,null,null,null,null,null,null,null,null,null,null,null,null,null,null,null,null,null,null,null,null,null,null,null,null,null,null,null,null,null,null,null,null,null,null,null,null,null,null,{"$f":"'FMIS+eServices'!EO205","v":0},{"$f":"BY88/BY90","v":{"$error":"#DIV/0!"}}]
[null,null,null,null,null,null,null,null,null,null,null,null,null,null,null,null,null,null,null,{"$f":"SUM(T85:T88)","v":198},null,null,null,null,null,null,null,null,null,null,null,null,null,null,null,null,null,null,null,null,null,null,null,null,null,null,null,null,null,null,null,null,null,null,null,null,null,null,null,null,null,null,null,null,null,null,null,null,null,null,null,null,null,null,null,null,{"$f":"'FMIS+eServices'!EO204","v":0},{"$f":"BY89/BY90","v":{"$error":"#DIV/0!"}}]
[null,null,null,null,null,null,null,null,null,null,null,null,null,null,null,null,null,null,null,null,null,null,null,null,null,null,null,null,null,null,null,null,null,null,null,null,null,null,null,null,null,null,null,null,null,null,null,null,null,null,null,null,null,null,null,null,null,null,null,null,null,null,null,null,null,null,null,null,null,null,null,null,null,null,null,null,{"$f":"SUM(BY88:BY89)","v":0}]
[]
[]
[null,null,null,null,null,null,null,null,null,null,null,null,null,null,null,null,null,null,"HRMIS ASW","Status"]
[null,null,null,null,null,null,null,null,null,null,null,null,null,null,null,null,null,null,"0 : No HRMIS yet",{"$f":"'FMIS+eServices'!HE204","v":26},{"$f":"T94/T97","v":0.13131313131313133}]
[null,null,null,null,null,null,null,null,null,null,null,null,null,null,null,null,null,null,"1 : LDSW",{"$f":"'FMIS+eServices'!HE205","v":97},{"$f":"T95/T97","v":0.48989898989898989}]
[null,null,null,null,null,null,null,null,null,null,null,null,null,null,null,null,null,null,"2 : COTS",{"$f":"'FMIS+eServices'!HE206","v":75},{"$f":"T96/T97","v":0.37878787878787878},null,null,null,1,null,null,null,null,null,null,null,null,null,null,null,null,null,null,null,null,null,null,null,null,null,null,null,null,null,null,null,null,null,null,null,null,null,null,null,null,null,null,null,null,null,null,null,null,null,null,null,null,null,null,null,"ASW"]
[null,null,null,null,null,null,null,null,null,null,null,null,null,null,null,null,null,null,null,{"$f":"SUM(T94:T96)","v":198},null,null,null,null,null,null,null,null,null,null,null,null,null,null,null,null,null,null,null,null,null,null,null,null,null,null,null,null,null,null,null,null,null,null,null,null,null,null,null,null,null,null,null,null,null,null,null,null,null,null,null,null,null,null,null,null,{"$f":"'FMIS+eServices'!EQ204","v":" "},{"$f":"BY97/BY100","v":{"$error":"#VALUE!"}}]
[null,null,null,null,null,null,null,null,null,null,null,null,null,null,null,null,null,null,null,null,null,null,null,null,null,null,null,null,null,null,null,null,null,null,null,null,null,null,null,null,null,null,null,null,null,null,null,null,null,null,null,null,null,null,null,null,null,null,null,null,null,null,null,null,null,null,null,null,null,null,null,null,null,null,null,null,{"$f":"'FMIS+eServices'!EQ205","v":" "},{"$f":"BY98/BY100","v":{"$error":"#VALUE!"}}]
[null,null,null,null,null,null,null,null,null,null,null,null,null,null,null,null,null,null,null,null,null,null,null,null,null,null,null,null,null,null,null,null,null,null,null,null,null,null,null,null,null,null,null,null,null,null,null,null,null,null,null,null,null,null,null,null,null,null,null,null,null,null,null,null,null,null,null,null,null,null,null,null,null,null,null,null,{"$f":"'FMIS+eServices'!EQ206","v":" "},{"$f":"BY99/BY100","v":{"$error":"#VALUE!"}}]
[null,null,null,null,null,null,null,null,null,null,null,null,null,null,null,null,null,null,null,null,null,null,null,null,null,null,null,null,null,null,null,null,null,null,null,null,null,null,null,null,null,null,null,null,null,null,null,null,null,null,null,null,null,null,null,null,null,null,null,null,null,null,null,null,null,null,null,null,null,null,null,null,null,null,null,null,{"$f":"SUM(BY97:BY99)","v":0}]
[]
[null,null,null,null,null,null,null,null,null,null,null,null,null,null,null,null,null,null,"HRMIS Oper","Status"]
[null,null,null,null,null,null,null,null,null,null,null,null,null,null,null,null,null,null,"0= No HRMIS yet",{"$f":"'FMIS+eServices'!HI204","v":15},{"$f":"T103/T107","v":7.575757575757576E-2}]
[null,null,null,null,null,null,null,null,null,null,null,null,null,null,null,null,null,null,"1= Planned",{"$f":"'FMIS+eServices'!HI205","v":11},{"$f":"T104/T107","v":5.5555555555555552E-2}]
[null,null,null,null,null,null,null,null,null,null,null,null,null,null,null,null,null,null,"2= Impl in progress",{"$f":"'FMIS+eServices'!HI206","v":32},{"$f":"T105/T107","v":0.16161616161616163},null,null,null,null,null,null,null,null,null,null,null,null,null,null,null,null,null,null,null,null,null,null,null,null,null,null,null,null,null,null,null,null,null,null,null,null,null,null,null,null,null,null,null,null,null,null,null,null,null,null,null,null,null,null,null,"Tech Arch"]
[null,null,null,null,null,null,null,null,null,null,null,null,null,null,null,null,null,null,"3= Fully operational",{"$f":"'FMIS+eServices'!HI207","v":140},{"$f":"T106/T107","v":0.70707070707070707},null,null,null,null,null,null,null,null,null,null,null,null,null,null,null,null,null,null,null,null,null,null,null,null,null,null,null,null,null,null,null,null,null,null,null,null,null,null,null,null,null,null,null,null,null,null,null,null,null,null,null,null,null,null,null,{"$f":"'FMIS+eServices'!ES204","v":41},{"$f":"BY106/BY108","v":1}]
[null,null,null,null,null,null,null,null,null,null,null,null,null,null,null,null,null,null,null,{"$f":"SUM(T103:T106)","v":198},null,null,null,null,null,null,null,null,null,null,null,null,null,null,null,null,null,null,null,null,null,null,null,null,null,null,null,null,null,null,null,null,null,null,null,null,null,null,null,null,null,null,null,null,null,null,null,null,null,null,null,null,null,null,null,null,{"$f":"'FMIS+eServices'!ES205","v":" "},{"$f":"BY107/BY108","v":{"$error":"#VALUE!"}}]
[null,null,null,null,null,null,null,null,null,null,null,null,null,null,null,null,null,null,null,null,null,null,null,null,null,null,null,null,null,null,null,null,null,null,null,null,null,null,null,null,null,null,null,null,null,null,null,null,null,null,null,null,null,null,null,null,null,null,null,null,null,null,null,null,null,null,null,null,null,null,null,null,null,null,null,null,{"$f":"SUM(BY106:BY107)","v":41}]
[]
[]
[null,null,null,null,null,null,null,null,null,null,null,null,null,null,null,null,null,null,"HRMIS Platform","Status"]
[null,null,null,null,null,null,null,null,null,null,null,null,null,null,null,null,null,null,"0 : No HRMIS srv",{"$f":"'FMIS+eServices'!HJ204","v":26},{"$f":"T112/T115","v":0.13131313131313133}]
[null,null,null,null,null,null,null,null,null,null,null,null,null,null,null,null,null,null,"1 : Fragmented srv",{"$f":"'FMIS+eServices'!HJ205","v":33},{"$f":"T113/T115","v":0.16666666666666666}]
[null,null,null,null,null,null,null,null,null,null,null,null,null,null,null,null,null,null,"2 : Centralized sln",{"$f":"'FMIS+eServices'!HJ206","v":139},{"$f":"T114/T115","v":0.70202020202020199},null,null,null,1]
[null,null,null,null,null,null,null,null,null,null,null,null,null,null,null,null,null,null,null,{"$f":"SUM(T112:T114)","v":198},null,null,null,null,null,null,null,null,null,null,null,null,null,null,null,null,null,null,null,null,null,null,null,null,null,null,null,null,null,null,null,null,null,null,null,null,null,null,null,null,null,null,null,null,null,null,null,null,null,null,null,null,null,null,null,null,36]
[null,null,null,null,null,null,null,null,null,null,null,null,null,null,null,null,null,null,null,null,null,null,null,null,null,null,null,null,null,null,null,null,null,null,null,null,null,null,null,null,null,null,null,null,null,null,null,null,null,null,null,null,null,null,null,null,null,null,null,null,null,null,null,null,null,null,null,null,null,null,null,null,null,null,null,null,29]
[null,null,null,null,null,null,null,null,null,null,null,null,null,null,null,null,null,null,null,null,null,null,null,null,null,null,null,null,null,null,null,null,null,null,null,null,null,null,null,null,null,null,null,null,null,null,null,null,null,null,null,null,null,null,null,null,null,null,null,null,null,null,null,null,null,null,null,null,null,null,null,null,null,null,null,null,13]
[null,null,null,null,null,null,null,null,null,null,null,null,null,null,null,null,null,null,null,null,null,null,null,null,null,null,null,null,null,null,null,null,null,null,null,null,null,null,null,null,null,null,null,null,null,null,null,null,null,null,null,null,null,null,null,null,null,null,null,null,null,null,null,null,null,null,null,null,null,null,null,null,null,null,null,null,7]
[null,null,null,null,null,null,null,null,null,null,null,null,null,null,null,null,null,null,null,null,null,null,null,null,null,null,null,null,null,null,null,null,null,null,null,null,null,null,null,null,null,null,null,null,null,null,null,null,null,null,null,null,null,null,null,null,null,null,null,null,null,null,null,null,null,null,null,null,null,null,null,null,null,null,null,null,4]
[null,null,null,null,null,null,null,null,null,null,null,null,null,null,null,null,null,null,"Payroll ASW","Status",null,null,null,null,null,null,null,null,null,null,null,null,null,null,null,null,null,null,null,null,null,null,null,null,null,null,null,null,null,null,null,null,null,null,null,null,null,null,null,null,null,null,null,null,null,null,null,null,null,null,null,null,null,null,null,null,4]
[null,null,null,null,null,null,null,null,null,null,null,null,null,null,null,null,null,null,"0 : No Payroll Sys",{"$f":"'FMIS+eServices'!HM204","v":21},{"$f":"T121/T124","v":0.10606060606060606},null,null,null,null,null,null,null,null,null,null,null,null,null,null,null,null,null,null,null,null,null,null,null,null,null,null,null,null,null,null,null,null,null,null,null,null,null,null,null,null,null,null,null,null,null,null,null,null,null,null,null,null,null,null,null,15]
[null,null,null,null,null,null,null,null,null,null,null,null,null,null,null,null,null,null,"1 : LDSW",{"$f":"'FMIS+eServices'!HM205","v":94},{"$f":"T122/T124","v":0.47474747474747475},null,null,null,null,null,null,null,null,null,null,null,null,null,null,null,null,null,null,null,null,null,null,null,null,null,null,null,null,null,null,null,null,null,null,null,null,null,null,null,null,null,null,null,null,null,null,null,null,null,null,null,null,null,null,null,{"$f":"SUM(BY115:BY121)","v":108}]
[null,null,null,null,null,null,null,null,null,null,null,null,null,null,null,null,null,null,"2 : COTS",{"$f":"'FMIS+eServices'!HM206","v":83},{"$f":"T123/T124","v":0.41919191919191917},null,null,null,1]
[null,null,null,null,null,null,null,null,null,null,null,null,null,null,null,null,null,null,null,{"$f":"SUM(T121:T123)","v":198}]
[null,null,null,null,null,null,null,null,null,null,null,null,null,null,null,null,null,null,null,null,null,null,null,null,null,null,null,null,null,null,null,null,null,null,null,null,null,null,null,null,null,null,null,null,null,null,null,null,null,null,null,null,null,null,null,null,null,null,null,null,null,null,null,null,null,null,null,null,null,null,null,null,null,null,null,null,35]
[null,null,null,null,null,null,null,null,null,null,null,null,null,null,null,null,null,null,null,null,null,null,null,null,null,null,null,null,null,null,null,null,null,null,null,null,null,null,null,null,null,null,null,null,null,null,null,null,null,null,null,null,null,null,null,null,null,null,null,null,null,null,null,null,null,null,null,null,null,null,null,null,null,null,null,null,8]
[null,null,null,null,null,null,null,null,null,null,null,null,null,null,null,null,null,null,null,null,null,null,null,null,null,null,null,null,null,null,null,null,null,null,null,null,null,null,null,null,null,null,null,null,null,null,null,null,null,null,null,null,null,null,null,null,null,null,null,null,null,null,null,null,null,null,null,null,null,null,null,null,null,null,null,null,3]
[null,null,null,null,null,null,null,null,null,null,null,null,null,null,null,null,null,null,null,null,null,null,null,null,null,null,null,null,null,null,null,null,null,null,null,null,null,null,null,null,null,null,null,null,null,null,null,null,null,null,null,null,null,null,null,null,null,null,null,null,null,null,null,null,null,null,null,null,null,null,null,null,null,null,null,null,37]
[null,null,null,null,null,null,null,null,null,null,null,null,null,null,null,null,null,null,"Payroll Oper","Status",null,null,null,null,null,null,null,null,null,null,null,null,null,null,null,null,null,null,null,null,null,null,null,null,null,null,null,null,null,null,null,null,null,null,null,null,null,null,null,null,null,null,null,null,null,null,null,null,null,null,null,null,null,null,null,null,{"$f":"SUM(BY125:BY128)","v":83}]
[null,null,null,null,null,null,null,null,null,null,null,null,null,null,null,null,null,null,"0= No Payroll Sys",{"$f":"'FMIS+eServices'!HQ204","v":14},{"$f":"T130/T134","v":7.0707070707070704E-2}]
[null,null,null,null,null,null,null,null,null,null,null,null,null,null,null,null,null,null,"1= Planned",{"$f":"'FMIS+eServices'!HQ205","v":7},{"$f":"T131/T134","v":3.5353535353535352E-2},null,null,null,null,null,null,null,null,null,null,null,null,null,null,null,null,null,null,null,null,null,null,null,null,null,null,null,null,null,null,null,null,null,null,null,null,null,null,null,null,null,null,null,null,null,null,null,null,null,null,null,null,null,null,null,7]
[null,null,null,null,null,null,null,null,null,null,null,null,null,null,null,null,null,null,"2= Impl in progress",{"$f":"'FMIS+eServices'!HQ206","v":23},{"$f":"T132/T134","v":0.11616161616161616}]
[null,null,null,null,null,null,null,null,null,null,null,null,null,null,null,null,null,null,"3= Fully operational",{"$f":"'FMIS+eServices'!HQ207","v":154},{"$f":"T133/T134","v":0.77777777777777779},null,null,null,null,null,null,null,null,null,null,null,null,null,null,null,null,null,null,null,null,null,null,null,null,null,null,null,null,null,null,null,null,null,null,null,null,null,null,null,null,null,null,null,null,null,null,null,null,null,null,null,null,null,null,null,{"$f":"BY122+BY129+BY131","v":198}]
[null,null,null,null,null,null,null,null,null,null,null,null,null,null,null,null,null,null,null,{"$f":"SUM(T130:T133)","v":198}]
[]
[]
[]
[null,null,null,null,null,null,null,null,null,null,null,null,null,null,null,null,null,null,"Payroll Platform","Status"]
[null,null,null,null,null,null,null,null,null,null,null,null,null,null,null,null,null,null,"0 : No Payroll Sys",{"$f":"'FMIS+eServices'!HR204","v":21},{"$f":"T139/T142","v":0.10606060606060606}]
[null,null,null,null,null,null,null,null,null,null,null,null,null,null,null,null,null,null,"1 : Fragmented srv",{"$f":"'FMIS+eServices'!HR205","v":36},{"$f":"T140/T142","v":0.18181818181818182}]
[null,null,null,null,null,null,null,null,null,null,null,null,null,null,null,null,null,null,"2 : Centralized sln",{"$f":"'FMIS+eServices'!HR206","v":141},{"$f":"T141/T142","v":0.71212121212121215},null,null,null,1]
[null,null,null,null,null,null,null,null,null,null,null,null,null,null,null,null,null,null,null,{"$f":"SUM(T139:T141)","v":198}]
[]
[]
[]
[]
[null,null,null,null,null,null,null,null,null,null,null,null,null,null,null,null,null,null,"eProc Status","Status"]
[null,null,null,null,null,null,null,null,null,null,null,null,null,null,null,null,null,null,"0= No e-Procure Sys",{"$f":"'FMIS+eServices'!HW204","v":30},{"$f":"T148/T152","v":0.15151515151515152}]
[null,null,null,null,null,null,null,null,null,null,null,null,null,null,null,null,null,null,"1= e-Proc in progress",{"$f":"'FMIS+eServices'!HW205","v":26},{"$f":"T149/T152","v":0.13131313131313133}]
[null,null,null,null,null,null,null,null,null,null,null,null,null,null,null,null,null,null,"2= Tenders only",{"$f":"'FMIS+eServices'!HW206","v":24},{"$f":"T150/T152","v":0.12121212121212122}]
[null,null,null,null,null,null,null,null,null,null,null,null,null,null,null,null,null,null,"3= Tender+Contract",{"$f":"'FMIS+eServices'!HW207","v":118},{"$f":"T151/T152","v":0.59595959595959591}]
[null,null,null,null,null,null,null,null,null,null,null,null,null,null,null,null,null,null,null,{"$f":"SUM(T148:T151)","v":198}]
[]
[]
[]
[null,null,null,null,null,null,null,null,null,null,null,null,null,null,null,null,null,null,"eProc Services","Status"]
[null,null,null,null,null,null,null,null,null,null,null,null,null,null,null,null,null,null,"0= No info on serv",{"$f":"'FMIS+eServices'!HX204","v":56},{"$f":"T157/T161","v":0.28282828282828282}]
[null,null,null,null,null,null,null,null,null,null,null,null,null,null,null,null,null,null,"1= Info/forms",{"$f":"'FMIS+eServices'!HX205","v":66},{"$f":"T158/T161","v":0.33333333333333331}]
[null,null,null,null,null,null,null,null,null,null,null,null,null,null,null,null,null,null,"2= Transactional",{"$f":"'FMIS+eServices'!HX206","v":72},{"$f":"T159/T161","v":0.36363636363636365}]
[null,null,null,null,null,null,null,null,null,null,null,null,null,null,null,null,null,null,"3= Connected serv",{"$f":"'FMIS+eServices'!HX207","v":4},{"$f":"T160/T161","v":2.0202020202020204E-2}]
[null,null,null,null,null,null,null,null,null,null,null,null,null,null,null,null,null,null,null,{"$f":"SUM(T157:T160)","v":198}]

{"sheet":"FMIS&OBD Stats","index":2,"n_rows":164,"n_cols":83,"rows_kept":164,"cut":false,"hidden":false,"merged":[[1,37,1,42],[1,51,1,56]]}
[null,null,null,null,null,null,null,null,null,null,null,null,null,null,null,null,null,null,null,null,null,null,null,null,null,null,null,null,null,null,null,null,null,null,null,null,null,"FMIS & OBD data set (198 economies)",null,null,null,null,null,null,null,null,null,null,null,null,null,"FMIS & OBD data set (Regions)",null,null,null,null,null,null,null,null,null,null,null,"OBI > 100 economies",null,null,null,null,"PEFA > 125 economies",null,null,null,null,null,null,null,null,null,null,"PEFA > 84 economies (public)"]
[null,"Current status of gov practices in publishing Open Budget Data from FMIS",null,null,null,null,null,null,null,null,null,null,null,null,null,null,null,null,null,"Income level distribution",null,null,null,null,null,null,"Regional distribution",null,null,null,null,null,null,null,null,null,null,"# of Economies by Indicators ",null,null,null,null,null,null,null,null,null,null,null,null,null,"# of Countries by Indicators ",null,null,null,null,null,null,null,null,null,null,null,"Open Budget Index vs. FMIS & OBD Scores",null,null,null,null,"PEFA (Avg 10 and All) vs. FMIS & OBD Scores",null,null,null,null,null,null,null,null,null,null,"PEFA (Avg 10 and All) vs. FMIS & OBD Scores"]
[null,"Econ","A","B","C","D","Sum",null,"Region","A","B","C","D","Sum",null,null,null,null,null,"Econ",0,1,2,3,"Sum",null,"Region",0,1,2,3,"Sum",null,null,null,null,"#","Ind",0,1,2,3,"Total","ref","quest",null,0,1,2,3,null,"Ind",0,1,2,3,"Total",null,0,1,2,3,null,"Economy","Econ","Scores","OBI",null,"Economy","Scores","Avg10","Avg",null,null,null,null,null,null,null,"Economy","Scores","Avg10","Avg"]
[null,"HIC",{"$f":"COUNTIFS('FMIS+eServices'!$EM$3:$EM$200,C$3,'FMIS+eServices'!$D$3:$D$200,$B4)","v":12},{"$f":"COUNTIFS('FMIS+eServices'!$EM$3:$EM$200,D$3,'FMIS+eServices'!$D$3:$D$200,$B4)","v":21},{"$f":"COUNTIFS('FMIS+eServices'!$EM$3:$EM$200,E$3,'FMIS+eServices'!$D$3:$D$200,$B4)","v":15},{"$f":"COUNTIFS('FMIS+eServices'!$EM$3:$EM$200,F$3,'FMIS+eServices'!$D$3:$D$200,$B4)","v":6},{"$f":"SUM(C4:F4)","v":54},null,"AFR",{"$f":"COUNTIFS('FMIS+eServices'!$EM$3:$EM$200,C$3,'FMIS+eServices'!$DT$3:$DT$200,$I4)","v":0},{"$f":"COUNTIFS('FMIS+eServices'!$EM$3:$EM$200,D$3,'FMIS+eServices'!$DT$3:$DT$200,$I4)","v":11},{"$f":"COUNTIFS('FMIS+eServices'!$EM$3:$EM$200,E$3,'FMIS+eServices'!$DT$3:$DT$200,$I4)","v":20},{"$f":"COUNTIFS('FMIS+eServices'!$EM$3:$EM$200,F$3,'FMIS+eServices'!$DT$3:$DT$200,$I4)","v":17},{"$f":"SUM(J4:M4)","v":48},null,"Gov Practices > OBD from FMIS",null,null,null,"HIC",{"$f":"COUNTIFS(INDIRECT(\"'FMIS+eServices'!$\"&$Z$16&\"$3:$\"&$Z$16&\"$200\"),U$3,'FMIS+eServices'!$D$3:$D$200,$T4)","v":9},{"$f":"COUNTIFS(INDIRECT(\"'FMIS+eServices'!$\"&$Z$16&\"$3:$\"&$Z$16&\"$200\"),V$3,'FMIS+eServices'!$D$3:$D$200,$T4)","v":45},{"$f":"COUNTIFS(INDIRECT(\"'FMIS+eServices'!$\"&$Z$16&\"$3:$\"&$Z$16&\"$200\"),W$3,'FMIS+eServices'!$D$3:$D$200,$T4)","v":0},{"$f":"COUNTIFS(INDIRECT(\"'FMIS+eServices'!$\"&$Z$16&\"$3:$\"&$Z$16&\"$200\"),X$3,'FMIS+eServices'!$D$3:$D$200,$T4)","v":0},{"$f":"SUM(U4:X4)","v":54},null,"AFR",{"$f":"COUNTIFS(INDIRECT(\"'FMIS+eServices'!$\"&$Z$16&\"$3:$\"&$Z$16&\"$200\"),AB$3,'FMIS+eServices'!$DT$3:$DT$200,$AA4)","v":21},{"$f":"COUNTIFS(INDIRECT(\"'FMIS+eServices'!$\"&$Z$16&\"$3:$\"&$Z$16&\"$200\"),AC$3,'FMIS+eServices'!$DT$3:$DT$200,$AA4)","v":27},{"$f":"COUNTIFS(INDIRECT(\"'FMIS+eServices'!$\"&$Z$16&\"$3:$\"&$Z$16&\"$200\"),AD$3,'FMIS+eServices'!$DT$3:$DT$200,$AA4)","v":0},{"$f":"COUNTIFS(INDIRECT(\"'FMIS+eServices'!$\"&$Z$16&\"$3:$\"&$Z$16&\"$200\"),AE$3,'FMIS+eServices'!$DT$3:$DT$200,$AA4)","v":0},{"$f":"SUM(AB4:AE4)","v":48},null,null,null,null,1,1,{"$f":"COUNTIF('FMIS+eServices'!$J$3:$J$200,AM$3)","v":26},{"$f":"COUNTIF('FMIS+eServices'!$J$3:$J$200,AN$3)","v":36},{"$f":"COUNTIF('FMIS+eServices'!$J$3:$J$200,AO$3)","v":136},null,{"$f":"SUM(AM4:AP4)","v":198},"J","Is there a dedicated PF publication web site?",null,{"$f":"AM4/$AQ4","v":0.13131313131313133},0.18181818181818182,0.68686868686868685,null,null,1,{"$f":"COUNTIFS('FMIS+eServices'!$J$3:$J$200,BA$3,'FMIS+eServices'!$DT$3:$DT$200,\">A\")","v":24},{"$f":"COUNTIFS('FMIS+eServices'!$J$3:$J$200,BB$3,'FMIS+eServices'!$DT$3:$DT$200,\">A\")","v":31},{"$f":"COUNTIFS('FMIS+eServices'!$J$3:$J$200,BC$3,'FMIS+eServices'!$DT$3:$DT$200,\">A\")","v":113},null,{"$f":"SUM(BA4:BD4)","v":168},null,{"$f":"BA4/$BE4","v":0.14285714285714285},0.18452380952380953,0.67261904761904767,null,null,"Afghanistan","AF",{"$f":"VLOOKUP($BL4,'FMIS+eServices'!$C$3:$EM$200,140,FALSE)","v":57.692307692307686},{"$f":"VLOOKUP($BL4,'FMIS+eServices'!$C$3:$DT$200,107,FALSE)","v":59},null,"Afghanistan",{"$f":"VLOOKUP($BQ4,'FMIS+eServices'!$C$3:$EM$200,140,FALSE)","v":57.692307692307686},{"$f":"VLOOKUP($BQ4,'FMIS+eServices'!$C$3:$DT$200,105,FALSE)","v":2.35},{"$f":"VLOOKUP($BQ4,'FMIS+eServices'!$C$3:$DT$200,106,FALSE)","v":2.5499999999999998},null,null,null,null,null,null,null,"Afghanistan",{"$f":"VLOOKUP($CB4,'FMIS+eServices'!$C$3:$EM$200,140,FALSE)","v":57.692307692307686},{"$f":"VLOOKUP($CB4,'FMIS+eServices'!$C$3:$DT$200,105,FALSE)","v":2.35},{"$f":"VLOOKUP($CB4,'FMIS+eServices'!$C$3:$DT$200,106,FALSE)","v":2.5499999999999998}]
[null,"UMIC",{"$f":"COUNTIFS('FMIS+eServices'!$EM$3:$EM$200,C$3,'FMIS+eServices'!$D$3:$D$200,$B5)","v":8},{"$f":"COUNTIFS('FMIS+eServices'!$EM$3:$EM$200,D$3,'FMIS+eServices'!$D$3:$D$200,$B5)","v":21},{"$f":"COUNTIFS('FMIS+eServices'!$EM$3:$EM$200,E$3,'FMIS+eServices'!$D$3:$D$200,$B5)","v":13},{"$f":"COUNTIFS('FMIS+eServices'!$EM$3:$EM$200,F$3,'FMIS+eServices'!$D$3:$D$200,$B5)","v":10},{"$f":"SUM(C5:F5)","v":52},null,"EAP",{"$f":"COUNTIFS('FMIS+eServices'!$EM$3:$EM$200,C$3,'FMIS+eServices'!$DT$3:$DT$200,$I5)","v":2},{"$f":"COUNTIFS('FMIS+eServices'!$EM$3:$EM$200,D$3,'FMIS+eServices'!$DT$3:$DT$200,$I5)","v":11},{"$f":"COUNTIFS('FMIS+eServices'!$EM$3:$EM$200,E$3,'FMIS+eServices'!$DT$3:$DT$200,$I5)","v":9},{"$f":"COUNTIFS('FMIS+eServices'!$EM$3:$EM$200,F$3,'FMIS+eServices'!$DT$3:$DT$200,$I5)","v":7},29,null,"A","Highly Visible",null,null,"UMIC",{"$f":"COUNTIFS(INDIRECT(\"'FMIS+eServices'!$\"&$Z$16&\"$3:$\"&$Z$16&\"$200\"),U$3,'FMIS+eServices'!$D$3:$D$200,$T5)","v":16},{"$f":"COUNTIFS(INDIRECT(\"'FMIS+eServices'!$\"&$Z$16&\"$3:$\"&$Z$16&\"$200\"),V$3,'FMIS+eServices'!$D$3:$D$200,$T5)","v":36},{"$f":"COUNTIFS(INDIRECT(\"'FMIS+eServices'!$\"&$Z$16&\"$3:$\"&$Z$16&\"$200\"),W$3,'FMIS+eServices'!$D$3:$D$200,$T5)","v":0},{"$f":"COUNTIFS(INDIRECT(\"'FMIS+eServices'!$\"&$Z$16&\"$3:$\"&$Z$16&\"$200\"),X$3,'FMIS+eServices'!$D$3:$D$200,$T5)","v":0},{"$f":"SUM(U5:X5)","v":52},null,"EAP",{"$f":"COUNTIFS(INDIRECT(\"'FMIS+eServices'!$\"&$Z$16&\"$3:$\"&$Z$16&\"$200\"),AB$3,'FMIS+eServices'!$DT$3:$DT$200,$AA5)","v":12},{"$f":"COUNTIFS(INDIRECT(\"'FMIS+eServices'!$\"&$Z$16&\"$3:$\"&$Z$16&\"$200\"),AC$3,'FMIS+eServices'!$DT$3:$DT$200,$AA5)","v":17},{"$f":"COUNTIFS(INDIRECT(\"'FMIS+eServices'!$\"&$Z$16&\"$3:$\"&$Z$16&\"$200\"),AD$3,'FMIS+eServices'!$DT$3:$DT$200,$AA5)","v":0},{"$f":"COUNTIFS(INDIRECT(\"'FMIS+eServices'!$\"&$Z$16&\"$3:$\"&$Z$16&\"$200\"),AE$3,'FMIS+eServices'!$DT$3:$DT$200,$AA5)","v":0},29,null,null,null,null,2,2,{"$f":"COUNTIF('FMIS+eServices'!$L$3:$L$200,AM$3)","v":6},{"$f":"COUNTIF('FMIS+eServices'!$L$3:$L$200,AN$3)","v":94},{"$f":"COUNTIF('FMIS+eServices'!$L$3:$L$200,AO$3)","v":98},null,198,"L","Is there a web page describing the FMIS platform / Data Warehouse?",null,3.0303030303030304E-2,0.47474747474747475,0.49494949494949497,null,null,2,{"$f":"COUNTIFS('FMIS+eServices'!$L$3:$L$200,BA$3,'FMIS+eServices'!$DT$3:$DT$200,\">A\")","v":3},{"$f":"COUNTIFS('FMIS+eServices'!$L$3:$L$200,BB$3,'FMIS+eServices'!$DT$3:$DT$200,\">A\")","v":85},{"$f":"COUNTIFS('FMIS+eServices'!$L$3:$L$200,BC$3,'FMIS+eServices'!$DT$3:$DT$200,\">A\")","v":80},null,168,null,1.7857142857142856E-2,0.50595238095238093,0.47619047619047616,null,null,"Albania","AL",{"$f":"VLOOKUP($BL5,'FMIS+eServices'!$C$3:$EM$200,140,FALSE)","v":61.53846153846154},{"$f":"VLOOKUP($BL5,'FMIS+eServices'!$C$3:$DT$200,107,FALSE)","v":47},null,"Albania",{"$f":"VLOOKUP($BQ5,'FMIS+eServices'!$C$3:$EM$200,140,FALSE)","v":61.53846153846154},{"$f":"VLOOKUP($BQ5,'FMIS+eServices'!$C$3:$DT$200,105,FALSE)","v":2.9},{"$f":"VLOOKUP($BQ5,'FMIS+eServices'!$C$3:$DT$200,106,FALSE)","v":2.9482758620689653},null,null,null,null,null,null,null,"Albania",{"$f":"VLOOKUP($CB5,'FMIS+eServices'!$C$3:$EM$200,140,FALSE)","v":61.53846153846154},{"$f":"VLOOKUP($CB5,'FMIS+eServices'!$C$3:$DT$200,105,FALSE)","v":2.9},{"$f":"VLOOKUP($CB5,'FMIS+eServices'!$C$3:$DT$200,106,FALSE)","v":2.9482758620689653}]
[null,"LMIC",{"$f":"COUNTIFS('FMIS+eServices'!$EM$3:$EM$200,C$3,'FMIS+eServices'!$D$3:$D$200,$B6)","v":5},{"$f":"COUNTIFS('FMIS+eServices'!$EM$3:$EM$200,D$3,'FMIS+eServices'!$D$3:$D$200,$B6)","v":20},{"$f":"COUNTIFS('FMIS+eServices'!$EM$3:$EM$200,E$3,'FMIS+eServices'!$D$3:$D$200,$B6)","v":20},{"$f":"COUNTIFS('FMIS+eServices'!$EM$3:$EM$200,F$3,'FMIS+eServices'!$D$3:$D$200,$B6)","v":9},{"$f":"SUM(C6:F6)","v":54},null,"ECA",{"$f":"COUNTIFS('FMIS+eServices'!$EM$3:$EM$200,C$3,'FMIS+eServices'!$DT$3:$DT$200,$I6)","v":3},{"$f":"COUNTIFS('FMIS+eServices'!$EM$3:$EM$200,D$3,'FMIS+eServices'!$DT$3:$DT$200,$I6)","v":18},{"$f":"COUNTIFS('FMIS+eServices'!$EM$3:$EM$200,E$3,'FMIS+eServices'!$DT$3:$DT$200,$I6)","v":7},{"$f":"COUNTIFS('FMIS+eServices'!$EM$3:$EM$200,F$3,'FMIS+eServices'!$DT$3:$DT$200,$I6)","v":2},30,null,"B","Visible",null,null,"LMIC",{"$f":"COUNTIFS(INDIRECT(\"'FMIS+eServices'!$\"&$Z$16&\"$3:$\"&$Z$16&\"$200\"),U$3,'FMIS+eServices'!$D$3:$D$200,$T6)","v":15},{"$f":"COUNTIFS(INDIRECT(\"'FMIS+eServices'!$\"&$Z$16&\"$3:$\"&$Z$16&\"$200\"),V$3,'FMIS+eServices'!$D$3:$D$200,$T6)","v":39},{"$f":"COUNTIFS(INDIRECT(\"'FMIS+eServices'!$\"&$Z$16&\"$3:$\"&$Z$16&\"$200\"),W$3,'FMIS+eServices'!$D$3:$D$200,$T6)","v":0},{"$f":"COUNTIFS(INDIRECT(\"'FMIS+eServices'!$\"&$Z$16&\"$3:$\"&$Z$16&\"$200\"),X$3,'FMIS+eServices'!$D$3:$D$200,$T6)","v":0},{"$f":"SUM(U6:X6)","v":54},null,"ECA",{"$f":"COUNTIFS(INDIRECT(\"'FMIS+eServices'!$\"&$Z$16&\"$3:$\"&$Z$16&\"$200\"),AB$3,'FMIS+eServices'!$DT$3:$DT$200,$AA6)","v":3},{"$f":"COUNTIFS(INDIRECT(\"'FMIS+eServices'!$\"&$Z$16&\"$3:$\"&$Z$16&\"$200\"),AC$3,'FMIS+eServices'!$DT$3:$DT$200,$AA6)","v":27},{"$f":"COUNTIFS(INDIRECT(\"'FMIS+eServices'!$\"&$Z$16&\"$3:$\"&$Z$16&\"$200\"),AD$3,'FMIS+eServices'!$DT$3:$DT$200,$AA6)","v":0},{"$f":"COUNTIFS(INDIRECT(\"'FMIS+eServices'!$\"&$Z$16&\"$3:$\"&$Z$16&\"$200\"),AE$3,'FMIS+eServices'!$DT$3:$DT$200,$AA6)","v":0},30,null,null,null,null,3,3,{"$f":"COUNTIF('FMIS+eServices'!$N$3:$N$200,AM$3)","v":31},{"$f":"COUNTIF('FMIS+eServices'!$N$3:$N$200,AN$3)","v":131},{"$f":"COUNTIF('FMIS+eServices'!$N$3:$N$200,AO$3)","v":23},{"$f":"COUNTIF('FMIS+eServices'!$N$3:$N$200,AP$3)","v":13},198,"N","Source of PF data",null,0.15656565656565657,0.66161616161616166,0.11616161616161616,{"$f":"AP6/$AQ6","v":6.5656565656565663E-2},null,3,{"$f":"COUNTIFS('FMIS+eServices'!$N$3:$N$200,BA$3,'FMIS+eServices'!$DT$3:$DT$200,\">A\")","v":28},{"$f":"COUNTIFS('FMIS+eServices'!$N$3:$N$200,BB$3,'FMIS+eServices'!$DT$3:$DT$200,\">A\")","v":114},{"$f":"COUNTIFS('FMIS+eServices'!$N$3:$N$200,BC$3,'FMIS+eServices'!$DT$3:$DT$200,\">A\")","v":17},{"$f":"COUNTIFS('FMIS+eServices'!$N$3:$N$200,BD$3,'FMIS+eServices'!$DT$3:$DT$200,\">A\")","v":9},168,null,0.16666666666666666,0.6785714285714286,0.10119047619047619,{"$f":"BD6/$BE6","v":5.3571428571428568E-2},null,"Algeria","DZ",{"$f":"VLOOKUP($BL6,'FMIS+eServices'!$C$3:$EM$200,140,FALSE)","v":34.615384615384613},{"$f":"VLOOKUP($BL6,'FMIS+eServices'!$C$3:$DT$200,107,FALSE)","v":13},null,"Algeria",{"$f":"VLOOKUP($BQ6,'FMIS+eServices'!$C$3:$EM$200,140,FALSE)","v":34.615384615384613},{"$f":"VLOOKUP($BQ6,'FMIS+eServices'!$C$3:$DT$200,105,FALSE)","v":2.3333333333333335},{"$f":"VLOOKUP($BQ6,'FMIS+eServices'!$C$3:$DT$200,106,FALSE)","v":2.6153846153846154},null,null,null,null,null,null,null,"Armenia",{"$f":"VLOOKUP($CB6,'FMIS+eServices'!$C$3:$EM$200,140,FALSE)","v":61.53846153846154},{"$f":"VLOOKUP($CB6,'FMIS+eServices'!$C$3:$DT$200,105,FALSE)","v":3.05},{"$f":"VLOOKUP($CB6,'FMIS+eServices'!$C$3:$DT$200,106,FALSE)","v":3.032258064516129}]
[null,"LIC",{"$f":"COUNTIFS('FMIS+eServices'!$EM$3:$EM$200,C$3,'FMIS+eServices'!$D$3:$D$200,$B7)","v":0},{"$f":"COUNTIFS('FMIS+eServices'!$EM$3:$EM$200,D$3,'FMIS+eServices'!$D$3:$D$200,$B7)","v":10},{"$f":"COUNTIFS('FMIS+eServices'!$EM$3:$EM$200,E$3,'FMIS+eServices'!$D$3:$D$200,$B7)","v":15},{"$f":"COUNTIFS('FMIS+eServices'!$EM$3:$EM$200,F$3,'FMIS+eServices'!$D$3:$D$200,$B7)","v":13},{"$f":"SUM(C7:F7)","v":38},null,"LCR",{"$f":"COUNTIFS('FMIS+eServices'!$EM$3:$EM$200,C$3,'FMIS+eServices'!$DT$3:$DT$200,$I7)","v":10},{"$f":"COUNTIFS('FMIS+eServices'!$EM$3:$EM$200,D$3,'FMIS+eServices'!$DT$3:$DT$200,$I7)","v":7},{"$f":"COUNTIFS('FMIS+eServices'!$EM$3:$EM$200,E$3,'FMIS+eServices'!$DT$3:$DT$200,$I7)","v":12},{"$f":"COUNTIFS('FMIS+eServices'!$EM$3:$EM$200,F$3,'FMIS+eServices'!$DT$3:$DT$200,$I7)","v":3},32,null,"C","Limited Visibility",null,null,"LIC",{"$f":"COUNTIFS(INDIRECT(\"'FMIS+eServices'!$\"&$Z$16&\"$3:$\"&$Z$16&\"$200\"),U$3,'FMIS+eServices'!$D$3:$D$200,$T7)","v":16},{"$f":"COUNTIFS(INDIRECT(\"'FMIS+eServices'!$\"&$Z$16&\"$3:$\"&$Z$16&\"$200\"),V$3,'FMIS+eServices'!$D$3:$D$200,$T7)","v":22},{"$f":"COUNTIFS(INDIRECT(\"'FMIS+eServices'!$\"&$Z$16&\"$3:$\"&$Z$16&\"$200\"),W$3,'FMIS+eServices'!$D$3:$D$200,$T7)","v":0},{"$f":"COUNTIFS(INDIRECT(\"'FMIS+eServices'!$\"&$Z$16&\"$3:$\"&$Z$16&\"$200\"),X$3,'FMIS+eServices'!$D$3:$D$200,$T7)","v":0},{"$f":"SUM(U7:X7)","v":38},null,"LCR",{"$f":"COUNTIFS(INDIRECT(\"'FMIS+eServices'!$\"&$Z$16&\"$3:$\"&$Z$16&\"$200\"),AB$3,'FMIS+eServices'!$DT$3:$DT$200,$AA7)","v":3},{"$f":"COUNTIFS(INDIRECT(\"'FMIS+eServices'!$\"&$Z$16&\"$3:$\"&$Z$16&\"$200\"),AC$3,'FMIS+eServices'!$DT$3:$DT$200,$AA7)","v":29},{"$f":"COUNTIFS(INDIRECT(\"'FMIS+eServices'!$\"&$Z$16&\"$3:$\"&$Z$16&\"$200\"),AD$3,'FMIS+eServices'!$DT$3:$DT$200,$AA7)","v":0},{"$f":"COUNTIFS(INDIRECT(\"'FMIS+eServices'!$\"&$Z$16&\"$3:$\"&$Z$16&\"$200\"),AE$3,'FMIS+eServices'!$DT$3:$DT$200,$AA7)","v":0},32,null,null,null,null,4,4,{"$f":"COUNTIF('FMIS+eServices'!$P$3:$P$200,AM$3)","v":139},{"$f":"COUNTIF('FMIS+eServices'!$P$3:$P$200,AN$3)","v":59},null,null,198,"P","Presence of Open Data (online, editable, free)",null,{"$f":"AM7/$AQ7","v":0.70202020202020199},{"$f":"AN7/$AQ7","v":0.29797979797979796},null,null,null,4,{"$f":"COUNTIFS('FMIS+eServices'!$P$3:$P$200,BA$3,'FMIS+eServices'!$DT$3:$DT$200,\">A\")","v":124},{"$f":"COUNTIFS('FMIS+eServices'!$P$3:$P$200,BB$3,'FMIS+eServices'!$DT$3:$DT$200,\">A\")","v":44},null,null,168,null,{"$f":"BA7/$BE7","v":0.73809523809523814},{"$f":"BB7/$BE7","v":0.26190476190476192},null,null,null,"Angola","AO",{"$f":"VLOOKUP($BL7,'FMIS+eServices'!$C$3:$EM$200,140,FALSE)","v":46.153846153846153},{"$f":"VLOOKUP($BL7,'FMIS+eServices'!$C$3:$DT$200,107,FALSE)","v":28},null,"Antigua and Barbuda",{"$f":"VLOOKUP($BQ7,'FMIS+eServices'!$C$3:$EM$200,140,FALSE)","v":38.461538461538467},{"$f":"VLOOKUP($BQ7,'FMIS+eServices'!$C$3:$DT$200,105,FALSE)","v":1.4},{"$f":"VLOOKUP($BQ7,'FMIS+eServices'!$C$3:$DT$200,106,FALSE)","v":1.5333333333333334},null,null,null,null,null,null,null,"Bangladesh",{"$f":"VLOOKUP($CB7,'FMIS+eServices'!$C$3:$EM$200,140,FALSE)","v":65.384615384615387},{"$f":"VLOOKUP($CB7,'FMIS+eServices'!$C$3:$DT$200,105,FALSE)","v":2.4500000000000002},{"$f":"VLOOKUP($CB7,'FMIS+eServices'!$C$3:$DT$200,106,FALSE)","v":2.1166666666666667}]
[null,"Sum",{"$f":"SUM(C4:C7)","v":25},{"$f":"SUM(D4:D7)","v":72},{"$f":"SUM(E4:E7)","v":63},{"$f":"SUM(F4:F7)","v":38},{"$f":"SUM(G4:G7)","v":198},null,"MNA",{"$f":"COUNTIFS('FMIS+eServices'!$EM$3:$EM$200,C$3,'FMIS+eServices'!$DT$3:$DT$200,$I8)","v":0},{"$f":"COUNTIFS('FMIS+eServices'!$EM$3:$EM$200,D$3,'FMIS+eServices'!$DT$3:$DT$200,$I8)","v":8},{"$f":"COUNTIFS('FMIS+eServices'!$EM$3:$EM$200,E$3,'FMIS+eServices'!$DT$3:$DT$200,$I8)","v":9},{"$f":"COUNTIFS('FMIS+eServices'!$EM$3:$EM$200,F$3,'FMIS+eServices'!$DT$3:$DT$200,$I8)","v":4},21,null,"D","Minimal Visibility",null,null,"Sum",{"$f":"SUM(U4:U7)","v":56},{"$f":"SUM(V4:V7)","v":142},{"$f":"SUM(W4:W7)","v":0},{"$f":"SUM(X4:X7)","v":0},{"$f":"SUM(Y4:Y7)","v":198},null,"MNA",{"$f":"COUNTIFS(INDIRECT(\"'FMIS+eServices'!$\"&$Z$16&\"$3:$\"&$Z$16&\"$200\"),AB$3,'FMIS+eServices'!$DT$3:$DT$200,$AA8)","v":10},{"$f":"COUNTIFS(INDIRECT(\"'FMIS+eServices'!$\"&$Z$16&\"$3:$\"&$Z$16&\"$200\"),AC$3,'FMIS+eServices'!$DT$3:$DT$200,$AA8)","v":11},{"$f":"COUNTIFS(INDIRECT(\"'FMIS+eServices'!$\"&$Z$16&\"$3:$\"&$Z$16&\"$200\"),AD$3,'FMIS+eServices'!$DT$3:$DT$200,$AA8)","v":0},{"$f":"COUNTIFS(INDIRECT(\"'FMIS+eServices'!$\"&$Z$16&\"$3:$\"&$Z$16&\"$200\"),AE$3,'FMIS+eServices'!$DT$3:$DT$200,$AA8)","v":0},21,null,null,null,null,5,5,{"$f":"COUNTIF('FMIS+eServices'!$R$3:$R$200,AM$3)","v":178},{"$f":"COUNTIF('FMIS+eServices'!$R$3:$R$200,AN$3)","v":20},null,null,198,"R","System Name visible in dynamic/static reports",null,0.89898989898989901,0.10101010101010101,null,null,null,5,{"$f":"COUNTIFS('FMIS+eServices'!$R$3:$R$200,BA$3,'FMIS+eServices'!$DT$3:$DT$200,\">A\")","v":150},{"$f":"COUNTIFS('FMIS+eServices'!$R$3:$R$200,BB$3,'FMIS+eServices'!$DT$3:$DT$200,\">A\")","v":18},null,null,168,null,0.8928571428571429,0.10714285714285714,null,null,null,"Argentina","AR",{"$f":"VLOOKUP($BL8,'FMIS+eServices'!$C$3:$EM$200,140,FALSE)","v":96.15384615384616},{"$f":"VLOOKUP($BL8,'FMIS+eServices'!$C$3:$DT$200,107,FALSE)","v":50},null,"Armenia",{"$f":"VLOOKUP($BQ8,'FMIS+eServices'!$C$3:$EM$200,140,FALSE)","v":61.53846153846154},{"$f":"VLOOKUP($BQ8,'FMIS+eServices'!$C$3:$DT$200,105,FALSE)","v":3.05},{"$f":"VLOOKUP($BQ8,'FMIS+eServices'!$C$3:$DT$200,106,FALSE)","v":3.032258064516129},null,null,null,null,null,null,null,"Belarus",{"$f":"VLOOKUP($CB8,'FMIS+eServices'!$C$3:$EM$200,140,FALSE)","v":34.615384615384613},{"$f":"VLOOKUP($CB8,'FMIS+eServices'!$C$3:$DT$200,105,FALSE)","v":2.8888888888888888},{"$f":"VLOOKUP($CB8,'FMIS+eServices'!$C$3:$DT$200,106,FALSE)","v":3.0892857142857144}]
[null,null,{"$f":"C8/$G$8","v":0.12626262626262627},{"$f":"D8/$G$8","v":0.36363636363636365},{"$f":"E8/$G$8","v":0.31818181818181818},{"$f":"F8/$G$8","v":0.19191919191919191},null,null,"SAR",{"$f":"COUNTIFS('FMIS+eServices'!$EM$3:$EM$200,C$3,'FMIS+eServices'!$DT$3:$DT$200,$I9)","v":1},{"$f":"COUNTIFS('FMIS+eServices'!$EM$3:$EM$200,D$3,'FMIS+eServices'!$DT$3:$DT$200,$I9)","v":6},{"$f":"COUNTIFS('FMIS+eServices'!$EM$3:$EM$200,E$3,'FMIS+eServices'!$DT$3:$DT$200,$I9)","v":1},{"$f":"COUNTIFS('FMIS+eServices'!$EM$3:$EM$200,F$3,'FMIS+eServices'!$DT$3:$DT$200,$I9)","v":0},8,null,null,null,null,null,null,{"$f":"U8/$Y$8","v":0.28282828282828282},{"$f":"V8/$Y$8","v":0.71717171717171713},{"$f":"W8/$Y$8","v":0},{"$f":"X8/$Y$8","v":0},null,null,"SAR",{"$f":"COUNTIFS(INDIRECT(\"'FMIS+eServices'!$\"&$Z$16&\"$3:$\"&$Z$16&\"$200\"),AB$3,'FMIS+eServices'!$DT$3:$DT$200,$AA9)","v":1},{"$f":"COUNTIFS(INDIRECT(\"'FMIS+eServices'!$\"&$Z$16&\"$3:$\"&$Z$16&\"$200\"),AC$3,'FMIS+eServices'!$DT$3:$DT$200,$AA9)","v":7},{"$f":"COUNTIFS(INDIRECT(\"'FMIS+eServices'!$\"&$Z$16&\"$3:$\"&$Z$16&\"$200\"),AD$3,'FMIS+eServices'!$DT$3:$DT$200,$AA9)","v":0},{"$f":"COUNTIFS(INDIRECT(\"'FMIS+eServices'!$\"&$Z$16&\"$3:$\"&$Z$16&\"$200\"),AE$3,'FMIS+eServices'!$DT$3:$DT$200,$AA9)","v":0},8,null,null,null,null,6,6,{"$f":"COUNTIF('FMIS+eServices'!$S$3:$S$200,AM$3)","v":170},{"$f":"COUNTIF('FMIS+eServices'!$S$3:$S$200,AN$3)","v":28},null,null,198,"S","System Time Stamp visible in dynamic/static reports",null,0.85858585858585856,0.14141414141414141,null,null,null,6,{"$f":"COUNTIFS('FMIS+eServices'!$S$3:$S$200,BA$3,'FMIS+eServices'!$DT$3:$DT$200,\">A\")","v":144},{"$f":"COUNTIFS('FMIS+eServices'!$S$3:$S$200,BB$3,'FMIS+eServices'!$DT$3:$DT$200,\">A\")","v":24},null,null,168,null,0.8571428571428571,0.14285714285714285,null,null,null,"Azerbaijan","AZ",{"$f":"VLOOKUP($BL9,'FMIS+eServices'!$C$3:$EM$200,140,FALSE)","v":34.615384615384613},{"$f":"VLOOKUP($BL9,'FMIS+eServices'!$C$3:$DT$200,107,FALSE)","v":42},null,"Azerbaijan",{"$f":"VLOOKUP($BQ9,'FMIS+eServices'!$C$3:$EM$200,140,FALSE)","v":34.615384615384613},{"$f":"VLOOKUP($BQ9,'FMIS+eServices'!$C$3:$DT$200,105,FALSE)","v":2.1},{"$f":"VLOOKUP($BQ9,'FMIS+eServices'!$C$3:$DT$200,106,FALSE)","v":2.6333333333333333},null,null,null,null,null,null,null,"Benin",{"$f":"VLOOKUP($CB9,'FMIS+eServices'!$C$3:$EM$200,140,FALSE)","v":19.230769230769234},{"$f":"VLOOKUP($CB9,'FMIS+eServices'!$C$3:$DT$200,105,FALSE)","v":1.85},{"$f":"VLOOKUP($CB9,'FMIS+eServices'!$C$3:$DT$200,106,FALSE)","v":1.967741935483871}]
[null,null,null,null,null,null,null,null,"Sum",{"$f":"SUM(J4:J9)","v":16},{"$f":"SUM(K4:K9)","v":61},{"$f":"SUM(L4:L9)","v":58},{"$f":"SUM(M4:M9)","v":33},{"$f":"SUM(N4:N9)","v":168},null,null,null,null,null,null,null,null,null,null,null,null,"Sum",{"$f":"SUM(AB4:AB9)","v":50},{"$f":"SUM(AC4:AC9)","v":118},{"$f":"SUM(AD4:AD9)","v":0},{"$f":"SUM(AE4:AE9)","v":0},{"$f":"SUM(AF4:AF9)","v":168},null,null,null,null,7,7,{"$f":"COUNTIF('FMIS+eServices'!$U$3:$U$200,AM$3)","v":29},{"$f":"COUNTIF('FMIS+eServices'!$U$3:$U$200,AN$3)","v":99},{"$f":"COUNTIF('FMIS+eServices'!$U$3:$U$200,AO$3)","v":70},null,198,"U","Quality of information (level of detail visible at first sight)",null,0.14646464646464646,0.5,{"$f":"AO10/$AQ10","v":0.35353535353535354},null,null,7,{"$f":"COUNTIFS('FMIS+eServices'!$U$3:$U$200,BA$3,'FMIS+eServices'!$DT$3:$DT$200,\">A\")","v":26},{"$f":"COUNTIFS('FMIS+eServices'!$U$3:$U$200,BB$3,'FMIS+eServices'!$DT$3:$DT$200,\">A\")","v":91},{"$f":"COUNTIFS('FMIS+eServices'!$U$3:$U$200,BC$3,'FMIS+eServices'!$DT$3:$DT$200,\">A\")","v":51},null,168,null,0.15476190476190477,0.54166666666666663,0.30357142857142855,null,null,"Bangladesh","BD",{"$f":"VLOOKUP($BL10,'FMIS+eServices'!$C$3:$EM$200,140,FALSE)","v":65.384615384615387},{"$f":"VLOOKUP($BL10,'FMIS+eServices'!$C$3:$DT$200,107,FALSE)","v":58},null,"Bahamas",{"$f":"VLOOKUP($BQ10,'FMIS+eServices'!$C$3:$EM$200,140,FALSE)","v":42.307692307692307},{"$f":"VLOOKUP($BQ10,'FMIS+eServices'!$C$3:$DT$200,105,FALSE)","v":1.9375},{"$f":"VLOOKUP($BQ10,'FMIS+eServices'!$C$3:$DT$200,106,FALSE)","v":1.8461538461538463},null,null,null,null,null,null,null,"Bhutan",{"$f":"VLOOKUP($CB10,'FMIS+eServices'!$C$3:$EM$200,140,FALSE)","v":57.692307692307686},{"$f":"VLOOKUP($CB10,'FMIS+eServices'!$C$3:$DT$200,105,FALSE)","v":2.95},{"$f":"VLOOKUP($CB10,'FMIS+eServices'!$C$3:$DT$200,106,FALSE)","v":2.9666666666666668}]
[null,"Other","A","B","C","D","Sum",null,null,{"$f":"J10/$N$10","v":9.5238095238095233E-2},{"$f":"K10/$N$10","v":0.36309523809523808},{"$f":"L10/$N$10","v":0.34523809523809523},{"$f":"M10/$N$10","v":0.19642857142857142},null,null,null,null,null,null,"Other",0,1,2,3,"Sum",null,null,{"$f":"AB10/$AF$10","v":0.29761904761904762},{"$f":"AC10/$AF$10","v":0.70238095238095233},{"$f":"AD10/$AF$10","v":0},{"$f":"AE10/$AF$10","v":0},null,null,null,null,null,8,8,{"$f":"COUNTIF('FMIS+eServices'!$V$3:$V$200,AM$3)","v":48},{"$f":"COUNTIF('FMIS+eServices'!$V$3:$V$200,AN$3)","v":150},null,null,198,"V","Content > Is there sufficient level of detail for users? ",null,0.24242424242424243,0.75757575757575757,null,null,null,8,{"$f":"COUNTIFS('FMIS+eServices'!$V$3:$V$200,BA$3,'FMIS+eServices'!$DT$3:$DT$200,\">A\")","v":43},{"$f":"COUNTIFS('FMIS+eServices'!$V$3:$V$200,BB$3,'FMIS+eServices'!$DT$3:$DT$200,\">A\")","v":125},null,null,168,null,0.25595238095238093,0.74404761904761907,null,null,null,"Benin","BJ",{"$f":"VLOOKUP($BL11,'FMIS+eServices'!$C$3:$EM$200,140,FALSE)","v":19.230769230769234},{"$f":"VLOOKUP($BL11,'FMIS+eServices'!$C$3:$DT$200,107,FALSE)","v":1},null,"Bangladesh",{"$f":"VLOOKUP($BQ11,'FMIS+eServices'!$C$3:$EM$200,140,FALSE)","v":65.384615384615387},{"$f":"VLOOKUP($BQ11,'FMIS+eServices'!$C$3:$DT$200,105,FALSE)","v":2.4500000000000002},{"$f":"VLOOKUP($BQ11,'FMIS+eServices'!$C$3:$DT$200,106,FALSE)","v":2.1166666666666667},null,null,null,null,null,null,null,"Bolivia",{"$f":"VLOOKUP($CB11,'FMIS+eServices'!$C$3:$EM$200,140,FALSE)","v":73.076923076923066},{"$f":"VLOOKUP($CB11,'FMIS+eServices'!$C$3:$DT$200,105,FALSE)","v":2.25},{"$f":"VLOOKUP($CB11,'FMIS+eServices'!$C$3:$DT$200,106,FALSE)","v":2.5172413793103448}]
[null,"EU",{"$f":"COUNTIFS('FMIS+eServices'!$EM$3:$EM$200,C$3,'FMIS+eServices'!$DU$3:$DU$200,$B12)","v":6},{"$f":"COUNTIFS('FMIS+eServices'!$EM$3:$EM$200,D$3,'FMIS+eServices'!$DU$3:$DU$200,$B12)","v":17},{"$f":"COUNTIFS('FMIS+eServices'!$EM$3:$EM$200,E$3,'FMIS+eServices'!$DU$3:$DU$200,$B12)","v":4},{"$f":"COUNTIFS('FMIS+eServices'!$EM$3:$EM$200,F$3,'FMIS+eServices'!$DU$3:$DU$200,$B12)","v":0},{"$f":"SUM(C12:F12)","v":27},null,null,null,null,null,null,null,null,null,null,null,null,"EU",{"$f":"COUNTIFS(INDIRECT(\"'FMIS+eServices'!$\"&$Z$16&\"$3:$\"&$Z$16&\"$200\"),U$3,'FMIS+eServices'!$DU$3:$DU$200,$T12)","v":1},{"$f":"COUNTIFS(INDIRECT(\"'FMIS+eServices'!$\"&$Z$16&\"$3:$\"&$Z$16&\"$200\"),V$3,'FMIS+eServices'!$DU$3:$DU$200,$T12)","v":26},{"$f":"COUNTIFS(INDIRECT(\"'FMIS+eServices'!$\"&$Z$16&\"$3:$\"&$Z$16&\"$200\"),W$3,'FMIS+eServices'!$DU$3:$DU$200,$T12)","v":0},{"$f":"COUNTIFS(INDIRECT(\"'FMIS+eServices'!$\"&$Z$16&\"$3:$\"&$Z$16&\"$200\"),X$3,'FMIS+eServices'!$DU$3:$DU$200,$T12)","v":0},{"$f":"SUM(U12:X12)","v":27},null,null,null,null,null,null,null,null,null,null,null,9,9,{"$f":"COUNTIF('FMIS+eServices'!$W$3:$W$200,AM$3)","v":143},{"$f":"COUNTIF('FMIS+eServices'!$W$3:$W$200,AN$3)","v":40},{"$f":"COUNTIF('FMIS+eServices'!$W$3:$W$200,AO$3)","v":15},null,198,"W","Citizen's Budget (CB) > Is there a web site for citizens presenting budget results in an easy to understand format?",null,0.72222222222222221,0.20202020202020202,{"$f":"AO12/$AQ12","v":7.575757575757576E-2},null,null,9,{"$f":"COUNTIFS('FMIS+eServices'!$W$3:$W$200,BA$3,'FMIS+eServices'!$DT$3:$DT$200,\">A\")","v":123},{"$f":"COUNTIFS('FMIS+eServices'!$W$3:$W$200,BB$3,'FMIS+eServices'!$DT$3:$DT$200,\">A\")","v":33},{"$f":"COUNTIFS('FMIS+eServices'!$W$3:$W$200,BC$3,'FMIS+eServices'!$DT$3:$DT$200,\">A\")","v":12},null,168,null,0.7321428571428571,0.19642857142857142,7.1428571428571425E-2,null,null,"Bolivia","BO",{"$f":"VLOOKUP($BL12,'FMIS+eServices'!$C$3:$EM$200,140,FALSE)","v":73.076923076923066},{"$f":"VLOOKUP($BL12,'FMIS+eServices'!$C$3:$DT$200,107,FALSE)","v":12},null,"Barbados",{"$f":"VLOOKUP($BQ12,'FMIS+eServices'!$C$3:$EM$200,140,FALSE)","v":30.76923076923077},{"$f":"VLOOKUP($BQ12,'FMIS+eServices'!$C$3:$DT$200,105,FALSE)","v":3.1666666666666665},{"$f":"VLOOKUP($BQ12,'FMIS+eServices'!$C$3:$DT$200,106,FALSE)","v":2.7884615384615383},null,null,null,null,null,null,null,"Botswana",{"$f":"VLOOKUP($CB12,'FMIS+eServices'!$C$3:$EM$200,140,FALSE)","v":34.615384615384613},{"$f":"VLOOKUP($CB12,'FMIS+eServices'!$C$3:$DT$200,105,FALSE)","v":2.65},{"$f":"VLOOKUP($CB12,'FMIS+eServices'!$C$3:$DT$200,106,FALSE)","v":2.62}]
[null,"OECD",{"$f":"COUNTIFS('FMIS+eServices'!$EM$3:$EM$200,C$3,'FMIS+eServices'!$DV$3:$DV$200,$B13)","v":13},{"$f":"COUNTIFS('FMIS+eServices'!$EM$3:$EM$200,D$3,'FMIS+eServices'!$DV$3:$DV$200,$B13)","v":17},{"$f":"COUNTIFS('FMIS+eServices'!$EM$3:$EM$200,E$3,'FMIS+eServices'!$DV$3:$DV$200,$B13)","v":4},{"$f":"COUNTIFS('FMIS+eServices'!$EM$3:$EM$200,F$3,'FMIS+eServices'!$DV$3:$DV$200,$B13)","v":0},{"$f":"SUM(C13:F13)","v":34},null,"Fragile","A","B","C","D","Sum",null,null,null,null,null,"OECD",{"$f":"COUNTIFS(INDIRECT(\"'FMIS+eServices'!$\"&$Z$16&\"$3:$\"&$Z$16&\"$200\"),U$3,'FMIS+eServices'!$DV$3:$DV$200,$T13)","v":1},{"$f":"COUNTIFS(INDIRECT(\"'FMIS+eServices'!$\"&$Z$16&\"$3:$\"&$Z$16&\"$200\"),V$3,'FMIS+eServices'!$DV$3:$DV$200,$T13)","v":33},{"$f":"COUNTIFS(INDIRECT(\"'FMIS+eServices'!$\"&$Z$16&\"$3:$\"&$Z$16&\"$200\"),W$3,'FMIS+eServices'!$DV$3:$DV$200,$T13)","v":0},{"$f":"COUNTIFS(INDIRECT(\"'FMIS+eServices'!$\"&$Z$16&\"$3:$\"&$Z$16&\"$200\"),X$3,'FMIS+eServices'!$DV$3:$DV$200,$T13)","v":0},{"$f":"SUM(U13:X13)","v":34},null,"Fragile",0,1,2,3,"Sum",null,null,null,null,10,10,{"$f":"COUNTIF('FMIS+eServices'!$Y$3:$Y$200,AM$3)","v":104},{"$f":"COUNTIF('FMIS+eServices'!$Y$3:$Y$200,AN$3)","v":94},null,null,198,"Y","BC/CoA published?  ",null,0.5252525252525253,0.47474747474747475,null,null,null,10,{"$f":"COUNTIFS('FMIS+eServices'!$Y$3:$Y$200,BA$3,'FMIS+eServices'!$DT$3:$DT$200,\">A\")","v":92},{"$f":"COUNTIFS('FMIS+eServices'!$Y$3:$Y$200,BB$3,'FMIS+eServices'!$DT$3:$DT$200,\">A\")","v":76},null,null,168,null,0.54761904761904767,0.45238095238095238,null,null,null,"Bosnia and Herzegovina","BA",{"$f":"VLOOKUP($BL13,'FMIS+eServices'!$C$3:$EM$200,140,FALSE)","v":50},{"$f":"VLOOKUP($BL13,'FMIS+eServices'!$C$3:$DT$200,107,FALSE)","v":50},null,"Belarus",{"$f":"VLOOKUP($BQ13,'FMIS+eServices'!$C$3:$EM$200,140,FALSE)","v":34.615384615384613},{"$f":"VLOOKUP($BQ13,'FMIS+eServices'!$C$3:$DT$200,105,FALSE)","v":2.8888888888888888},{"$f":"VLOOKUP($BQ13,'FMIS+eServices'!$C$3:$DT$200,106,FALSE)","v":3.0892857142857144},null,null,null,null,null,null,null,"Brazil",{"$f":"VLOOKUP($CB13,'FMIS+eServices'!$C$3:$EM$200,140,FALSE)","v":100},{"$f":"VLOOKUP($CB13,'FMIS+eServices'!$C$3:$DT$200,105,FALSE)","v":3.5555555555555554},{"$f":"VLOOKUP($CB13,'FMIS+eServices'!$C$3:$DT$200,106,FALSE)","v":3.5178571428571428}]
[null,"APEC",{"$f":"COUNTIFS('FMIS+eServices'!$EM$3:$EM$200,C$3,'FMIS+eServices'!$DW$3:$DW$200,$B14)","v":8},{"$f":"COUNTIFS('FMIS+eServices'!$EM$3:$EM$200,D$3,'FMIS+eServices'!$DW$3:$DW$200,$B14)","v":10},{"$f":"COUNTIFS('FMIS+eServices'!$EM$3:$EM$200,E$3,'FMIS+eServices'!$DW$3:$DW$200,$B14)","v":2},{"$f":"COUNTIFS('FMIS+eServices'!$EM$3:$EM$200,F$3,'FMIS+eServices'!$DW$3:$DW$200,$B14)","v":1},{"$f":"SUM(C14:F14)","v":21},null,"F",{"$f":"COUNTIFS('FMIS+eServices'!$EM$3:$EM$200,C$3,'FMIS+eServices'!$DX$3:$DX$200,$I14)","v":0},{"$f":"COUNTIFS('FMIS+eServices'!$EM$3:$EM$200,D$3,'FMIS+eServices'!$DX$3:$DX$200,$I14)","v":6},{"$f":"COUNTIFS('FMIS+eServices'!$EM$3:$EM$200,E$3,'FMIS+eServices'!$DX$3:$DX$200,$I14)","v":11},{"$f":"COUNTIFS('FMIS+eServices'!$EM$3:$EM$200,F$3,'FMIS+eServices'!$DX$3:$DX$200,$I14)","v":16},{"$f":"SUM(J14:M14)","v":33},null,null,null,null,null,"APEC",{"$f":"COUNTIFS(INDIRECT(\"'FMIS+eServices'!$\"&$Z$16&\"$3:$\"&$Z$16&\"$200\"),U$3,'FMIS+eServices'!$DW$3:$DW$200,$T14)","v":3},{"$f":"COUNTIFS(INDIRECT(\"'FMIS+eServices'!$\"&$Z$16&\"$3:$\"&$Z$16&\"$200\"),V$3,'FMIS+eServices'!$DW$3:$DW$200,$T14)","v":18},{"$f":"COUNTIFS(INDIRECT(\"'FMIS+eServices'!$\"&$Z$16&\"$3:$\"&$Z$16&\"$200\"),W$3,'FMIS+eServices'!$DW$3:$DW$200,$T14)","v":0},{"$f":"COUNTIFS(INDIRECT(\"'FMIS+eServices'!$\"&$Z$16&\"$3:$\"&$Z$16&\"$200\"),X$3,'FMIS+eServices'!$DW$3:$DW$200,$T14)","v":0},{"$f":"SUM(U14:X14)","v":21},null,"F",{"$f":"COUNTIFS(INDIRECT(\"'FMIS+eServices'!$\"&$Z$16&\"$3:$\"&$Z$16&\"$200\"),U$3,'FMIS+eServices'!$DX$3:$DX$200,$AA14)","v":17},{"$f":"COUNTIFS(INDIRECT(\"'FMIS+eServices'!$\"&$Z$16&\"$3:$\"&$Z$16&\"$200\"),V$3,'FMIS+eServices'!$DX$3:$DX$200,$AA14)","v":16},{"$f":"COUNTIFS(INDIRECT(\"'FMIS+eServices'!$\"&$Z$16&\"$3:$\"&$Z$16&\"$200\"),W$3,'FMIS+eServices'!$DX$3:$DX$200,$AA14)","v":0},{"$f":"COUNTIFS(INDIRECT(\"'FMIS+eServices'!$\"&$Z$16&\"$3:$\"&$Z$16&\"$200\"),X$3,'FMIS+eServices'!$DX$3:$DX$200,$AA14)","v":0},{"$f":"SUM(AB14:AE14)","v":33},null,null,null,null,11,11,{"$f":"COUNTIF('FMIS+eServices'!$AA$3:$AA$200,AM$3)","v":42},{"$f":"COUNTIF('FMIS+eServices'!$AA$3:$AA$200,AN$3)","v":156},null,null,198,"AA","Approved annual budget published?       ",null,0.21212121212121213,0.78787878787878785,null,null,null,11,{"$f":"COUNTIFS('FMIS+eServices'!$AA$3:$AA$200,BA$3,'FMIS+eServices'!$DT$3:$DT$200,\">A\")","v":38},{"$f":"COUNTIFS('FMIS+eServices'!$AA$3:$AA$200,BB$3,'FMIS+eServices'!$DT$3:$DT$200,\">A\")","v":130},null,null,168,null,0.22619047619047619,0.77380952380952384,null,null,null,"Botswana","BW",{"$f":"VLOOKUP($BL14,'FMIS+eServices'!$C$3:$EM$200,140,FALSE)","v":34.615384615384613},{"$f":"VLOOKUP($BL14,'FMIS+eServices'!$C$3:$DT$200,107,FALSE)","v":50},null,"Belize",{"$f":"VLOOKUP($BQ14,'FMIS+eServices'!$C$3:$EM$200,140,FALSE)","v":26.923076923076923},{"$f":"VLOOKUP($BQ14,'FMIS+eServices'!$C$3:$DT$200,105,FALSE)","v":1.55},{"$f":"VLOOKUP($BQ14,'FMIS+eServices'!$C$3:$DT$200,106,FALSE)","v":1.7741935483870968},null,null,null,null,null,null,null,"Burkina Faso",{"$f":"VLOOKUP($CB14,'FMIS+eServices'!$C$3:$EM$200,140,FALSE)","v":42.307692307692307},{"$f":"VLOOKUP($CB14,'FMIS+eServices'!$C$3:$DT$200,105,FALSE)","v":2.85},{"$f":"VLOOKUP($CB14,'FMIS+eServices'!$C$3:$DT$200,106,FALSE)","v":2.7903225806451615}]
[null,null,null,null,null,null,null,null,null,null,null,null,null,null,null,null,null,null,null,null,null,null,null,null,null,21,null,null,null,null,null,null,null,null,null,null,12,12,{"$f":"COUNTIF('FMIS+eServices'!$AB$3:$AB$200,AM$3)","v":34},{"$f":"COUNTIF('FMIS+eServices'!$AB$3:$AB$200,AN$3)","v":122},null,null,156,"AB","     If Yes > Regularity of publication",null,0.21794871794871795,0.78205128205128205,null,null,null,12,{"$f":"COUNTIFS('FMIS+eServices'!$AB$3:$AB$200,BA$3,'FMIS+eServices'!$DT$3:$DT$200,\">A\")","v":30},{"$f":"COUNTIFS('FMIS+eServices'!$AB$3:$AB$200,BB$3,'FMIS+eServices'!$DT$3:$DT$200,\">A\")","v":100},null,null,130,null,0.23076923076923078,0.76923076923076927,null,null,null,"Brazil","BR",{"$f":"VLOOKUP($BL15,'FMIS+eServices'!$C$3:$EM$200,140,FALSE)","v":100},{"$f":"VLOOKUP($BL15,'FMIS+eServices'!$C$3:$DT$200,107,FALSE)","v":73},null,"Benin",{"$f":"VLOOKUP($BQ15,'FMIS+eServices'!$C$3:$EM$200,140,FALSE)","v":19.230769230769234},{"$f":"VLOOKUP($BQ15,'FMIS+eServices'!$C$3:$DT$200,105,FALSE)","v":1.85},{"$f":"VLOOKUP($BQ15,'FMIS+eServices'!$C$3:$DT$200,106,FALSE)","v":1.967741935483871},null,null,null,null,null,null,null,"Burundi",{"$f":"VLOOKUP($CB15,'FMIS+eServices'!$C$3:$EM$200,140,FALSE)","v":19.230769230769234},{"$f":"VLOOKUP($CB15,'FMIS+eServices'!$C$3:$DT$200,105,FALSE)","v":2.75},{"$f":"VLOOKUP($CB15,'FMIS+eServices'!$C$3:$DT$200,106,FALSE)","v":2.4137931034482758}]
[null,null,null,null,null,null,null,null,null,null,null,null,null,null,null,null,null,null,"Indicator > ",null,null,null,null,null,null,{"$f":"VLOOKUP(Z15,AK4:AR42,8,FALSE)","v":"AR"},null,null,null,null,null,null,null,null,null,null,13,13,{"$f":"COUNTIF('FMIS+eServices'!$AD$3:$AD$200,AM$3)","v":95},{"$f":"COUNTIF('FMIS+eServices'!$AD$3:$AD$200,AN$3)","v":103},null,null,198,"AD","MTEF documents published?  ",null,0.47979797979797978,0.52020202020202022,null,null,null,13,{"$f":"COUNTIFS('FMIS+eServices'!$AD$3:$AD$200,BA$3,'FMIS+eServices'!$DT$3:$DT$200,\">A\")","v":87},{"$f":"COUNTIFS('FMIS+eServices'!$AD$3:$AD$200,BB$3,'FMIS+eServices'!$DT$3:$DT$200,\">A\")","v":81},null,null,168,null,0.5178571428571429,0.48214285714285715,null,null,null,"Bulgaria","BG",{"$f":"VLOOKUP($BL16,'FMIS+eServices'!$C$3:$EM$200,140,FALSE)","v":53.846153846153847},{"$f":"VLOOKUP($BL16,'FMIS+eServices'!$C$3:$DT$200,107,FALSE)","v":65},null,"Bhutan",{"$f":"VLOOKUP($BQ16,'FMIS+eServices'!$C$3:$EM$200,140,FALSE)","v":57.692307692307686},{"$f":"VLOOKUP($BQ16,'FMIS+eServices'!$C$3:$DT$200,105,FALSE)","v":2.95},{"$f":"VLOOKUP($BQ16,'FMIS+eServices'!$C$3:$DT$200,106,FALSE)","v":2.9666666666666668},null,null,null,null,null,null,null,"Cambodia",{"$f":"VLOOKUP($CB16,'FMIS+eServices'!$C$3:$EM$200,140,FALSE)","v":34.615384615384613},{"$f":"VLOOKUP($CB16,'FMIS+eServices'!$C$3:$DT$200,105,FALSE)","v":2.0499999999999998},{"$f":"VLOOKUP($CB16,'FMIS+eServices'!$C$3:$DT$200,106,FALSE)","v":2.1896551724137931}]
[null,null,null,null,null,null,null,null,null,null,null,null,null,null,null,null,null,null,null,null,"Indicator",{"$f":"VLOOKUP($Z$15,$AK$4:$AS$42,2,FALSE)","v":21},null,{"$f":"VLOOKUP($Z$15,$AK$4:$AS$42,9,FALSE)","v":"Consolidated results for key budget users?  "},null,null,null,null,null,null,null,null,null,null,null,null,14,14,{"$f":"COUNTIF('FMIS+eServices'!$AE$3:$AE$200,AM$3)","v":39},{"$f":"COUNTIF('FMIS+eServices'!$AE$3:$AE$200,AN$3)","v":64},null,null,103,"AE","     If Yes > Regularity of publication",null,0.37864077669902912,0.62135922330097082,null,null,null,14,{"$f":"COUNTIFS('FMIS+eServices'!$AE$3:$AE$200,BA$3,'FMIS+eServices'!$DT$3:$DT$200,\">A\")","v":37},{"$f":"COUNTIFS('FMIS+eServices'!$AE$3:$AE$200,BB$3,'FMIS+eServices'!$DT$3:$DT$200,\">A\")","v":44},null,null,81,null,0.4567901234567901,0.54320987654320985,null,null,null,"Burkina Faso","BF",{"$f":"VLOOKUP($BL17,'FMIS+eServices'!$C$3:$EM$200,140,FALSE)","v":42.307692307692307},{"$f":"VLOOKUP($BL17,'FMIS+eServices'!$C$3:$DT$200,107,FALSE)","v":23},null,"Bolivia",{"$f":"VLOOKUP($BQ17,'FMIS+eServices'!$C$3:$EM$200,140,FALSE)","v":73.076923076923066},{"$f":"VLOOKUP($BQ17,'FMIS+eServices'!$C$3:$DT$200,105,FALSE)","v":2.25},{"$f":"VLOOKUP($BQ17,'FMIS+eServices'!$C$3:$DT$200,106,FALSE)","v":2.5172413793103448},null,null,null,null,null,null,null,"Cape Verde",{"$f":"VLOOKUP($CB17,'FMIS+eServices'!$C$3:$EM$200,140,FALSE)","v":57.692307692307686},{"$f":"VLOOKUP($CB17,'FMIS+eServices'!$C$3:$DT$200,105,FALSE)","v":2.35},{"$f":"VLOOKUP($CB17,'FMIS+eServices'!$C$3:$DT$200,106,FALSE)","v":2.661290322580645}]
[null,null,null,null,null,null,null,null,null,null,null,null,null,null,null,null,null,null,null,null,null,null,null,null,null,null,null,null,null,null,null,null,null,null,null,null,15,15,{"$f":"COUNTIF('FMIS+eServices'!$AH$3:$AH$200,AM$3)","v":153},{"$f":"COUNTIF('FMIS+eServices'!$AH$3:$AH$200,AN$3)","v":45},null,null,198,"AH","Public investment plans?   ",null,0.77272727272727271,0.22727272727272727,null,null,null,15,{"$f":"COUNTIFS('FMIS+eServices'!$AH$3:$AH$200,BA$3,'FMIS+eServices'!$DT$3:$DT$200,\">A\")","v":129},{"$f":"COUNTIFS('FMIS+eServices'!$AH$3:$AH$200,BB$3,'FMIS+eServices'!$DT$3:$DT$200,\">A\")","v":39},null,null,168,null,0.7678571428571429,0.23214285714285715,null,null,null,"Cambodia","KH",{"$f":"VLOOKUP($BL18,'FMIS+eServices'!$C$3:$EM$200,140,FALSE)","v":34.615384615384613},{"$f":"VLOOKUP($BL18,'FMIS+eServices'!$C$3:$DT$200,107,FALSE)","v":15},null,"Botswana",{"$f":"VLOOKUP($BQ18,'FMIS+eServices'!$C$3:$EM$200,140,FALSE)","v":34.615384615384613},{"$f":"VLOOKUP($BQ18,'FMIS+eServices'!$C$3:$DT$200,105,FALSE)","v":2.65},{"$f":"VLOOKUP($BQ18,'FMIS+eServices'!$C$3:$DT$200,106,FALSE)","v":2.62},null,null,null,null,null,null,null,"Central African Republic",{"$f":"VLOOKUP($CB18,'FMIS+eServices'!$C$3:$EM$200,140,FALSE)","v":3.8461538461538463},{"$f":"VLOOKUP($CB18,'FMIS+eServices'!$C$3:$DT$200,105,FALSE)","v":1.55},{"$f":"VLOOKUP($CB18,'FMIS+eServices'!$C$3:$DT$200,106,FALSE)","v":1.6774193548387097}]
[null,"Current Practices",null,null,null,null,null,null,null,null,null,null,null,null,null,null,null,null,null,"# of points: 2",null,null,null,null,null,null,null,null,null,null,null,null,null,null,null,null,16,16,{"$f":"COUNTIF('FMIS+eServices'!$AI$3:$AI$200,AM$3)","v":12},{"$f":"COUNTIF('FMIS+eServices'!$AI$3:$AI$200,AN$3)","v":33},null,null,45,"AI","     If Yes > Regularity of publication",null,0.26666666666666666,0.73333333333333328,null,null,null,16,{"$f":"COUNTIFS('FMIS+eServices'!$AI$3:$AI$200,BA$3,'FMIS+eServices'!$DT$3:$DT$200,\">A\")","v":11},{"$f":"COUNTIFS('FMIS+eServices'!$AI$3:$AI$200,BB$3,'FMIS+eServices'!$DT$3:$DT$200,\">A\")","v":28},null,null,39,null,0.28205128205128205,0.71794871794871795,null,null,null,"Cameroon","CM",{"$f":"VLOOKUP($BL19,'FMIS+eServices'!$C$3:$EM$200,140,FALSE)","v":7.6923076923076925},{"$f":"VLOOKUP($BL19,'FMIS+eServices'!$C$3:$DT$200,107,FALSE)","v":10},null,"Brazil",{"$f":"VLOOKUP($BQ19,'FMIS+eServices'!$C$3:$EM$200,140,FALSE)","v":100},{"$f":"VLOOKUP($BQ19,'FMIS+eServices'!$C$3:$DT$200,105,FALSE)","v":3.5555555555555554},{"$f":"VLOOKUP($BQ19,'FMIS+eServices'!$C$3:$DT$200,106,FALSE)","v":3.5178571428571428},null,null,null,null,null,null,null,"Colombia",{"$f":"VLOOKUP($CB19,'FMIS+eServices'!$C$3:$EM$200,140,FALSE)","v":92.307692307692307},{"$f":"VLOOKUP($CB19,'FMIS+eServices'!$C$3:$DT$200,105,FALSE)","v":3.125},{"$f":"VLOOKUP($CB19,'FMIS+eServices'!$C$3:$DT$200,106,FALSE)","v":2.9629629629629628}]
[null,null,null,null,null,null,null,null,null,null,null,null,null,null,null,null,null,null,null,null,null,null,null,null,null,null,null,null,null,null,null,null,null,null,null,null,17,17,{"$f":"COUNTIF('FMIS+eServices'!$AK$3:$AK$200,AM$3)","v":49},{"$f":"COUNTIF('FMIS+eServices'!$AK$3:$AK$200,AN$3)","v":149},null,null,198,"AK","Budget execution results?    ",null,0.24747474747474749,0.75252525252525249,null,null,null,17,{"$f":"COUNTIFS('FMIS+eServices'!$AK$3:$AK$200,BA$3,'FMIS+eServices'!$DT$3:$DT$200,\">A\")","v":42},{"$f":"COUNTIFS('FMIS+eServices'!$AK$3:$AK$200,BB$3,'FMIS+eServices'!$DT$3:$DT$200,\">A\")","v":126},null,null,168,null,0.25,0.75,null,null,null,"Chad","TD",{"$f":"VLOOKUP($BL20,'FMIS+eServices'!$C$3:$EM$200,140,FALSE)","v":3.8461538461538463},{"$f":"VLOOKUP($BL20,'FMIS+eServices'!$C$3:$DT$200,107,FALSE)","v":3},null,"Burkina Faso",{"$f":"VLOOKUP($BQ20,'FMIS+eServices'!$C$3:$EM$200,140,FALSE)","v":42.307692307692307},{"$f":"VLOOKUP($BQ20,'FMIS+eServices'!$C$3:$DT$200,105,FALSE)","v":2.85},{"$f":"VLOOKUP($BQ20,'FMIS+eServices'!$C$3:$DT$200,106,FALSE)","v":2.7903225806451615},null,"           PEFA vs. FMIS & OBD Scores (125 economies)",null,null,null,null,null,"Comoros",{"$f":"VLOOKUP($CB20,'FMIS+eServices'!$C$3:$EM$200,140,FALSE)","v":3.8461538461538463},{"$f":"VLOOKUP($CB20,'FMIS+eServices'!$C$3:$DT$200,105,FALSE)","v":1.56},{"$f":"VLOOKUP($CB20,'FMIS+eServices'!$C$3:$DT$200,106,FALSE)","v":1.62}]
[null,null,null,null,null,null,null,null,null,null,null,null,null,null,null,null,null,null,null,null,null,null,null,null,null,null,null,null,null,null,null,null,null,null,null,null,18,18,{"$f":"COUNTIF('FMIS+eServices'!$AM$3:$AM$200,AM$3)","v":30},{"$f":"COUNTIF('FMIS+eServices'!$AM$3:$AM$200,AN$3)","v":119},null,null,149,"AM","     If Yes > Regularity of publication",null,0.20134228187919462,0.79865771812080533,null,null,null,18,{"$f":"COUNTIFS('FMIS+eServices'!$AM$3:$AM$200,BA$3,'FMIS+eServices'!$DT$3:$DT$200,\">A\")","v":28},{"$f":"COUNTIFS('FMIS+eServices'!$AM$3:$AM$200,BB$3,'FMIS+eServices'!$DT$3:$DT$200,\">A\")","v":98},null,null,126,null,0.22222222222222221,0.77777777777777779,null,null,null,"Chile","CL",{"$f":"VLOOKUP($BL21,'FMIS+eServices'!$C$3:$EM$200,140,FALSE)","v":65.384615384615387},{"$f":"VLOOKUP($BL21,'FMIS+eServices'!$C$3:$DT$200,107,FALSE)","v":66},null,"Burundi",{"$f":"VLOOKUP($BQ21,'FMIS+eServices'!$C$3:$EM$200,140,FALSE)","v":19.230769230769234},{"$f":"VLOOKUP($BQ21,'FMIS+eServices'!$C$3:$DT$200,105,FALSE)","v":2.75},{"$f":"VLOOKUP($BQ21,'FMIS+eServices'!$C$3:$DT$200,106,FALSE)","v":2.4137931034482758},null,null,null,null,null,null,null,"Congo, Rep.",{"$f":"VLOOKUP($CB21,'FMIS+eServices'!$C$3:$EM$200,140,FALSE)","v":23.076923076923077},{"$f":"VLOOKUP($CB21,'FMIS+eServices'!$C$3:$DT$200,105,FALSE)","v":1.9},{"$f":"VLOOKUP($CB21,'FMIS+eServices'!$C$3:$DT$200,106,FALSE)","v":2}]
[null,null,null,null,null,null,null,null,null,null,null,null,null,null,null,null,null,null,null,null,null,null,null,null,null,null,null,null,null,null,null,null,null,null,null,null,19,19,{"$f":"COUNTIF('FMIS+eServices'!$AO$3:$AO$200,AM$3)","v":122},{"$f":"COUNTIF('FMIS+eServices'!$AO$3:$AO$200,AN$3)","v":76},null,null,198,"AO","External audit of central gov budget operations?    ",null,0.61616161616161613,0.38383838383838381,null,null,null,19,{"$f":"COUNTIFS('FMIS+eServices'!$AO$3:$AO$200,BA$3,'FMIS+eServices'!$DT$3:$DT$200,\">A\")","v":109},{"$f":"COUNTIFS('FMIS+eServices'!$AO$3:$AO$200,BB$3,'FMIS+eServices'!$DT$3:$DT$200,\">A\")","v":59},null,null,168,null,0.64880952380952384,0.35119047619047616,null,null,null,"China","CN",{"$f":"VLOOKUP($BL22,'FMIS+eServices'!$C$3:$EM$200,140,FALSE)","v":50},{"$f":"VLOOKUP($BL22,'FMIS+eServices'!$C$3:$DT$200,107,FALSE)","v":11},null,"Cambodia",{"$f":"VLOOKUP($BQ22,'FMIS+eServices'!$C$3:$EM$200,140,FALSE)","v":34.615384615384613},{"$f":"VLOOKUP($BQ22,'FMIS+eServices'!$C$3:$DT$200,105,FALSE)","v":2.0499999999999998},{"$f":"VLOOKUP($BQ22,'FMIS+eServices'!$C$3:$DT$200,106,FALSE)","v":2.1896551724137931},null,null,null,null,null,null,null,"Congo, Dem. Rep.",{"$f":"VLOOKUP($CB22,'FMIS+eServices'!$C$3:$EM$200,140,FALSE)","v":42.307692307692307},{"$f":"VLOOKUP($CB22,'FMIS+eServices'!$C$3:$DT$200,105,FALSE)","v":2},{"$f":"VLOOKUP($CB22,'FMIS+eServices'!$C$3:$DT$200,106,FALSE)","v":1.6}]
[null,null,null,null,null,null,null,null,null,null,null,null,null,null,null,null,null,null,null,null,null,null,null,null,null,null,null,null,null,null,null,null,null,null,null,null,20,20,{"$f":"COUNTIF('FMIS+eServices'!$AP$3:$AP$200,AM$3)","v":15},{"$f":"COUNTIF('FMIS+eServices'!$AP$3:$AP$200,AN$3)","v":61},null,null,76,"AP","     If Yes > Regularity of publication",null,0.19736842105263158,0.80263157894736847,null,null,null,20,{"$f":"COUNTIFS('FMIS+eServices'!$AP$3:$AP$200,BA$3,'FMIS+eServices'!$DT$3:$DT$200,\">A\")","v":15},{"$f":"COUNTIFS('FMIS+eServices'!$AP$3:$AP$200,BB$3,'FMIS+eServices'!$DT$3:$DT$200,\">A\")","v":44},null,null,59,null,0.25423728813559321,0.74576271186440679,null,null,null,"Colombia","CO",{"$f":"VLOOKUP($BL23,'FMIS+eServices'!$C$3:$EM$200,140,FALSE)","v":92.307692307692307},{"$f":"VLOOKUP($BL23,'FMIS+eServices'!$C$3:$DT$200,107,FALSE)","v":58},null,"Cameroon",{"$f":"VLOOKUP($BQ23,'FMIS+eServices'!$C$3:$EM$200,140,FALSE)","v":7.6923076923076925},{"$f":"VLOOKUP($BQ23,'FMIS+eServices'!$C$3:$DT$200,105,FALSE)","v":1.9},{"$f":"VLOOKUP($BQ23,'FMIS+eServices'!$C$3:$DT$200,106,FALSE)","v":2},null,null,null,null,null,null,null,"Costa Rica",{"$f":"VLOOKUP($CB23,'FMIS+eServices'!$C$3:$EM$200,140,FALSE)","v":53.846153846153847},{"$f":"VLOOKUP($CB23,'FMIS+eServices'!$C$3:$DT$200,105,FALSE)","v":3.2},{"$f":"VLOOKUP($CB23,'FMIS+eServices'!$C$3:$DT$200,106,FALSE)","v":3.1774193548387095}]
[null,null,null,null,null,null,null,null,null,null,null,null,null,null,null,null,null,null,null,null,null,null,null,null,null,null,null,null,null,null,null,null,null,null,null,null,21,21,{"$f":"COUNTIF('FMIS+eServices'!$AR$3:$AR$200,AM$3)","v":56},{"$f":"COUNTIF('FMIS+eServices'!$AR$3:$AR$200,AN$3)","v":142},null,null,198,"AR","Consolidated results for key budget users?  ",null,0.28282828282828282,0.71717171717171713,null,null,null,21,{"$f":"COUNTIFS('FMIS+eServices'!$AR$3:$AR$200,BA$3,'FMIS+eServices'!$DT$3:$DT$200,\">A\")","v":50},{"$f":"COUNTIFS('FMIS+eServices'!$AR$3:$AR$200,BB$3,'FMIS+eServices'!$DT$3:$DT$200,\">A\")","v":118},null,null,168,null,0.29761904761904762,0.70238095238095233,null,null,null,"Congo, Dem. Rep.","CD",{"$f":"VLOOKUP($BL24,'FMIS+eServices'!$C$3:$EM$200,140,FALSE)","v":42.307692307692307},{"$f":"VLOOKUP($BL24,'FMIS+eServices'!$C$3:$DT$200,107,FALSE)","v":18},null,"Cape Verde",{"$f":"VLOOKUP($BQ24,'FMIS+eServices'!$C$3:$EM$200,140,FALSE)","v":57.692307692307686},{"$f":"VLOOKUP($BQ24,'FMIS+eServices'!$C$3:$DT$200,105,FALSE)","v":2.35},{"$f":"VLOOKUP($BQ24,'FMIS+eServices'!$C$3:$DT$200,106,FALSE)","v":2.661290322580645},null,null,null,null,null,null,null,"Côte d'Ivoire",{"$f":"VLOOKUP($CB24,'FMIS+eServices'!$C$3:$EM$200,140,FALSE)","v":46.153846153846153},{"$f":"VLOOKUP($CB24,'FMIS+eServices'!$C$3:$DT$200,105,FALSE)","v":1.8},{"$f":"VLOOKUP($CB24,'FMIS+eServices'!$C$3:$DT$200,106,FALSE)","v":1.7777777777777777}]
[null,null,null,null,null,null,null,null,null,null,null,null,null,null,null,null,null,null,null,null,null,null,null,null,null,null,null,null,null,null,null,null,null,null,null,null,22,22,{"$f":"COUNTIF('FMIS+eServices'!$AS$3:$AS$200,AM$3)","v":52},{"$f":"COUNTIF('FMIS+eServices'!$AS$3:$AS$200,AN$3)","v":146},null,null,198,"AS","Sector analysis?",null,0.26262626262626265,0.73737373737373735,null,null,null,22,{"$f":"COUNTIFS('FMIS+eServices'!$AS$3:$AS$200,BA$3,'FMIS+eServices'!$DT$3:$DT$200,\">A\")","v":48},{"$f":"COUNTIFS('FMIS+eServices'!$AS$3:$AS$200,BB$3,'FMIS+eServices'!$DT$3:$DT$200,\">A\")","v":120},null,null,168,null,0.2857142857142857,0.7142857142857143,null,null,null,"Costa Rica","CR",{"$f":"VLOOKUP($BL25,'FMIS+eServices'!$C$3:$EM$200,140,FALSE)","v":53.846153846153847},{"$f":"VLOOKUP($BL25,'FMIS+eServices'!$C$3:$DT$200,107,FALSE)","v":50},null,"Central African Republic",{"$f":"VLOOKUP($BQ25,'FMIS+eServices'!$C$3:$EM$200,140,FALSE)","v":3.8461538461538463},{"$f":"VLOOKUP($BQ25,'FMIS+eServices'!$C$3:$DT$200,105,FALSE)","v":1.55},{"$f":"VLOOKUP($BQ25,'FMIS+eServices'!$C$3:$DT$200,106,FALSE)","v":1.6774193548387097},null,null,null,null,null,null,null,"Dominican Republic",{"$f":"VLOOKUP($CB25,'FMIS+eServices'!$C$3:$EM$200,140,FALSE)","v":65.384615384615387},{"$f":"VLOOKUP($CB25,'FMIS+eServices'!$C$3:$DT$200,105,FALSE)","v":2.8},{"$f":"VLOOKUP($CB25,'FMIS+eServices'!$C$3:$DT$200,106,FALSE)","v":2.4500000000000002}]
[null,null,null,null,null,null,null,null,null,null,null,null,null,null,null,null,null,null,null,null,null,null,null,null,null,null,null,null,null,null,null,null,null,null,null,null,23,23,{"$f":"COUNTIF('FMIS+eServices'!$AT$3:$AT$200,AM$3)","v":137},{"$f":"COUNTIF('FMIS+eServices'!$AT$3:$AT$200,AN$3)","v":59},null,null,196,"AT","Regional analysis?  ",null,{"$f":"AM26/198","v":0.69191919191919193},{"$f":"AN26/198","v":0.29797979797979796},null,{"$f":"(198-AQ26)/198","v":1.0101010101010102E-2},null,23,{"$f":"COUNTIFS('FMIS+eServices'!$AT$3:$AT$200,BA$3,'FMIS+eServices'!$DT$3:$DT$200,\">A\")","v":118},{"$f":"COUNTIFS('FMIS+eServices'!$AT$3:$AT$200,BB$3,'FMIS+eServices'!$DT$3:$DT$200,\">A\")","v":48},null,null,166,null,{"$f":"BA26/168","v":0.70238095238095233},{"$f":"BB26/168","v":0.2857142857142857},null,{"$f":"(168-BE26)/168","v":1.1904761904761904E-2},null,"Croatia","HR",{"$f":"VLOOKUP($BL26,'FMIS+eServices'!$C$3:$EM$200,140,FALSE)","v":53.846153846153847},{"$f":"VLOOKUP($BL26,'FMIS+eServices'!$C$3:$DT$200,107,FALSE)","v":61},null,"Chad",{"$f":"VLOOKUP($BQ26,'FMIS+eServices'!$C$3:$EM$200,140,FALSE)","v":3.8461538461538463},{"$f":"VLOOKUP($BQ26,'FMIS+eServices'!$C$3:$DT$200,105,FALSE)","v":1.95},{"$f":"VLOOKUP($BQ26,'FMIS+eServices'!$C$3:$DT$200,106,FALSE)","v":1.9166666666666667},null,null,null,null,null,null,null,"El Salvador",{"$f":"VLOOKUP($CB26,'FMIS+eServices'!$C$3:$EM$200,140,FALSE)","v":84.615384615384613},{"$f":"VLOOKUP($CB26,'FMIS+eServices'!$C$3:$DT$200,105,FALSE)","v":2.65},{"$f":"VLOOKUP($CB26,'FMIS+eServices'!$C$3:$DT$200,106,FALSE)","v":2.73}]
[null,null,null,null,null,null,null,null,null,null,null,null,null,null,null,null,null,null,null,null,null,null,null,null,null,null,null,null,null,null,null,null,null,null,null,null,24,24,{"$f":"COUNTIF('FMIS+eServices'!$AU$3:$AU$200,AM$3)","v":168},{"$f":"COUNTIF('FMIS+eServices'!$AU$3:$AU$200,AN$3)","v":30},null,null,198,"AU","Gender analysis?",null,0.84848484848484851,0.15151515151515152,null,null,null,24,{"$f":"COUNTIFS('FMIS+eServices'!$AU$3:$AU$200,BA$3,'FMIS+eServices'!$DT$3:$DT$200,\">A\")","v":146},{"$f":"COUNTIFS('FMIS+eServices'!$AU$3:$AU$200,BB$3,'FMIS+eServices'!$DT$3:$DT$200,\">A\")","v":22},null,null,168,null,0.86904761904761907,0.13095238095238096,null,null,null,"Czech Republic","CS",{"$f":"VLOOKUP($BL27,'FMIS+eServices'!$C$3:$EM$200,140,FALSE)","v":50},{"$f":"VLOOKUP($BL27,'FMIS+eServices'!$C$3:$DT$200,107,FALSE)","v":75},null,"Colombia",{"$f":"VLOOKUP($BQ27,'FMIS+eServices'!$C$3:$EM$200,140,FALSE)","v":92.307692307692307},{"$f":"VLOOKUP($BQ27,'FMIS+eServices'!$C$3:$DT$200,105,FALSE)","v":3.125},{"$f":"VLOOKUP($BQ27,'FMIS+eServices'!$C$3:$DT$200,106,FALSE)","v":2.9629629629629628},null,null,null,null,null,null,null,"Ethiopia",{"$f":"VLOOKUP($CB27,'FMIS+eServices'!$C$3:$EM$200,140,FALSE)","v":30.76923076923077},{"$f":"VLOOKUP($CB27,'FMIS+eServices'!$C$3:$DT$200,105,FALSE)","v":2.67},{"$f":"VLOOKUP($CB27,'FMIS+eServices'!$C$3:$DT$200,106,FALSE)","v":2.8}]
[null,null,null,null,null,null,null,null,null,null,null,null,null,null,null,null,null,null,null,null,null,null,null,null,null,null,null,null,null,null,null,null,null,null,null,null,25,25,{"$f":"COUNTIF('FMIS+eServices'!$AV$3:$AV$200,AM$3)","v":174},{"$f":"COUNTIF('FMIS+eServices'!$AV$3:$AV$200,AN$3)","v":24},null,null,198,"AV","Analysis of spending for Children?",null,0.87878787878787878,0.12121212121212122,null,null,null,25,{"$f":"COUNTIFS('FMIS+eServices'!$AV$3:$AV$200,BA$3,'FMIS+eServices'!$DT$3:$DT$200,\">A\")","v":149},{"$f":"COUNTIFS('FMIS+eServices'!$AV$3:$AV$200,BB$3,'FMIS+eServices'!$DT$3:$DT$200,\">A\")","v":19},null,null,168,null,0.88690476190476186,0.1130952380952381,null,null,null,"Dominican Republic","DO",{"$f":"VLOOKUP($BL28,'FMIS+eServices'!$C$3:$EM$200,140,FALSE)","v":65.384615384615387},{"$f":"VLOOKUP($BL28,'FMIS+eServices'!$C$3:$DT$200,107,FALSE)","v":29},null,"Comoros",{"$f":"VLOOKUP($BQ28,'FMIS+eServices'!$C$3:$EM$200,140,FALSE)","v":3.8461538461538463},{"$f":"VLOOKUP($BQ28,'FMIS+eServices'!$C$3:$DT$200,105,FALSE)","v":1.56},{"$f":"VLOOKUP($BQ28,'FMIS+eServices'!$C$3:$DT$200,106,FALSE)","v":1.62},null,null,null,null,null,null,null,"Gabon",{"$f":"VLOOKUP($CB28,'FMIS+eServices'!$C$3:$EM$200,140,FALSE)","v":50},{"$f":"VLOOKUP($CB28,'FMIS+eServices'!$C$3:$DT$200,105,FALSE)","v":1.875},{"$f":"VLOOKUP($CB28,'FMIS+eServices'!$C$3:$DT$200,106,FALSE)","v":1.9565217391304348}]
[null,null,null,null,null,null,null,null,null,null,null,null,null,null,null,null,null,null,null,"# of points: 3",null,null,null,null,null,null,null,null,null,null,null,null,null,null,null,null,26,26,{"$f":"COUNTIF('FMIS+eServices'!$AW$3:$AW$200,AM$3)","v":52},{"$f":"COUNTIF('FMIS+eServices'!$AW$3:$AW$200,AN$3)","v":146},null,null,198,"AW","Debt data?",null,0.26262626262626265,0.73737373737373735,null,null,null,26,{"$f":"COUNTIFS('FMIS+eServices'!$AW$3:$AW$200,BA$3,'FMIS+eServices'!$DT$3:$DT$200,\">A\")","v":47},{"$f":"COUNTIFS('FMIS+eServices'!$AW$3:$AW$200,BB$3,'FMIS+eServices'!$DT$3:$DT$200,\">A\")","v":121},null,null,168,null,0.27976190476190477,0.72023809523809523,null,null,null,"Ecuador","EC",{"$f":"VLOOKUP($BL29,'FMIS+eServices'!$C$3:$EM$200,140,FALSE)","v":80.769230769230774},{"$f":"VLOOKUP($BL29,'FMIS+eServices'!$C$3:$DT$200,107,FALSE)","v":31},null,"Congo, Rep.",{"$f":"VLOOKUP($BQ29,'FMIS+eServices'!$C$3:$EM$200,140,FALSE)","v":23.076923076923077},{"$f":"VLOOKUP($BQ29,'FMIS+eServices'!$C$3:$DT$200,105,FALSE)","v":1.9},{"$f":"VLOOKUP($BQ29,'FMIS+eServices'!$C$3:$DT$200,106,FALSE)","v":2},null,null,null,null,null,null,null,"Georgia",{"$f":"VLOOKUP($CB29,'FMIS+eServices'!$C$3:$EM$200,140,FALSE)","v":73.076923076923066},{"$f":"VLOOKUP($CB29,'FMIS+eServices'!$C$3:$DT$200,105,FALSE)","v":3.4},{"$f":"VLOOKUP($CB29,'FMIS+eServices'!$C$3:$DT$200,106,FALSE)","v":3.27}]
[null,null,null,null,null,null,null,null,null,null,null,null,null,null,null,null,null,null,null,null,null,null,null,null,null,null,null,null,null,null,null,null,null,null,null,null,27,27,{"$f":"COUNTIF('FMIS+eServices'!$AX$3:$AX$200,AM$3)","v":72},{"$f":"COUNTIF('FMIS+eServices'!$AX$3:$AX$200,AN$3)","v":124},null,null,196,"AX","Foreign aid/grants? ",null,{"$f":"AM30/198","v":0.36363636363636365},{"$f":"AN30/198","v":0.6262626262626263},null,{"$f":"(198-AQ30)/198","v":1.0101010101010102E-2},null,27,{"$f":"COUNTIFS('FMIS+eServices'!$AX$3:$AX$200,BA$3,'FMIS+eServices'!$DT$3:$DT$200,\">A\")","v":61},{"$f":"COUNTIFS('FMIS+eServices'!$AX$3:$AX$200,BB$3,'FMIS+eServices'!$DT$3:$DT$200,\">A\")","v":106},null,null,167,null,{"$f":"BA30/168","v":0.36309523809523808},{"$f":"BB30/168","v":0.63095238095238093},null,{"$f":"(168-BE30)/168","v":5.9523809523809521E-3},null,"Egypt","EG",{"$f":"VLOOKUP($BL30,'FMIS+eServices'!$C$3:$EM$200,140,FALSE)","v":38.461538461538467},{"$f":"VLOOKUP($BL30,'FMIS+eServices'!$C$3:$DT$200,107,FALSE)","v":13},null,"Congo, Dem. Rep.",{"$f":"VLOOKUP($BQ30,'FMIS+eServices'!$C$3:$EM$200,140,FALSE)","v":42.307692307692307},{"$f":"VLOOKUP($BQ30,'FMIS+eServices'!$C$3:$DT$200,105,FALSE)","v":2},{"$f":"VLOOKUP($BQ30,'FMIS+eServices'!$C$3:$DT$200,106,FALSE)","v":1.6},null,null,null,null,null,null,null,"Ghana",{"$f":"VLOOKUP($CB30,'FMIS+eServices'!$C$3:$EM$200,140,FALSE)","v":61.53846153846154},{"$f":"VLOOKUP($CB30,'FMIS+eServices'!$C$3:$DT$200,105,FALSE)","v":2.15},{"$f":"VLOOKUP($CB30,'FMIS+eServices'!$C$3:$DT$200,106,FALSE)","v":2.02}]
[null,"Open Budget Index Scores vs. FMIS & BT Grades",null,null,null,null,null,null,null,null,null,null,null,null,null,null,null,null,null,null,null,null,null,null,null,null,null,null,null,null,null,null,null,null,null,null,28,28,{"$f":"COUNTIF('FMIS+eServices'!$AY$3:$AY$200,AM$3)","v":120},{"$f":"COUNTIF('FMIS+eServices'!$AY$3:$AY$200,AN$3)","v":76},null,null,196,"AY","Fiscal data on sub-national gov/municipalities?",null,{"$f":"AM31/198","v":0.60606060606060608},{"$f":"AN31/198","v":0.38383838383838381},null,{"$f":"(198-AQ31)/198","v":1.0101010101010102E-2},null,28,{"$f":"COUNTIFS('FMIS+eServices'!$AY$3:$AY$200,BA$3,'FMIS+eServices'!$DT$3:$DT$200,\">A\")","v":106},{"$f":"COUNTIFS('FMIS+eServices'!$AY$3:$AY$200,BB$3,'FMIS+eServices'!$DT$3:$DT$200,\">A\")","v":60},null,null,166,null,{"$f":"BA31/168","v":0.63095238095238093},{"$f":"BB31/168","v":0.35714285714285715},null,{"$f":"(168-BE31)/168","v":1.1904761904761904E-2},null,"El Salvador","SV",{"$f":"VLOOKUP($BL31,'FMIS+eServices'!$C$3:$EM$200,140,FALSE)","v":84.615384615384613},{"$f":"VLOOKUP($BL31,'FMIS+eServices'!$C$3:$DT$200,107,FALSE)","v":43},null,"Costa Rica",{"$f":"VLOOKUP($BQ31,'FMIS+eServices'!$C$3:$EM$200,140,FALSE)","v":53.846153846153847},{"$f":"VLOOKUP($BQ31,'FMIS+eServices'!$C$3:$DT$200,105,FALSE)","v":3.2},{"$f":"VLOOKUP($BQ31,'FMIS+eServices'!$C$3:$DT$200,106,FALSE)","v":3.1774193548387095},null,null,null,null,null,null,null,"Grenada",{"$f":"VLOOKUP($CB31,'FMIS+eServices'!$C$3:$EM$200,140,FALSE)","v":34.615384615384613},{"$f":"VLOOKUP($CB31,'FMIS+eServices'!$C$3:$DT$200,105,FALSE)","v":2.4500000000000002},{"$f":"VLOOKUP($CB31,'FMIS+eServices'!$C$3:$DT$200,106,FALSE)","v":2.2166666666666668}]
[null,"OBI2012","A","B","C","D","Sum",null,"0 - 20       Scant or no information",null,null,null,null,null,null,null,null,null,null,null,null,null,null,null,null,null,null,null,null,null,null,null,null,null,null,null,29,29,{"$f":"COUNTIF('FMIS+eServices'!$AZ$3:$AZ$200,AM$3)","v":91},{"$f":"COUNTIF('FMIS+eServices'!$AZ$3:$AZ$200,AN$3)","v":107},null,null,198,"AZ","Financial Statements?",null,0.45959595959595961,0.54040404040404044,null,null,null,29,{"$f":"COUNTIFS('FMIS+eServices'!$AZ$3:$AZ$200,BA$3,'FMIS+eServices'!$DT$3:$DT$200,\">A\")","v":82},{"$f":"COUNTIFS('FMIS+eServices'!$AZ$3:$AZ$200,BB$3,'FMIS+eServices'!$DT$3:$DT$200,\">A\")","v":86},null,null,168,null,0.48809523809523808,0.51190476190476186,null,null,null,"Equatorial Guinea","GQ",{"$f":"VLOOKUP($BL32,'FMIS+eServices'!$C$3:$EM$200,140,FALSE)","v":0},{"$f":"VLOOKUP($BL32,'FMIS+eServices'!$C$3:$DT$200,107,FALSE)","v":0},null,"Côte d'Ivoire",{"$f":"VLOOKUP($BQ32,'FMIS+eServices'!$C$3:$EM$200,140,FALSE)","v":46.153846153846153},{"$f":"VLOOKUP($BQ32,'FMIS+eServices'!$C$3:$DT$200,105,FALSE)","v":1.8},{"$f":"VLOOKUP($BQ32,'FMIS+eServices'!$C$3:$DT$200,106,FALSE)","v":1.7777777777777777},null,null,null,null,null,null,null,"Guatemala",{"$f":"VLOOKUP($CB32,'FMIS+eServices'!$C$3:$EM$200,140,FALSE)","v":76.923076923076934},{"$f":"VLOOKUP($CB32,'FMIS+eServices'!$C$3:$DT$200,105,FALSE)","v":2.72},{"$f":"VLOOKUP($CB32,'FMIS+eServices'!$C$3:$DT$200,106,FALSE)","v":2.5}]
[null,"0 - 20",1,4,13,8,{"$f":"SUM(C33:F33)","v":26},null,"21 - 40     Minimal",null,null,null,null,null,null,null,null,null,null,null,null,null,null,null,null,null,null,null,null,null,null,null,null,null,null,null,30,30,{"$f":"COUNTIF('FMIS+eServices'!$BA$3:$BA$200,AM$3)","v":144},{"$f":"COUNTIF('FMIS+eServices'!$BA$3:$BA$200,AN$3)","v":54},null,null,198,"BA","Public procurement and contracts?",null,0.72727272727272729,0.27272727272727271,null,null,null,30,{"$f":"COUNTIFS('FMIS+eServices'!$BA$3:$BA$200,BA$3,'FMIS+eServices'!$DT$3:$DT$200,\">A\")","v":126},{"$f":"COUNTIFS('FMIS+eServices'!$BA$3:$BA$200,BB$3,'FMIS+eServices'!$DT$3:$DT$200,\">A\")","v":42},null,null,168,null,0.75,0.25,null,null,null,"Fiji","FJ",{"$f":"VLOOKUP($BL33,'FMIS+eServices'!$C$3:$EM$200,140,FALSE)","v":46.153846153846153},{"$f":"VLOOKUP($BL33,'FMIS+eServices'!$C$3:$DT$200,107,FALSE)","v":6},null,"Dominica",{"$f":"VLOOKUP($BQ33,'FMIS+eServices'!$C$3:$EM$200,140,FALSE)","v":46.153846153846153},{"$f":"VLOOKUP($BQ33,'FMIS+eServices'!$C$3:$DT$200,105,FALSE)","v":2.5499999999999998},{"$f":"VLOOKUP($BQ33,'FMIS+eServices'!$C$3:$DT$200,106,FALSE)","v":2.5161290322580645},null,null,null,null,null,null,null,"Guinea-Bissau",{"$f":"VLOOKUP($CB33,'FMIS+eServices'!$C$3:$EM$200,140,FALSE)","v":42.307692307692307},{"$f":"VLOOKUP($CB33,'FMIS+eServices'!$C$3:$DT$200,105,FALSE)","v":1.3333333333333333},{"$f":"VLOOKUP($CB33,'FMIS+eServices'!$C$3:$DT$200,106,FALSE)","v":1.2777777777777777}]
[null,"21 - 40",1,12,1,1,{"$f":"SUM(C34:F34)","v":15},null,"41 - 60     Some",null,null,null,null,null,null,null,null,null,null,null,null,null,null,null,null,null,null,null,null,null,null,null,null,null,null,null,31,31,{"$f":"COUNTIF('FMIS+eServices'!$BD$3:$BD$200,AM$3)","v":132},{"$f":"COUNTIF('FMIS+eServices'!$BD$3:$BD$200,AN$3)","v":66},null,null,198,"BD","Open Government/Open Budget web site? ",null,0.66666666666666663,0.33333333333333331,null,null,null,31,{"$f":"COUNTIFS('FMIS+eServices'!$BD$3:$BD$200,BA$3,'FMIS+eServices'!$DT$3:$DT$200,\">A\")","v":122},{"$f":"COUNTIFS('FMIS+eServices'!$BD$3:$BD$200,BB$3,'FMIS+eServices'!$DT$3:$DT$200,\">A\")","v":46},null,null,168,null,0.72619047619047616,0.27380952380952384,null,null,null,"France","FR",{"$f":"VLOOKUP($BL34,'FMIS+eServices'!$C$3:$EM$200,140,FALSE)","v":69.230769230769226},{"$f":"VLOOKUP($BL34,'FMIS+eServices'!$C$3:$DT$200,107,FALSE)","v":83},null,"Dominican Republic",{"$f":"VLOOKUP($BQ34,'FMIS+eServices'!$C$3:$EM$200,140,FALSE)","v":65.384615384615387},{"$f":"VLOOKUP($BQ34,'FMIS+eServices'!$C$3:$DT$200,105,FALSE)","v":2.8},{"$f":"VLOOKUP($BQ34,'FMIS+eServices'!$C$3:$DT$200,106,FALSE)","v":2.4500000000000002},null,null,null,null,null,null,null,"Haiti",{"$f":"VLOOKUP($CB34,'FMIS+eServices'!$C$3:$EM$200,140,FALSE)","v":46.153846153846153},{"$f":"VLOOKUP($CB34,'FMIS+eServices'!$C$3:$DT$200,105,FALSE)","v":1.3333333333333333},{"$f":"VLOOKUP($CB34,'FMIS+eServices'!$C$3:$DT$200,106,FALSE)","v":1.48}]
[null,"41 - 60",7,23,5,1,{"$f":"SUM(C35:F35)","v":36},null,"61 - 80     Significant",null,null,null,null,null,null,null,null,null,null,null,null,null,null,null,null,null,null,null,null,null,null,null,null,null,null,null,32,32,{"$f":"COUNTIF('FMIS+eServices'!$BF$3:$BF$200,AM$3)","v":170},{"$f":"COUNTIF('FMIS+eServices'!$BF$3:$BF$200,AN$3)","v":10},{"$f":"COUNTIF('FMIS+eServices'!$BF$3:$BF$200,AO$3)","v":16},null,196,"BF","Does FMIS support the PFM needs of state/local governments or municipalities?",null,{"$f":"AM35/198","v":0.85858585858585856},{"$f":"AN35/198","v":5.0505050505050504E-2},{"$f":"AO35/198","v":8.0808080808080815E-2},{"$f":"(198-AQ35)/198","v":1.0101010101010102E-2},null,32,{"$f":"COUNTIFS('FMIS+eServices'!$BF$3:$BF$200,BA$3,'FMIS+eServices'!$DT$3:$DT$200,\">A\")","v":141},{"$f":"COUNTIFS('FMIS+eServices'!$BF$3:$BF$200,BB$3,'FMIS+eServices'!$DT$3:$DT$200,\">A\")","v":10},{"$f":"COUNTIFS('FMIS+eServices'!$BF$3:$BF$200,BC$3,'FMIS+eServices'!$DT$3:$DT$200,\">A\")","v":15},null,166,null,{"$f":"BA35/168","v":0.8392857142857143},{"$f":"BB35/168","v":5.9523809523809521E-2},{"$f":"BC35/168","v":8.9285714285714288E-2},{"$f":"(168-BE35)/168","v":1.1904761904761904E-2},null,"Georgia","GE",{"$f":"VLOOKUP($BL35,'FMIS+eServices'!$C$3:$EM$200,140,FALSE)","v":73.076923076923066},{"$f":"VLOOKUP($BL35,'FMIS+eServices'!$C$3:$DT$200,107,FALSE)","v":55},null,"Ecuador",{"$f":"VLOOKUP($BQ35,'FMIS+eServices'!$C$3:$EM$200,140,FALSE)","v":80.769230769230774},{"$f":"VLOOKUP($BQ35,'FMIS+eServices'!$C$3:$DT$200,105,FALSE)","v":1.9},{"$f":"VLOOKUP($BQ35,'FMIS+eServices'!$C$3:$DT$200,106,FALSE)","v":2.370967741935484},null,null,null,null,null,null,null,"Honduras",{"$f":"VLOOKUP($CB35,'FMIS+eServices'!$C$3:$EM$200,140,FALSE)","v":69.230769230769226},{"$f":"VLOOKUP($CB35,'FMIS+eServices'!$C$3:$DT$200,105,FALSE)","v":2.75},{"$f":"VLOOKUP($CB35,'FMIS+eServices'!$C$3:$DT$200,106,FALSE)","v":2.71}]
[null,"61 - 80",10,7,null,null,{"$f":"SUM(C36:F36)","v":17},null,"81 - 100   Extensive information",null,null,null,null,null,null,null,null,null,null,null,null,null,null,null,null,null,null,null,null,null,null,null,null,null,null,null,33,33,{"$f":"COUNTIF('FMIS+eServices'!$BH$3:$BH$200,AM$3)","v":131},{"$f":"COUNTIF('FMIS+eServices'!$BH$3:$BH$200,AN$3)","v":65},null,null,196,"BH","Is there a harmonized public accounting system for central + state/local governments and municipalities?",null,{"$f":"AM36/198","v":0.66161616161616166},{"$f":"AN36/198","v":0.32828282828282829},null,{"$f":"(198-AQ36)/198","v":1.0101010101010102E-2},null,33,{"$f":"COUNTIFS('FMIS+eServices'!$BH$3:$BH$200,BA$3,'FMIS+eServices'!$DT$3:$DT$200,\">A\")","v":111},{"$f":"COUNTIFS('FMIS+eServices'!$BH$3:$BH$200,BB$3,'FMIS+eServices'!$DT$3:$DT$200,\">A\")","v":55},null,null,166,null,{"$f":"BA36/168","v":0.6607142857142857},{"$f":"BB36/168","v":0.32738095238095238},null,{"$f":"(168-BE36)/168","v":1.1904761904761904E-2},null,"Germany","DE",{"$f":"VLOOKUP($BL36,'FMIS+eServices'!$C$3:$EM$200,140,FALSE)","v":80.769230769230774},{"$f":"VLOOKUP($BL36,'FMIS+eServices'!$C$3:$DT$200,107,FALSE)","v":71},null,"Egypt",{"$f":"VLOOKUP($BQ36,'FMIS+eServices'!$C$3:$EM$200,140,FALSE)","v":38.461538461538467},{"$f":"VLOOKUP($BQ36,'FMIS+eServices'!$C$3:$DT$200,105,FALSE)","v":2.5},{"$f":"VLOOKUP($BQ36,'FMIS+eServices'!$C$3:$DT$200,106,FALSE)","v":2.4464285714285716},null,null,null,null,null,null,null,"India",{"$f":"VLOOKUP($CB36,'FMIS+eServices'!$C$3:$EM$200,140,FALSE)","v":80.769230769230774},{"$f":"VLOOKUP($CB36,'FMIS+eServices'!$C$3:$DT$200,105,FALSE)","v":2.9444444444444446},{"$f":"VLOOKUP($CB36,'FMIS+eServices'!$C$3:$DT$200,106,FALSE)","v":2.75}]
[null,"81 - 100",4,2,null,null,{"$f":"SUM(C37:F37)","v":6},null,null,null,null,null,null,null,null,null,null,null,null,null,null,null,null,null,null,null,null,null,null,null,null,null,null,null,null,null,34,34,{"$f":"COUNTIF('FMIS+eServices'!$BJ$3:$BJ$200,AM$3)","v":100},{"$f":"COUNTIF('FMIS+eServices'!$BJ$3:$BJ$200,AN$3)","v":39},{"$f":"COUNTIF('FMIS+eServices'!$BJ$3:$BJ$200,AO$3)","v":36},{"$f":"COUNTIF('FMIS+eServices'!$BJ$3:$BJ$200,AP$3)","v":23},198,"BJ","Is PF data published on the Statistics web site?    Or another web site?",null,0.50505050505050508,0.19696969696969696,{"$f":"AO37/$AQ37","v":0.18181818181818182},{"$f":"AP37/$AQ37","v":0.11616161616161616},null,34,{"$f":"COUNTIFS('FMIS+eServices'!$BJ$3:$BJ$200,BA$3,'FMIS+eServices'!$DT$3:$DT$200,\">A\")","v":91},{"$f":"COUNTIFS('FMIS+eServices'!$BJ$3:$BJ$200,BB$3,'FMIS+eServices'!$DT$3:$DT$200,\">A\")","v":30},{"$f":"COUNTIFS('FMIS+eServices'!$BJ$3:$BJ$200,BC$3,'FMIS+eServices'!$DT$3:$DT$200,\">A\")","v":31},{"$f":"COUNTIFS('FMIS+eServices'!$BJ$3:$BJ$200,BD$3,'FMIS+eServices'!$DT$3:$DT$200,\">A\")","v":16},168,null,0.54166666666666663,0.17857142857142858,0.18452380952380953,9.5238095238095233E-2,null,"Ghana","GH",{"$f":"VLOOKUP($BL37,'FMIS+eServices'!$C$3:$EM$200,140,FALSE)","v":61.53846153846154},{"$f":"VLOOKUP($BL37,'FMIS+eServices'!$C$3:$DT$200,107,FALSE)","v":50},null,"El Salvador",{"$f":"VLOOKUP($BQ37,'FMIS+eServices'!$C$3:$EM$200,140,FALSE)","v":84.615384615384613},{"$f":"VLOOKUP($BQ37,'FMIS+eServices'!$C$3:$DT$200,105,FALSE)","v":2.65},{"$f":"VLOOKUP($BQ37,'FMIS+eServices'!$C$3:$DT$200,106,FALSE)","v":2.73},null,null,null,null,null,null,null,"Indonesia",{"$f":"VLOOKUP($CB37,'FMIS+eServices'!$C$3:$EM$200,140,FALSE)","v":53.846153846153847},{"$f":"VLOOKUP($CB37,'FMIS+eServices'!$C$3:$DT$200,105,FALSE)","v":2.95},{"$f":"VLOOKUP($CB37,'FMIS+eServices'!$C$3:$DT$200,106,FALSE)","v":2.77}]
[null,"Sum",{"$f":"SUM(C33:C37)","v":23},{"$f":"SUM(D33:D37)","v":48},{"$f":"SUM(E33:E37)","v":19},{"$f":"SUM(F33:F37)","v":10},{"$f":"SUM(G33:G37)","v":100},null,null,null,null,null,null,null,null,null,null,null,null,null,null,null,null,null,null,null,null,null,null,null,null,null,null,null,null,null,35,35,{"$f":"COUNTIF('FMIS+eServices'!$BP$3:$BP$200,AM$3)","v":145},{"$f":"COUNTIF('FMIS+eServices'!$BP$3:$BP$200,AN$3)","v":53},null,null,{"$f":"SUM(AM38:AP38)","v":198},"BP","Access to information explained?  ",null,0.73232323232323238,0.26767676767676768,null,null,null,35,{"$f":"COUNTIFS('FMIS+eServices'!$BP$3:$BP$200,BA$3,'FMIS+eServices'!$DT$3:$DT$200,\">A\")","v":134},{"$f":"COUNTIFS('FMIS+eServices'!$BP$3:$BP$200,BB$3,'FMIS+eServices'!$DT$3:$DT$200,\">A\")","v":34},null,null,{"$f":"SUM(BA38:BD38)","v":168},null,0.79761904761904767,0.20238095238095238,null,null,null,"Guatemala","GT",{"$f":"VLOOKUP($BL38,'FMIS+eServices'!$C$3:$EM$200,140,FALSE)","v":76.923076923076934},{"$f":"VLOOKUP($BL38,'FMIS+eServices'!$C$3:$DT$200,107,FALSE)","v":51},null,"Ethiopia",{"$f":"VLOOKUP($BQ38,'FMIS+eServices'!$C$3:$EM$200,140,FALSE)","v":30.76923076923077},{"$f":"VLOOKUP($BQ38,'FMIS+eServices'!$C$3:$DT$200,105,FALSE)","v":2.67},{"$f":"VLOOKUP($BQ38,'FMIS+eServices'!$C$3:$DT$200,106,FALSE)","v":2.8},null,null,null,null,null,null,null,"Jamaica",{"$f":"VLOOKUP($CB38,'FMIS+eServices'!$C$3:$EM$200,140,FALSE)","v":34.615384615384613},{"$f":"VLOOKUP($CB38,'FMIS+eServices'!$C$3:$DT$200,105,FALSE)","v":2.35},{"$f":"VLOOKUP($CB38,'FMIS+eServices'!$C$3:$DT$200,106,FALSE)","v":2.4333333333333331}]
[null,null,null,null,null,null,null,null,null,null,null,null,null,null,null,null,null,null,null,"# of points: 4",null,null,null,null,null,null,null,null,null,null,null,null,null,null,null,null,36,36,{"$f":"COUNTIF('FMIS+eServices'!$BR$3:$BR$200,AM$3)","v":55},{"$f":"COUNTIF('FMIS+eServices'!$BR$3:$BR$200,AN$3)","v":143},null,null,{"$f":"SUM(AM39:AP39)","v":198},"BR","Clarity of PFM roles and responsibilities on the web site",null,0.27777777777777779,0.72222222222222221,null,null,null,36,{"$f":"COUNTIFS('FMIS+eServices'!$BR$3:$BR$200,BA$3,'FMIS+eServices'!$DT$3:$DT$200,\">A\")","v":51},{"$f":"COUNTIFS('FMIS+eServices'!$BR$3:$BR$200,BB$3,'FMIS+eServices'!$DT$3:$DT$200,\">A\")","v":117},null,null,{"$f":"SUM(BA39:BD39)","v":168},null,0.30357142857142855,0.6964285714285714,null,null,null,"Honduras","HN",{"$f":"VLOOKUP($BL39,'FMIS+eServices'!$C$3:$EM$200,140,FALSE)","v":69.230769230769226},{"$f":"VLOOKUP($BL39,'FMIS+eServices'!$C$3:$DT$200,107,FALSE)","v":53},null,"Fiji",{"$f":"VLOOKUP($BQ39,'FMIS+eServices'!$C$3:$EM$200,140,FALSE)","v":46.153846153846153},{"$f":"VLOOKUP($BQ39,'FMIS+eServices'!$C$3:$DT$200,105,FALSE)","v":1.85},{"$f":"VLOOKUP($BQ39,'FMIS+eServices'!$C$3:$DT$200,106,FALSE)","v":1.9193548387096775},null,null,null,null,null,null,null,"Kenya",{"$f":"VLOOKUP($CB39,'FMIS+eServices'!$C$3:$EM$200,140,FALSE)","v":50},{"$f":"VLOOKUP($CB39,'FMIS+eServices'!$C$3:$DT$200,105,FALSE)","v":1.8},{"$f":"VLOOKUP($CB39,'FMIS+eServices'!$C$3:$DT$200,106,FALSE)","v":2.2400000000000002}]
[null,null,null,null,null,null,null,null,null,null,null,null,null,null,null,null,null,null,null,null,null,null,null,null,null,null,null,null,null,null,null,null,null,null,null,null,37,37,{"$f":"COUNTIF('FMIS+eServices'!$BT$3:$BT$200,AM$3)","v":134},{"$f":"COUNTIF('FMIS+eServices'!$BT$3:$BT$200,AN$3)","v":9},{"$f":"COUNTIF('FMIS+eServices'!$BT$3:$BT$200,AO$3)","v":55},null,{"$f":"SUM(AM40:AP40)","v":198},"BT","Compliance with specific int'l standards?",null,0.6767676767676768,4.5454545454545456E-2,{"$f":"AO40/$AQ40","v":0.27777777777777779},null,null,37,{"$f":"COUNTIFS('FMIS+eServices'!$BT$3:$BT$200,BA$3,'FMIS+eServices'!$DT$3:$DT$200,\">A\")","v":116},{"$f":"COUNTIFS('FMIS+eServices'!$BT$3:$BT$200,BB$3,'FMIS+eServices'!$DT$3:$DT$200,\">A\")","v":7},{"$f":"COUNTIFS('FMIS+eServices'!$BT$3:$BT$200,BC$3,'FMIS+eServices'!$DT$3:$DT$200,\">A\")","v":45},null,{"$f":"SUM(BA40:BD40)","v":168},null,0.69047619047619047,4.1666666666666664E-2,0.26785714285714285,null,null,"India","IN",{"$f":"VLOOKUP($BL40,'FMIS+eServices'!$C$3:$EM$200,140,FALSE)","v":80.769230769230774},{"$f":"VLOOKUP($BL40,'FMIS+eServices'!$C$3:$DT$200,107,FALSE)","v":68},null,"Gabon",{"$f":"VLOOKUP($BQ40,'FMIS+eServices'!$C$3:$EM$200,140,FALSE)","v":50},{"$f":"VLOOKUP($BQ40,'FMIS+eServices'!$C$3:$DT$200,105,FALSE)","v":1.875},{"$f":"VLOOKUP($BQ40,'FMIS+eServices'!$C$3:$DT$200,106,FALSE)","v":1.9565217391304348},null,null,null,null,null,null,null,"Kosovo",{"$f":"VLOOKUP($CB40,'FMIS+eServices'!$C$3:$EM$200,140,FALSE)","v":42.307692307692307},{"$f":"VLOOKUP($CB40,'FMIS+eServices'!$C$3:$DT$200,105,FALSE)","v":2.8},{"$f":"VLOOKUP($CB40,'FMIS+eServices'!$C$3:$DT$200,106,FALSE)","v":2.774193548387097}]
[null,"OBI2010","A","B","C","D","Sum",null,null,null,null,null,null,null,null,null,null,null,null,null,null,null,null,null,null,null,null,null,null,null,null,null,null,null,null,null,38,38,{"$f":"COUNTIF('FMIS+eServices'!$BV$3:$BV$200,AM$3)","v":169},{"$f":"COUNTIF('FMIS+eServices'!$BV$3:$BV$200,AN$3)","v":29},null,null,{"$f":"SUM(AM41:AP41)","v":198},"BV","Web statistics",null,0.85353535353535348,0.14646464646464646,null,null,null,38,{"$f":"COUNTIFS('FMIS+eServices'!$BV$3:$BV$200,BA$3,'FMIS+eServices'!$DT$3:$DT$200,\">A\")","v":145},{"$f":"COUNTIFS('FMIS+eServices'!$BV$3:$BV$200,BB$3,'FMIS+eServices'!$DT$3:$DT$200,\">A\")","v":23},null,null,{"$f":"SUM(BA41:BD41)","v":168},null,0.86309523809523814,0.13690476190476192,null,null,null,"Indonesia","ID",{"$f":"VLOOKUP($BL41,'FMIS+eServices'!$C$3:$EM$200,140,FALSE)","v":53.846153846153847},{"$f":"VLOOKUP($BL41,'FMIS+eServices'!$C$3:$DT$200,107,FALSE)","v":62},null,"Gambia",{"$f":"VLOOKUP($BQ41,'FMIS+eServices'!$C$3:$EM$200,140,FALSE)","v":46.153846153846153},{"$f":"VLOOKUP($BQ41,'FMIS+eServices'!$C$3:$DT$200,105,FALSE)","v":1.8888888888888888},{"$f":"VLOOKUP($BQ41,'FMIS+eServices'!$C$3:$DT$200,106,FALSE)","v":2.06},null,null,null,null,null,null,null,"Kyrgyz Republic",{"$f":"VLOOKUP($CB41,'FMIS+eServices'!$C$3:$EM$200,140,FALSE)","v":61.53846153846154},{"$f":"VLOOKUP($CB41,'FMIS+eServices'!$C$3:$DT$200,105,FALSE)","v":2.25},{"$f":"VLOOKUP($CB41,'FMIS+eServices'!$C$3:$DT$200,106,FALSE)","v":2.0499999999999998}]
[null,"0 - 20",1,6,8,7,{"$f":"SUM(C42:F42)","v":22},null,null,null,null,null,null,null,null,null,null,null,null,null,null,null,null,null,null,null,null,null,null,null,null,null,null,null,null,null,39,39,{"$f":"COUNTIF('FMIS+eServices'!$BW$3:$BW$200,AM$3)","v":25},{"$f":"COUNTIF('FMIS+eServices'!$BW$3:$BW$200,AN$3)","v":45},{"$f":"COUNTIF('FMIS+eServices'!$BW$3:$BW$200,AO$3)","v":28},{"$f":"COUNTIF('FMIS+eServices'!$BW$3:$BW$200,AP$3)","v":100},{"$f":"SUM(AM42:AP42)","v":198},"BW","Platforms for feedback provision",null,0.12626262626262627,0.22727272727272727,{"$f":"AO42/$AQ42","v":0.14141414141414141},{"$f":"AP42/$AQ42","v":0.50505050505050508},null,39,{"$f":"COUNTIFS('FMIS+eServices'!$BW$3:$BW$200,BA$3,'FMIS+eServices'!$DT$3:$DT$200,\">A\")","v":23},{"$f":"COUNTIFS('FMIS+eServices'!$BW$3:$BW$200,BB$3,'FMIS+eServices'!$DT$3:$DT$200,\">A\")","v":41},{"$f":"COUNTIFS('FMIS+eServices'!$BW$3:$BW$200,BC$3,'FMIS+eServices'!$DT$3:$DT$200,\">A\")","v":23},{"$f":"COUNTIFS('FMIS+eServices'!$BW$3:$BW$200,BD$3,'FMIS+eServices'!$DT$3:$DT$200,\">A\")","v":81},{"$f":"SUM(BA42:BD42)","v":168},null,0.13690476190476192,0.24404761904761904,0.13690476190476192,0.48214285714285715,null,"Iraq","IQ",{"$f":"VLOOKUP($BL42,'FMIS+eServices'!$C$3:$EM$200,140,FALSE)","v":26.923076923076923},{"$f":"VLOOKUP($BL42,'FMIS+eServices'!$C$3:$DT$200,107,FALSE)","v":4},null,"Georgia",{"$f":"VLOOKUP($BQ42,'FMIS+eServices'!$C$3:$EM$200,140,FALSE)","v":73.076923076923066},{"$f":"VLOOKUP($BQ42,'FMIS+eServices'!$C$3:$DT$200,105,FALSE)","v":3.4},{"$f":"VLOOKUP($BQ42,'FMIS+eServices'!$C$3:$DT$200,106,FALSE)","v":3.27},null,null,null,null,null,null,null,"Lao PDR",{"$f":"VLOOKUP($CB42,'FMIS+eServices'!$C$3:$EM$200,140,FALSE)","v":26.923076923076923},{"$f":"VLOOKUP($CB42,'FMIS+eServices'!$C$3:$DT$200,105,FALSE)","v":1.95},{"$f":"VLOOKUP($CB42,'FMIS+eServices'!$C$3:$DT$200,106,FALSE)","v":2}]
[null,"21 - 40",3,13,2,1,{"$f":"SUM(C43:F43)","v":19},null,null,null,null,null,null,null,null,null,null,null,null,null,null,null,null,null,null,null,null,null,null,null,null,null,null,null,null,null,null,40,null,null,null,null,null,"BY","Native language",null,null,null,null,null,null,40,null,null,null,null,null,null,null,null,null,null,null,"Italy","IT",{"$f":"VLOOKUP($BL43,'FMIS+eServices'!$C$3:$EM$200,140,FALSE)","v":53.846153846153847},{"$f":"VLOOKUP($BL43,'FMIS+eServices'!$C$3:$DT$200,107,FALSE)","v":60},null,"Ghana",{"$f":"VLOOKUP($BQ43,'FMIS+eServices'!$C$3:$EM$200,140,FALSE)","v":61.53846153846154},{"$f":"VLOOKUP($BQ43,'FMIS+eServices'!$C$3:$DT$200,105,FALSE)","v":2.15},{"$f":"VLOOKUP($BQ43,'FMIS+eServices'!$C$3:$DT$200,106,FALSE)","v":2.02},null,null,null,null,null,null,null,"Lesotho",{"$f":"VLOOKUP($CB43,'FMIS+eServices'!$C$3:$EM$200,140,FALSE)","v":46.153846153846153},{"$f":"VLOOKUP($CB43,'FMIS+eServices'!$C$3:$DT$200,105,FALSE)","v":1.78},{"$f":"VLOOKUP($CB43,'FMIS+eServices'!$C$3:$DT$200,106,FALSE)","v":1.95}]
[null,"41 - 60",5,23,5,null,{"$f":"SUM(C44:F44)","v":33},null,null,null,null,null,null,null,null,null,null,null,null,null,null,null,null,null,null,null,null,null,null,null,null,null,null,null,null,null,null,null,null,null,null,null,null,null,null,null,null,null,null,null,null,null,null,null,null,null,null,null,null,null,null,null,null,"Jordan","JO",{"$f":"VLOOKUP($BL44,'FMIS+eServices'!$C$3:$EM$200,140,FALSE)","v":50},{"$f":"VLOOKUP($BL44,'FMIS+eServices'!$C$3:$DT$200,107,FALSE)","v":57},null,"Grenada",{"$f":"VLOOKUP($BQ44,'FMIS+eServices'!$C$3:$EM$200,140,FALSE)","v":34.615384615384613},{"$f":"VLOOKUP($BQ44,'FMIS+eServices'!$C$3:$DT$200,105,FALSE)","v":2.4500000000000002},{"$f":"VLOOKUP($BQ44,'FMIS+eServices'!$C$3:$DT$200,106,FALSE)","v":2.2166666666666668},null,"Notes:",null,null,null,null,null,"Liberia",{"$f":"VLOOKUP($CB44,'FMIS+eServices'!$C$3:$EM$200,140,FALSE)","v":46.153846153846153},{"$f":"VLOOKUP($CB44,'FMIS+eServices'!$C$3:$DT$200,105,FALSE)","v":1.85},{"$f":"VLOOKUP($CB44,'FMIS+eServices'!$C$3:$DT$200,106,FALSE)","v":1.88}]
[null,"61 - 80",9,4,null,null,{"$f":"SUM(C45:F45)","v":13},null,null,null,null,null,null,null,null,null,null,null,null,null,null,null,null,null,null,null,null,null,null,null,null,null,null,null,null,null,null,null,null,null,null,null,null,null,null,null,null,null,null,null,null,null,null,null,null,null,null,null,null,null,null,null,null,"Kazakhstan","KZ",{"$f":"VLOOKUP($BL45,'FMIS+eServices'!$C$3:$EM$200,140,FALSE)","v":46.153846153846153},{"$f":"VLOOKUP($BL45,'FMIS+eServices'!$C$3:$DT$200,107,FALSE)","v":48},null,"Guatemala",{"$f":"VLOOKUP($BQ45,'FMIS+eServices'!$C$3:$EM$200,140,FALSE)","v":76.923076923076934},{"$f":"VLOOKUP($BQ45,'FMIS+eServices'!$C$3:$DT$200,105,FALSE)","v":2.72},{"$f":"VLOOKUP($BQ45,'FMIS+eServices'!$C$3:$DT$200,106,FALSE)","v":2.5},null,"1.    Avg 10 means the average of 10 PEFA indicators selected ",null,null,null,null,null,"Macedonia",{"$f":"VLOOKUP($CB45,'FMIS+eServices'!$C$3:$EM$200,140,FALSE)","v":61.53846153846154},{"$f":"VLOOKUP($CB45,'FMIS+eServices'!$C$3:$DT$200,105,FALSE)","v":2.75},{"$f":"VLOOKUP($CB45,'FMIS+eServices'!$C$3:$DT$200,106,FALSE)","v":2.8260869565217392}]
[null,"81 - 100",5,2,null,null,{"$f":"SUM(C46:F46)","v":7},null,null,null,null,null,null,null,null,null,null,null,null,null,null,null,null,null,null,null,null,null,null,null,null,null,null,null,null,null,null,null,null,null,null,null,null,null,null,null,null,null,null,null,null,null,null,null,null,null,null,null,null,null,null,null,null,"Kenya","KE",{"$f":"VLOOKUP($BL46,'FMIS+eServices'!$C$3:$EM$200,140,FALSE)","v":50},{"$f":"VLOOKUP($BL46,'FMIS+eServices'!$C$3:$DT$200,107,FALSE)","v":49},null,"Guinea",{"$f":"VLOOKUP($BQ46,'FMIS+eServices'!$C$3:$EM$200,140,FALSE)","v":3.8461538461538463},{"$f":"VLOOKUP($BQ46,'FMIS+eServices'!$C$3:$DT$200,105,FALSE)","v":1.85},{"$f":"VLOOKUP($BQ46,'FMIS+eServices'!$C$3:$DT$200,106,FALSE)","v":1.6129032258064515},null,"for a comparison with the FMIS & OBD Scores",null,null,null,null,null,"Madagascar",{"$f":"VLOOKUP($CB46,'FMIS+eServices'!$C$3:$EM$200,140,FALSE)","v":61.53846153846154},{"$f":"VLOOKUP($CB46,'FMIS+eServices'!$C$3:$DT$200,105,FALSE)","v":2.15},{"$f":"VLOOKUP($CB46,'FMIS+eServices'!$C$3:$DT$200,106,FALSE)","v":2.403225806451613}]
[null,"Sum",{"$f":"SUM(C42:C46)","v":23},{"$f":"SUM(D42:D46)","v":48},{"$f":"SUM(E42:E46)","v":15},{"$f":"SUM(F42:F46)","v":8},{"$f":"SUM(G42:G46)","v":94},null,null,null,null,null,null,null,null,null,null,null,null,null,null,null,null,null,null,null,null,null,null,null,null,null,null,null,null,null,null,null,null,null,null,null,null,null,null,null,null,null,null,null,null,null,null,null,null,null,null,null,null,null,null,null,null,"Korea, Rep.","KR",{"$f":"VLOOKUP($BL47,'FMIS+eServices'!$C$3:$EM$200,140,FALSE)","v":100},{"$f":"VLOOKUP($BL47,'FMIS+eServices'!$C$3:$DT$200,107,FALSE)","v":75},null,"Guinea-Bissau",{"$f":"VLOOKUP($BQ47,'FMIS+eServices'!$C$3:$EM$200,140,FALSE)","v":42.307692307692307},{"$f":"VLOOKUP($BQ47,'FMIS+eServices'!$C$3:$DT$200,105,FALSE)","v":1.3333333333333333},{"$f":"VLOOKUP($BQ47,'FMIS+eServices'!$C$3:$DT$200,106,FALSE)","v":1.2777777777777777},null,"2.    Avg means the average of all 31 PEFA indicators.",null,null,null,null,null,"Malawi",{"$f":"VLOOKUP($CB47,'FMIS+eServices'!$C$3:$EM$200,140,FALSE)","v":46.153846153846153},{"$f":"VLOOKUP($CB47,'FMIS+eServices'!$C$3:$DT$200,105,FALSE)","v":2.2999999999999998},{"$f":"VLOOKUP($CB47,'FMIS+eServices'!$C$3:$DT$200,106,FALSE)","v":2.3703703703703702}]
[null,null,null,null,null,null,null,null,null,null,null,null,null,null,null,null,null,null,null,null,null,null,null,null,null,null,null,null,null,null,null,null,null,null,null,null,null,null,null,null,null,null,null,null,null,null,null,null,null,null,null,null,null,null,null,null,null,null,null,null,null,null,null,"Kyrgyz Republic","KG",{"$f":"VLOOKUP($BL48,'FMIS+eServices'!$C$3:$EM$200,140,FALSE)","v":61.53846153846154},{"$f":"VLOOKUP($BL48,'FMIS+eServices'!$C$3:$DT$200,107,FALSE)","v":20},null,"Guyana",{"$f":"VLOOKUP($BQ48,'FMIS+eServices'!$C$3:$EM$200,140,FALSE)","v":34.615384615384613},{"$f":"VLOOKUP($BQ48,'FMIS+eServices'!$C$3:$DT$200,105,FALSE)","v":2.4},{"$f":"VLOOKUP($BQ48,'FMIS+eServices'!$C$3:$DT$200,106,FALSE)","v":2.25},null,"NR/NA/NU scores are excluded in average calculations.",null,null,null,null,null,"Maldives",{"$f":"VLOOKUP($CB48,'FMIS+eServices'!$C$3:$EM$200,140,FALSE)","v":34.615384615384613},{"$f":"VLOOKUP($CB48,'FMIS+eServices'!$C$3:$DT$200,105,FALSE)","v":2.1},{"$f":"VLOOKUP($CB48,'FMIS+eServices'!$C$3:$DT$200,106,FALSE)","v":1.9482758620689655}]
[null,null,null,null,null,null,null,null,null,null,null,null,null,null,null,null,null,null,null,null,null,null,null,null,null,null,null,null,null,null,null,null,null,null,null,null,null,null,null,null,null,null,null,null,null,null,null,null,null,null,null,null,null,null,null,null,null,null,null,null,null,null,null,"Lebanon","LB",{"$f":"VLOOKUP($BL49,'FMIS+eServices'!$C$3:$EM$200,140,FALSE)","v":50},{"$f":"VLOOKUP($BL49,'FMIS+eServices'!$C$3:$DT$200,107,FALSE)","v":33},null,"Haiti",{"$f":"VLOOKUP($BQ49,'FMIS+eServices'!$C$3:$EM$200,140,FALSE)","v":46.153846153846153},{"$f":"VLOOKUP($BQ49,'FMIS+eServices'!$C$3:$DT$200,105,FALSE)","v":1.3333333333333333},{"$f":"VLOOKUP($BQ49,'FMIS+eServices'!$C$3:$DT$200,106,FALSE)","v":1.48},null,null,null,null,null,null,null,"Mali",{"$f":"VLOOKUP($CB49,'FMIS+eServices'!$C$3:$EM$200,140,FALSE)","v":23.076923076923077},{"$f":"VLOOKUP($CB49,'FMIS+eServices'!$C$3:$DT$200,105,FALSE)","v":2.35},{"$f":"VLOOKUP($CB49,'FMIS+eServices'!$C$3:$DT$200,106,FALSE)","v":2.774193548387097}]
[null,"PEFA Scores (Public)",null,null,null,null,null,null,null,null,null,null,null,null,null,null,null,null,null,null,null,null,null,null,null,null,null,null,null,null,null,null,null,null,null,null,null,null,null,null,null,null,null,null,null,null,null,null,null,null,null,null,null,null,null,null,null,null,null,null,null,null,null,"Liberia","LR",{"$f":"VLOOKUP($BL50,'FMIS+eServices'!$C$3:$EM$200,140,FALSE)","v":46.153846153846153},{"$f":"VLOOKUP($BL50,'FMIS+eServices'!$C$3:$DT$200,107,FALSE)","v":43},null,"Honduras",{"$f":"VLOOKUP($BQ50,'FMIS+eServices'!$C$3:$EM$200,140,FALSE)","v":69.230769230769226},{"$f":"VLOOKUP($BQ50,'FMIS+eServices'!$C$3:$DT$200,105,FALSE)","v":2.75},{"$f":"VLOOKUP($BQ50,'FMIS+eServices'!$C$3:$DT$200,106,FALSE)","v":2.71},null,"                PEFA vs. FMIS & OBD Scores (84 public)",null,null,null,null,null,"Mauritania",{"$f":"VLOOKUP($CB50,'FMIS+eServices'!$C$3:$EM$200,140,FALSE)","v":38.461538461538467},{"$f":"VLOOKUP($CB50,'FMIS+eServices'!$C$3:$DT$200,105,FALSE)","v":2.0499999999999998},{"$f":"VLOOKUP($CB50,'FMIS+eServices'!$C$3:$DT$200,106,FALSE)","v":2.2333333333333334}]
[null,"PEFA","A","B+","B","C+","C","D+","D","NR","Sum","A","B","C","D",null,null,"PFM Topology","Topology",null,null,null,null,null,null,null,null,null,null,null,null,null,null,null,null,null,null,null,null,null,null,null,null,null,null,null,null,null,null,null,null,null,null,null,null,null,null,null,null,null,null,null,null,"Macedonia","MK",{"$f":"VLOOKUP($BL51,'FMIS+eServices'!$C$3:$EM$200,140,FALSE)","v":61.53846153846154},{"$f":"VLOOKUP($BL51,'FMIS+eServices'!$C$3:$DT$200,107,FALSE)","v":35},null,"India",{"$f":"VLOOKUP($BQ51,'FMIS+eServices'!$C$3:$EM$200,140,FALSE)","v":80.769230769230774},{"$f":"VLOOKUP($BQ51,'FMIS+eServices'!$C$3:$DT$200,105,FALSE)","v":2.9444444444444446},{"$f":"VLOOKUP($BQ51,'FMIS+eServices'!$C$3:$DT$200,106,FALSE)","v":2.75},null,null,null,null,null,null,null,"Mauritius",{"$f":"VLOOKUP($CB51,'FMIS+eServices'!$C$3:$EM$200,140,FALSE)","v":69.230769230769226},{"$f":"VLOOKUP($CB51,'FMIS+eServices'!$C$3:$DT$200,105,FALSE)","v":3.7},{"$f":"VLOOKUP($CB51,'FMIS+eServices'!$C$3:$DT$200,106,FALSE)","v":3.1774193548387095}]
[null,"PI-5",19,"-",16,"-",26,"-",4,"-",{"$f":"SUM(C52:J52)","v":65},8,29,20,8,null,null,"Centralized",{"$f":"'FMIS+eServices'!CF204","v":165},{"$f":"S52/S54","v":0.83333333333333337},null,null,null,null,null,null,null,null,null,null,null,null,null,null,null,null,null,null,null,null,null,null,null,null,null,null,null,null,null,null,null,null,null,null,null,null,null,null,null,null,null,null,null,"Malawi","MW",{"$f":"VLOOKUP($BL52,'FMIS+eServices'!$C$3:$EM$200,140,FALSE)","v":46.153846153846153},{"$f":"VLOOKUP($BL52,'FMIS+eServices'!$C$3:$DT$200,107,FALSE)","v":52},null,"Indonesia",{"$f":"VLOOKUP($BQ52,'FMIS+eServices'!$C$3:$EM$200,140,FALSE)","v":53.846153846153847},{"$f":"VLOOKUP($BQ52,'FMIS+eServices'!$C$3:$DT$200,105,FALSE)","v":2.95},{"$f":"VLOOKUP($BQ52,'FMIS+eServices'!$C$3:$DT$200,106,FALSE)","v":2.77},null,null,null,null,null,null,null,"Montenegro",{"$f":"VLOOKUP($CB52,'FMIS+eServices'!$C$3:$EM$200,140,FALSE)","v":23.076923076923077},{"$f":"VLOOKUP($CB52,'FMIS+eServices'!$C$3:$DT$200,105,FALSE)","v":3.11},{"$f":"VLOOKUP($CB52,'FMIS+eServices'!$C$3:$DT$200,106,FALSE)","v":2.74}]
[null,"PI-6",30,"-",22,"-",10,"-",2,1,65,null,null,null,null,null,null,"Decentralized",{"$f":"'FMIS+eServices'!CF205","v":33},{"$f":"S53/S54","v":0.16666666666666666},null,null,null,null,null,null,null,null,null,null,null,null,null,null,null,null,null,null,null,null,null,null,null,null,null,null,null,null,null,null,null,null,null,null,null,null,null,null,null,null,null,null,null,"Malaysia","MY",{"$f":"VLOOKUP($BL53,'FMIS+eServices'!$C$3:$EM$200,140,FALSE)","v":50},{"$f":"VLOOKUP($BL53,'FMIS+eServices'!$C$3:$DT$200,107,FALSE)","v":39},null,"Iraq",{"$f":"VLOOKUP($BQ53,'FMIS+eServices'!$C$3:$EM$200,140,FALSE)","v":26.923076923076923},{"$f":"VLOOKUP($BQ53,'FMIS+eServices'!$C$3:$DT$200,105,FALSE)","v":1.35},{"$f":"VLOOKUP($BQ53,'FMIS+eServices'!$C$3:$DT$200,106,FALSE)","v":1.6},null,null,null,null,null,null,null,"Morocco",{"$f":"VLOOKUP($CB53,'FMIS+eServices'!$C$3:$EM$200,140,FALSE)","v":50},{"$f":"VLOOKUP($CB53,'FMIS+eServices'!$C$3:$DT$200,105,FALSE)","v":2.85},{"$f":"VLOOKUP($CB53,'FMIS+eServices'!$C$3:$DT$200,106,FALSE)","v":2.9833333333333334}]
[null,"PI-10",11,"-",26,"-",23,"-",5,"-",65,null,null,null,null,null,null,null,{"$f":"SUM(S52:S53)","v":198},null,null,null,null,null,null,null,null,null,null,null,null,null,null,null,null,null,null,null,null,null,null,null,null,null,null,null,null,null,null,null,null,null,null,null,null,null,null,null,null,null,null,null,null,"Mali","ML",{"$f":"VLOOKUP($BL54,'FMIS+eServices'!$C$3:$EM$200,140,FALSE)","v":23.076923076923077},{"$f":"VLOOKUP($BL54,'FMIS+eServices'!$C$3:$DT$200,107,FALSE)","v":43},null,"Jamaica",{"$f":"VLOOKUP($BQ54,'FMIS+eServices'!$C$3:$EM$200,140,FALSE)","v":34.615384615384613},{"$f":"VLOOKUP($BQ54,'FMIS+eServices'!$C$3:$DT$200,105,FALSE)","v":2.35},{"$f":"VLOOKUP($BQ54,'FMIS+eServices'!$C$3:$DT$200,106,FALSE)","v":2.4333333333333331},null,null,null,null,null,null,null,"Myanmar",{"$f":"VLOOKUP($CB54,'FMIS+eServices'!$C$3:$EM$200,140,FALSE)","v":3.8461538461538463},{"$f":"VLOOKUP($CB54,'FMIS+eServices'!$C$3:$DT$200,105,FALSE)","v":1.5},{"$f":"VLOOKUP($CB54,'FMIS+eServices'!$C$3:$DT$200,106,FALSE)","v":1.65}]
[null,"PI-12","-",5,9,21,11,11,7,1,65,null,null,null,null,null,null,null,null,null,null,null,null,null,null,null,null,null,null,null,null,null,null,null,null,null,null,null,null,null,null,null,null,null,null,null,null,null,null,null,null,null,null,null,null,null,null,null,null,null,null,null,null,"Mexico","MX",{"$f":"VLOOKUP($BL55,'FMIS+eServices'!$C$3:$EM$200,140,FALSE)","v":92.307692307692307},{"$f":"VLOOKUP($BL55,'FMIS+eServices'!$C$3:$DT$200,107,FALSE)","v":61},null,"Jordan",{"$f":"VLOOKUP($BQ55,'FMIS+eServices'!$C$3:$EM$200,140,FALSE)","v":50},{"$f":"VLOOKUP($BQ55,'FMIS+eServices'!$C$3:$DT$200,105,FALSE)","v":2.65},{"$f":"VLOOKUP($BQ55,'FMIS+eServices'!$C$3:$DT$200,106,FALSE)","v":2.6},null,null,null,null,null,null,null,"Nepal",{"$f":"VLOOKUP($CB55,'FMIS+eServices'!$C$3:$EM$200,140,FALSE)","v":57.692307692307686},{"$f":"VLOOKUP($CB55,'FMIS+eServices'!$C$3:$DT$200,105,FALSE)","v":2.25},{"$f":"VLOOKUP($CB55,'FMIS+eServices'!$C$3:$DT$200,106,FALSE)","v":2.096774193548387}]
[null,"PI-22",12,11,13,7,10,3,6,3,65,null,null,null,null,null,null,null,null,null,null,null,null,null,null,null,null,null,null,null,null,null,null,null,null,null,null,null,null,null,null,null,null,null,null,null,null,null,null,null,null,null,null,null,null,null,null,null,null,null,null,null,null,"Mongolia","MN",{"$f":"VLOOKUP($BL56,'FMIS+eServices'!$C$3:$EM$200,140,FALSE)","v":46.153846153846153},{"$f":"VLOOKUP($BL56,'FMIS+eServices'!$C$3:$DT$200,107,FALSE)","v":51},null,"Kazakhstan",{"$f":"VLOOKUP($BQ56,'FMIS+eServices'!$C$3:$EM$200,140,FALSE)","v":46.153846153846153},{"$f":"VLOOKUP($BQ56,'FMIS+eServices'!$C$3:$DT$200,105,FALSE)","v":2.7777777777777777},{"$f":"VLOOKUP($BQ56,'FMIS+eServices'!$C$3:$DT$200,106,FALSE)","v":3.0535714285714284},null,null,null,null,null,null,null,"Niger",{"$f":"VLOOKUP($CB56,'FMIS+eServices'!$C$3:$EM$200,140,FALSE)","v":3.8461538461538463},{"$f":"VLOOKUP($CB56,'FMIS+eServices'!$C$3:$DT$200,105,FALSE)","v":1.9},{"$f":"VLOOKUP($CB56,'FMIS+eServices'!$C$3:$DT$200,106,FALSE)","v":2.02}]
[null,"PI-23",10,"-",13,"-",7,"-",33,2,65,null,null,null,null,null,null,null,null,null,null,null,null,null,null,null,null,null,null,null,null,null,null,null,null,null,null,null,null,null,null,null,null,null,null,null,null,null,null,null,null,null,null,null,null,null,null,null,null,null,null,null,null,"Morocco","MA",{"$f":"VLOOKUP($BL57,'FMIS+eServices'!$C$3:$EM$200,140,FALSE)","v":50},{"$f":"VLOOKUP($BL57,'FMIS+eServices'!$C$3:$DT$200,107,FALSE)","v":38},null,"Kenya",{"$f":"VLOOKUP($BQ57,'FMIS+eServices'!$C$3:$EM$200,140,FALSE)","v":50},{"$f":"VLOOKUP($BQ57,'FMIS+eServices'!$C$3:$DT$200,105,FALSE)","v":1.8},{"$f":"VLOOKUP($BQ57,'FMIS+eServices'!$C$3:$DT$200,106,FALSE)","v":2.2400000000000002},null,null,null,null,null,null,null,"Norway",{"$f":"VLOOKUP($CB57,'FMIS+eServices'!$C$3:$EM$200,140,FALSE)","v":76.923076923076934},{"$f":"VLOOKUP($CB57,'FMIS+eServices'!$C$3:$DT$200,105,FALSE)","v":3.1111111111111112},{"$f":"VLOOKUP($CB57,'FMIS+eServices'!$C$3:$DT$200,106,FALSE)","v":3.4107142857142856}]
[null,"PI-24",5,10,1,34,3,9,3,"-",65,null,null,null,null,null,null,null,null,null,null,null,null,null,null,null,null,null,null,null,null,null,null,null,null,null,null,null,null,null,null,null,null,null,null,null,null,null,null,null,null,null,null,null,null,null,null,null,null,null,null,null,null,"Mozambique","MZ",{"$f":"VLOOKUP($BL58,'FMIS+eServices'!$C$3:$EM$200,140,FALSE)","v":38.461538461538467},{"$f":"VLOOKUP($BL58,'FMIS+eServices'!$C$3:$DT$200,107,FALSE)","v":47},null,"Kiribati",{"$f":"VLOOKUP($BQ58,'FMIS+eServices'!$C$3:$EM$200,140,FALSE)","v":19.230769230769234},{"$f":"VLOOKUP($BQ58,'FMIS+eServices'!$C$3:$DT$200,105,FALSE)","v":1.5},{"$f":"VLOOKUP($BQ58,'FMIS+eServices'!$C$3:$DT$200,106,FALSE)","v":1.8275862068965518},null,null,null,null,null,null,null,"Pakistan",{"$f":"VLOOKUP($CB58,'FMIS+eServices'!$C$3:$EM$200,140,FALSE)","v":50},{"$f":"VLOOKUP($CB58,'FMIS+eServices'!$C$3:$DT$200,105,FALSE)","v":2.89},{"$f":"VLOOKUP($CB58,'FMIS+eServices'!$C$3:$DT$200,106,FALSE)","v":2.69}]
[null,"PI-25",9,4,"-",24,2,23,3,"-",65,null,null,null,null,null,null,null,null,null,null,null,null,null,null,null,null,null,null,null,null,null,null,null,null,null,null,null,null,null,null,null,null,null,null,null,null,null,null,null,null,null,null,null,null,null,null,null,null,null,null,null,null,"Myanmar","MM",{"$f":"VLOOKUP($BL59,'FMIS+eServices'!$C$3:$EM$200,140,FALSE)","v":3.8461538461538463},{"$f":"VLOOKUP($BL59,'FMIS+eServices'!$C$3:$DT$200,107,FALSE)","v":0},null,"Kosovo",{"$f":"VLOOKUP($BQ59,'FMIS+eServices'!$C$3:$EM$200,140,FALSE)","v":42.307692307692307},{"$f":"VLOOKUP($BQ59,'FMIS+eServices'!$C$3:$DT$200,105,FALSE)","v":2.8},{"$f":"VLOOKUP($BQ59,'FMIS+eServices'!$C$3:$DT$200,106,FALSE)","v":2.774193548387097},null,null,null,null,null,null,null,"Paraguay",{"$f":"VLOOKUP($CB59,'FMIS+eServices'!$C$3:$EM$200,140,FALSE)","v":84.615384615384613},{"$f":"VLOOKUP($CB59,'FMIS+eServices'!$C$3:$DT$200,105,FALSE)","v":2.25},{"$f":"VLOOKUP($CB59,'FMIS+eServices'!$C$3:$DT$200,106,FALSE)","v":2.5322580645164399}]
[null,"PI-26","-",9,7,13,3,23,9,1,65,null,null,null,null,null,null,"FMIS Func","Functionality",null,null,null,null,null,null,null,null,null,null,null,null,null,null,null,null,null,null,null,null,null,null,null,null,null,null,null,null,null,null,null,null,null,null,null,null,null,null,null,null,null,null,null,null,"Namibia","NA",{"$f":"VLOOKUP($BL60,'FMIS+eServices'!$C$3:$EM$200,140,FALSE)","v":73.076923076923066},{"$f":"VLOOKUP($BL60,'FMIS+eServices'!$C$3:$DT$200,107,FALSE)","v":55},null,"Kuwait",{"$f":"VLOOKUP($BQ60,'FMIS+eServices'!$C$3:$EM$200,140,FALSE)","v":26.923076923076923},{"$f":"VLOOKUP($BQ60,'FMIS+eServices'!$C$3:$DT$200,105,FALSE)","v":2.7222222222222223},{"$f":"VLOOKUP($BQ60,'FMIS+eServices'!$C$3:$DT$200,106,FALSE)","v":2.9464285714285716},null,null,null,null,null,null,null,"Peru",{"$f":"VLOOKUP($CB60,'FMIS+eServices'!$C$3:$EM$200,140,FALSE)","v":92.307692307692307},{"$f":"VLOOKUP($CB60,'FMIS+eServices'!$C$3:$DT$200,105,FALSE)","v":3.05},{"$f":"VLOOKUP($CB60,'FMIS+eServices'!$C$3:$DT$200,106,FALSE)","v":3.1451612903225805}]
[null,"D-2",3,"-",1,7,12,19,17,6,65,null,null,null,null,null,null,"FMIS (B+T)",{"$f":"'FMIS+eServices'!CG204","v":127},{"$f":"S61/S63","v":0.65463917525773196},null,null,null,null,null,null,null,null,null,null,null,null,null,null,null,null,null,null,null,null,null,null,null,null,null,null,null,null,null,null,null,null,null,null,null,null,null,null,null,null,null,null,null,"Nepal","NP",{"$f":"VLOOKUP($BL61,'FMIS+eServices'!$C$3:$EM$200,140,FALSE)","v":57.692307692307686},{"$f":"VLOOKUP($BL61,'FMIS+eServices'!$C$3:$DT$200,107,FALSE)","v":44},null,"Kyrgyz Republic",{"$f":"VLOOKUP($BQ61,'FMIS+eServices'!$C$3:$EM$200,140,FALSE)","v":61.53846153846154},{"$f":"VLOOKUP($BQ61,'FMIS+eServices'!$C$3:$DT$200,105,FALSE)","v":2.25},{"$f":"VLOOKUP($BQ61,'FMIS+eServices'!$C$3:$DT$200,106,FALSE)","v":2.0499999999999998},null,null,null,null,null,null,null,"Philippines",{"$f":"VLOOKUP($CB61,'FMIS+eServices'!$C$3:$EM$200,140,FALSE)","v":61.53846153846154},{"$f":"VLOOKUP($CB61,'FMIS+eServices'!$C$3:$DT$200,105,FALSE)","v":1.45},{"$f":"VLOOKUP($CB61,'FMIS+eServices'!$C$3:$DT$200,106,FALSE)","v":2}]
[null,null,null,null,null,null,null,null,null,null,null,null,null,null,null,null,null,"Treasury (T)",{"$f":"'FMIS+eServices'!CG205","v":67},{"$f":"S62/S63","v":0.34536082474226804},null,null,null,null,null,null,null,null,null,null,null,null,null,null,null,null,null,null,null,null,null,null,null,null,null,null,null,null,null,null,null,null,null,null,null,null,null,null,null,null,null,null,null,"New Zealand","NZ",{"$f":"VLOOKUP($BL62,'FMIS+eServices'!$C$3:$EM$200,140,FALSE)","v":92.307692307692307},{"$f":"VLOOKUP($BL62,'FMIS+eServices'!$C$3:$DT$200,107,FALSE)","v":93},null,"Lao PDR",{"$f":"VLOOKUP($BQ62,'FMIS+eServices'!$C$3:$EM$200,140,FALSE)","v":26.923076923076923},{"$f":"VLOOKUP($BQ62,'FMIS+eServices'!$C$3:$DT$200,105,FALSE)","v":1.95},{"$f":"VLOOKUP($BQ62,'FMIS+eServices'!$C$3:$DT$200,106,FALSE)","v":2},null,null,null,null,null,null,null,"Rwanda",{"$f":"VLOOKUP($CB62,'FMIS+eServices'!$C$3:$EM$200,140,FALSE)","v":30.76923076923077},{"$f":"VLOOKUP($CB62,'FMIS+eServices'!$C$3:$DT$200,105,FALSE)","v":2.7},{"$f":"VLOOKUP($CB62,'FMIS+eServices'!$C$3:$DT$200,106,FALSE)","v":2.9193548387096775}]
[null,"PEFA Scores (Public + Final)",null,null,null,null,null,null,null,null,null,null,null,null,null,null,null,null,{"$f":"SUM(S61:S62)","v":194},null,null,null,null,null,null,null,null,null,null,null,null,null,null,null,null,null,null,null,null,null,null,null,null,null,null,null,null,null,null,null,null,null,null,null,null,null,null,null,null,null,null,null,null,"Nicaragua","NI",{"$f":"VLOOKUP($BL63,'FMIS+eServices'!$C$3:$EM$200,140,FALSE)","v":92.307692307692307},{"$f":"VLOOKUP($BL63,'FMIS+eServices'!$C$3:$DT$200,107,FALSE)","v":42},null,"Lebanon",{"$f":"VLOOKUP($BQ63,'FMIS+eServices'!$C$3:$EM$200,140,FALSE)","v":50},{"$f":"VLOOKUP($BQ63,'FMIS+eServices'!$C$3:$DT$200,105,FALSE)","v":1.8333333333333333},{"$f":"VLOOKUP($BQ63,'FMIS+eServices'!$C$3:$DT$200,106,FALSE)","v":1.6956521739130435},null,null,null,null,null,null,null,"Samoa",{"$f":"VLOOKUP($CB63,'FMIS+eServices'!$C$3:$EM$200,140,FALSE)","v":34.615384615384613},{"$f":"VLOOKUP($CB63,'FMIS+eServices'!$C$3:$DT$200,105,FALSE)","v":2},{"$f":"VLOOKUP($CB63,'FMIS+eServices'!$C$3:$DT$200,106,FALSE)","v":2.0892857142857144}]
[null,"PEFA","A","B+","B","C+","C","D+","D","NR","Sum","A","B","C","D",null,null,null,null,null,null,null,null,null,null,null,null,null,null,null,null,null,null,null,null,null,null,null,null,null,null,null,null,null,null,null,null,null,null,null,null,null,null,null,null,null,null,null,null,null,null,null,null,"Niger","NE",{"$f":"VLOOKUP($BL64,'FMIS+eServices'!$C$3:$EM$200,140,FALSE)","v":3.8461538461538463},{"$f":"VLOOKUP($BL64,'FMIS+eServices'!$C$3:$DT$200,107,FALSE)","v":4},null,"Lesotho",{"$f":"VLOOKUP($BQ64,'FMIS+eServices'!$C$3:$EM$200,140,FALSE)","v":46.153846153846153},{"$f":"VLOOKUP($BQ64,'FMIS+eServices'!$C$3:$DT$200,105,FALSE)","v":1.78},{"$f":"VLOOKUP($BQ64,'FMIS+eServices'!$C$3:$DT$200,106,FALSE)","v":1.95},null,null,null,null,null,null,null,"São Tomé and Principe",{"$f":"VLOOKUP($CB64,'FMIS+eServices'!$C$3:$EM$200,140,FALSE)","v":38.461538461538467},{"$f":"VLOOKUP($CB64,'FMIS+eServices'!$C$3:$DT$200,105,FALSE)","v":1.55},{"$f":"VLOOKUP($CB64,'FMIS+eServices'!$C$3:$DT$200,106,FALSE)","v":1.7666666666666666}]
[null,"PI-5",27,"-",27,"-",36,"-",7,"-",{"$f":"SUM(C65:J65)","v":97},9,38,33,17,null,null,null,null,null,null,null,null,null,null,null,null,null,null,null,null,null,null,null,null,null,null,null,null,null,null,null,null,null,null,null,null,null,null,null,null,null,null,null,null,null,null,null,null,null,null,null,null,"Nigeria","NG",{"$f":"VLOOKUP($BL65,'FMIS+eServices'!$C$3:$EM$200,140,FALSE)","v":38.461538461538467},{"$f":"VLOOKUP($BL65,'FMIS+eServices'!$C$3:$DT$200,107,FALSE)","v":16},null,"Liberia",{"$f":"VLOOKUP($BQ65,'FMIS+eServices'!$C$3:$EM$200,140,FALSE)","v":46.153846153846153},{"$f":"VLOOKUP($BQ65,'FMIS+eServices'!$C$3:$DT$200,105,FALSE)","v":1.85},{"$f":"VLOOKUP($BQ65,'FMIS+eServices'!$C$3:$DT$200,106,FALSE)","v":1.88},null,null,null,null,null,null,null,"Senegal",{"$f":"VLOOKUP($CB65,'FMIS+eServices'!$C$3:$EM$200,140,FALSE)","v":38.461538461538467},{"$f":"VLOOKUP($CB65,'FMIS+eServices'!$C$3:$DT$200,105,FALSE)","v":2.15},{"$f":"VLOOKUP($CB65,'FMIS+eServices'!$C$3:$DT$200,106,FALSE)","v":2.1774193548387095}]
[null,"PI-6",38,"-",34,"-",19,"-",5,1,97,null,null,null,null,null,null,null,null,null,null,null,null,null,null,null,null,null,null,null,null,null,null,null,null,null,null,null,null,null,null,null,null,null,null,null,null,null,null,null,null,null,null,null,null,null,null,null,null,null,null,null,null,"Norway","NO",{"$f":"VLOOKUP($BL66,'FMIS+eServices'!$C$3:$EM$200,140,FALSE)","v":76.923076923076934},{"$f":"VLOOKUP($BL66,'FMIS+eServices'!$C$3:$DT$200,107,FALSE)","v":83},null,"Macedonia",{"$f":"VLOOKUP($BQ66,'FMIS+eServices'!$C$3:$EM$200,140,FALSE)","v":61.53846153846154},{"$f":"VLOOKUP($BQ66,'FMIS+eServices'!$C$3:$DT$200,105,FALSE)","v":2.75},{"$f":"VLOOKUP($BQ66,'FMIS+eServices'!$C$3:$DT$200,106,FALSE)","v":2.8260869565217392},null,null,null,null,null,null,null,"Serbia",{"$f":"VLOOKUP($CB66,'FMIS+eServices'!$C$3:$EM$200,140,FALSE)","v":61.53846153846154},{"$f":"VLOOKUP($CB66,'FMIS+eServices'!$C$3:$DT$200,105,FALSE)","v":3.1},{"$f":"VLOOKUP($CB66,'FMIS+eServices'!$C$3:$DT$200,106,FALSE)","v":2.7903225806451615}]
[null,"PI-10",16,"-",37,"-",34,"-",10,"-",97,null,null,null,null,null,null,null,null,null,null,null,null,null,null,null,null,null,null,null,null,null,null,null,null,null,null,null,null,null,null,null,null,null,null,null,null,null,null,null,null,null,null,null,null,null,null,null,null,null,null,null,null,"Pakistan","PK",{"$f":"VLOOKUP($BL67,'FMIS+eServices'!$C$3:$EM$200,140,FALSE)","v":50},{"$f":"VLOOKUP($BL67,'FMIS+eServices'!$C$3:$DT$200,107,FALSE)","v":58},null,"Madagascar",{"$f":"VLOOKUP($BQ67,'FMIS+eServices'!$C$3:$EM$200,140,FALSE)","v":61.53846153846154},{"$f":"VLOOKUP($BQ67,'FMIS+eServices'!$C$3:$DT$200,105,FALSE)","v":2.15},{"$f":"VLOOKUP($BQ67,'FMIS+eServices'!$C$3:$DT$200,106,FALSE)","v":2.403225806451613},null,null,null,null,null,null,null,"Seychelles",{"$f":"VLOOKUP($CB67,'FMIS+eServices'!$C$3:$EM$200,140,FALSE)","v":3.8461538461538463},{"$f":"VLOOKUP($CB67,'FMIS+eServices'!$C$3:$DT$200,105,FALSE)","v":2.4500000000000002},{"$f":"VLOOKUP($CB67,'FMIS+eServices'!$C$3:$DT$200,106,FALSE)","v":2.5333333333333332}]
[null,"PI-12","-",7,10,33,17,20,9,1,97,null,null,null,null,null,null,null,null,null,null,null,null,null,null,null,null,null,null,null,null,null,null,null,null,null,null,null,null,null,null,null,null,null,null,null,null,null,null,null,null,null,null,null,null,null,null,null,null,null,null,null,null,"Papua New Guinea","PG",{"$f":"VLOOKUP($BL68,'FMIS+eServices'!$C$3:$EM$200,140,FALSE)","v":46.153846153846153},{"$f":"VLOOKUP($BL68,'FMIS+eServices'!$C$3:$DT$200,107,FALSE)","v":56},null,"Malawi",{"$f":"VLOOKUP($BQ68,'FMIS+eServices'!$C$3:$EM$200,140,FALSE)","v":46.153846153846153},{"$f":"VLOOKUP($BQ68,'FMIS+eServices'!$C$3:$DT$200,105,FALSE)","v":2.2999999999999998},{"$f":"VLOOKUP($BQ68,'FMIS+eServices'!$C$3:$DT$200,106,FALSE)","v":2.3703703703703702},null,null,null,null,null,null,null,"Sierra Leone",{"$f":"VLOOKUP($CB68,'FMIS+eServices'!$C$3:$EM$200,140,FALSE)","v":38.461538461538467},{"$f":"VLOOKUP($CB68,'FMIS+eServices'!$C$3:$DT$200,105,FALSE)","v":2.75},{"$f":"VLOOKUP($CB68,'FMIS+eServices'!$C$3:$DT$200,106,FALSE)","v":2.35}]
[null,"PI-22",19,16,18,11,14,7,9,3,97,null,null,null,null,null,null,"FMIS Status","Status",null,null,null,null,null,null,null,null,null,null,null,null,null,null,null,null,null,null,null,null,null,null,null,null,null,null,null,null,null,null,null,null,null,null,null,null,null,null,null,null,null,null,null,null,"Peru","PE",{"$f":"VLOOKUP($BL69,'FMIS+eServices'!$C$3:$EM$200,140,FALSE)","v":92.307692307692307},{"$f":"VLOOKUP($BL69,'FMIS+eServices'!$C$3:$DT$200,107,FALSE)","v":57},null,"Maldives",{"$f":"VLOOKUP($BQ69,'FMIS+eServices'!$C$3:$EM$200,140,FALSE)","v":34.615384615384613},{"$f":"VLOOKUP($BQ69,'FMIS+eServices'!$C$3:$DT$200,105,FALSE)","v":2.1},{"$f":"VLOOKUP($BQ69,'FMIS+eServices'!$C$3:$DT$200,106,FALSE)","v":1.9482758620689655},null,null,null,null,null,null,null,"Solomon Islands",{"$f":"VLOOKUP($CB69,'FMIS+eServices'!$C$3:$EM$200,140,FALSE)","v":50},{"$f":"VLOOKUP($CB69,'FMIS+eServices'!$C$3:$DT$200,105,FALSE)","v":2.4},{"$f":"VLOOKUP($CB69,'FMIS+eServices'!$C$3:$DT$200,106,FALSE)","v":2.13}]
[null,"PI-23",13,"-",17,"-",12,"-",50,5,97,null,null,null,null,null,null,"Operational",{"$f":"'FMIS+eServices'!CH204","v":4},{"$f":"S70/S74","v":2.0202020202020204E-2},null,null,null,null,null,null,null,null,null,null,null,null,null,null,null,null,null,null,null,null,null,null,null,null,null,null,null,null,null,null,null,null,null,null,null,null,null,null,null,null,null,null,null,"Philippines","PH",{"$f":"VLOOKUP($BL70,'FMIS+eServices'!$C$3:$EM$200,140,FALSE)","v":61.53846153846154},{"$f":"VLOOKUP($BL70,'FMIS+eServices'!$C$3:$DT$200,107,FALSE)","v":48},null,"Mali",{"$f":"VLOOKUP($BQ70,'FMIS+eServices'!$C$3:$EM$200,140,FALSE)","v":23.076923076923077},{"$f":"VLOOKUP($BQ70,'FMIS+eServices'!$C$3:$DT$200,105,FALSE)","v":2.35},{"$f":"VLOOKUP($BQ70,'FMIS+eServices'!$C$3:$DT$200,106,FALSE)","v":2.774193548387097},null,null,null,null,null,null,null,"South Africa",{"$f":"VLOOKUP($CB70,'FMIS+eServices'!$C$3:$EM$200,140,FALSE)","v":69.230769230769226},{"$f":"VLOOKUP($CB70,'FMIS+eServices'!$C$3:$DT$200,105,FALSE)","v":3.35},{"$f":"VLOOKUP($CB70,'FMIS+eServices'!$C$3:$DT$200,106,FALSE)","v":3.3225806451612905}]
[null,"PI-24",8,13,2,46,8,14,6,"-",97,null,null,null,null,null,null,"Pilot",{"$f":"'FMIS+eServices'!CH205","v":5},{"$f":"S71/S74","v":2.5252525252525252E-2},null,null,null,null,null,null,null,null,null,null,null,null,null,null,null,null,null,null,null,null,null,null,null,null,null,null,null,null,null,null,null,null,null,null,null,null,null,null,null,null,null,null,null,"Poland","PL",{"$f":"VLOOKUP($BL71,'FMIS+eServices'!$C$3:$EM$200,140,FALSE)","v":61.53846153846154},{"$f":"VLOOKUP($BL71,'FMIS+eServices'!$C$3:$DT$200,107,FALSE)","v":59},null,"Marshall Islands",{"$f":"VLOOKUP($BQ71,'FMIS+eServices'!$C$3:$EM$200,140,FALSE)","v":11.538461538461538},{"$f":"VLOOKUP($BQ71,'FMIS+eServices'!$C$3:$DT$200,105,FALSE)","v":1.1666666666666667},{"$f":"VLOOKUP($BQ71,'FMIS+eServices'!$C$3:$DT$200,106,FALSE)","v":1.6481481481481481},null,null,null,null,null,null,null,"South Sudan",{"$f":"VLOOKUP($CB71,'FMIS+eServices'!$C$3:$EM$200,140,FALSE)","v":23.076923076923077},{"$f":"VLOOKUP($CB71,'FMIS+eServices'!$C$3:$DT$200,105,FALSE)","v":1.9},{"$f":"VLOOKUP($CB71,'FMIS+eServices'!$C$3:$DT$200,106,FALSE)","v":1.7413793103448201}]
[null,"PI-25",10,7,"-",35,4,36,5,"-",97,null,null,null,null,null,null,"In progress",{"$f":"'FMIS+eServices'!CH206","v":12},{"$f":"S72/S74","v":6.0606060606060608E-2},null,null,null,null,null,null,null,null,null,null,null,null,null,null,null,null,null,null,null,null,null,null,null,null,null,null,null,null,null,null,null,null,null,null,null,null,null,null,null,null,null,null,null,"Portugal","PT",{"$f":"VLOOKUP($BL72,'FMIS+eServices'!$C$3:$EM$200,140,FALSE)","v":69.230769230769226},{"$f":"VLOOKUP($BL72,'FMIS+eServices'!$C$3:$DT$200,107,FALSE)","v":62},null,"Mauritania",{"$f":"VLOOKUP($BQ72,'FMIS+eServices'!$C$3:$EM$200,140,FALSE)","v":38.461538461538467},{"$f":"VLOOKUP($BQ72,'FMIS+eServices'!$C$3:$DT$200,105,FALSE)","v":2.0499999999999998},{"$f":"VLOOKUP($BQ72,'FMIS+eServices'!$C$3:$DT$200,106,FALSE)","v":2.2333333333333334},null,null,null,null,null,null,null,"Sudan",{"$f":"VLOOKUP($CB72,'FMIS+eServices'!$C$3:$EM$200,140,FALSE)","v":19.230769230769234},{"$f":"VLOOKUP($CB72,'FMIS+eServices'!$C$3:$DT$200,105,FALSE)","v":1.8},{"$f":"VLOOKUP($CB72,'FMIS+eServices'!$C$3:$DT$200,106,FALSE)","v":1.7407407407407407}]
[null,"PI-26","-",12,9,17,3,35,19,2,97,null,null,null,null,null,null,"Pipeline",{"$f":"'FMIS+eServices'!CH207","v":177},{"$f":"S73/S74","v":0.89393939393939392},null,null,null,null,null,null,null,null,null,null,null,null,null,null,null,null,null,null,null,null,null,null,null,null,null,null,null,null,null,null,null,null,null,null,null,null,null,null,null,null,null,null,null,"Qatar","QA",{"$f":"VLOOKUP($BL73,'FMIS+eServices'!$C$3:$EM$200,140,FALSE)","v":7.6923076923076925},{"$f":"VLOOKUP($BL73,'FMIS+eServices'!$C$3:$DT$200,107,FALSE)","v":0},null,"Mauritius",{"$f":"VLOOKUP($BQ73,'FMIS+eServices'!$C$3:$EM$200,140,FALSE)","v":69.230769230769226},{"$f":"VLOOKUP($BQ73,'FMIS+eServices'!$C$3:$DT$200,105,FALSE)","v":3.7},{"$f":"VLOOKUP($BQ73,'FMIS+eServices'!$C$3:$DT$200,106,FALSE)","v":3.1774193548387095},null,null,null,null,null,null,null,"Swaziland",{"$f":"VLOOKUP($CB73,'FMIS+eServices'!$C$3:$EM$200,140,FALSE)","v":38.461538461538467},{"$f":"VLOOKUP($CB73,'FMIS+eServices'!$C$3:$DT$200,105,FALSE)","v":2.2777777777777777},{"$f":"VLOOKUP($CB73,'FMIS+eServices'!$C$3:$DT$200,106,FALSE)","v":2.25}]
[null,"D-2",3,1,3,9,15,26,27,13,97,null,null,null,null,null,null,null,{"$f":"SUM(S70:S73)","v":198},null,null,null,null,null,null,null,null,null,null,null,null,null,null,null,null,null,null,null,null,null,null,null,null,null,null,null,null,null,null,null,null,null,null,null,null,null,null,null,null,null,null,null,null,"Romania","RO",{"$f":"VLOOKUP($BL74,'FMIS+eServices'!$C$3:$EM$200,140,FALSE)","v":61.53846153846154},{"$f":"VLOOKUP($BL74,'FMIS+eServices'!$C$3:$DT$200,107,FALSE)","v":47},null,"Micronesia, Fed. Sts.",{"$f":"VLOOKUP($BQ74,'FMIS+eServices'!$C$3:$EM$200,140,FALSE)","v":38.461538461538467},{"$f":"VLOOKUP($BQ74,'FMIS+eServices'!$C$3:$DT$200,105,FALSE)","v":1.7222222222222223},{"$f":"VLOOKUP($BQ74,'FMIS+eServices'!$C$3:$DT$200,106,FALSE)","v":1.8653846153846154},null,null,null,null,null,null,null,"Tajikistan",{"$f":"VLOOKUP($CB74,'FMIS+eServices'!$C$3:$EM$200,140,FALSE)","v":42.307692307692307},{"$f":"VLOOKUP($CB74,'FMIS+eServices'!$C$3:$DT$200,105,FALSE)","v":2.2999999999999998},{"$f":"VLOOKUP($CB74,'FMIS+eServices'!$C$3:$DT$200,106,FALSE)","v":2.37}]
[null,null,null,null,null,null,null,null,null,null,null,null,null,null,null,null,null,null,null,null,null,null,null,null,null,null,null,null,null,null,null,null,null,null,null,null,null,null,null,null,null,null,null,null,null,null,null,null,null,null,null,null,null,null,null,null,null,null,null,null,null,null,null,"Russian Federation","RU",{"$f":"VLOOKUP($BL75,'FMIS+eServices'!$C$3:$EM$200,140,FALSE)","v":88.461538461538453},{"$f":"VLOOKUP($BL75,'FMIS+eServices'!$C$3:$DT$200,107,FALSE)","v":74},null,"Moldova",{"$f":"VLOOKUP($BQ75,'FMIS+eServices'!$C$3:$EM$200,140,FALSE)","v":69.230769230769226},{"$f":"VLOOKUP($BQ75,'FMIS+eServices'!$C$3:$DT$200,105,FALSE)","v":3.35},{"$f":"VLOOKUP($BQ75,'FMIS+eServices'!$C$3:$DT$200,106,FALSE)","v":3.193548387096774},null,null,null,null,null,null,null,"Tanzania",{"$f":"VLOOKUP($CB75,'FMIS+eServices'!$C$3:$EM$200,140,FALSE)","v":57.692307692307686},{"$f":"VLOOKUP($CB75,'FMIS+eServices'!$C$3:$DT$200,105,FALSE)","v":2.5499999999999998},{"$f":"VLOOKUP($CB75,'FMIS+eServices'!$C$3:$DT$200,106,FALSE)","v":2.5299999999999998}]
[null,"PEFA Scores (All = Public + Final + Draft)",null,null,null,null,null,null,null,null,null,null,null,null,null,null,null,null,null,null,null,null,null,null,null,null,null,null,null,null,null,null,null,null,null,null,null,null,null,null,null,null,null,null,null,null,null,null,null,null,null,null,null,null,null,null,null,null,null,null,null,null,null,"Rwanda","RW",{"$f":"VLOOKUP($BL76,'FMIS+eServices'!$C$3:$EM$200,140,FALSE)","v":30.76923076923077},{"$f":"VLOOKUP($BL76,'FMIS+eServices'!$C$3:$DT$200,107,FALSE)","v":8},null,"Montenegro",{"$f":"VLOOKUP($BQ76,'FMIS+eServices'!$C$3:$EM$200,140,FALSE)","v":23.076923076923077},{"$f":"VLOOKUP($BQ76,'FMIS+eServices'!$C$3:$DT$200,105,FALSE)","v":3.11},{"$f":"VLOOKUP($BQ76,'FMIS+eServices'!$C$3:$DT$200,106,FALSE)","v":2.74},null,null,null,null,null,null,null,"Thailand",{"$f":"VLOOKUP($CB76,'FMIS+eServices'!$C$3:$EM$200,140,FALSE)","v":57.692307692307686},{"$f":"VLOOKUP($CB76,'FMIS+eServices'!$C$3:$DT$200,105,FALSE)","v":2.8333333333333335},{"$f":"VLOOKUP($CB76,'FMIS+eServices'!$C$3:$DT$200,106,FALSE)","v":3.125}]
[null,"PEFA","A","B+","B","C+","C","D+","D","NR","Sum","A","B","C","D",null,null,null,null,null,null,null,null,null,null,null,null,null,null,null,null,null,null,null,null,null,null,null,null,null,null,null,null,null,null,null,null,null,null,null,null,null,null,null,null,null,null,null,null,null,null,null,null,"São Tomé and Principe","ST",{"$f":"VLOOKUP($BL77,'FMIS+eServices'!$C$3:$EM$200,140,FALSE)","v":38.461538461538467},{"$f":"VLOOKUP($BL77,'FMIS+eServices'!$C$3:$DT$200,107,FALSE)","v":29},null,"Morocco",{"$f":"VLOOKUP($BQ77,'FMIS+eServices'!$C$3:$EM$200,140,FALSE)","v":50},{"$f":"VLOOKUP($BQ77,'FMIS+eServices'!$C$3:$DT$200,105,FALSE)","v":2.85},{"$f":"VLOOKUP($BQ77,'FMIS+eServices'!$C$3:$DT$200,106,FALSE)","v":2.9833333333333334},null,null,null,null,null,null,null,"Timor-Leste",{"$f":"VLOOKUP($CB77,'FMIS+eServices'!$C$3:$EM$200,140,FALSE)","v":61.53846153846154},{"$f":"VLOOKUP($CB77,'FMIS+eServices'!$C$3:$DT$200,105,FALSE)","v":2.4500000000000002},{"$f":"VLOOKUP($CB77,'FMIS+eServices'!$C$3:$DT$200,106,FALSE)","v":2.0862068965517242}]
[null,"PI-5",34,"-",34,"-",42,"-",11,"-",{"$f":"SUM(C78:J78)","v":121},13,43,44,21,null,null,"FMIS Opr  Yr","Since",null,null,null,null,null,null,null,null,null,null,null,null,null,null,null,null,null,null,null,null,null,null,null,null,null,null,null,null,null,null,null,null,null,null,null,null,null,null,null,null,null,null,null,null,"Saudi Arabia","SA",{"$f":"VLOOKUP($BL78,'FMIS+eServices'!$C$3:$EM$200,140,FALSE)","v":26.923076923076923},{"$f":"VLOOKUP($BL78,'FMIS+eServices'!$C$3:$DT$200,107,FALSE)","v":1},null,"Mozambique",{"$f":"VLOOKUP($BQ78,'FMIS+eServices'!$C$3:$EM$200,140,FALSE)","v":38.461538461538467},{"$f":"VLOOKUP($BQ78,'FMIS+eServices'!$C$3:$DT$200,105,FALSE)","v":2.5499999999999998},{"$f":"VLOOKUP($BQ78,'FMIS+eServices'!$C$3:$DT$200,106,FALSE)","v":2.838709677419355},null,null,null,null,null,null,null,"Togo",{"$f":"VLOOKUP($CB78,'FMIS+eServices'!$C$3:$EM$200,140,FALSE)","v":3.8461538461538463},{"$f":"VLOOKUP($CB78,'FMIS+eServices'!$C$3:$DT$200,105,FALSE)","v":1.2777777777777777},{"$f":"VLOOKUP($CB78,'FMIS+eServices'!$C$3:$DT$200,106,FALSE)","v":1.5925925925925926}]
[null,"PI-6",46,"-",42,"-",25,"-",7,1,121,null,null,null,null,null,null,"< 2000",{"$f":"'FMIS+eServices'!CI204","v":19},{"$f":"S79/S83","v":9.7938144329896906E-2},null,null,null,null,null,null,null,null,null,null,null,null,null,null,null,null,null,null,null,null,null,null,null,null,null,null,null,null,null,null,null,null,null,null,null,null,null,null,null,null,null,null,null,"Senegal","SN",{"$f":"VLOOKUP($BL79,'FMIS+eServices'!$C$3:$EM$200,140,FALSE)","v":38.461538461538467},{"$f":"VLOOKUP($BL79,'FMIS+eServices'!$C$3:$DT$200,107,FALSE)","v":10},null,"Myanmar",{"$f":"VLOOKUP($BQ79,'FMIS+eServices'!$C$3:$EM$200,140,FALSE)","v":3.8461538461538463},{"$f":"VLOOKUP($BQ79,'FMIS+eServices'!$C$3:$DT$200,105,FALSE)","v":1.5},{"$f":"VLOOKUP($BQ79,'FMIS+eServices'!$C$3:$DT$200,106,FALSE)","v":1.65},null,null,null,null,null,null,null,"Tonga",{"$f":"VLOOKUP($CB79,'FMIS+eServices'!$C$3:$EM$200,140,FALSE)","v":50},{"$f":"VLOOKUP($CB79,'FMIS+eServices'!$C$3:$DT$200,105,FALSE)","v":2.0499999999999998},{"$f":"VLOOKUP($CB79,'FMIS+eServices'!$C$3:$DT$200,106,FALSE)","v":2.6071428571428572}]
[null,"PI-10",18,"-",42,"-",47,"-",14,"-",121,null,null,null,null,null,null,"2000-2005",{"$f":"'FMIS+eServices'!CI205","v":47},{"$f":"S80/S83","v":0.2422680412371134},null,null,null,null,null,null,null,null,null,null,null,null,null,null,null,null,null,null,null,null,null,null,null,null,null,null,null,null,null,null,null,null,null,null,null,null,null,null,null,null,null,null,null,"Serbia","RS",{"$f":"VLOOKUP($BL80,'FMIS+eServices'!$C$3:$EM$200,140,FALSE)","v":61.53846153846154},{"$f":"VLOOKUP($BL80,'FMIS+eServices'!$C$3:$DT$200,107,FALSE)","v":39},null,"Namibia",{"$f":"VLOOKUP($BQ80,'FMIS+eServices'!$C$3:$EM$200,140,FALSE)","v":73.076923076923066},{"$f":"VLOOKUP($BQ80,'FMIS+eServices'!$C$3:$DT$200,105,FALSE)","v":2.8},{"$f":"VLOOKUP($BQ80,'FMIS+eServices'!$C$3:$DT$200,106,FALSE)","v":2.7},null,null,null,null,null,null,null,"Trinidad and Tobago",{"$f":"VLOOKUP($CB80,'FMIS+eServices'!$C$3:$EM$200,140,FALSE)","v":46.153846153846153},{"$f":"VLOOKUP($CB80,'FMIS+eServices'!$C$3:$DT$200,105,FALSE)","v":2.5},{"$f":"VLOOKUP($CB80,'FMIS+eServices'!$C$3:$DT$200,106,FALSE)","v":2.6666666666666665}]
[null,"PI-12",1,7,11,42,20,27,12,1,121,null,null,null,null,null,null,"2005-2010",{"$f":"'FMIS+eServices'!CI206","v":63},{"$f":"S81/S83","v":0.32474226804123713},null,null,null,null,null,null,null,null,null,null,null,null,null,null,null,null,null,null,null,null,null,null,null,null,null,null,null,null,null,null,null,null,null,null,null,null,null,null,null,null,null,null,null,"Sierra Leone","SL",{"$f":"VLOOKUP($BL81,'FMIS+eServices'!$C$3:$EM$200,140,FALSE)","v":38.461538461538467},{"$f":"VLOOKUP($BL81,'FMIS+eServices'!$C$3:$DT$200,107,FALSE)","v":39},null,"Nauru",{"$f":"VLOOKUP($BQ81,'FMIS+eServices'!$C$3:$EM$200,140,FALSE)","v":3.8461538461538463},{"$f":"VLOOKUP($BQ81,'FMIS+eServices'!$C$3:$DT$200,105,FALSE)","v":1.625},{"$f":"VLOOKUP($BQ81,'FMIS+eServices'!$C$3:$DT$200,106,FALSE)","v":1.7173913043478262},null,null,null,null,null,null,null,"Tunisia",{"$f":"VLOOKUP($CB81,'FMIS+eServices'!$C$3:$EM$200,140,FALSE)","v":34.615384615384613},{"$f":"VLOOKUP($CB81,'FMIS+eServices'!$C$3:$DT$200,105,FALSE)","v":2.85},{"$f":"VLOOKUP($CB81,'FMIS+eServices'!$C$3:$DT$200,106,FALSE)","v":3.0483870967741935}]
[null,"PI-22",21,18,20,14,18,7,19,4,121,null,null,null,null,null,null,"> 2010",{"$f":"'FMIS+eServices'!CI207","v":65},{"$f":"S82/S83","v":0.33505154639175255},null,null,null,null,null,null,null,null,null,null,null,null,null,null,null,null,null,null,null,null,null,null,null,null,null,null,null,null,null,null,null,null,null,null,null,null,null,null,null,null,null,null,null,"Slovak Republic","SK",{"$f":"VLOOKUP($BL82,'FMIS+eServices'!$C$3:$EM$200,140,FALSE)","v":69.230769230769226},{"$f":"VLOOKUP($BL82,'FMIS+eServices'!$C$3:$DT$200,107,FALSE)","v":67},null,"Nepal",{"$f":"VLOOKUP($BQ82,'FMIS+eServices'!$C$3:$EM$200,140,FALSE)","v":57.692307692307686},{"$f":"VLOOKUP($BQ82,'FMIS+eServices'!$C$3:$DT$200,105,FALSE)","v":2.25},{"$f":"VLOOKUP($BQ82,'FMIS+eServices'!$C$3:$DT$200,106,FALSE)","v":2.096774193548387},null,null,null,null,null,null,null,"Uganda",{"$f":"VLOOKUP($CB82,'FMIS+eServices'!$C$3:$EM$200,140,FALSE)","v":61.53846153846154},{"$f":"VLOOKUP($CB82,'FMIS+eServices'!$C$3:$DT$200,105,FALSE)","v":2.9},{"$f":"VLOOKUP($CB82,'FMIS+eServices'!$C$3:$DT$200,106,FALSE)","v":2.370967741935484}]
[null,"PI-23",13,"-",19,"-",13,"-",70,6,121,null,null,null,null,null,null,null,{"$f":"SUM(S79:S82)","v":194},null,null,null,null,null,null,null,null,null,null,null,null,null,null,null,null,null,null,null,null,null,null,null,null,null,null,null,null,null,null,null,null,null,null,null,null,null,null,null,null,null,null,null,null,"Slovenia","SI",{"$f":"VLOOKUP($BL83,'FMIS+eServices'!$C$3:$EM$200,140,FALSE)","v":76.923076923076934},{"$f":"VLOOKUP($BL83,'FMIS+eServices'!$C$3:$DT$200,107,FALSE)","v":74},null,"Nicaragua",{"$f":"VLOOKUP($BQ83,'FMIS+eServices'!$C$3:$EM$200,140,FALSE)","v":92.307692307692307},{"$f":"VLOOKUP($BQ83,'FMIS+eServices'!$C$3:$DT$200,105,FALSE)","v":2.1666666666666665},{"$f":"VLOOKUP($BQ83,'FMIS+eServices'!$C$3:$DT$200,106,FALSE)","v":2.4629629629629628},null,null,null,null,null,null,null,"Ukraine",{"$f":"VLOOKUP($CB83,'FMIS+eServices'!$C$3:$EM$200,140,FALSE)","v":61.53846153846154},{"$f":"VLOOKUP($CB83,'FMIS+eServices'!$C$3:$DT$200,105,FALSE)","v":2.95},{"$f":"VLOOKUP($CB83,'FMIS+eServices'!$C$3:$DT$200,106,FALSE)","v":2.56}]
[null,"PI-24",9,18,2,55,8,22,7,"-",121,null,null,null,null,null,null,null,null,null,null,null,null,null,null,null,null,null,null,null,null,null,null,null,null,null,null,null,null,null,null,null,null,null,null,null,null,null,null,null,null,null,null,null,null,null,null,null,null,null,null,null,null,"South Africa","ZA",{"$f":"VLOOKUP($BL84,'FMIS+eServices'!$C$3:$EM$200,140,FALSE)","v":69.230769230769226},{"$f":"VLOOKUP($BL84,'FMIS+eServices'!$C$3:$DT$200,107,FALSE)","v":90},null,"Niger",{"$f":"VLOOKUP($BQ84,'FMIS+eServices'!$C$3:$EM$200,140,FALSE)","v":3.8461538461538463},{"$f":"VLOOKUP($BQ84,'FMIS+eServices'!$C$3:$DT$200,105,FALSE)","v":1.9},{"$f":"VLOOKUP($BQ84,'FMIS+eServices'!$C$3:$DT$200,106,FALSE)","v":2.02},null,null,null,null,null,null,null,"Uruguay",{"$f":"VLOOKUP($CB84,'FMIS+eServices'!$C$3:$EM$200,140,FALSE)","v":73.076923076923066},{"$f":"VLOOKUP($CB84,'FMIS+eServices'!$C$3:$DT$200,105,FALSE)","v":2.33},{"$f":"VLOOKUP($CB84,'FMIS+eServices'!$C$3:$DT$200,106,FALSE)","v":2.52}]
[null,"PI-25",10,10,"-",40,4,46,9,2,121,null,null,null,null,null,null,null,null,null,null,null,null,null,null,null,null,null,null,null,null,null,null,null,null,null,null,null,null,null,null,null,null,null,null,null,null,null,null,null,null,null,null,null,null,null,null,null,null,null,null,null,null,"Spain","ES",{"$f":"VLOOKUP($BL85,'FMIS+eServices'!$C$3:$EM$200,140,FALSE)","v":88.461538461538453},{"$f":"VLOOKUP($BL85,'FMIS+eServices'!$C$3:$DT$200,107,FALSE)","v":63},null,"Norway",{"$f":"VLOOKUP($BQ85,'FMIS+eServices'!$C$3:$EM$200,140,FALSE)","v":76.923076923076934},{"$f":"VLOOKUP($BQ85,'FMIS+eServices'!$C$3:$DT$200,105,FALSE)","v":3.1111111111111112},{"$f":"VLOOKUP($BQ85,'FMIS+eServices'!$C$3:$DT$200,106,FALSE)","v":3.4107142857142856},null,null,null,null,null,null,null,"Vietnam",{"$f":"VLOOKUP($CB85,'FMIS+eServices'!$C$3:$EM$200,140,FALSE)","v":61.53846153846154},{"$f":"VLOOKUP($CB85,'FMIS+eServices'!$C$3:$DT$200,105,FALSE)","v":2.5},{"$f":"VLOOKUP($CB85,'FMIS+eServices'!$C$3:$DT$200,106,FALSE)","v":2.4700000000000002}]
[null,"PI-26","-",12,10,25,6,44,20,4,121,null,null,null,null,null,null,null,null,null,null,null,null,null,null,null,null,null,null,null,null,null,null,null,null,null,null,null,null,null,null,null,null,null,null,null,null,null,null,null,null,null,null,null,null,null,null,null,null,null,null,null,null,"Sri Lanka","LK",{"$f":"VLOOKUP($BL86,'FMIS+eServices'!$C$3:$EM$200,140,FALSE)","v":53.846153846153847},{"$f":"VLOOKUP($BL86,'FMIS+eServices'!$C$3:$DT$200,107,FALSE)","v":46},null,"Oman",{"$f":"VLOOKUP($BQ86,'FMIS+eServices'!$C$3:$EM$200,140,FALSE)","v":46.153846153846153},{"$f":"VLOOKUP($BQ86,'FMIS+eServices'!$C$3:$DT$200,105,FALSE)","v":2.5},{"$f":"VLOOKUP($BQ86,'FMIS+eServices'!$C$3:$DT$200,106,FALSE)","v":2.34},null,null,null,null,null,null,null,"West Bank and Gaza",{"$f":"VLOOKUP($CB86,'FMIS+eServices'!$C$3:$EM$200,140,FALSE)","v":50},{"$f":"VLOOKUP($CB86,'FMIS+eServices'!$C$3:$DT$200,105,FALSE)","v":2.2000000000000002},{"$f":"VLOOKUP($CB86,'FMIS+eServices'!$C$3:$DT$200,106,FALSE)","v":2.14}]
[null,"D-2",4,1,3,9,19,32,36,17,121,null,null,null,null,null,null,"FMIS Scope","Scope",null,null,null,null,null,null,null,null,null,null,null,null,null,null,null,null,null,null,null,null,null,null,null,null,null,null,null,null,null,null,null,null,null,null,null,null,null,null,null,null,null,null,null,null,"Sweden","SE",{"$f":"VLOOKUP($BL87,'FMIS+eServices'!$C$3:$EM$200,140,FALSE)","v":73.076923076923066},{"$f":"VLOOKUP($BL87,'FMIS+eServices'!$C$3:$DT$200,107,FALSE)","v":84},null,"Pakistan",{"$f":"VLOOKUP($BQ87,'FMIS+eServices'!$C$3:$EM$200,140,FALSE)","v":50},{"$f":"VLOOKUP($BQ87,'FMIS+eServices'!$C$3:$DT$200,105,FALSE)","v":2.89},{"$f":"VLOOKUP($BQ87,'FMIS+eServices'!$C$3:$DT$200,106,FALSE)","v":2.69},null,null,null,null,null,null,null,"Yemen",{"$f":"VLOOKUP($CB87,'FMIS+eServices'!$C$3:$EM$200,140,FALSE)","v":34.615384615384613},{"$f":"VLOOKUP($CB87,'FMIS+eServices'!$C$3:$DT$200,105,FALSE)","v":2.6},{"$f":"VLOOKUP($CB87,'FMIS+eServices'!$C$3:$DT$200,106,FALSE)","v":2.3833333333333333}]
[null,null,null,null,null,null,null,null,null,null,null,null,null,null,null,null,null,"Central+Local",{"$f":"'FMIS+eServices'!CJ205","v":108},{"$f":"S88/S90","v":0.55670103092783507},null,null,null,null,null,null,null,null,null,null,null,null,null,null,null,null,null,null,null,null,null,null,null,null,null,null,null,null,null,null,null,null,null,null,null,null,null,null,null,null,null,null,null,"Tajikistan","TJ",{"$f":"VLOOKUP($BL88,'FMIS+eServices'!$C$3:$EM$200,140,FALSE)","v":42.307692307692307},{"$f":"VLOOKUP($BL88,'FMIS+eServices'!$C$3:$DT$200,107,FALSE)","v":17},null,"Papua New Guinea",{"$f":"VLOOKUP($BQ88,'FMIS+eServices'!$C$3:$EM$200,140,FALSE)","v":46.153846153846153},{"$f":"VLOOKUP($BQ88,'FMIS+eServices'!$C$3:$DT$200,105,FALSE)","v":2.25},{"$f":"VLOOKUP($BQ88,'FMIS+eServices'!$C$3:$DT$200,106,FALSE)","v":2.2758620689655173}]
[null,null,null,null,null,null,null,null,null,null,null,null,null,null,null,null,null,"Central",{"$f":"'FMIS+eServices'!CJ204","v":86},{"$f":"S89/S90","v":0.44329896907216493},null,null,null,null,null,null,null,null,null,null,null,null,null,null,null,null,null,null,null,null,null,null,null,null,null,null,null,null,null,null,null,null,null,null,null,null,null,null,null,null,null,null,null,"Tanzania","TZ",{"$f":"VLOOKUP($BL89,'FMIS+eServices'!$C$3:$EM$200,140,FALSE)","v":57.692307692307686},{"$f":"VLOOKUP($BL89,'FMIS+eServices'!$C$3:$DT$200,107,FALSE)","v":47},null,"Paraguay",{"$f":"VLOOKUP($BQ89,'FMIS+eServices'!$C$3:$EM$200,140,FALSE)","v":84.615384615384613},{"$f":"VLOOKUP($BQ89,'FMIS+eServices'!$C$3:$DT$200,105,FALSE)","v":2.25},{"$f":"VLOOKUP($BQ89,'FMIS+eServices'!$C$3:$DT$200,106,FALSE)","v":2.5322580645164399}]
[null,"MTEF Implementation vs. FMIS & BT Grades",null,null,null,null,null,null,null,null,null,null,null,null,null,null,null,null,{"$f":"SUM(S88:S89)","v":194},null,null,null,null,null,null,null,null,null,null,null,null,null,null,null,null,null,null,null,null,null,null,null,null,null,null,null,null,null,null,null,null,null,null,null,null,null,null,null,null,null,null,null,null,"Thailand","TH",{"$f":"VLOOKUP($BL90,'FMIS+eServices'!$C$3:$EM$200,140,FALSE)","v":57.692307692307686},{"$f":"VLOOKUP($BL90,'FMIS+eServices'!$C$3:$DT$200,107,FALSE)","v":36},null,"Peru",{"$f":"VLOOKUP($BQ90,'FMIS+eServices'!$C$3:$EM$200,140,FALSE)","v":92.307692307692307},{"$f":"VLOOKUP($BQ90,'FMIS+eServices'!$C$3:$DT$200,105,FALSE)","v":3.05},{"$f":"VLOOKUP($BQ90,'FMIS+eServices'!$C$3:$DT$200,106,FALSE)","v":3.1451612903225805}]
[null,"MTEF","A","B","C","D","Sum",null,null,null,null,null,null,null,null,null,null,null,null,null,null,null,null,null,null,null,null,null,null,null,null,null,null,null,null,null,null,null,null,null,null,null,null,null,null,null,null,null,null,null,null,null,null,null,null,null,null,null,null,null,null,null,null,"Timor-Leste","TP",{"$f":"VLOOKUP($BL91,'FMIS+eServices'!$C$3:$EM$200,140,FALSE)","v":61.53846153846154},{"$f":"VLOOKUP($BL91,'FMIS+eServices'!$C$3:$DT$200,107,FALSE)","v":36},null,"Philippines",{"$f":"VLOOKUP($BQ91,'FMIS+eServices'!$C$3:$EM$200,140,FALSE)","v":61.53846153846154},{"$f":"VLOOKUP($BQ91,'FMIS+eServices'!$C$3:$DT$200,105,FALSE)","v":1.45},{"$f":"VLOOKUP($BQ91,'FMIS+eServices'!$C$3:$DT$200,106,FALSE)","v":2}]
[null,0,4,10,20,15,{"$f":"SUM(C92:F92)","v":49},null,null,null,null,null,null,null,null,null,null,null,null,null,null,null,null,null,null,null,null,null,null,null,null,null,null,null,null,null,null,null,null,null,null,null,null,null,null,null,null,null,null,null,null,null,null,null,null,null,null,null,null,null,null,null,null,"Trinidad and Tobago","TT",{"$f":"VLOOKUP($BL92,'FMIS+eServices'!$C$3:$EM$200,140,FALSE)","v":46.153846153846153},{"$f":"VLOOKUP($BL92,'FMIS+eServices'!$C$3:$DT$200,107,FALSE)","v":38},null,"Russian Federation",{"$f":"VLOOKUP($BQ92,'FMIS+eServices'!$C$3:$EM$200,140,FALSE)","v":88.461538461538453},{"$f":"VLOOKUP($BQ92,'FMIS+eServices'!$C$3:$DT$200,105,FALSE)","v":2.3888888888888888},{"$f":"VLOOKUP($BQ92,'FMIS+eServices'!$C$3:$DT$200,106,FALSE)","v":2.4821428571428572}]
[null,1,9,36,18,8,71,null,null,null,null,null,null,null,null,null,null,null,null,null,null,null,null,null,null,null,null,null,null,null,null,null,null,null,null,null,null,null,null,null,null,null,null,null,null,null,null,null,null,null,null,null,null,null,null,null,null,null,null,null,null,null,null,"Tunisia","TN",{"$f":"VLOOKUP($BL93,'FMIS+eServices'!$C$3:$EM$200,140,FALSE)","v":34.615384615384613},{"$f":"VLOOKUP($BL93,'FMIS+eServices'!$C$3:$DT$200,107,FALSE)","v":11},null,"Rwanda",{"$f":"VLOOKUP($BQ93,'FMIS+eServices'!$C$3:$EM$200,140,FALSE)","v":30.76923076923077},{"$f":"VLOOKUP($BQ93,'FMIS+eServices'!$C$3:$DT$200,105,FALSE)","v":2.7},{"$f":"VLOOKUP($BQ93,'FMIS+eServices'!$C$3:$DT$200,106,FALSE)","v":2.9193548387096775}]
[null,2,7,22,10,3,42,null,null,null,null,null,null,null,null,null,null,null,null,null,null,null,null,null,null,null,null,null,null,null,null,null,null,null,null,null,null,null,null,null,null,null,null,null,null,null,null,null,null,null,null,null,null,null,null,null,null,null,null,null,null,null,null,"Turkey","TR",{"$f":"VLOOKUP($BL94,'FMIS+eServices'!$C$3:$EM$200,140,FALSE)","v":88.461538461538453},{"$f":"VLOOKUP($BL94,'FMIS+eServices'!$C$3:$DT$200,107,FALSE)","v":50},null,"Samoa",{"$f":"VLOOKUP($BQ94,'FMIS+eServices'!$C$3:$EM$200,140,FALSE)","v":34.615384615384613},{"$f":"VLOOKUP($BQ94,'FMIS+eServices'!$C$3:$DT$200,105,FALSE)","v":2},{"$f":"VLOOKUP($BQ94,'FMIS+eServices'!$C$3:$DT$200,106,FALSE)","v":2.0892857142857144}]
[null,3,7,12,null,null,19,null,null,null,null,null,null,null,null,null,null,null,null,null,null,null,null,null,null,null,null,null,null,null,null,null,null,null,null,null,null,null,null,null,null,null,null,null,null,null,null,null,null,null,null,null,null,null,null,null,null,null,null,null,null,null,null,"Uganda","UG",{"$f":"VLOOKUP($BL95,'FMIS+eServices'!$C$3:$EM$200,140,FALSE)","v":61.53846153846154},{"$f":"VLOOKUP($BL95,'FMIS+eServices'!$C$3:$DT$200,107,FALSE)","v":65},null,"São Tomé and Principe",{"$f":"VLOOKUP($BQ95,'FMIS+eServices'!$C$3:$EM$200,140,FALSE)","v":38.461538461538467},{"$f":"VLOOKUP($BQ95,'FMIS+eServices'!$C$3:$DT$200,105,FALSE)","v":1.55},{"$f":"VLOOKUP($BQ95,'FMIS+eServices'!$C$3:$DT$200,106,FALSE)","v":1.7666666666666666}]
[null,"-",null,1,6,10,17,null,null,null,null,null,null,null,null,null,null,"FMIS ASW","ASW",null,null,null,null,null,null,null,null,null,null,null,null,null,null,null,null,null,null,null,null,null,null,null,null,null,null,null,null,null,null,null,null,null,null,null,null,null,null,null,null,null,null,null,null,"Ukraine","UA",{"$f":"VLOOKUP($BL96,'FMIS+eServices'!$C$3:$EM$200,140,FALSE)","v":61.53846153846154},{"$f":"VLOOKUP($BL96,'FMIS+eServices'!$C$3:$DT$200,107,FALSE)","v":54},null,"Senegal",{"$f":"VLOOKUP($BQ96,'FMIS+eServices'!$C$3:$EM$200,140,FALSE)","v":38.461538461538467},{"$f":"VLOOKUP($BQ96,'FMIS+eServices'!$C$3:$DT$200,105,FALSE)","v":2.15},{"$f":"VLOOKUP($BQ96,'FMIS+eServices'!$C$3:$DT$200,106,FALSE)","v":2.1774193548387095}]
[null,"Sum",{"$f":"SUM(C92:C96)","v":27},81,54,36,{"$f":"SUM(G92:G96)","v":198},null,null,null,null,null,null,null,null,null,null,"COTS",{"$f":"'FMIS+eServices'!CL204","v":108},{"$f":"S97/S100","v":0.54545454545454541},null,null,null,null,null,null,null,null,null,null,null,null,null,null,null,null,null,null,null,null,null,null,null,null,null,null,null,null,null,null,null,null,null,null,null,null,null,null,null,null,null,null,null,"United Kingdom","UK",{"$f":"VLOOKUP($BL97,'FMIS+eServices'!$C$3:$EM$200,140,FALSE)","v":88.461538461538453},{"$f":"VLOOKUP($BL97,'FMIS+eServices'!$C$3:$DT$200,107,FALSE)","v":88},null,"Serbia",{"$f":"VLOOKUP($BQ97,'FMIS+eServices'!$C$3:$EM$200,140,FALSE)","v":61.53846153846154},{"$f":"VLOOKUP($BQ97,'FMIS+eServices'!$C$3:$DT$200,105,FALSE)","v":3.1},{"$f":"VLOOKUP($BQ97,'FMIS+eServices'!$C$3:$DT$200,106,FALSE)","v":2.7903225806451615}]
[null,null,null,null,null,null,null,null,null,null,null,null,null,null,null,null,null,"LDSW",{"$f":"'FMIS+eServices'!CL205","v":83},{"$f":"S98/S100","v":0.41919191919191917},null,null,null,null,null,null,null,null,null,null,null,null,null,null,null,null,null,null,null,null,null,null,null,null,null,null,null,null,null,null,null,null,null,null,null,null,null,null,null,null,null,null,null,"United States of America","US",{"$f":"VLOOKUP($BL98,'FMIS+eServices'!$C$3:$EM$200,140,FALSE)","v":88.461538461538453},{"$f":"VLOOKUP($BL98,'FMIS+eServices'!$C$3:$DT$200,107,FALSE)","v":79},null,"Seychelles",{"$f":"VLOOKUP($BQ98,'FMIS+eServices'!$C$3:$EM$200,140,FALSE)","v":3.8461538461538463},{"$f":"VLOOKUP($BQ98,'FMIS+eServices'!$C$3:$DT$200,105,FALSE)","v":2.4500000000000002},{"$f":"VLOOKUP($BQ98,'FMIS+eServices'!$C$3:$DT$200,106,FALSE)","v":2.5333333333333332}]
[null,null,null,null,null,null,null,null,null,null,null,null,null,null,null,null,null,"Unknown",{"$f":"'FMIS+eServices'!CL206","v":7},{"$f":"S99/S100","v":3.5353535353535352E-2},null,null,null,null,null,null,null,null,null,null,null,null,null,null,null,null,null,null,null,null,null,null,null,null,null,null,null,null,null,null,null,null,null,null,null,null,null,null,null,null,null,null,null,"Venezuela, RB","VE",{"$f":"VLOOKUP($BL99,'FMIS+eServices'!$C$3:$EM$200,140,FALSE)","v":53.846153846153847},{"$f":"VLOOKUP($BL99,'FMIS+eServices'!$C$3:$DT$200,107,FALSE)","v":37},null,"Sierra Leone",{"$f":"VLOOKUP($BQ99,'FMIS+eServices'!$C$3:$EM$200,140,FALSE)","v":38.461538461538467},{"$f":"VLOOKUP($BQ99,'FMIS+eServices'!$C$3:$DT$200,105,FALSE)","v":2.75},{"$f":"VLOOKUP($BQ99,'FMIS+eServices'!$C$3:$DT$200,106,FALSE)","v":2.35}]
[null,"Open Government Partnership vs. FMIS & BT Grades",null,null,null,null,null,null,null,null,null,null,null,null,null,null,null,null,{"$f":"SUM(S97:S99)","v":198},null,null,null,null,null,null,null,null,null,null,null,null,null,null,null,null,null,null,null,null,null,null,null,null,null,null,null,null,null,null,null,null,null,null,null,null,null,null,null,null,null,null,null,null,"Vietnam","VN",{"$f":"VLOOKUP($BL100,'FMIS+eServices'!$C$3:$EM$200,140,FALSE)","v":61.53846153846154},{"$f":"VLOOKUP($BL100,'FMIS+eServices'!$C$3:$DT$200,107,FALSE)","v":19},null,"Solomon Islands",{"$f":"VLOOKUP($BQ100,'FMIS+eServices'!$C$3:$EM$200,140,FALSE)","v":50},{"$f":"VLOOKUP($BQ100,'FMIS+eServices'!$C$3:$DT$200,105,FALSE)","v":2.4},{"$f":"VLOOKUP($BQ100,'FMIS+eServices'!$C$3:$DT$200,106,FALSE)","v":2.13}]
[null,"OGP","A","B","C","D","Sum",null,null,null,null,null,null,null,null,null,null,null,null,null,null,null,null,null,null,null,null,null,null,null,null,null,null,null,null,null,null,null,null,null,null,null,null,null,null,null,null,null,null,null,null,null,null,null,null,null,null,null,null,null,null,null,null,"Yemen","YE",{"$f":"VLOOKUP($BL101,'FMIS+eServices'!$C$3:$EM$200,140,FALSE)","v":34.615384615384613},{"$f":"VLOOKUP($BL101,'FMIS+eServices'!$C$3:$DT$200,107,FALSE)","v":11},null,"South Africa",{"$f":"VLOOKUP($BQ101,'FMIS+eServices'!$C$3:$EM$200,140,FALSE)","v":69.230769230769226},{"$f":"VLOOKUP($BQ101,'FMIS+eServices'!$C$3:$DT$200,105,FALSE)","v":3.35},{"$f":"VLOOKUP($BQ101,'FMIS+eServices'!$C$3:$DT$200,106,FALSE)","v":3.3225806451612905}]
[null,0,2,null,3,null,{"$f":"SUM(C102:F102)","v":5},null,null,null,null,null,null,null,null,null,null,null,null,null,null,null,null,null,null,null,null,null,null,null,null,null,null,null,null,null,null,null,null,null,null,null,null,null,null,null,null,null,null,null,null,null,null,null,null,null,null,null,null,null,null,null,null,"Zambia","ZM",{"$f":"VLOOKUP($BL102,'FMIS+eServices'!$C$3:$EM$200,140,FALSE)","v":57.692307692307686},{"$f":"VLOOKUP($BL102,'FMIS+eServices'!$C$3:$DT$200,107,FALSE)","v":4},null,"South Sudan",{"$f":"VLOOKUP($BQ102,'FMIS+eServices'!$C$3:$EM$200,140,FALSE)","v":23.076923076923077},{"$f":"VLOOKUP($BQ102,'FMIS+eServices'!$C$3:$DT$200,105,FALSE)","v":1.9},{"$f":"VLOOKUP($BQ102,'FMIS+eServices'!$C$3:$DT$200,106,FALSE)","v":1.7413793103448201}]
[null,1,14,33,7,1,55,null,null,null,null,null,null,null,null,null,null,null,null,null,null,null,null,null,null,null,null,null,null,null,null,null,null,null,null,null,null,null,null,null,null,null,null,null,null,null,null,null,null,null,null,null,null,null,null,null,null,null,null,null,null,null,null,"Zimbabwe","ZW",{"$f":"VLOOKUP($BL103,'FMIS+eServices'!$C$3:$EM$200,140,FALSE)","v":38.461538461538467},{"$f":"VLOOKUP($BL103,'FMIS+eServices'!$C$3:$DT$200,107,FALSE)","v":20},null,"St. Kitts and Nevis",{"$f":"VLOOKUP($BQ103,'FMIS+eServices'!$C$3:$EM$200,140,FALSE)","v":3.8461538461538463},{"$f":"VLOOKUP($BQ103,'FMIS+eServices'!$C$3:$DT$200,105,FALSE)","v":2.15},{"$f":"VLOOKUP($BQ103,'FMIS+eServices'!$C$3:$DT$200,106,FALSE)","v":2.25}]
[null,"Sum",{"$f":"SUM(C102:C103)","v":16},{"$f":"SUM(D102:D103)","v":33},{"$f":"SUM(E102:E103)","v":10},{"$f":"SUM(F102:F103)","v":1},{"$f":"SUM(G102:G103)","v":60},null,null,null,null,null,null,null,null,null,null,null,null,null,null,null,null,null,null,null,null,null,null,null,null,null,null,null,null,null,null,null,null,null,null,null,null,null,null,null,null,null,null,null,null,null,null,null,null,null,null,null,null,null,null,null,null,null,null,null,null,null,"St. Lucia",{"$f":"VLOOKUP($BQ104,'FMIS+eServices'!$C$3:$EM$200,140,FALSE)","v":30.76923076923077},{"$f":"VLOOKUP($BQ104,'FMIS+eServices'!$C$3:$DT$200,105,FALSE)","v":1.8},{"$f":"VLOOKUP($BQ104,'FMIS+eServices'!$C$3:$DT$200,106,FALSE)","v":2.225806451612903}]
[null,null,null,null,null,null,null,null,null,null,null,null,null,null,null,null,null,"FMIS Arch","Tech Arch",null,null,null,null,null,null,null,null,null,null,null,null,null,null,null,null,null,null,null,null,null,null,null,null,null,null,null,null,null,null,null,null,null,null,null,null,null,null,null,null,null,null,null,null,null,null,null,null,null,"St. Vincent and the Grenadines",{"$f":"VLOOKUP($BQ105,'FMIS+eServices'!$C$3:$EM$200,140,FALSE)","v":19.230769230769234},{"$f":"VLOOKUP($BQ105,'FMIS+eServices'!$C$3:$DT$200,105,FALSE)","v":2.3125},{"$f":"VLOOKUP($BQ105,'FMIS+eServices'!$C$3:$DT$200,106,FALSE)","v":2.6666666666666665}]
[null,null,null,null,null,null,null,null,null,null,null,null,null,null,null,null,null,"Web-based",{"$f":"'FMIS+eServices'!CN204","v":160},{"$f":"S106/S108","v":0.83769633507853403},null,null,null,null,null,null,null,null,null,null,null,null,null,null,null,null,null,null,null,null,null,null,null,null,null,null,null,null,null,null,null,null,null,null,null,null,null,null,null,null,null,null,null,null,null,null,null,null,"Sudan",{"$f":"VLOOKUP($BQ106,'FMIS+eServices'!$C$3:$EM$200,140,FALSE)","v":19.230769230769234},{"$f":"VLOOKUP($BQ106,'FMIS+eServices'!$C$3:$DT$200,105,FALSE)","v":1.8},{"$f":"VLOOKUP($BQ106,'FMIS+eServices'!$C$3:$DT$200,106,FALSE)","v":1.7407407407407407}]
[null,"UN e-Government Dev Rankings 2012 vs. FMIS & BT Grades",null,null,null,null,null,null,null,null,null,null,null,null,null,null,null,"Client-server",{"$f":"'FMIS+eServices'!CN205","v":31},{"$f":"S107/S108","v":0.16230366492146597},null,null,null,null,null,null,null,null,null,null,null,null,null,null,null,null,null,null,null,null,null,null,null,null,null,null,null,null,null,null,null,null,null,null,null,null,null,null,null,null,null,null,null,null,null,null,null,null,"Suriname",{"$f":"VLOOKUP($BQ107,'FMIS+eServices'!$C$3:$EM$200,140,FALSE)","v":11.538461538461538},{"$f":"VLOOKUP($BQ107,'FMIS+eServices'!$C$3:$DT$200,105,FALSE)","v":1.65},{"$f":"VLOOKUP($BQ107,'FMIS+eServices'!$C$3:$DT$200,106,FALSE)","v":1.75}]
[null,"eGov","A","B","C","D","Sum",null,null,null,null,null,null,null,null,null,null,null,{"$f":"SUM(S106:S107)","v":191},null,null,null,null,null,null,null,null,null,null,null,null,null,null,null,null,null,null,null,null,null,null,null,null,null,null,null,null,null,null,null,null,null,null,null,null,null,null,null,null,null,null,null,null,null,null,null,null,null,"Swaziland",{"$f":"VLOOKUP($BQ108,'FMIS+eServices'!$C$3:$EM$200,140,FALSE)","v":38.461538461538467},{"$f":"VLOOKUP($BQ108,'FMIS+eServices'!$C$3:$DT$200,105,FALSE)","v":2.2777777777777777},{"$f":"VLOOKUP($BQ108,'FMIS+eServices'!$C$3:$DT$200,106,FALSE)","v":2.25}]
[null,"1-40",13,23,2,2,{"$f":"SUM(C109:F109)","v":40},null,null,null,null,null,null,null,null,null,null,null,null,null,null,null,null,null,null,null,null,null,null,null,null,null,null,null,null,null,null,null,null,null,null,null,null,null,null,null,null,null,null,null,null,null,null,null,null,null,null,null,null,null,null,null,null,null,null,null,null,null,"Syrian Arab Republic",{"$f":"VLOOKUP($BQ109,'FMIS+eServices'!$C$3:$EM$200,140,FALSE)","v":3.8461538461538463},{"$f":"VLOOKUP($BQ109,'FMIS+eServices'!$C$3:$DT$200,105,FALSE)","v":1.7222222222222223},{"$f":"VLOOKUP($BQ109,'FMIS+eServices'!$C$3:$DT$200,106,FALSE)","v":2}]
[null,"41-80",7,18,12,3,{"$f":"SUM(C110:F110)","v":40},null,null,null,null,null,null,null,null,null,null,null,null,null,null,null,null,null,null,null,null,null,null,null,null,null,null,null,null,null,null,null,null,null,null,null,null,null,null,null,null,null,null,null,null,null,null,null,null,null,null,null,null,null,null,null,null,null,null,null,null,null,"Tajikistan",{"$f":"VLOOKUP($BQ110,'FMIS+eServices'!$C$3:$EM$200,140,FALSE)","v":42.307692307692307},{"$f":"VLOOKUP($BQ110,'FMIS+eServices'!$C$3:$DT$200,105,FALSE)","v":2.2999999999999998},{"$f":"VLOOKUP($BQ110,'FMIS+eServices'!$C$3:$DT$200,106,FALSE)","v":2.37}]
[null,"81-120",5,18,10,7,40,null,null,null,null,null,null,null,null,null,null,null,null,null,null,null,null,null,null,null,null,null,null,null,null,null,null,null,null,null,null,null,null,null,null,null,null,null,null,null,null,null,null,null,null,null,null,null,null,null,null,null,null,null,null,null,null,null,null,null,null,null,"Tanzania",{"$f":"VLOOKUP($BQ111,'FMIS+eServices'!$C$3:$EM$200,140,FALSE)","v":57.692307692307686},{"$f":"VLOOKUP($BQ111,'FMIS+eServices'!$C$3:$DT$200,105,FALSE)","v":2.5499999999999998},{"$f":"VLOOKUP($BQ111,'FMIS+eServices'!$C$3:$DT$200,106,FALSE)","v":2.5299999999999998}]
[null,"121-160",2,13,15,10,40,null,null,null,null,null,null,null,null,null,null,"FMIS Application Software",null,null,null,null,null,null,null,null,null,null,null,null,null,null,null,null,null,null,null,null,null,null,null,null,null,null,null,null,null,null,null,null,null,null,null,null,null,null,null,null,null,null,null,null,null,null,null,null,null,null,"Thailand",{"$f":"VLOOKUP($BQ112,'FMIS+eServices'!$C$3:$EM$200,140,FALSE)","v":57.692307692307686},{"$f":"VLOOKUP($BQ112,'FMIS+eServices'!$C$3:$DT$200,105,FALSE)","v":2.8333333333333335},{"$f":"VLOOKUP($BQ112,'FMIS+eServices'!$C$3:$DT$200,106,FALSE)","v":3.125}]
[null,"161-190",null,6,13,11,30,null,null,null,null,null,null,null,null,null,null,"(Central Government)",null,null,null,null,null,null,null,null,null,null,null,null,null,null,null,null,null,null,null,null,null,null,null,null,null,null,null,null,null,null,null,null,null,null,null,null,null,null,null,null,null,null,null,null,null,null,null,null,null,null,"Timor-Leste",{"$f":"VLOOKUP($BQ113,'FMIS+eServices'!$C$3:$EM$200,140,FALSE)","v":61.53846153846154},{"$f":"VLOOKUP($BQ113,'FMIS+eServices'!$C$3:$DT$200,105,FALSE)","v":2.4500000000000002},{"$f":"VLOOKUP($BQ113,'FMIS+eServices'!$C$3:$DT$200,106,FALSE)","v":2.0862068965517242}]
[null,"Sum",{"$f":"SUM(C109:C113)","v":27},78,52,33,{"$f":"SUM(G109:G113)","v":190},null,null,null,null,null,null,null,null,null,null,"Commercial Packages",null,null,null,null,null,null,null,null,null,null,null,null,null,null,null,null,null,null,null,null,null,null,null,null,null,null,null,null,null,null,null,null,null,null,null,null,null,null,null,null,null,null,null,null,null,null,null,null,null,null,"Togo",{"$f":"VLOOKUP($BQ114,'FMIS+eServices'!$C$3:$EM$200,140,FALSE)","v":3.8461538461538463},{"$f":"VLOOKUP($BQ114,'FMIS+eServices'!$C$3:$DT$200,105,FALSE)","v":1.2777777777777777},{"$f":"VLOOKUP($BQ114,'FMIS+eServices'!$C$3:$DT$200,106,FALSE)","v":1.5925925925925926}]
[null,null,null,null,null,null,null,null,null,null,null,null,null,null,null,null,null,"SAP",36,null,null,null,null,null,null,null,null,null,null,null,null,null,null,null,null,null,null,null,null,null,null,null,null,null,null,null,null,null,null,null,null,null,null,null,null,null,null,null,null,null,null,null,null,null,null,null,null,null,"Tonga",{"$f":"VLOOKUP($BQ115,'FMIS+eServices'!$C$3:$EM$200,140,FALSE)","v":50},{"$f":"VLOOKUP($BQ115,'FMIS+eServices'!$C$3:$DT$200,105,FALSE)","v":2.0499999999999998},{"$f":"VLOOKUP($BQ115,'FMIS+eServices'!$C$3:$DT$200,106,FALSE)","v":2.6071428571428572}]
[null,"UN e-Government Development Index 2012",null,null,null,null,null,null,null,null,null,null,null,null,null,null,null,"Oracle",29,null,null,null,null,null,null,null,null,null,null,null,null,null,null,null,null,null,null,null,null,null,null,null,null,null,null,null,null,null,null,null,null,null,null,null,null,null,null,null,null,null,null,null,null,null,null,null,null,null,"Trinidad and Tobago",{"$f":"VLOOKUP($BQ116,'FMIS+eServices'!$C$3:$EM$200,140,FALSE)","v":46.153846153846153},{"$f":"VLOOKUP($BQ116,'FMIS+eServices'!$C$3:$DT$200,105,FALSE)","v":2.5},{"$f":"VLOOKUP($BQ116,'FMIS+eServices'!$C$3:$DT$200,106,FALSE)","v":2.6666666666666665}]
[null,"eGov","A","B","C","D","Sum",null,null,null,null,null,null,null,null,null,null,"Free Balance",13,null,null,null,null,null,null,null,null,null,null,null,null,null,null,null,null,null,null,null,null,null,null,null,null,null,null,null,null,null,null,null,null,null,null,null,null,null,null,null,null,null,null,null,null,null,null,null,null,null,"Tunisia",{"$f":"VLOOKUP($BQ117,'FMIS+eServices'!$C$3:$EM$200,140,FALSE)","v":34.615384615384613},{"$f":"VLOOKUP($BQ117,'FMIS+eServices'!$C$3:$DT$200,105,FALSE)","v":2.85},{"$f":"VLOOKUP($BQ117,'FMIS+eServices'!$C$3:$DT$200,106,FALSE)","v":3.0483870967741935}]
[null,"0.00-0.2",null,3,3,4,{"$f":"SUM(C118:F118)","v":10},null,null,null,null,null,null,null,null,null,null,"Smart Stream",7,null,null,null,null,null,null,null,null,null,null,null,null,null,null,null,null,null,null,null,null,null,null,null,null,null,null,null,null,null,null,null,null,null,null,null,null,null,null,null,null,null,null,null,null,null,null,null,null,null,"Turkey",{"$f":"VLOOKUP($BQ118,'FMIS+eServices'!$C$3:$EM$200,140,FALSE)","v":88.461538461538453},{"$f":"VLOOKUP($BQ118,'FMIS+eServices'!$C$3:$DT$200,105,FALSE)","v":3.2222222222222223},{"$f":"VLOOKUP($BQ118,'FMIS+eServices'!$C$3:$DT$200,106,FALSE)","v":3.0535714285714284}]
[null,"0.21-0.4",2,16,23,17,{"$f":"SUM(C119:F119)","v":58},null,null,null,null,null,null,null,null,null,null,"Epicor",4,null,null,null,null,null,null,null,null,null,null,null,null,null,null,null,null,null,null,null,null,null,null,null,null,null,null,null,null,null,null,null,null,null,null,null,null,null,null,null,null,null,null,null,null,null,null,null,null,null,"Tuvalu",{"$f":"VLOOKUP($BQ119,'FMIS+eServices'!$C$3:$EM$200,140,FALSE)","v":3.8461538461538463},{"$f":"VLOOKUP($BQ119,'FMIS+eServices'!$C$3:$DT$200,105,FALSE)","v":2.15},{"$f":"VLOOKUP($BQ119,'FMIS+eServices'!$C$3:$DT$200,106,FALSE)","v":2.1129032258064515}]
[null,"0.41-0.6",7,29,17,7,{"$f":"SUM(C120:F120)","v":60},null,null,null,null,null,null,null,null,null,null,"MS Dynamics",4,null,null,null,null,null,null,null,null,null,null,null,null,null,null,null,null,null,null,null,null,null,null,null,null,null,null,null,null,null,null,null,null,null,null,null,null,null,null,null,null,null,null,null,null,null,null,null,null,null,"Uganda",{"$f":"VLOOKUP($BQ120,'FMIS+eServices'!$C$3:$EM$200,140,FALSE)","v":61.53846153846154},{"$f":"VLOOKUP($BQ120,'FMIS+eServices'!$C$3:$DT$200,105,FALSE)","v":2.9},{"$f":"VLOOKUP($BQ120,'FMIS+eServices'!$C$3:$DT$200,106,FALSE)","v":2.370967741935484}]
[null,"0.61-0.8",9,22,8,4,{"$f":"SUM(C121:F121)","v":43},null,null,null,null,null,null,null,null,null,null,"Other",15,null,null,null,null,null,null,null,null,null,null,null,null,null,null,null,null,null,null,null,null,null,null,null,null,null,null,null,null,null,null,null,null,null,null,null,null,null,null,null,null,null,null,null,null,null,null,null,null,null,"Ukraine",{"$f":"VLOOKUP($BQ121,'FMIS+eServices'!$C$3:$EM$200,140,FALSE)","v":61.53846153846154},{"$f":"VLOOKUP($BQ121,'FMIS+eServices'!$C$3:$DT$200,105,FALSE)","v":2.95},{"$f":"VLOOKUP($BQ121,'FMIS+eServices'!$C$3:$DT$200,106,FALSE)","v":2.56}]
[null,"0.81-1.0",9,8,1,1,{"$f":"SUM(C122:F122)","v":19},null,null,null,null,null,null,null,null,null,null,null,{"$f":"SUM(S115:S121)","v":108},null,null,null,null,null,null,null,null,null,null,null,null,null,null,null,null,null,null,null,null,null,null,null,null,null,null,null,null,null,null,null,null,null,null,null,null,null,null,null,null,null,null,null,null,null,null,null,null,null,"Uruguay",{"$f":"VLOOKUP($BQ122,'FMIS+eServices'!$C$3:$EM$200,140,FALSE)","v":73.076923076923066},{"$f":"VLOOKUP($BQ122,'FMIS+eServices'!$C$3:$DT$200,105,FALSE)","v":2.33},{"$f":"VLOOKUP($BQ122,'FMIS+eServices'!$C$3:$DT$200,106,FALSE)","v":2.52}]
[null,"Sum",{"$f":"SUM(C118:C122)","v":27},{"$f":"SUM(D118:D122)","v":78},{"$f":"SUM(E118:E122)","v":52},{"$f":"SUM(F118:F122)","v":33},{"$f":"SUM(G118:G122)","v":190},null,null,null,null,null,null,null,null,null,null,null,null,null,null,null,null,null,null,null,null,null,null,null,null,null,null,null,null,null,null,null,null,null,null,null,null,null,null,null,null,null,null,null,null,null,null,null,null,null,null,null,null,null,null,null,null,null,null,null,null,null,"Vanuatu",{"$f":"VLOOKUP($BQ123,'FMIS+eServices'!$C$3:$EM$200,140,FALSE)","v":23.076923076923077},{"$f":"VLOOKUP($BQ123,'FMIS+eServices'!$C$3:$DT$200,105,FALSE)","v":2.5499999999999998},{"$f":"VLOOKUP($BQ123,'FMIS+eServices'!$C$3:$DT$200,106,FALSE)","v":2.564516129032258}]
[null,null,null,null,null,null,null,null,null,null,null,null,null,null,null,null,null,"Locally Developed SW",null,null,null,null,null,null,null,null,null,null,null,null,null,null,null,null,null,null,null,null,null,null,null,null,null,null,null,null,null,null,null,null,null,null,null,null,null,null,null,null,null,null,null,null,null,null,null,null,null,null,"Vietnam",{"$f":"VLOOKUP($BQ124,'FMIS+eServices'!$C$3:$EM$200,140,FALSE)","v":61.53846153846154},{"$f":"VLOOKUP($BQ124,'FMIS+eServices'!$C$3:$DT$200,105,FALSE)","v":2.5},{"$f":"VLOOKUP($BQ124,'FMIS+eServices'!$C$3:$DT$200,106,FALSE)","v":2.4700000000000002}]
[null,"e-Gov Online Services",null,null,null,null,null,null,null,null,null,null,null,null,null,null,null,"LDSW > Oracle DB",35,null,null,null,null,null,null,null,null,null,null,null,null,null,null,null,null,null,null,null,null,null,null,null,null,null,null,null,null,null,null,null,null,null,null,null,null,null,null,null,null,null,null,null,null,null,null,null,null,null,"West Bank and Gaza",{"$f":"VLOOKUP($BQ125,'FMIS+eServices'!$C$3:$EM$200,140,FALSE)","v":50},{"$f":"VLOOKUP($BQ125,'FMIS+eServices'!$C$3:$DT$200,105,FALSE)","v":2.2000000000000002},{"$f":"VLOOKUP($BQ125,'FMIS+eServices'!$C$3:$DT$200,106,FALSE)","v":2.14}]
[null,"eGov","A","B","C","D","Sum",null,null,null,null,null,null,null,null,null,null,"LDSW > MS SQL",8,null,null,null,null,null,null,null,null,null,null,null,null,null,null,null,null,null,null,null,null,null,null,null,null,null,null,null,null,null,null,null,null,null,null,null,null,null,null,null,null,null,null,null,null,null,null,null,null,null,"Yemen",{"$f":"VLOOKUP($BQ126,'FMIS+eServices'!$C$3:$EM$200,140,FALSE)","v":34.615384615384613},{"$f":"VLOOKUP($BQ126,'FMIS+eServices'!$C$3:$DT$200,105,FALSE)","v":2.6},{"$f":"VLOOKUP($BQ126,'FMIS+eServices'!$C$3:$DT$200,106,FALSE)","v":2.3833333333333333}]
[null,"0.00-0.2",null,4,10,19,{"$f":"SUM(C127:F127)","v":33},null,null,null,null,null,null,null,null,null,null,"LDSW + OSS",3,null,null,null,null,null,null,null,null,null,null,null,null,null,null,null,null,null,null,null,null,null,null,null,null,null,null,null,null,null,null,null,null,null,null,null,null,null,null,null,null,null,null,null,null,null,null,null,null,null,"Zambia",{"$f":"VLOOKUP($BQ127,'FMIS+eServices'!$C$3:$EM$200,140,FALSE)","v":57.692307692307686},{"$f":"VLOOKUP($BQ127,'FMIS+eServices'!$C$3:$DT$200,105,FALSE)","v":2.95},{"$f":"VLOOKUP($BQ127,'FMIS+eServices'!$C$3:$DT$200,106,FALSE)","v":2.5}]
[null,"0.21-0.4",1,20,29,10,{"$f":"SUM(C128:F128)","v":60},null,null,null,null,null,null,null,null,null,null,"LDSW",37,null,null,null,null,null,null,null,null,null,null,null,null,null,null,null,null,null,null,null,null,null,null,null,null,null,null,null,null,null,null,null,null,null,null,null,null,null,null,null,null,null,null,null,null,null,null,null,null,null,"Zimbabwe",{"$f":"VLOOKUP($BQ128,'FMIS+eServices'!$C$3:$EM$200,140,FALSE)","v":38.461538461538467},{"$f":"VLOOKUP($BQ128,'FMIS+eServices'!$C$3:$DT$200,105,FALSE)","v":2.4500000000000002},{"$f":"VLOOKUP($BQ128,'FMIS+eServices'!$C$3:$DT$200,106,FALSE)","v":2.2000000000000002}]
[null,"0.41-0.6",9,32,10,3,{"$f":"SUM(C129:F129)","v":54},null,null,null,null,null,null,null,null,null,null,null,{"$f":"SUM(S125:S128)","v":83}]
[null,"0.61-0.8",9,12,3,1,{"$f":"SUM(C130:F130)","v":25}]
[null,"0.81-1.0",8,10,null,null,{"$f":"SUM(C131:F131)","v":18},null,null,null,null,null,null,null,null,null,null,"No FMIS yet",7]
[null,"Sum",{"$f":"SUM(C127:C131)","v":27},{"$f":"SUM(D127:D131)","v":78},{"$f":"SUM(E127:E131)","v":52},{"$f":"SUM(F127:F131)","v":33},{"$f":"SUM(G127:G131)","v":190}]
[null,null,null,null,null,null,null,null,null,null,null,null,null,null,null,null,null,"Total",{"$f":"S122+S129+S131","v":198}]
[null,"e-Gov Telecommunications Infrastructure"]
[null,"eGov","A","B","C","D","Sum"]
[null,"0.00-0.2",4,24,29,22,{"$f":"SUM(C136:F136)","v":79}]
[null,"0.21-0.4",8,23,9,3,{"$f":"SUM(C137:F137)","v":43}]
[null,"0.41-0.6",3,14,9,5,{"$f":"SUM(C138:F138)","v":31}]
[null,"0.61-0.8",9,13,4,1,{"$f":"SUM(C139:F139)","v":27}]
[null,"0.81-1.0",3,4,1,2,{"$f":"SUM(C140:F140)","v":10}]
[null,"Sum",{"$f":"SUM(C136:C140)","v":27},{"$f":"SUM(D136:D140)","v":78},{"$f":"SUM(E136:E140)","v":52},{"$f":"SUM(F136:F140)","v":33},{"$f":"SUM(G136:G140)","v":190}]
[]
[null,"e-Gov Human Capital Development"]
[null,"eGov","A","B","C","D","Sum"]
[null,"0.00-0.2",null,1,null,3,{"$f":"SUM(C145:F145)","v":4}]
[null,"0.21-0.4",null,3,7,3,{"$f":"SUM(C146:F146)","v":13}]
[null,"0.41-0.6",1,13,11,6,{"$f":"SUM(C147:F147)","v":31}]
[null,"0.61-0.8",7,20,15,10,{"$f":"SUM(C148:F148)","v":52}]
[null,"0.81-1.0",19,41,19,11,{"$f":"SUM(C149:F149)","v":90}]
[null,"Sum",{"$f":"SUM(C145:C149)","v":27},{"$f":"SUM(D145:D149)","v":78},{"$f":"SUM(E145:E149)","v":52},{"$f":"SUM(F145:F149)","v":33},{"$f":"SUM(G145:G149)","v":190}]
[]
[]
[]
[null,"Open Source Policies"]
[null,"OSP","R","A","P","M","Sum"]
[null,"National",69,66,60,32,{"$f":"SUM(C156:F156)","v":227}]
[null,"State/Local",25,19,52,21,{"$f":"SUM(C157:F157)","v":117}]
[null,"Int'l",5,12,1,0,{"$f":"SUM(C158:F158)","v":18}]
[null,"Sum",{"$f":"SUM(C156:C158)","v":99},{"$f":"SUM(D156:D158)","v":97},113,53,362]
[]
[null,"Open Source Policies vs. FMIS & BT Grades"]
[null,"OSP","A","B","C","D","Sum"]
[null,"Central",22,38,4,2,{"$f":"SUM(C163:F163)","v":66}]
[null,"Local",10,12,"-","-",22]

{"sheet":"DB2014 Good Prac","index":3,"n_rows":191,"n_cols":9,"rows_kept":191,"cut":false,"hidden":false,"merged":[[0,1,0,3],[0,4,0,6]]}
["Good Practices >>>","Paying Taxes",null,null,"Trading across boundaries",null,null,"Source:","http://www.doingbusiness.org/data/exploretopics/trading-across-borders/good-practices"]
["Economy","Is electronic filing and payment available and used by majority of firms?","Is self-assessment allowed?","Is there one tax per tax base?","Are risk-based inspections used?","Is electronic submission and processing allowed?","Is there a single window that links some of the relevant gov agencies?"]
["Afghanistan","no","yes","yes","no","no","no"]
["Albania","yes","yes","no","no","yes","no"]
["Algeria","no","yes","no","no","no","no"]
["Angola","no","yes","yes","yes","yes","no"]
["Antigua and Barbuda","no","yes","no","yes","no","no"]
["Argentina","yes","yes","no","yes","yes","yes"]
["Armenia","yes","yes","no","yes","yes","yes"]
["Australia","yes","yes","no","yes","yes","yes"]
["Austria","yes","yes","no","yes","yes","yes"]
["Azerbaijan","yes","yes","no","no","no ???","no ???"]
["Bahamas","no","yes","no","no","no","no"]
["Bahrain","no","no","no","yes","yes","no"]
["Bangladesh","no","yes","no","yes","yes","no"]
["Barbados","no","yes","no","yes","yes","no"]
["Belarus","yes","yes","no","yes","yes","no"]
["Belgium","yes","yes","no","yes","yes","no"]
["Belize","yes","yes","no","yes","yes","yes"]
["Benin","no","yes","no","yes","yes","yes"]
["Bhutan","no","yes","no","no","no","no"]
["Bolivia","no","yes","no","no","yes","no"]
["Bosnia and Herzegovina","yes","yes","no","yes","yes","yes"]
["Botswana","no","yes","no","yes","yes","no"]
["Brazil","yes","yes","no","yes","yes","yes"]
["Brunei Darussalam","no","yes","no","yes","yes","no"]
["Bulgaria","yes","yes","no","yes","yes","yes"]
["Burkina Faso","no","yes","no","no","yes","no"]
["Burundi","no","yes","no","no","yes","no"]
["Cape Verde","no","yes","no","no","yes","no"]
["Cambodia","no","yes","yes","no","yes","no"]
["Cameroon","no","yes","no","yes","yes","yes"]
["Canada","yes","yes","no","yes","yes","yes"]
["Central African Republic","no","no","no","-","no","-"]
["Chad","no","yes","no","no","no","no"]
["Chile","yes","yes","yes","yes","yes","yes"]
["China","yes","yes","no","yes","yes","yes"]
["Colombia","yes","yes","no","yes","yes","yes"]
["Comoros","no","no","no","no","yes","no"]
["Congo, Dem. Rep.","no","yes","no","no","yes","yes"]
["Congo, Rep.","no","yes","no","-","no","-"]
["Costa Rica","yes","yes","no","yes","yes","yes"]
["Côte d'Ivoire","no","yes","no","yes","no","yes"]
["Croatia","yes","yes","no","yes","yes","no"]
["Cyprus","yes","yes","no","yes","yes","no"]
["Czech Republic","yes","yes","no","yes","yes","no"]
["Denmark","yes","yes","no","yes","yes","yes"]
["Djibouti","no","no","yes","no","yes","no"]
["Dominica","no","yes","yes","yes","yes","no"]
["Dominican Republic","yes","yes","no","yes","yes","yes"]
["Ecuador","yes","yes","no","no","yes","no"]
["Egypt","no","yes","yes","yes","yes","no"]
["El Salvador","no","yes","no","yes","yes","yes"]
["Equatorial Guinea","no","yes","no","no","no","no"]
["Eritrea","no","no","no","no","yes","no"]
["Estonia","yes","yes","no","yes","yes","no"]
["Ethiopia","no","no","no","no","yes","no"]
["Fiji","no","no","no","yes","yes","yes"]
["Finland","yes","yes","no","yes","yes","no"]
["France","yes","yes","no","yes","yes","yes"]
["Gabon","no","yes","yes","no","yes","no"]
["Gambia","no","yes","no","no","yes","yes"]
["Georgia","yes","yes","no","yes","no","yes"]
["Germany","yes","no","no","yes","yes","yes"]
["Ghana","no","yes","no","yes","yes","yes"]
["Greece","yes","yes","yes","yes","yes","no"]
["Grenada","no","yes","yes","yes","yes","yes"]
["Guatemala","yes","yes","yes","yes","yes","yes"]
["Guinea","no","yes","no","-","yes","-"]
["Guinea-Bissau","no","no","no","no","yes","no"]
["Guyana","no","yes","no","yes","no","no"]
["Haiti","no","no","no","no","yes","no"]
["Honduras","no","yes","no","yes","yes","no"]
["Hong Kong SAR, China","yes","yes","yes","yes","yes","yes"]
["Hungary","yes","yes","no","yes","yes","yes"]
["Iceland","yes","no","no","yes","yes","no"]
["India","yes","yes","no","no","yes","no"]
["Indonesia","no","yes","no","yes","yes","yes"]
["Iran","no","yes","yes","yes","no","no"]
["Iraq","no","yes","yes","yes","no","no"]
["Ireland","yes","yes","no","yes","yes","no"]
["Israel","no","yes","no","yes","yes","yes"]
["Italy","yes","yes","no","yes","yes","no"]
["Jamaica","no","yes","no","yes","yes","no"]
["Japan","yes","yes","no","yes","yes","yes"]
["Jordan","no","yes","yes","yes","yes","yes"]
["Kazakhstan","yes","yes","no","yes","yes","no"]
["Kenya","no","yes","no","no","yes","yes"]
["Kiribati","no","no","yes","yes","no","no"]
["Korea, Rep.","yes","yes","no","yes","yes","yes"]
["Kosovo","no","yes","yes","yes","yes","yes"]
["Kuwait","no","yes","yes","no","no","no"]
["Kyrgyz Republic","no","yes","no","no","no","no"]
["Lao PDR","no","yes","yes","yes","yes","no"]
["Latvia","yes","yes","no","yes","yes","no"]
["Lebanon","no","yes","no","yes","no","no"]
["Lesotho","no","yes","no","no","no","no"]
["Liberia","no","yes","yes","yes","yes","no"]
["Libya","no","yes","yes","-","no","-"]
["Lithuania","yes","yes","no","yes","yes","yes"]
["Luxembourg","yes","no","no","yes","yes","yes"]
["Macedonia","yes","yes","yes","yes","yes","yes"]
["Madagascar","no","yes","no","yes","yes","no"]
["Malawi","no","yes","no","yes","yes","no"]
["Malaysia","yes","yes","no","yes","yes","yes"]
["Maldives","no","yes","yes","no","yes","no"]
["Mali","no","yes","no","yes","no","no"]
["Malta","yes","yes","yes","yes","yes","no"]
["Marshall Islands","no","no","no","yes","no","no"]
["Mauritania","no","yes","no","yes","yes","no"]
["Mauritius","yes","yes","no","yes","yes","yes"]
["Mexico","yes","yes","no","yes","yes","yes"]
["Micronesia, Fed. Sts.","no","no","yes","no","no","no"]
["Moldova","yes","yes","no","yes","yes","no"]
["Mongolia","no","yes","yes","yes","yes","yes"]
["Montenegro","no","yes","no","no","yes","no"]
["Morocco","yes","yes","yes","yes","yes","yes"]
["Mozambique","no","yes","yes","yes","yes","yes"]
["Myanmar","no","yes","yes","-","no","-"]
["Namibia","no","yes","yes","yes","yes","no"]
["Nepal","no","yes","no","yes","no","no"]
["Netherlands","yes","yes","no","yes","yes","yes"]
["New Zealand","yes","yes","no","yes","yes","no"]
["Nicaragua","yes","yes","no","yes","yes","no"]
["Niger","no","yes","no","no","no","no"]
["Nigeria","no","yes","no","yes","yes","no"]
["Norway","yes","no","yes","yes","yes","yes"]
["Oman","no","yes","yes","no","no","no"]
["Pakistan","no","yes","no","yes","no","yes"]
["Palau","no","yes","no","yes","yes","no"]
["Panama","no","yes","no","yes","yes","no"]
["Papua New Guinea","no","no","no","yes","yes","no"]
["Paraguay","yes","yes","yes","yes","yes","yes"]
["Peru","yes","yes","no","yes","yes","yes"]
["Philippines","yes","yes","no","yes","yes","yes"]
["Poland","yes","yes","no","yes","yes","yes"]
["Portugal","yes","yes","no","yes","yes","yes"]
["Puerto Rico (U.S.)","yes","yes","no","yes","yes","yes"]
["Qatar","no","yes","yes","yes","yes","yes"]
["Romania","no","yes","no","yes","yes","no"]
["Russian Federation","yes","yes","no","yes","yes","yes"]
["Rwanda","no","yes","no","no","yes","yes"]
["Samoa","no","yes","no","yes","no","no"]
["San Marino","no","yes","yes","-","yes","-"]
["São Tomé and Principe","no","no","yes","no","no","no"]
["Saudi Arabia","yes","yes","yes","yes","yes","no"]
["Senegal","no","no","no","yes","yes","yes"]
["Serbia","no","yes","no","yes","yes","yes"]
["Seychelles","no","yes","yes","no","yes","no"]
["Sierra Leone","no","yes","yes","yes","yes","no"]
["Singapore","yes","yes","yes","yes","yes","yes"]
["Slovak Republic","yes","yes","yes","yes","yes","no"]
["Slovenia","yes","yes","yes","yes","yes","no"]
["Solomon Islands","no","no","yes","no","no","no"]
["South Africa","yes","yes","no","yes","yes","no"]
["South Sudan","no","yes","yes","-","no","-"]
["Spain","yes","yes","yes","yes","yes","no"]
["Sri Lanka","no","yes","no","yes","yes","yes"]
["St. Kitts and Nevis","no","yes","no","no","yes","no"]
["St. Lucia","no","yes","yes","yes","yes","no"]
["St. Vincent and the Grenadines","no","yes","yes","yes","yes","no"]
["Sudan","no","no","no","no","yes","no"]
["Suriname","no","no","yes","yes","no","no"]
["Swaziland","no","no","no","no","yes","no"]
["Sweden","yes","yes","yes","yes","yes","yes"]
["Switzerland","no","no","no","yes","yes","yes"]
["Syrian Arab Republic","no","yes","no","no","yes","yes"]
["Taiwan, China","yes","yes","no","yes","yes","yes"]
["Tajikistan","no","yes","no","no","no","no"]
["Tanzania","no","yes","no","no","yes","no"]
["Thailand","yes","yes","no","yes","yes","yes"]
["Timor-Leste","no","no","yes","yes","no","no"]
["Togo","no","yes","no","no","yes","no"]
["Tonga","no","no","yes","yes","yes","no"]
["Trinidad and Tobago","no","yes","no","yes","yes","no"]
["Tunisia","yes","yes","no","no","yes","yes"]
["Turkey","yes","yes","no","yes","yes","yes"]
["Uganda","no","yes","yes","no","yes","no"]
["Ukraine","yes","yes","yes","yes","yes","no"]
["United Arab Emirates","yes","no","yes","yes","yes","yes"]
["United Kingdom","yes","yes","yes","yes","yes","no"]
["United States","yes","yes","no","yes","yes","yes"]
["Uruguay","yes","yes","no","yes","yes","yes"]
["Uzbekistan","no","yes","no","no","no","no"]
["Vanuatu","no","no","no","yes","yes","no"]
["Venezuela, RB","no","yes","no","-","yes","-"]
["Viet Nam","no","yes","no","yes","yes","yes"]
["West Bank and Gaza","no","yes","no","yes","yes","no"]
["Yemen","no","no","no","yes","no","no"]
["Zambia","no","yes","no","yes","yes","no"]
["Zimbabwe","no","yes","no","yes","yes","no"]

{"sheet":"UN Min","index":4,"n_rows":194,"n_cols":9,"rows_kept":194,"cut":false,"hidden":false,"merged":[]}
["#","Country ","Ministry of Health","Ministry of Education","Ministry of Labor ","Ministry of Social Welfare","Ministry of Finance",null,"http://www.publicdebtnet.org/public/links/index.html"]
[1,"Afghanistan","http://www.moph.gov.af","http://www.moe.gov.af","http://www.commerce.gov.af","http://molsamd.gov.af/en","http://www.mof.gov.af"]
[2,"Albania","http://www.shendetesia.gov.al","http://www.arsimi.gov.al","http://www.mpcs.gov.al","http://www.sociale.gov.al","http://www.minfin.gov.al",null,"DMFAS Sistema de Gestão da Dívida e Análise Financeira"]
[3,"Algeria","http://www.sante.dz","http://www.education.gov.dz","http://www.mtess.gov.dz","http://www.mtess.gov.dz/mtss_fr_N","http://www.mf.gov.dz"]
[4,"Andorra","http://www.salutibenestar.ad","http://www.xena.ad","http://www.treball.ad","http://www.salutibenestar.ad","http://www.finances.ad"]
[5,"Angola","http://www.minsa.gov.ao","http://www.med.gov.ao","http://www.mapess.gv.ao","http://www.minars.gov.ao","http://www.minfin.gov.ao"]
[6,"Antigua and Barbuda","http://www.ab.gov.ag/article_details.php?id=314&category=54","http://www.Education.gov.ag",null,"http://www.socialsecurity.gov.ag/default.aspx","http://www.ab.gov.ag/article_details.php?id=311&category=54"]
[7,"Argentina","http://www.msal.gov.ar","http://www.me.gov.ar","http://www.trabajo.gob.ar","http://www.desarrollosocial.gov.ar","http://www.mecon.gov.ar"]
[8,"Armenia","http://www.moh.am","http://www.edu.am","http://www.mlsa.am/home/index.php?home","http://www.mlsa.am/home/index.php?home","http://www.mfe.am"]
[9,"Australia","http://www.health.gov.au","http://www.education.gov.au","http://employment.gov.au","http://www.humanservices.gov.au","http://www.finance.gov.au"]
[10,"Austria","http://www.bmgfj.gv.at","http://www.bmukk.gv.at","http://www.sozialministerium.at//cms/siteEN","http://www.sozialministerium.at//cms/siteEN","http://www.bmf.gv.at"]
[11,"Azerbaijan","http://www.sehiyye.gov.az","http://edu.gov.az","http://www.mlspp.gov.az/az/pages/1","http://www.mlspp.gov.az/az/pages/2","http://www.maliyye.gov.az"]
[12,"Bahamas","http://www.bahamas.gov.bs/health","http://www.bahamaseducation.com","http://www.bahamas.gov.bs/labour","http://www.bahamas.gov.bs/socialservices","http://www.bahamas.gov.bs/finance"]
[13,"Bahrain","http://www.moh.gov.bh","http://www.moe.gov.bh","http://www.lmra.bh","http://www.social.gov.bh","http://www.mof.gov.bh"]
[14,"Bangladesh","http://www.mohfw.gov.bd","http://www.moedu.gov.bd","http://www.mole.gov.bd","http://www.msw.gov.bd","http://www.mof.gov.bd"]
[15,"Barbados","http://health.gov.bb","http://www.mes.gov.bb","https://labour.gov.bb","http://www.socialcare.gov.bb","http://www.economicaffairs.gov.bb"]
[16,"Belarus","http://www.minzdrav.by","http://www.minedu.unibel.by","http://www.mintrud.gov.by","http://www.mintrud.gov.by","http://www.minfin.gov.by"]
[17,"Belgium","http://www.health.belgium.be/eportal/index.htm?fodnlang=nl","http://www.enseignement.be","http://www.emploi.belgique.be","http://www.socialsecurity.fgov.be","http://www.minfin.fgov.be"]
[18,"Belize","http://www.health.gov.bz","http://www.moes.gov.bz","http://labour.gov.bz/index.php/en","http://www.humandevelopment.gov.bz","http://www.mof.gov.bz"]
[19,"Benin","http://beninmoh.eu5.org/index1.html",null,null,"http://www.offebenin.org","http://finances.bj"]
[20,"Bhutan","http://www.health.gov.bt","http://www.education.gov.bt","http://www.molhr.gov.bt","http://www.mohca.gov.bt/?page_id=206","http://www.mof.gov.bt"]
[21,"Bolivia","http://www.sns.gob.bo","http://www.minedu.gob.bo","http://www.mintrabajo.gob.bo/Principal.asp","http://www.mintrabajo.gob.bo/Principal.asp","http://www.economiayfinanzas.gob.bo"]
[22,"Bosnia and Herzegovina","http://www.fmoh.gov.ba","http://www.fmon.gov.ba","http://www.fmrsp.gov.ba","http://www.fmrsp.gov.ba","http://www.fmf.gov.ba"]
[23,"Botswana","http://www.moh.gov.bw","http://www.gov.bw/en/ministries--authorities/ministries/ministry-of-education-moe","http://www.gov.bw/en/Ministries--Authorities/Ministries/Ministry-of-Labour--Home-Affairs-MLHA","http://www.gov.bw/en/Ministries--Authorities/Ministries/Ministry-of-Labour--Home-Affairs-MLHA","http://www.finance.gov.bw"]
[24,"Brazil","http://portal.saude.gov.br","http://portal.mec.gov.br","http://www.mte.gov.br","http://www.previdencia.gov.br","http://www.fazenda.gov.br"]
[25,"Brunei Darussalam","http://www.moh.gov.bn","http://www.moe.edu.bn","http://www.labour.gov.bn","http://www.japem.gov.bn","http://www.mof.gov.bn"]
[26,"Bulgaria","http://www.mh.government.bg","http://www.minedu.government.bg","http://www.mlsp.government.bg","http://www.mlsp.government.bg","http://www.minfin.bg"]
[27,"Burkina Faso","http://www.sante.gov.bf","http://www.meba.gov.bf","http://www.emploi.gov.bf","http://www.fonction-publique.gov.bf/#ja-mainnav","http://www.finances.gov.bf"]
[28,"Burundi","http://www.minisante.bi","http://www.burundi-gov.bi/Missions-du-Ministere-de-l,1539","http://www.burundi-gov.bi/Missions-du-Ministere-de-la","http://www.burundi-gov.bi/Missions-du-Ministere-de-la","http://english.finances.gov.bi"]
[29,"Cambodia","http://www.moh.gov.kh","http://www.moeys.gov.kh","http://www.mlvt.gov.kh","http://www.mosvy.gov.kh","http://www.mef.gov.kh"]
[30,"Cameroon","http://www.minsante.cm","http://www.minesup.gov.cm","http://www.mintss.gov.cm/fr","http://www.minas.cm","http://www.impots.gov.cm"]
[31,"Canada","http://www.hc-sc.gc.ca","http://www.edu.gov.on.ca","http://www.hrsdc.gc.ca","http://www.hrsdc.gc.ca","http://www.fin.gc.ca"]
[32,"Cape Verde","http://www.minsaude.gov.cv","http://www.minedu.gov.cv/index.php","http://www.mjedrh.org","http://www.mjedrh.org","http://www.minfin.gov.cv/index.php"]
[33,"Central African Republic"]
[34,"Chad","http://www.sante-tchad.org","http://mestchad.blogspot.com",null,null,"http://www.pamfip.org"]
[35,"Chile","http://web.minsal.cl","http://www.mineduc.cl","http://www.mintrab.cl","http://www.ministeriodesarrollosocial.gob.cl","http://www.economia.cl"]
[36,"China","http://www.moh.gov.cn","http://www.moe.edu.cn","http://www.molss.gov.cn/gb/jgxx/jgxx.htm","http://www.molss.gov.cn/gb/jgxx/jgxx.htm","http://www.mof.gov.cn"]
[37,"Colombia","http://www.minsalud.gov.co","http://www.mineducacion.gov.co","http://www.mintrabajo.gov.co","http://dps.gov.co/portal/default.aspx","http://www.minhacienda.gov.co"]
[38,"Comoros"]
[39,"Congo"]
[40,"Costa Rica","http://www.ministeriodesalud.go.cr","http://www.mep.go.cr","http://www.mtss.go.cr","http://foros.ccss.sa.cr","http://www.hacienda.go.cr"]
[41,"Côte d'Ivoire","http://www.sante.gouv.ci","http://www.education.gouv.ci","http://www.formation.gouv.ci","http://www.fonctionpublique.gouv.ci","http://www.finances.gouv.ci"]
[42,"Croatia","http://www.mzss.hr","http://www.mzos.hr","http://www.mingorp.hr","http://www.mspm.hr","http://www.mfin.hr"]
[43,"Cuba","http://www.sld.cu",null,"http://www.mtss.cu","http://www.mtss.cu","http://www.mfp.cu"]
[44,"Cyprus","http://www.moh.gov.cy","http://www.moec.gov.cy","http://www.mlsi.gov.cy","http://www.mlsi.gov.cy","http://www.mof.gov.cy"]
[45,"Czech Republic","http://www.mzcr.cz","http://www.msmt.cz","http://www.mpsv.cz","http://www.mpsv.cz","http://www.mfcr.cz"]
[46,"Democratic People's Republic of Korea"]
[47,"Democratic Republic of the Congo","http://www.minisanterdc.cd","http://www.eduquepsp.cd","http://www.mintravail.gouv.cd","http://www.mintravail.gouv.cd","http://minfinrdc.com/minfin"]
[48,"Denmark","http://www.sum.dk","http://www.uvm.dk","http://uk.bm.dk","http://www.sm.dk","http://uk.fm.dk"]
[49,"Djibouti",null,null,null,null,"http://www.ministere-finances.dj"]
[50,"Dominica","http://health.gov.dm","http://www.dominica.gov.dm/education-and-human-resource-development","http://nationalsecurity.gov.dm","http://socialservices.gov.dm","http://finance.gov.dm"]
[51,"Dominican Republic","http://www.sespas.gob.do","http://www.see.gob.do","http://www.set.gov.do","http://www.sespas.gob.do","http://www.hacienda.gov.do"]
[52,"Ecuador","http://www.salud.gob.ec","http://educacion.gob.ec","http://www.relacioneslaborales.gob.ec","http://www.inclusion.gob.ec","http://www.finanzas.gob.ec"]
[53,"Egypt","http://www.mohp.gov.eg","http://portal.moe.gov.eg","http://www.manpower.gov.eg","http://www.nosi.gov.eg","http://www.mof.gov.eg"]
[54,"El Salvador","http://www.salud.gob.sv","http://www.mined.gob.sv","http://www.mtps.gob.sv","http://www.mtps.gob.sv","http://www.mh.gob.sv"]
[55,"Equatorial Guinea"]
[56,"Eritrea"]
[57,"Estonia","http://www.sm.ee","http://hm.ee/et","http://www.sm.ee","http://www.sm.ee","http://www.emta.ee"]
[58,"Ethiopia","http://www.moh.gov.et","http://www.moe.gov.et","http://www.molsa.gov.et","http://www.molsa.gov.et","http://www.mofed.gov.et"]
[59,"Fiji","http://www.health.gov.fj","http://www.education.gov.fj","http://www.labour.gov.fj",null,"http://www.finance.gov.fj"]
[60,"Finland","http://www.stm.fi","http://www.minedu.fi","http://www.mol.fi","http://www.stm.fi","http://www.vm.fi"]
[61,"France","http://www.sante.gouv.fr","http://www.education.gouv.fr","http://www.travail-solidarite.gouv.fr","http://www.sante.gouv.fr","http://www.economie.gouv.fr"]
[62,"Gabon"]
[63,"Gambia","http://moh.gov.gm","http://www.edugambia.gm","http://www.motie.gov.gm","http://moh.gov.gm","http://www.mofea.gov.gm"]
[64,"Georgia","http://www.moh.gov.ge","http://www.mes.gov.ge","http://www.moh.gov.ge","http://www.moh.gov.ge","http://www.mof.ge"]
[65,"Germany","http://www.bmg.bund.de","http://www.bmbf.de","http://www.bmas.bund.de","http://www.bmas.bund.de","http://www.bundesfinanzministerium.de"]
[66,"Ghana","http://moh-ghana.org","http://moe.gov.gh","http://www.labourdepartment.gov.gh","http://www.labourdepartment.gov.gh","http://www.mofep.gov.gh"]
[67,"Greece","http://www.moh.gov.gr","http://minedu.gov.gr","http://www.ypakp.gr","http://www.ypakp.gr","http://www.mnec.gr"]
[68,"Grenada","http://www.health.gov.gd","http://moe.gov.gd","http://www.gov.gd/ministries/labour.html","http://www.gov.gd/ministries/social_development.html","http://www.gov.gd/ministries/finance.html"]
[69,"Guatemala","http://www.mspas.gob.gt","http://www.mineduc.gob.gt","http://www.mintrabajo.gob.gt","http://www.mintrabajo.gob.gt","http://www.minfin.gob.gt"]
[70,"Guinea",null,"http://education-guinee.org/index.htm",null,null,"http://www.finances.gov.gn"]
[71,"Guinea-Bissau"]
[72,"Guyana","http://www.health.gov.gy/adm_about.php","http://www.education.gov.gy","http://www.mlhsss.gov.gy","http://www.mlhsss.gov.gy","http://www.finance.gov.gy"]
[73,"Haiti","http://mspp.gouv.ht","http://eduhaiti.gouv.ht","http://mast.gouv.ht","http://mast.gouv.ht","http://mefhaiti.gouv.ht"]
[74,"Honduras","http://www.salud.gob.hn","http://www.se.gob.hn","http://www.trabajo.gob.hn","http://www.trabajo.gob.hn","http://www.sefin.gob.hn"]
[75,"Hungary","http://www.eum.hu/main.php","http://2010-2014.kormany.hu/hu/emberi-eroforrasok-miniszteriuma","http://2010-2014.kormany.hu/hu/emberi-eroforrasok-miniszteriuma","http://2010-2014.kormany.hu/hu/emberi-eroforrasok-miniszteriuma","http://www.kormany.hu/hu/nemzetgazdasagi-miniszterium"]
[76,"Iceland","http://www.felagsmalaraduneyti.is","http://www.menntamalaraduneyti.is","http://www.felagsmalaraduneyti.is","http://www.felagsmalaraduneyti.is","http://www.ministryoffinance.is"]
[77,"India","http://www.mohfw.nic.in","http://education.nic.in","http://labour.gov.in","http://socialjustice.nic.in","http://finmin.nic.in"]
[78,"Indonesia","http://www.depkes.go.id",null,null,"http://www.kemsos.go.id","http://www.depkeu.go.id"]
[79,"Iran (Islamic Republic of)","http://www.mohme.gov.ir","http://www.medu.ir",null,null,"http://www.mefa.gov.ir"]
[80,"Iraq","http://www.moh.gov.iq","http://www.moedu.gov.iq","http://www.molsa.gov.iq/ar","http://www.molsa.gov.iq/ar","http://www.mof.gov.iq"]
[81,"Ireland","http://www.dohc.ie","http://www.education.ie","http://www.entemp.ie","http://www.welfare.ie","http://www.finance.gov.ie"]
[82,"Israel","http://www.health.gov.il/Pages/HomePage.aspx","http://cms.education.gov.il","http://www.tamas.gov.il","http://www.molsa.gov.il/Pages/HomePage.aspx","http://www.mof.gov.il/Pages/default.aspx"]
[83,"Italy","http://www.salute.gov.it","http://www.miur.it","http://www.lavoro.gov.it","http://www.lavoro.gov.it","http://www.mef.gov.it"]
[84,"Jamaica","http://www.moh.gov.jm","http://www.moe.gov.jm","http://www.mlss.gov.jm","http://www.mlss.gov.jm","http://www.mof.gov.jm"]
[85,"Japan","http://www.mhlw.go.jp","http://www.mext.go.jp","http://www.mhlw.go.jp","http://www.mhlw.go.jp","http://www.mof.go.jp"]
[86,"Jordan","http://www.moh.gov.jo","http://www.moe.gov.jo","http://www.mol.gov.jo","http://www.mosd.gov.jo","http://www.mof.gov.jo"]
[87,"Kazakhstan","http://www.mz.gov.kz","http://www.edu.gov.kz","http://www.enbek.kz","http://www.enbek.kz","http://www.minfin.kz"]
[88,"Kenya","http://www.health.go.ke","http://www.education.go.ke","http://www.labour.go.ke","http://www.labour.go.ke","http://www.treasury.go.ke"]
[89,"Kiribati",null,"http://www.moe.gov.ki","http://www.labour.gov.ki","http://www.labour.gov.ki","http://www.mfed.gov.ki"]
[90,"Kuwait","http://www.moh.gov.kw/index.html","http://www.moe.edu.kw","http://www.mosal.gov.kw","http://www.mosal.gov.kw","http://www.mof.gov.kw"]
[91,"Kyrgyzstan","http://www.med.kg",null,null,null,"http://www.minfin.kg"]
[92,"Lao People's Democratic Republic","http://www.moh.gov.la","http://www.moe.gov.la","http://www.ssolao.gov.la","http://www.ssolao.gov.la","http://www.mof.gov.la"]
[93,"Latvia","http://www.vm.gov.lv","http://izm.izm.gov.lv","http://www.nva.lv","http://www.lm.gov.lv","http://www.fm.gov.lv"]
[94,"Lebanon","http://www.moph.gov.lb","http://www.mehe.gov.lb","http://www.labor.gov.lb","http://www.socialaffairs.gov.lb","http://www.finance.gov.lb"]
[95,"Lesotho","http://www.health.gov.ls","http://www.education.gov.ls",null,"http://www.health.gov.ls"]
[96,"Liberia","http://www.mohsw.gov.lr","http://www.moe.gov.lr",null,"http://www.mohsw.gov.lr","http://www.mof.gov.lr"]
[97,"Libya","http://health.gov.ly/web","http://www.edu.gov.ly","http://labour.gov.ly/web",null,"http://www.mof.gov.Ly"]
[98,"Liechtenstein","http://www.llv.li","http://www.llv.li","http://www.llv.li","http://www.llv.li","http://www.llv.li"]
[99,"Lithuania","http://www.sam.lt","http://www.smm.lt","http://www.socmin.lt","http://www.socmin.lt","http://www.finmin.lt"]
[100,"Luxembourg","http://www.ms.etat.lu","http://www.men.public.lu/fr/index.html","http://www.mte.public.lu","http://www.mss.public.lu","http://www.mf.public.lu"]
[101,"Madagascar","http://www.sante.gov.mg","http://www.education.gov.mg","http://www.mfptls.gov.mg","http://www.mfptls.gov.mg","http://www.mefb.gov.mg"]
[102,"Malawi",null,null,null,null,"http://www.finance.gov.mw"]
[103,"Malaysia","http://moh.gov.my","http://www.moe.gov.my","http://www.mohr.gov.my/index.php","http://www.kpwkm.gov.my","http://www.treasury.gov.my"]
[104,"Maldives","http://www.health.gov.mv","http://www.moe.gov.mv","https://citizen.egov.mv/G2CWeb/Default.aspx","https://citizen.egov.mv/G2CWeb/Default.aspx","http://www.finance.gov.mv/v1"]
[105,"Mali","http://www.sante.gov.ml",null,null,null,"http://finances.gouv.ml"]
[106,"Malta","https://ehealth.gov.mt/HealthPortal/default.aspx","http://www.education.gov.mt","http://www.education.gov.mt","http://www.mfss.gov.mt","http://mfin.gov.mt"]
[107,"Marshall Islands"]
[108,"Mauritania","http://www.sante.gov.mr/MSAS/index.htm","http://www.education.gov.mr/MauritanieMen/Home.aspx","http://www.modernisation.gov.mr/MEIFP/Arhome","http://www.modernisation.gov.mr/MEIFP/Arhome","http://www.tresor.mr/ar"]
[109,"Mauritius","http://health.gov.mu","http://ministry-education.gov.mu","http://labour.gov.mu","http://socialsecurity.gov.mu","http://mof.gov.mu"]
[110,"Mexico","http://www.salud.gob.mx","http://www.sep.gob.mx","http://www.stps.gob.mx","http://www.stps.gob.mx","http://www.shcp.gob.mx"]
[111,"Micronesia (Federated States of)",null,"http://www.fsmed.fm","http://www.fm/fsmss","http://www.fm/fsmss"]
[112,"Monaco","http://service-public-particuliers.gouv.mc","http://service-public-particuliers.gouv.mc","http://service-public-particuliers.gouv.mc","http://service-public-particuliers.gouv.mc","http://service-public-particuliers.gouv.mc"]
[113,"Mongolia","http://www.moh.mn","http://www.meds.gov.mn","http://www.mol.gov.mn","http://www.mol.gov.mn","http://www.mof.gov.mn"]
[114,"Montenegro","http://www.mzd.gov.me/en/ministry?alphabet=lat","http://www.mps.gov.me/en/ministry","http://www.mrs.gov.me/en/ministry?alphabet=lat","http://www.mrs.gov.me/en/ministry?alphabet=lat","http://www.mif.gov.me/en/ministry"]
[115,"Morocco","http://www.sante.gov.ma","http://www.alpha.gov.ma","http://www.emploi.gov.ma","http://www.social.gov.ma","http://www.finances.gov.ma"]
[116,"Mozambique","http://www.misau.gov.mz","http://www.mec.gov.mz","http://www.mitrab.gov.mz","http://www.mitrab.gov.mz","http://www.mf.gov.mz/web/guest/welcome"]
[117,"Myanmar","http://www.moh.gov.mm",null,"http://www.mol.gov.mm/en","http://www.mol.gov.mm/en","http://www.irdmyanmar.gov.mm/eng"]
[118,"Namibia","http://www.mhss.gov.na","http://www.nied.edu.na","http://www.mol.gov.na","http://www.mol.gov.na","http://www.mof.gov.na"]
[119,"Nauru"]
[120,"Nepal","http://www.mohp.gov.np/english/home/index.php","http://www.doe.gov.np","http://www.dol.gov.np/index-np.html","http://www.mowcsw.gov.np","http://www.mof.gov.np"]
[121,"Netherlands","http://www.government.nl/ministries/vws","http://www.government.nl/ministries/ocw","http://www.government.nl/ministries/szw","http://www.government.nl/ministries/szw","http://www.government.nl/ministries/fin"]
[122,"New Zealand","http://www.moh.govt.nz","http://www.minedu.govt.nz","http://www.dol.govt.nz","http://www.msd.govt.nz","http://www.treasury.govt.nz"]
[123,"Nicaragua","http://www.minsa.gob.ni","http://www.mined.gob.ni","http://www.mitrab.gob.ni","http://www.mifamilia.gob.ni","http://www.hacienda.gob.ni"]
[124,"Niger"]
[125,"Nigeria","http://www.health.gov.ng",null,null,null,"http://www.fmf.gov.ng"]
[126,"Norway","http://www.regjeringen.no/en/dep/hod.html?id=421","http://www.regjeringen.no/en/dep/kd.html?id=586","http://www.regjeringen.no/en/dep/asd.html?id=165","http://www.regjeringen.no/en/dep/asd.html?id=166","http://www.regjeringen.no/en/dep/fin.html?id=216"]
[127,"Oman","http://www.moh.gov.om","http://www.moe.gov.om","http://www.manpower.gov.om","http://mosd.gov.om","http://www.mof.gov.om"]
[128,"Pakistan",null,"http://www.hec.gov.pk",null,null,"http://www.finance.gov.pk"]
[129,"Palau","http://palaugov.org/executive-branch/ministries/health","http://www.palaumoe.net",null,"http://palaugov.org/executive-branch/ministries/community","http://palaugov.org/executive-branch/ministries/finance"]
[130,"Panama","http://www.minsa.gob.pa","http://www.meduca.gob.pa","http://www.mitradel.gob.pa","http://www.mides.gob.pa","http://www.mef.gob.pa"]
[131,"Papua New Guinea","http://www.health.gov.pg","http://www.education.gov.pg","http://www.ned.gov.pg",null,"http://www.treasury.gov.pg"]
[132,"Paraguay","http://www.mspbs.gov.py","http://www.mec.gov.py","http://www.mjt.gov.py","http://www.mspbs.gov.py","http://www.hacienda.gov.py"]
[133,"Peru","http://www.minsa.gob.pe","http://www.minedu.gob.pe","http://www.mintra.gob.pe","http://www.midis.gob.pe","http://www.mef.gob.pe"]
[134,"Philippines","http://www.doh.gov.ph","http://www.deped.gov.ph","http://www.dole.gov.ph","http://www.dswd.gov.ph","http://www.dof.gov.ph"]
[135,"Poland","http://www.mz.gov.pl","http://www.men.gov.pl","http://www.mpips.gov.pl","http://www.mpips.gov.pl","http://www.mf.gov.pl"]
[136,"Portugal","http://www.portaldasaude.pt/portal","http://www.portugal.gov.pt/pt/os-ministerios/ministerio-da-educacao-e-ciencia.aspx","http://www.portugal.gov.pt/pt/os-ministerios/ministerio-da-solidariedade-e-seguranca-social.aspx","http://www.portugal.gov.pt/pt/os-ministerios/ministerio-da-solidariedade-e-seguranca-social.aspx","http://www.portugal.gov.pt/pt/os-ministerios/ministerio-da-economia-e-do-emprego.aspx"]
[137,"Qatar","http://portal.www.gov.qa/wps/portal/homepage","http://www.sec.gov.qa","http://www.molsa.gov.qa","http://www.molsa.gov.qa","http://www.mof.gov.qa"]
[138,"Republic of Korea","http://www.mohw.go.kr","http://www.mest.go.kr","http://www.moel.go.kr","http://www.mohw.go.kr","http://www.mosf.go.kr"]
[139,"Republic of Moldova","http://www.ms.gov.md","http://www.edu.gov.md","http://www.mpsfc.gov.md","http://www.mpsfc.gov.md","http://www.mf.gov.md"]
[140,"Romania","http://www.ms.ro","http://www.edu.ro","http://www.mmssf.ro","http://www.mmssf.ro","http://www.mfinante.ro"]
[141,"Russian Federation","http://www.rosminzdrav.ru","http://www.mon.gov.ru","http://www.rosmintrud.ru","http://www.rosmintrud.ru","http://www.minfin.ru/en"]
[142,"Rwanda","http://www.moh.gov.rw","http://www.mineduc.gov.rw","http://www.mifotra.gov.rw","http://www.mifotra.gov.rw","http://www.minecofin.gov.rw"]
[143,"Saint Kitts and Nevis",null,null,null,"http://www.socialsecurity.kn","http://mof.gov.kn"]
[144,"Saint Lucia","http://health.govt.lc","http://education.govt.lc","http://education.govt.lc","http://www.finance.gov.lc","http://www.finance.gov.lc"]
[145,"Saint Vincent and the Grenadines","http://www.health.gov.vc","http://www.education.gov.vc","http://www.dol.gov.vc","http://www.dol.gov.vc","http://www.finance.gov.vc"]
[146,"Samoa","http://www.health.gov.ws","http://www.mesc.gov.ws","http://www.mcil.gov.ws","http://www.mwcsd.gov.ws","http://www.mof.gov.ws"]
[147,"San Marino","http://www.salute.sm","http://www.educazione.sm","http://www.lavoro.sm/on-line/home.html","http://www.salute.sm","http://www.finanze.sm"]
[148,"Sao Tome and Principe","http://saude.portal-stp.net/spip.php?rubrique1","http://www.gov.st/content.php?intMenuID=46",null,null,"http://www.min-financas.st"]
[149,"Saudi Arabia","http://www.moh.gov.sa","http://www.moe.gov.sa","http://www.mol.gov.sa","http://www.gosi.gov.sa","http://www.mof.gov.sa"]
[150,"Senegal","http://www.sante.gouv.sn","http://www.education.gouv.sn","http://www.fonctionpublique.gouv.sn","http://www.fonctionpublique.gouv.sn","http://www.finances.gouv.sn"]
[151,"Serbia","http://zdravlje.gov.rs","http://www.mpn.gov.rs","http://www.minrzs.gov.rs","http://www.minrzs.gov.rs","http://www.mfin.gov.rs"]
[152,"Seychelles","http://www.health.gov.sc","http://www.education.gov.sc","http://www.employment.gov.sc","http://www.employment.gov.sc","http://www.src.gov.sc"]
[153,"Sierra Leone",null,null,null,null,"http://mofed.gov.sl"]
[154,"Singapore","http://www.moh.gov.sg","http://www.moe.gov.sg","http://www.mom.gov.sg","http://www.mcys.gov.sg","http://app.mof.gov.sg/index.aspx"]
[155,"Slovakia","http://www.health.gov.sk","http://www.minedu.sk","http://www.employment.gov.sk","http://www.employment.gov.sk","http://www.finance.gov.sk"]
[156,"Slovenia","http://www.mz.gov.si","http://www.mss.gov.si","http://www.mddsz.gov.si","http://www.mddsz.gov.si","http://www.mf.gov.si"]
[157,"Solomon Islands",null,null,"http://www.commerce.gov.sb",null,"http://www.mof.gov.sb"]
[158,"Somalia","http://www.moh.somaligov.net","http://moesomalia.net",null,null,"http://www.mof.gov.so"]
[159,"South Africa","http://www.doh.gov.za","http://www.education.gov.za","http://www.labour.gov.za","http://www.dsd.gov.za","http://www.treasury.gov.za"]
[160,"South Sudan","http://www.goss.org/index.php/ministries/health","http://www.goss.org/index.php/ministries/general-education","http://www.goss.org/index.php/ministries/labour-and-public-service","http://www.goss.org/index.php/ministries/labour-and-public-service","http://www.goss.org/index.php/ministries/finance"]
[161,"Spain","http://www.msc.es","http://www.mec.es","http://www.empleo.gob.es","http://www.mviv.es","http://www.meh.es"]
[162,"Sri Lanka","http://www.health.gov.lk","http://www.moe.gov.lk","http://www.labour.gov.lk","http://www.socialwelfare.gov.lk","http://www.treasury.gov.lk"]
[163,"Sudan","http://www.fmoh.gov.sd","http://www.moe.gov.sd","http://www.hrl.gov.sd","http://www.welfare.gov.sd","http://www.mof.gov.sd"]
[164,"Suriname","http://health.gov.sr","http://education.gov.sr","http://atm.gov.sr","http://socialaffairs.gov.sr","http://finance.gov.sr"]
[165,"Swaziland","http://www.gov.sz/index.php?option=com_content&view=article&id=267&Itemid=403","http://www.gov.sz/index.php?option=com_content&view=article&id=208&Itemid=113","http://www.gov.sz/index.php?option=com_content&view=article&id=242&Itemid=311","http://www.gov.sz/index.php?option=com_content&view=article&id=242&Itemid=311","http://www.gov.sz/index.php?option=com_content&view=article&id=277&Itemid=405"]
[166,"Sweden","http://www.regeringen.se/sb/d/1474","http://www.regeringen.se/sb/d/1454","http://www.regeringen.se/sb/d/1470","http://www.regeringen.se/sb/d/1474","http://www.regeringen.se/sb/d/1468"]
[167,"Switzerland","http://www.bag.admin.ch","http://www.sbf.admin.ch","http://www.seco.admin.ch","http://www.bsv.admin.ch","http://www.efd.admin.ch"]
[168,"Syrian Arab Republic","http://www.moh.gov.sy","http://syrianeducation.org.sy/site",null,null,"http://www.syrianfinance.gov.sy"]
[169,"Tajikistan","http://www.health.tj","http://controleducation.tj","http://www.mehnat.tj","http://www.mehnat.tj","http://www.minfin.tj"]
[170,"Thailand","http://www.moph.go.th","http://www.moe.go.th","http://www.labour.go.th","http://www.m-society.go.th","http://www.mof.go.th"]
[171,"The former Yugoslav Republic of Macedonia","http://www.moh.gov.mk","http://www.mon.gov.mk","http://www.mtsp.gov.mk","http://www.mtsp.gov.mk","http://www.finance.gov.mk"]
[172,"Timor-Leste","http://www.moh.gov.tl",null,null,null,"http://www.mof.gov.tl"]
[173,"Togo","http://www.sante.gouv.tg","http://www.educ.tg",null,null,"http://finances.gouv.tg"]
[174,"Tonga",null,"http://www.mic.gov.to/ministrydepartment/14-govt-ministries/moet","http://www.mctl.gov.to",null,"http://www.finance.gov.to"]
[175,"Trinidad and Tobago","http://www.health.gov.tt","http://www.moe.gov.tt","http://www.labour.gov.tt","http://www2.mpsd.gov.tt","http://www.finance.gov.tt"]
[176,"Tunisia","http://www.santetunisie.rns.tn","http://www.education.gov.tn","http://www.emploi.gov.tn","http://www.social.tn","http://www.portail.finances.gov.tn"]
[177,"Turkey","http://saglik.gov.tr","http://www.meb.gov.tr","http://www.csgb.gov.tr","http://www.csgb.gov.tr","http://www.maliye.gov.tr"]
[178,"Turkmenistan","http://www.saglykhm.gov.tm",null,"http://mlsp.gov.tm","http://mlsp.gov.tm","http://www.minfin.gov.tm"]
[179,"Tuvalu"]
[180,"Uganda","http://www.health.go.ug","http://www.education.go.ug","http://www.mglsd.go.ug","http://www.mglsd.go.ug","http://www.finance.go.ug"]
[181,"Ukraine","http://www.moz.gov.ua","http://www.mon.gov.ua","http://www.mlsp.gov.ua","http://www.mlsp.gov.ua","http://www.minfin.gov.ua/"]
[182,"United Arab Emirates","http://www.moh.gov.ae","http://www.moe.gov.ae","http://www.mol.gov.ae","http://www.msa.gov.ae","http://www.mof.gov.ae"]
[183,"United Kingdom of Great Britain and Northern Ireland","https://www.gov.uk/government/organisations/department-of-health","https://www.gov.uk/government/organisations/department-for-education","http://www.gov.uk/dwp","http://www.gov.uk/dwp","https://www.gov.uk/government/organisations/hm-treasury"]
[184,"United Republic of Tanzania","http://www.moh.go.tz","http://www.moe.go.tz",null,"http://www.moh.go.tz","http://www.mof.go.tz"]
[185,"United States of America","http://www.hhs.gov","http://www.ed.gov","http://www.dol.gov","http://www.hhs.gov","http://www.treasury.gov"]
[186,"Uruguay","http://www.msp.gub.uy","http://www.mec.gub.uy","http://www.mtss.gub.uy","http://mides.gub.uy","http://www.mef.gub.uy"]
[187,"Uzbekistan","http://www.minzdrav.uz","http://www.uzedu.uz","http://www.mehnat.uz","http://www.mehnat.uz","https://www.mf.uz"]
[188,"Vanuatu","http://gov.vu/health.html","http://gov.vu/education.html",null,null,"https://doft.gov.vu"]
[189,"Venezuela","http://www.mpps.gob.ve","http://www.me.gob.ve","http://www.minpptrass.gob.ve","http://www.minpptrass.gob.ve","http://www.mefbp.gob.ve"]
[190,"Viet Nam","http://www.moh.gov.vn","http://www.moet.gov.vn","http://www.molisa.gov.vn","http://www.molisa.gov.vn","http://www.mof.gov.vn"]
[191,"Yemen","http://www.mophp-ye.org","http://www.yemen.gov.ye/portal/Default.aspx?alias=www.yemen.gov.ye/portal/education","http://www.yemen.gov.ye/portal/mosal/%D8%A7%D9%84%D9%88%D8%B2%D9%8A%D8%B1/tabid/2203/Default.aspx","http://www.yemen.gov.ye/portal/mosal/%D8%A7%D9%84%D9%88%D8%B2%D9%8A%D8%B1/tabid/2203/Default.aspx","http://www.yemen.gov.ye/portal/default.aspx?tabid=400"]
[192,"Zambia","http://www.moh.gov.zm","http://www.moe.gov.zm","http://www.jobs.gov.zm","http://www.jobs.gov.zm","http://www.mofnp.gov.zm"]
[193,"Zimbabwe","http://www.mohcc.gov.zw","http://www.mopse.gov.zw","http://www.publicservice.gov.zw","http://www.publicservice.gov.zw","http://www.zimtreasury.gov.zw"]

{"sheet":"OECD eFiling","index":5,"n_rows":54,"n_cols":24,"rows_kept":54,"cut":false,"hidden":false,"merged":[[32,1,32,10],[0,1,0,5],[0,6,0,10],[0,16,0,23],[0,11,0,15]]}
["OECD Data","Personal Income",null,null,null,null,"Corporate Income Tax Returns: Electronic Filing",null,null,null,null,"Value Added Tax Returns: Electronic Filing",null,null,null,null,"Methods Available for Tax Payments and their Usage in 2011"]
["Country","Year Begun",2004,2009,2011,"Mandatory","Year Begun",2004,2009,2011,"Mandatory","Year Begun",2004,2009,2011,"Mandatory","Mailed Cheques","In person in Office","Agency","Phone","Internet","Direct Debit","Kiosk","Other"]
["Australia",1990,80,92,92,"N","1990s",95,92,92,"N",2001,36,49,54,"Y",10,null,24,3,60,3]
["Austria",2003,10,79,79,"Y",2004,30,96,95,"Y",2003,80,86,87,"Y","<1",2,2,null,50,null,null,44]
["Belgium",2002,3,40,54,"N",2006,1,32,73,"Y",2001,9,90,97,"Y",null,"Y","Y","Y","Y","Y"]
["Canada",1993,49,58,62,"N",2002,2,21,46,"Y",2002,11,22,41,"Y",31,5,32,null,28,2,null,2]
["Chile",1999,83,98,99,"Y",1999,83,98,99,"Y",1999,37,64,71,"Y",null,null,25,null,75,null,null,"In 75"]
["Czech Rep.",2004,"<1",1,1,"N",2004,1,"n/a",6,"N",2004,1,"n/a",10,"N",null,"Y","Y","Y","Y","Y"]
["Denmark",1994,68,96,98,"N",2005,0,18,25,"N",1999,60,95,98,"Y",null,null,"Y",null,"Y"]
["Estonia",2000,59,92,94,"N","n/a",0,95,98,"Y",2000,"n/a",96,99,"Y",null,1,4,null,95]
["Finland",2006,0,23,33,"N",2000,1,19,32,"N",1997,35,65,80,"N",null,null,"Y","Y","Y","Y","Y"]
["France",2001,4,27,33,"N",1991,26,77,81,"N",2001,2,28,39,"N","Y/1","Y/1",null,null,"66 - 71",null,null,"Y"]
["Germany",1999,7,30,32,"Y","n/a",0,0,"n/a","Y",2000,19,25,28,"Y","<33",null,null,null,">67"]
["Greece",2001,4,13,49,"Y","n/a",0,0,0,"-",2000,51,70,83,"Y","Y","Y","Y","Y","Y","Y"]
["Hungary",2003,3,30,17,"N",2003,3,99,99,"N",2000,6,99,99,"N",null,null,39,"Y",60,null,null,"Y"]
["Iceland",1999,86,92,92,"N",1997,99,99,66,"N",2004,16,65,74,"N","Y","Y","Y",null,"Y","Y"]
["Ireland",2001,62,67,81,"Y",2001,18,85,96,"Y",2000,13,45,63,"Y",null,3,84,null,9,3,null,1]
["Israel",2009,0,0,92,"Y",2009,0,"n/a",67,"Y","n/a","n/a","n/a","n/a","Y",8,3,13,null,65,11,null,"<1"]
["Italy",1998,100,100,100,"Y",1998,100,100,100,"Y",1998,100,100,100,"Y",null,null,29,null,30,41]
["Japan",2004,0,31,44,"N",2004,0,38,58,"N",2004,0,"57/29/1","85/40/1","N",null,4,75,null,1,16,null,3]
["Korea",2004,43,80,87,"N",2004,92,96,97,"N",2000,50,74,79,"N",null,2,69,"<1",18,"-",9,2]
["Luxembourg",2009,0,"<1",1,"N","n/a",0,0,0,"N",2003,0,26,54,"Y","Y","<1",">99",null,">99"]
["Mexico",1998,48,96,99,"Y",1998,100,100,100,"Y",2002,55,100,100,"Y",null,null,54,null,46,null,null,"<1"]
["Netherlands",1996,69,95,95,"Y",2005,0,100,100,"Y",2005,0,100,100,"Y","-",null,"<1",null,44,55]
["New Zealand",1991,56,63,71,"N",1991,67,75,80,"N",1992,9,21,28,"N",33,null,5,null,62]
["Norway",1999,37,82,86,"N",2000,47,75,88,"N",2001,38,88,92,"N","N","Y","Y","Y","Y","Y","N"]
["Poland",2008,0,1.4,11,"N",2006,0,1,11,"N",2006,0,2,11,"N","Y","Y","Y",null,"Y","Y"]
["Portugal",2000,24,80,83,"Y",2000,100,100,100,"Y",2000,83,100,100,"Y",null,47,53,null,"<1"]
["Slovak Rep.",2005,0,"n/a","<1","N",2005,0,"n/a",2,"N",2005,0,"n/a",9,"N",null,null,35,null,null,60]
["Slovenia",2004,0,77,"n/a","N",2004,0,100,100,"Y",2004,0,100,100,"Y","Y","Y",null,"Y","Y","Y"]
["Spain",1999,23,36,74,"N",1999,23,99,99,"Y",1999,23,75,80,"Y",null,null,"Y","Y","Y","Y"]
["Sweden",2002,15,55,63,"N",2009,0,68,68,"N",2001,3,35,55,"N",null,null,"Y","Y",90,"-"]
["Switzerland","Subnational Level",null,null,null,null,null,null,null,null,null,2010,0,0,"<1","N",null,null,"Y","-","Y","Y"]
["Turkey",2005,30,99,99,"Y",2005,72,99,99,"Y",2004,70,99,99,"Y","Y","Y","Y","Y","Y","Y"]
["United Kingdom",2000,17,73,77,"N",2004,1,16,42,"N",2003,0,20,67,"Y",16,null,10,5,26,43]
["United States",1986,47,65,76,"N",2004,1,25,44,"Y",null,null,null,null,null,41,1,2,3,21,9,null,23.3]
["Argentina",1999,18,100,100,"Y",1999,34,100,100,"Y",1999,30,100,100,"Y",null,null,"Y","Y","Y","Y","Y"]
["Brazil","n/a","n/a","n/a",100,"Y","n/a","n/a","n/a",100,"Y",null,null,null,null,null,null,null,63,"<1",30,null,null,7]
["Bulgaria",2005,"<1",3,5,"N",2006,0,21,38,"N",2004,5,68,82,"Y",null,null,2,null,3,1,null,3]
["China",2005,0,"n/a","n/a","n/a",2001,"n/a","n/a","n.a","N","n/a","n/a","n/a","n/a","N","Y","Y","Y","Y","Y","Y"]
["Colombia","n/a","n/a","n/a",6,"Y","n/a",null,null,23,"Y","n/a","n/a","n/a",24,"Y",null,null,93,null,8]
["Cyprus",2004,"<1",6,22,"Y",2004,0,"n/a",34,"Y",2004,1,1,2,"N","Y","Y","Y(VAT)",null,"Y(direct)"]
["Hong Kong, China","n/a","n/a","n/a",14,"N",null,null,null,"<1","N",null,null,null,null,null,9,null,34,19,29,9]
["India","n/a","n/a",17,"(13.1 m)","N","n/a",0,"n/a","(1.25m)","Y",null,null,null,null,null,null,null,"Y",null,"Y"]
["Indonesia","n/a"]
["Latvia",2008,0,10,15,"N",2008,0,92,75,"Y",2008,0,64,85,"Y",null,null,"Y",null,"Y",null,"Y"]
["Lithuania",2004,14,71,87,"N",2004,34,67,73,"N",2004,35,87,93,"N",null,null,"Y",null,"Y",null,"Y"]
["Malaysia",2004,33,56,69,"N",2001,"n/a",18,49,"N",null,null,null,null,null,54,null,18,28]
["Malta",2006,1,2,1,"Y",2001,82,99,92,"Y",2009,0,"<1",2,"N","Y","Y","Y",null,"Y","Y","Y"]
["Romania",2007,0,"<1","n/a","n/a",2004,0,2,"n/a","n/a",2004,0,5,"n/a","n/a",null,"Y","Y",null,"Y","Y"]
["Russia",2006,0,9,3,null,"n/a",0,12,57,"Y","n/a",0,26,51,"Y","N","N","About 100","Y","Y","Y","Y"]
["Saudi Arabia",null,null,null,null,null,"n/a",0,0,null,null,null,null,null,null,null,null,3,97]
["Singapore",1998,67,91,96,"N",2000,84,67,63,"N",2005,0,99,100,"Y",14,null,10,6,null,50,15,5]
["South Africa",2001,4,46,99,"N",2006,0,36,94,"N",2001,7,47,92,"Y","Y","Y","Y",null,"Y","Y"]

{"sheet":"PS Employment","index":6,"n_rows":109,"n_cols":16,"rows_kept":109,"cut":false,"hidden":false,"merged":[]}
["#","Country","CS2001","CS2002","CS2003","CS2004","CS2005","CS2006","CS2007","CS2008","CS2009","CS2010","PS Employment","Year",null,"http://laborsta.ilo.org/STP/guest"]
[1,"Afghanistan",null,null,202.06200000000001,260.53899999999999,276.34399999999999,295.16899999999998,304.88099999999997,307.28800000000001,null,null,307.28800000000001,2008,{"$f":"IFERROR(VLOOKUP(B2,'FMIS+eServices'!$C$3:$L$200,1,FALSE),\"-\")","v":"Afghanistan"}]
[2,"Albania",188.9,186.1,181.4,176.1,175,null,null,null,null,null,175,2005,{"$f":"IFERROR(VLOOKUP(B3,'FMIS+eServices'!$C$3:$L$200,1,FALSE),\"-\")","v":"Albania"}]
[3,"Antigua and Barbuda",9.6430000000000007,9.8859999999999992,10.068,10.255000000000001,10.429,10.62,10.818,11.019,null,null,11.019,2008,{"$f":"IFERROR(VLOOKUP(B4,'FMIS+eServices'!$C$3:$L$200,1,FALSE),\"-\")","v":"Antigua and Barbuda"}]
[4,"Argentina",1355.942,1649.348,1795.5719999999999,1717.029,1617.242,1631.152,null,null,null,null,1631.152,2006,{"$f":"IFERROR(VLOOKUP(B5,'FMIS+eServices'!$C$3:$L$200,1,FALSE),\"-\")","v":"Argentina"}]
[5,"Armenia",313.3,285.8,257.8,228.2,217.3,214.3,213.1,211.2,207.7,209.3,209.3,2010,{"$f":"IFERROR(VLOOKUP(B6,'FMIS+eServices'!$C$3:$L$200,1,FALSE),\"-\")","v":"Armenia"}]
[6,"Aruba",7.609,8.2379999999999995,8.1539999999999999,8.798,9.2739999999999991,8.9920000000000009,9.0749999999999993,8.9209999999999994,null,null,8.9209999999999994,2008,{"$f":"IFERROR(VLOOKUP(B7,'FMIS+eServices'!$C$3:$L$200,1,FALSE),\"-\")","v":"-"}]
[7,"Australia",1485.8,1514,1529.3,1576.2,1621.4,1663.9,1683.4,1751.4,1807.4,1843.5,1843.5,2010,{"$f":"IFERROR(VLOOKUP(B8,'FMIS+eServices'!$C$3:$L$200,1,FALSE),\"-\")","v":"Australia"}]
[8,"Austria",460.81,453.54,451.4,448.14,454.93,458.72,457.78,465.68700000000001,464.45,465.52,465.52,2010,{"$f":"IFERROR(VLOOKUP(B9,'FMIS+eServices'!$C$3:$L$200,1,FALSE),\"-\")","v":"Austria"}]
[9,"Azerbaijan",null,null,null,null,858,871.6,885.1,897.5,881.5,859.5,859.5,2010,{"$f":"IFERROR(VLOOKUP(B10,'FMIS+eServices'!$C$3:$L$200,1,FALSE),\"-\")","v":"Azerbaijan"}]
[10,"Bahamas",26.254999999999999,28.52,28.28,26.32,26.44,30.2,31.895,35.435000000000002,null,null,35.435000000000002,2008,{"$f":"IFERROR(VLOOKUP(B11,'FMIS+eServices'!$C$3:$L$200,1,FALSE),\"-\")","v":"Bahamas"}]
[11,"Bangladesh",null,null,1877,null,2127,null,null,null,null,null,2127,2005,{"$f":"IFERROR(VLOOKUP(B12,'FMIS+eServices'!$C$3:$L$200,1,FALSE),\"-\")","v":"Bangladesh"}]
[12,"Belarus",2527.1,2412.3000000000002,2295.1999999999998,2261.4,2250.6999999999998,2253.3000000000002,2261.6999999999998,null,null,null,2261.6999999999998,2007,{"$f":"IFERROR(VLOOKUP(B13,'FMIS+eServices'!$C$3:$L$200,1,FALSE),\"-\")","v":"Belarus"}]
[13,"Belgium",745.8,760.7,770.9,783.1,796.1,803.1,810.3,821,834,840.7,840.7,2010,{"$f":"IFERROR(VLOOKUP(B14,'FMIS+eServices'!$C$3:$L$200,1,FALSE),\"-\")","v":"Belgium"}]
[14,"Bermuda",3.8340000000000001,3.8959999999999999,3.9820000000000002,4.1040000000000001,4.056,null,null,null,null,null,4.056,2005,{"$f":"IFERROR(VLOOKUP(B15,'FMIS+eServices'!$C$3:$L$200,1,FALSE),\"-\")","v":"-"}]
[15,"Botswana",117.9,123,124.5,130.52099999999999,124.227,128.02199999999999,131.60900000000001,134.197,141.56899999999999,146.952,146.952,2010,{"$f":"IFERROR(VLOOKUP(B16,'FMIS+eServices'!$C$3:$L$200,1,FALSE),\"-\")","v":"Botswana"}]
[16,"Brazil",null,null,null,9816.1450000000004,9951.3369999999995,10488.186,10884.790999999999,11157.3,11474.008,null,11474.008,2009,{"$f":"IFERROR(VLOOKUP(B17,'FMIS+eServices'!$C$3:$L$200,1,FALSE),\"-\")","v":"Brazil"}]
[17,"Bulgaria",779.4,729.6,763.4,728.9,680.1,668,646,614.79999999999995,603.20000000000005,null,603.20000000000005,2009,{"$f":"IFERROR(VLOOKUP(B18,'FMIS+eServices'!$C$3:$L$200,1,FALSE),\"-\")","v":"Bulgaria"}]
[18,"Burkina Faso",49.7,52.331000000000003,54.406999999999996,59.585000000000001,65.75,72.789000000000001,76.762,null,null,null,76.762,2007,{"$f":"IFERROR(VLOOKUP(B19,'FMIS+eServices'!$C$3:$L$200,1,FALSE),\"-\")","v":"Burkina Faso"}]
[19,"Canada",3043.5,3087.2,3163.4,3193.4,3241,3310.5,3383.8,3493.6,3563.4,3609.2739999999999,3609.2739999999999,2010,{"$f":"IFERROR(VLOOKUP(B20,'FMIS+eServices'!$C$3:$L$200,1,FALSE),\"-\")","v":"Canada"}]
[20,"Chile",571.29999999999995,534.1,546,572.5,561.5,623.29999999999995,637.5,652.9,null,null,652.9,2008,{"$f":"IFERROR(VLOOKUP(B21,'FMIS+eServices'!$C$3:$L$200,1,FALSE),\"-\")","v":"Chile"}]
[21,"Colombia",1167.579,1014.9,1038.0999999999999,1006,1032.8,951.7,987.05700000000002,958.1,839.7,806.6,806.6,2010,{"$f":"IFERROR(VLOOKUP(B22,'FMIS+eServices'!$C$3:$L$200,1,FALSE),\"-\")","v":"Colombia"}]
[22,"Costa Rica",222.4,222.3,227.8,233.1,251.5,264.89999999999998,266.8,276.10000000000002,305.3,288.5,288.5,2010,{"$f":"IFERROR(VLOOKUP(B23,'FMIS+eServices'!$C$3:$L$200,1,FALSE),\"-\")","v":"Costa Rica"}]
[23,"Croatia",588.27700000000004,572.90499999999997,533.10799999999995,528.49300000000005,499.1,497.6,504.7,481.8,null,null,481.8,2008,{"$f":"IFERROR(VLOOKUP(B24,'FMIS+eServices'!$C$3:$L$200,1,FALSE),\"-\")","v":"Croatia"}]
[24,"Cuba",3601.8,3647.5,3665.2,3694,3785.9,3888.6,4036.1,4112.3,null,null,4112.3,2008,{"$f":"IFERROR(VLOOKUP(B25,'FMIS+eServices'!$C$3:$L$200,1,FALSE),\"-\")","v":"Cuba"}]
[25,"Cyprus",57.8,59.5,61.1,61.8,63.4,64.8,65.099999999999994,67.099999999999994,69.900000000000006,71.2,71.2,2010,{"$f":"IFERROR(VLOOKUP(B26,'FMIS+eServices'!$C$3:$L$200,1,FALSE),\"-\")","v":"Cyprus"}]
[26,"Czech Republic",1745.29,1748.3710000000001,1711.9770000000001,1715.12,1698.952,1691.1859999999999,1686.2439999999999,1698.231,1678.5440000000001,1672.039,1672.039,2010,{"$f":"IFERROR(VLOOKUP(B27,'FMIS+eServices'!$C$3:$L$200,1,FALSE),\"-\")","v":"Czech Republic"}]
[27,"Denmark",938.495,948.01800000000003,928.024,928.1,928.404,931.58,937.5,925.6,930.3,952.8,952.8,2010,{"$f":"IFERROR(VLOOKUP(B28,'FMIS+eServices'!$C$3:$L$200,1,FALSE),\"-\")","v":"Denmark"}]
[28,"Dominica",4.6470000000000002,null,null,null,4.7590000000000003,null,null,null,null,null,4.7590000000000003,2005,{"$f":"IFERROR(VLOOKUP(B29,'FMIS+eServices'!$C$3:$L$200,1,FALSE),\"-\")","v":"Dominica"}]
[29,"Ecuador",null,null,null,null,null,null,460.18200000000002,492.44400000000002,null,null,492.44400000000002,2008,{"$f":"IFERROR(VLOOKUP(B30,'FMIS+eServices'!$C$3:$L$200,1,FALSE),\"-\")","v":"Ecuador"}]
[30,"Egypt",6004,6046,6151,6260,5593,6321,6358,6460,6436,6379,6379,2010,{"$f":"IFERROR(VLOOKUP(B31,'FMIS+eServices'!$C$3:$L$200,1,FALSE),\"-\")","v":"Egypt"}]
[31,"Estonia",168.5,158.30000000000001,158.19999999999999,154.6,151.30000000000001,164.1,159.69999999999999,157.6,160.80000000000001,159.69999999999999,159.69999999999999,2010,{"$f":"IFERROR(VLOOKUP(B32,'FMIS+eServices'!$C$3:$L$200,1,FALSE),\"-\")","v":"Estonia"}]
[32,"Ethiopia",null,null,null,611.72299999999996,null,null,null,null,null,null,611.72299999999996,2004,{"$f":"IFERROR(VLOOKUP(B33,'FMIS+eServices'!$C$3:$L$200,1,FALSE),\"-\")","v":"Ethiopia"}]
[33,"Fiji",37.061999999999998,37.258000000000003,37.533000000000001,38.643999999999998,38.088999999999999,38.366,38.341000000000001,38.396999999999998,null,null,38.396999999999998,2008,{"$f":"IFERROR(VLOOKUP(B34,'FMIS+eServices'!$C$3:$L$200,1,FALSE),\"-\")","v":"Fiji"}]
[34,"Finland",644,644,651,656,654,655,657,666,615.1,611.70000000000005,611.70000000000005,2010,{"$f":"IFERROR(VLOOKUP(B35,'FMIS+eServices'!$C$3:$L$200,1,FALSE),\"-\")","v":"Finland"}]
[35,"France",6639,6737,6827,6789,6683,6718,null,null,null,null,6718,2006,{"$f":"IFERROR(VLOOKUP(B36,'FMIS+eServices'!$C$3:$L$200,1,FALSE),\"-\")","v":"France"}]
[36,"Georgia",null,431.3,436.1,407.4,401.2,360.3,null,null,null,null,360.3,2006,{"$f":"IFERROR(VLOOKUP(B37,'FMIS+eServices'!$C$3:$L$200,1,FALSE),\"-\")","v":"Georgia"}]
[37,"Germany",6185,6107,6082,5920,5797,5834,5826,5840,5924,5981,5981,2010,{"$f":"IFERROR(VLOOKUP(B38,'FMIS+eServices'!$C$3:$L$200,1,FALSE),\"-\")","v":"Germany"}]
[38,"Gibraltar",3.8,3.9,4,4,4.0999999999999996,4,4.0999999999999996,null,null,null,4.0999999999999996,2007,{"$f":"IFERROR(VLOOKUP(B39,'FMIS+eServices'!$C$3:$L$200,1,FALSE),\"-\")","v":"-"}]
[39,"Greece",861.18499999999995,890.92399999999998,919.92899999999997,996.76099999999997,965.471,1004.883,1018.002,1022.121,null,null,1022.121,2008,{"$f":"IFERROR(VLOOKUP(B40,'FMIS+eServices'!$C$3:$L$200,1,FALSE),\"-\")","v":"Greece"}]
[40,"Guam",null,15.69,15.12,null,null,null,null,null,null,null,15.12,2003,{"$f":"IFERROR(VLOOKUP(B41,'FMIS+eServices'!$C$3:$L$200,1,FALSE),\"-\")","v":"-"}]
[41,"Guatemala",null,null,null,191.39400000000001,null,null,null,null,null,null,191.39400000000001,2004,{"$f":"IFERROR(VLOOKUP(B42,'FMIS+eServices'!$C$3:$L$200,1,FALSE),\"-\")","v":"Guatemala"}]
[42,"Guinea",47.953000000000003,48.331000000000003,50.790999999999997,52.695,69.787000000000006,71.497,72.578000000000003,97.25,97.254000000000005,null,97.254000000000005,2009,{"$f":"IFERROR(VLOOKUP(B43,'FMIS+eServices'!$C$3:$L$200,1,FALSE),\"-\")","v":"Guinea"}]
[43,"Honduras",180.15199999999999,139.56,130.97999999999999,145.89099999999999,null,null,null,null,null,null,145.89099999999999,2004,{"$f":"IFERROR(VLOOKUP(B44,'FMIS+eServices'!$C$3:$L$200,1,FALSE),\"-\")","v":"Honduras"}]
[44,"Hong Kong SAR, China",252.3,248.2,244.8,238.1,232.2,231,231.2,232.8,240.3,245.8,245.8,2010,{"$f":"IFERROR(VLOOKUP(B45,'FMIS+eServices'!$C$3:$L$200,1,FALSE),\"-\")","v":"Hong Kong SAR, China"}]
[45,"Hungary",839.38900000000001,863.01800000000003,875.99400000000003,872.11,874.4,864.6,838.7,822.3,846,null,846,2009,{"$f":"IFERROR(VLOOKUP(B46,'FMIS+eServices'!$C$3:$L$200,1,FALSE),\"-\")","v":"Hungary"}]
[46,"India",19137.5,18773.400000000001,18579.7,18196.7,18006.599999999999,null,null,null,null,null,18006.599999999999,2005,{"$f":"IFERROR(VLOOKUP(B47,'FMIS+eServices'!$C$3:$L$200,1,FALSE),\"-\")","v":"India"}]
[47,"Indonesia",3945.8,null,3542,null,null,null,null,null,null,null,3542,2003,{"$f":"IFERROR(VLOOKUP(B48,'FMIS+eServices'!$C$3:$L$200,1,FALSE),\"-\")","v":"Indonesia"}]
[48,"Iran",null,null,null,null,3944.6,3855.8,3898.9,3934.4,null,null,3934.4,2008,{"$f":"IFERROR(VLOOKUP(B49,'FMIS+eServices'!$C$3:$L$200,1,FALSE),\"-\")","v":"Iran"}]
[49,"Ireland",323.3,336,338.6,344.6,349.9,356.6,368.1,373.3,406.9,402.1,402.1,2010,{"$f":"IFERROR(VLOOKUP(B50,'FMIS+eServices'!$C$3:$L$200,1,FALSE),\"-\")","v":"Ireland"}]
[50,"Isle of Man",9.3000000000000007,null,null,null,null,10,null,null,null,null,10,2005,{"$f":"IFERROR(VLOOKUP(B51,'FMIS+eServices'!$C$3:$L$200,1,FALSE),\"-\")","v":"-"}]
[51,"Israel",425.8,437.6,435,430.4,440.5,447.8,471.8,482.6,487.6,502.9,502.9,2010,{"$f":"IFERROR(VLOOKUP(B52,'FMIS+eServices'!$C$3:$L$200,1,FALSE),\"-\")","v":"Israel"}]
[52,"Italy",3673.1,3681.7,3658.4,3642,3635.5,3635.9,3618.3,3586.6,3545,3479.1,3479.1,2010,{"$f":"IFERROR(VLOOKUP(B53,'FMIS+eServices'!$C$3:$L$200,1,FALSE),\"-\")","v":"Italy"}]
[53,"Japan",5245.3,null,null,null,null,4449.8999999999996,null,null,4418.3,null,4449.8999999999996,2009,{"$f":"IFERROR(VLOOKUP(B54,'FMIS+eServices'!$C$3:$L$200,1,FALSE),\"-\")","v":"Japan"}]
[54,"Jersey",6.12,6.31,6.41,6.51,6.43,6.56,6.63,6.65,6.83,6.78,6.78,2010,{"$f":"IFERROR(VLOOKUP(B55,'FMIS+eServices'!$C$3:$L$200,1,FALSE),\"-\")","v":"-"}]
[55,"Jordan",247.40100000000001,251.226,253.12,248.37299999999999,255.41200000000001,261.89999999999998,275.5,287.89999999999998,300.5,null,300.5,2009,{"$f":"IFERROR(VLOOKUP(B56,'FMIS+eServices'!$C$3:$L$200,1,FALSE),\"-\")","v":"Jordan"}]
[56,"Kyrgyz Republic",373.7,366.9,361.1,359.8,358.3,319.7,329.9,null,null,null,329.9,2007,{"$f":"IFERROR(VLOOKUP(B57,'FMIS+eServices'!$C$3:$L$200,1,FALSE),\"-\")","v":"Kyrgyz Republic"}]
[57,"Latvia",316.3,315.2,316.8,315.3,313.5,316.39999999999998,318.10000000000002,320.10000000000002,298.10000000000002,273.60000000000002,273.60000000000002,2010,{"$f":"IFERROR(VLOOKUP(B58,'FMIS+eServices'!$C$3:$L$200,1,FALSE),\"-\")","v":"Latvia"}]
[58,"Lithuania",454.2,436.5,455.4,444.3,434.2,432.7,430.8,428.5,417.5,400.2,400.2,2010,{"$f":"IFERROR(VLOOKUP(B59,'FMIS+eServices'!$C$3:$L$200,1,FALSE),\"-\")","v":"Lithuania"}]
[59,"Luxembourg",44,45.9,47.3,48.2,49.4,49.7,50.6,53.3,55.9,57,57,2010,{"$f":"IFERROR(VLOOKUP(B60,'FMIS+eServices'!$C$3:$L$200,1,FALSE),\"-\")","v":"Luxembourg"}]
[60,"Macao SAR, China",17.5,17.899999999999999,18.100000000000001,18.899999999999999,19.7,20.6,21.5,22.7,24.125,25.071999999999999,25.071999999999999,2010,{"$f":"IFERROR(VLOOKUP(B61,'FMIS+eServices'!$C$3:$L$200,1,FALSE),\"-\")","v":"Macao SAR, China"}]
[61,"Macedonia",130.727,133.43199999999999,134.46700000000001,132.875,127.94799999999999,null,null,null,null,null,127.94799999999999,2005,{"$f":"IFERROR(VLOOKUP(B62,'FMIS+eServices'!$C$3:$L$200,1,FALSE),\"-\")","v":"Macedonia"}]
[62,"Madagascar",279.10000000000002,null,null,null,233.1,null,null,null,null,null,233.1,2005,{"$f":"IFERROR(VLOOKUP(B63,'FMIS+eServices'!$C$3:$L$200,1,FALSE),\"-\")","v":"Madagascar"}]
[63,"Malaysia",1140.5,1151.5,1240.2,1302.0999999999999,1307.9000000000001,1285.5,1357.2,1411.5,null,null,1411.5,2008,{"$f":"IFERROR(VLOOKUP(B64,'FMIS+eServices'!$C$3:$L$200,1,FALSE),\"-\")","v":"Malaysia"}]
[64,"Malta",48.597999999999999,50.887999999999998,49.741999999999997,49.258000000000003,48.895000000000003,46.929000000000002,null,null,null,null,46.929000000000002,2006,{"$f":"IFERROR(VLOOKUP(B65,'FMIS+eServices'!$C$3:$L$200,1,FALSE),\"-\")","v":"Malta"}]
[65,"Mauritius",85.8,87.3,92.3,94.3,95.3,96,94.5,94.7,null,null,94.7,2008,{"$f":"IFERROR(VLOOKUP(B66,'FMIS+eServices'!$C$3:$L$200,1,FALSE),\"-\")","v":"Mauritius"}]
[66,"Mexico",4812.1049999999996,4790.4589999999998,4215.875,4242.9780000000001,4314.473,4358.0690000000004,4457.3739999999998,4512.7049999999999,4556.2960000000003,null,4556.2960000000003,2009,{"$f":"IFERROR(VLOOKUP(B67,'FMIS+eServices'!$C$3:$L$200,1,FALSE),\"-\")","v":"Mexico"}]
[67,"Moldova",339.6,339.3,340.3,338.9,339,339.5,329.5,326.7,324.5,321.3,321.3,2010,{"$f":"IFERROR(VLOOKUP(B68,'FMIS+eServices'!$C$3:$L$200,1,FALSE),\"-\")","v":"Moldova"}]
[68,"Morocco",944.5,916.5,877.5,863.7,826.7,976.7,922.91200000000003,919.47699999999998,null,null,919.47699999999998,2008,{"$f":"IFERROR(VLOOKUP(B69,'FMIS+eServices'!$C$3:$L$200,1,FALSE),\"-\")","v":"Morocco"}]
[69,"Netherlands",1729.9,1761.1,1798.2,1785.8,1780.4,1832.1,1859.8,1058.4000000000001,1080.7,1095.0999999999999,1095.0999999999999,2010,{"$f":"IFERROR(VLOOKUP(B70,'FMIS+eServices'!$C$3:$L$200,1,FALSE),\"-\")","v":"Netherlands"}]
[70,"New Caledonia",null,null,20.207999999999998,21.013000000000002,21.457999999999998,22.12,23.276,24.288,null,null,24.288,2008,{"$f":"IFERROR(VLOOKUP(B71,'FMIS+eServices'!$C$3:$L$200,1,FALSE),\"-\")","v":"-"}]
[71,"New Zealand",223.6,233.2,239.2,253,252.9,258,259.3,271.2,279.2,269.89999999999998,269.89999999999998,2010,{"$f":"IFERROR(VLOOKUP(B72,'FMIS+eServices'!$C$3:$L$200,1,FALSE),\"-\")","v":"New Zealand"}]
[72,"Norway",830.9,849.1,847.6,833.9,831.6,852.5,861.4,756.9,780.6,794.6,794.6,2010,{"$f":"IFERROR(VLOOKUP(B73,'FMIS+eServices'!$C$3:$L$200,1,FALSE),\"-\")","v":"Norway"}]
[73,"Panama",171.7,178.2,182.5,183.7,183.2,187.2,195.2,null,null,null,195.2,2007,{"$f":"IFERROR(VLOOKUP(B74,'FMIS+eServices'!$C$3:$L$200,1,FALSE),\"-\")","v":"Panama"}]
[74,"Paraguay",null,182.321,194.03399999999999,183.24100000000001,null,null,null,null,null,null,183.24100000000001,2004,{"$f":"IFERROR(VLOOKUP(B75,'FMIS+eServices'!$C$3:$L$200,1,FALSE),\"-\")","v":"Paraguay"}]
[75,"Peru",912,975.1,919.7,1015.9,985.5,1058.5999999999999,1191.3,1199.2,null,null,1199.2,2008,{"$f":"IFERROR(VLOOKUP(B76,'FMIS+eServices'!$C$3:$L$200,1,FALSE),\"-\")","v":"Peru"}]
[76,"Philippines",2337,2378,2367,2420,2454,2500,2623,2722,2866,3025,3025,2010,{"$f":"IFERROR(VLOOKUP(B77,'FMIS+eServices'!$C$3:$L$200,1,FALSE),\"-\")","v":"Philippines"}]
[77,"Poland",4027.7,3905.1,3780.2,3695.6,3660.4,3635.3,3619.8,3621.6,3606.5,3570.7,3570.7,2010,{"$f":"IFERROR(VLOOKUP(B78,'FMIS+eServices'!$C$3:$L$200,1,FALSE),\"-\")","v":"Poland"}]
[78,"Portugal",721,739.6,687.7,693.6,695.2,676,658.6,648.5,null,null,648.5,2008,{"$f":"IFERROR(VLOOKUP(B79,'FMIS+eServices'!$C$3:$L$200,1,FALSE),\"-\")","v":"Portugal"}]
[79,"Puerto Rico",282.39999999999998,295.39999999999998,300.8,307.39999999999998,304.5,300.2,297.39999999999998,299.2,null,null,299.2,2008,{"$f":"IFERROR(VLOOKUP(B80,'FMIS+eServices'!$C$3:$L$200,1,FALSE),\"-\")","v":"-"}]
[80,"Romania",2594.1999999999998,2287.9,2182.5,2123.1,1923.5,1925.5,1751.1,1723.4,null,null,1723.4,2008,{"$f":"IFERROR(VLOOKUP(B81,'FMIS+eServices'!$C$3:$L$200,1,FALSE),\"-\")","v":"Romania"}]
[81,"Russian Federation",24223.200000000001,24192,23933,23582.1,22499.200000000001,21662,21436,13326.7,20745.900000000001,null,20745.900000000001,2009,{"$f":"IFERROR(VLOOKUP(B82,'FMIS+eServices'!$C$3:$L$200,1,FALSE),\"-\")","v":"Russian Federation"}]
[82,"San Marino",4.4000000000000004,4.3,4.0999999999999996,4.2,4.0999999999999996,4.0999999999999996,4,4,null,null,4,2008,{"$f":"IFERROR(VLOOKUP(B83,'FMIS+eServices'!$C$3:$L$200,1,FALSE),\"-\")","v":"San Marino"}]
[83,"Senegal",101.807,105.032,105.456,111.355,119.098,null,null,null,null,null,119.098,2005,{"$f":"IFERROR(VLOOKUP(B84,'FMIS+eServices'!$C$3:$L$200,1,FALSE),\"-\")","v":"Senegal"}]
[84,"Serbia",510.7,506.9,507.4,509,505.1,480.6,476.9,552.9,555.29999999999995,556.1,556.1,2010,{"$f":"IFERROR(VLOOKUP(B85,'FMIS+eServices'!$C$3:$L$200,1,FALSE),\"-\")","v":"Serbia"}]
[85,"Seychelles",15.741,16.341999999999999,15.704000000000001,15.839,15.948,16.847000000000001,17.154,16.507999999999999,null,null,16.507999999999999,2008,{"$f":"IFERROR(VLOOKUP(B86,'FMIS+eServices'!$C$3:$L$200,1,FALSE),\"-\")","v":"Seychelles"}]
[86,"Singapore",null,null,null,null,null,109.9,113,117.6,125.1,128.19999999999999,125.1,2009,{"$f":"IFERROR(VLOOKUP(B87,'FMIS+eServices'!$C$3:$L$200,1,FALSE),\"-\")","v":"Singapore"}]
[87,"Slovak Republic",661.75,620.4,583.9,550.70000000000005,532.20000000000005,521.6,512.9,505.1,499.2,500.5,500.5,2010,{"$f":"IFERROR(VLOOKUP(B88,'FMIS+eServices'!$C$3:$L$200,1,FALSE),\"-\")","v":"Slovak Republic"}]
[88,"Slovenia",235.1,233.6,240.5,241.6,241.2,235.6,234.4,236.4,235.7,233.9,233.9,2010,{"$f":"IFERROR(VLOOKUP(B89,'FMIS+eServices'!$C$3:$L$200,1,FALSE),\"-\")","v":"Slovenia"}]
[89,"South Africa",1434.9469999999999,1421.9159999999999,1433.989,1457.8720000000001,1122.568,1569.213,null,null,null,null,1569.213,2006,{"$f":"IFERROR(VLOOKUP(B90,'FMIS+eServices'!$C$3:$L$200,1,FALSE),\"-\")","v":"South Africa"}]
[90,"Spain",2505.6999999999998,2591.6,2707.7,2800.4,2864.2,2882.2,2913,2958.6,3062.1,3129.6,3129.6,2010,{"$f":"IFERROR(VLOOKUP(B91,'FMIS+eServices'!$C$3:$L$200,1,FALSE),\"-\")","v":"Spain"}]
[91,"Sri Lanka",null,882.76400000000001,961.03700000000003,972.80600000000004,1009.174,954.88599999999997,971.78,1164.0999999999999,null,null,1164.0999999999999,2008,{"$f":"IFERROR(VLOOKUP(B92,'FMIS+eServices'!$C$3:$L$200,1,FALSE),\"-\")","v":"Sri Lanka"}]
[92,"Sweden",1317.6,1332.3,1346.1,1351.9,1347.4,1362.5,1361,1333,1306.5,1294.5,1294.5,2010,{"$f":"IFERROR(VLOOKUP(B93,'FMIS+eServices'!$C$3:$L$200,1,FALSE),\"-\")","v":"Sweden"}]
[93,"Switzerland",595.41200000000003,null,null,null,621.59400000000005,null,null,633.95600000000002,null,null,633.95600000000002,2008,{"$f":"IFERROR(VLOOKUP(B94,'FMIS+eServices'!$C$3:$L$200,1,FALSE),\"-\")","v":"Switzerland"}]
[94,"Syrian Arab Republic",1270,1169,1217,1294,1264,1334,1380,1402,null,null,1402,2008,{"$f":"IFERROR(VLOOKUP(B95,'FMIS+eServices'!$C$3:$L$200,1,FALSE),\"-\")","v":"Syrian Arab Republic"}]
[95,"Thailand",2851.9,2672.7,2590.6,2878.8,3063.5,3126.2,3245.8,3381.5,null,null,3381.5,2008,{"$f":"IFERROR(VLOOKUP(B96,'FMIS+eServices'!$C$3:$L$200,1,FALSE),\"-\")","v":"Thailand"}]
[96,"Timor-Leste",7.6989999999999998,11.367000000000001,9.6379999999999999,10.874000000000001,10.925000000000001,17.591000000000001,null,null,null,null,17.591000000000001,2006,{"$f":"IFERROR(VLOOKUP(B97,'FMIS+eServices'!$C$3:$L$200,1,FALSE),\"-\")","v":"Timor-Leste"}]
[97,"Trinidad and Tobago",133.19999999999999,140.1,140,144.19999999999999,151.30000000000001,157.19999999999999,149.5,158.30000000000001,null,null,158.30000000000001,2008,{"$f":"IFERROR(VLOOKUP(B98,'FMIS+eServices'!$C$3:$L$200,1,FALSE),\"-\")","v":"Trinidad and Tobago"}]
[98,"Turkey",3157,3225,3213,2960,3043,3019,2925.306,2917.7860000000001,2958.8510000000001,3013.6120000000001,3013.6120000000001,2010,{"$f":"IFERROR(VLOOKUP(B99,'FMIS+eServices'!$C$3:$L$200,1,FALSE),\"-\")","v":"Turkey"}]
[99,"Ukraine",6942.2,6804.3,6676.7,4472.8999999999996,4473.8,4492.3,4489.1000000000004,4514.6000000000004,4518.3999999999996,4640.3999999999996,4640.3999999999996,2010,{"$f":"IFERROR(VLOOKUP(B100,'FMIS+eServices'!$C$3:$L$200,1,FALSE),\"-\")","v":"Ukraine"}]
[100,"United Arab Emirates",null,null,null,null,496.24299999999999,null,null,436.10500000000002,null,null,436.10500000000002,2008,{"$f":"IFERROR(VLOOKUP(B101,'FMIS+eServices'!$C$3:$L$200,1,FALSE),\"-\")","v":"United Arab Emirates"}]
[101,"United Kingdom",5616,5724,5887,6004,6107,6070,6014,5995,6288,6276,6276,2010,{"$f":"IFERROR(VLOOKUP(B102,'FMIS+eServices'!$C$3:$L$200,1,FALSE),\"-\")","v":"United Kingdom"}]
[102,"United States of America",21118,21513,21583,21621,21804,21974,22218,22509,22555,22490,22490,2010,{"$f":"IFERROR(VLOOKUP(B103,'FMIS+eServices'!$C$3:$L$200,1,FALSE),\"-\")","v":"United States of America"}]
[103,"Uruguay",178.4,185.7,185.8,190.1,185.3,200.3,null,224,null,null,224,2008,{"$f":"IFERROR(VLOOKUP(B104,'FMIS+eServices'!$C$3:$L$200,1,FALSE),\"-\")","v":"Uruguay"}]
[104,"Vietnam",3603.6,3750.5,4035.4,4108.2,4038.8,3948.7,3985.3,4073.3,null,null,4073.3,2008,{"$f":"IFERROR(VLOOKUP(B105,'FMIS+eServices'!$C$3:$L$200,1,FALSE),\"-\")","v":"Vietnam"}]
[105,"West Bank and Gaza",119.55500000000001,115.13800000000001,118.49,131.10900000000001,146.423,158.36799999999999,157.6,155.5,180.4,179.6,179.6,2010,{"$f":"IFERROR(VLOOKUP(B106,'FMIS+eServices'!$C$3:$L$200,1,FALSE),\"-\")","v":"West Bank and Gaza"}]
[106,"Yemen",null,null,null,473.5,492.108,507.1,529.70000000000005,null,null,null,529.70000000000005,2007,{"$f":"IFERROR(VLOOKUP(B107,'FMIS+eServices'!$C$3:$L$200,1,FALSE),\"-\")","v":"Yemen"}]
[]
[null,null,null,null,null,null,null,null,null,null,null,null,{"$f":"SUM(M2:M108)","v":193027.34299999996},null,"98 WB"]

{"sheet":"FMI&OBD Good Practices","index":7,"n_rows":55,"n_cols":15,"rows_kept":55,"cut":false,"hidden":true,"merged":[]}
["#","1. Timely publication","2. Visibility of FMIS","3. \u0084Dynamic query options","4. Open budget data","5. Reliability of PF data","6. Presentation quality","7. Effective use of open data",null,"#","Economy","# of cases","Income","Region","Group"]
[1,"Mauritius","Madagascar","China","Australia","Gambia","Australia","Korea, Rep.",null,{"$f":"ROW()-1","v":1},"Argentina",{"$f":"COUNTIF($B$2:$H$19,K2)","v":4},{"$f":"VLOOKUP($K2,'FMIS+eServices'!$C$3:$EM$200,2,FALSE)","v":"UMIC"},{"$f":"VLOOKUP($K2,'FMIS+eServices'!$C$3:$EM$200,114,FALSE)","v":0.55118},{"$f":"VLOOKUP($K2,'FMIS+eServices'!$C$3:$EM$200,133,FALSE)","v":10}]
[2,"Australia","Australia","Timor-Leste","Korea, Rep.","Zambia","Korea, Rep.","Philippines",null,{"$f":"ROW()-1","v":2},"Australia",{"$f":"COUNTIF($B$2:$H$19,K3)","v":4},{"$f":"VLOOKUP($K3,'FMIS+eServices'!$C$3:$EM$200,2,FALSE)","v":"HIC"},"EAP",{"$f":"VLOOKUP($K3,'FMIS+eServices'!$C$3:$EM$200,133,FALSE)","v":8}]
[3,"Japan","Indonesia","Denmark","Taiwan, China","Korea, Rep.","New Zealand","Singapore",null,3,"Austria",1,{"$f":"VLOOKUP($K4,'FMIS+eServices'!$C$3:$EM$200,2,FALSE)","v":"HIC"},"ECA",{"$f":"VLOOKUP($K4,'FMIS+eServices'!$C$3:$EM$200,133,FALSE)","v":1}]
[4,"Korea, Rep.","Korea, Rep.","Estonia","Viet Nam","Thailand","Philippines","Germany",null,4,"Bolivia",3,{"$f":"VLOOKUP($K5,'FMIS+eServices'!$C$3:$EM$200,2,FALSE)","v":"LMIC"},{"$f":"VLOOKUP($K5,'FMIS+eServices'!$C$3:$EM$200,114,FALSE)","v":0.39369999999999999},{"$f":"VLOOKUP($K5,'FMIS+eServices'!$C$3:$EM$200,133,FALSE)","v":0}]
[5,"New Zealand","Malaysia","Netherlands","Ireland","Slovenia","Singapore","Norway",null,5,"Brazil",7,{"$f":"VLOOKUP($K6,'FMIS+eServices'!$C$3:$EM$200,2,FALSE)","v":"UMIC"},{"$f":"VLOOKUP($K6,'FMIS+eServices'!$C$3:$EM$200,114,FALSE)","v":0.59841999999999995},{"$f":"VLOOKUP($K6,'FMIS+eServices'!$C$3:$EM$200,133,FALSE)","v":11}]
[6,"Singapore","France","Turkey","Netherlands","Bolivia","Austria","Russian Federation",null,6,"Chile",4,{"$f":"VLOOKUP($K7,'FMIS+eServices'!$C$3:$EM$200,2,FALSE)","v":"UMIC"},{"$f":"VLOOKUP($K7,'FMIS+eServices'!$C$3:$EM$200,114,FALSE)","v":0.81889000000000001},{"$f":"VLOOKUP($K7,'FMIS+eServices'!$C$3:$EM$200,133,FALSE)","v":0}]
[7,"France","Russian Federation","Argentina","Norway","Brazil","Finland","Turkey",null,7,"China",1,{"$f":"VLOOKUP($K8,'FMIS+eServices'!$C$3:$EM$200,2,FALSE)","v":"UMIC"},{"$f":"VLOOKUP($K8,'FMIS+eServices'!$C$3:$EM$200,114,FALSE)","v":0.60629},{"$f":"VLOOKUP($K8,'FMIS+eServices'!$C$3:$EM$200,133,FALSE)","v":0}]
[8,"Germany","United Kingdom","Bolivia","United Kingdom","Dominican Republic","Russian Federation","United Kingdom",null,8,"Taiwan, China",1,{"$f":"VLOOKUP($K9,'FMIS+eServices'!$C$3:$EM$200,2,FALSE)","v":"HIC"},{"$f":"VLOOKUP($K9,'FMIS+eServices'!$C$3:$EM$200,114,FALSE)","v":"-"},{"$f":"VLOOKUP($K9,'FMIS+eServices'!$C$3:$EM$200,133,FALSE)","v":0}]
[9,"Russian Federation","Argentina","Brazil","Brazil","Nicaragua","Spain","Argentina",null,9,"Colombia",3,{"$f":"VLOOKUP($K10,'FMIS+eServices'!$C$3:$EM$200,2,FALSE)","v":"UMIC"},{"$f":"VLOOKUP($K10,'FMIS+eServices'!$C$3:$EM$200,114,FALSE)","v":0.78739999999999999},{"$f":"VLOOKUP($K10,'FMIS+eServices'!$C$3:$EM$200,133,FALSE)","v":0}]
[10,"Sweden","Bolivia","Mexico","Chile","West Bank and Gaza","Turkey","Brazil",null,10,"Denmark",1,{"$f":"VLOOKUP($K11,'FMIS+eServices'!$C$3:$EM$200,2,FALSE)","v":"HIC"},"ECA",{"$f":"VLOOKUP($K11,'FMIS+eServices'!$C$3:$EM$200,133,FALSE)","v":1}]
[11,"Argentina","Brazil","Paraguay","Colombia","India","Brazil","Dominican Republic",null,11,"Dominican Republic",2,{"$f":"VLOOKUP($K12,'FMIS+eServices'!$C$3:$EM$200,2,FALSE)","v":"UMIC"},{"$f":"VLOOKUP($K12,'FMIS+eServices'!$C$3:$EM$200,114,FALSE)","v":0.38582},{"$f":"VLOOKUP($K12,'FMIS+eServices'!$C$3:$EM$200,133,FALSE)","v":0}]
[12,"Brazil","Chile","Peru","Guatemala",null,"Chile","Mexico",null,12,"Ecuador",1,{"$f":"VLOOKUP($K13,'FMIS+eServices'!$C$3:$EM$200,2,FALSE)","v":"UMIC"},{"$f":"VLOOKUP($K13,'FMIS+eServices'!$C$3:$EM$200,114,FALSE)","v":0.48031000000000001},{"$f":"VLOOKUP($K13,'FMIS+eServices'!$C$3:$EM$200,133,FALSE)","v":0}]
[13,"Chile","Nicaragua","United States of America",null,null,"Colombia",null,null,13,"El salvador",1,{"$f":"VLOOKUP($K14,'FMIS+eServices'!$C$3:$EM$200,2,FALSE)","v":"LMIC"},{"$f":"VLOOKUP($K14,'FMIS+eServices'!$C$3:$EM$200,114,FALSE)","v":0.53542999999999996},{"$f":"VLOOKUP($K14,'FMIS+eServices'!$C$3:$EM$200,133,FALSE)","v":0}]
[14,"Colombia","Venezuela, RB","Uruguay",null,null,"El Salvador",null,null,14,"Estonia",1,{"$f":"VLOOKUP($K15,'FMIS+eServices'!$C$3:$EM$200,2,FALSE)","v":"HIC"},{"$f":"VLOOKUP($K15,'FMIS+eServices'!$C$3:$EM$200,114,FALSE)","v":0.77164999999999995},{"$f":"VLOOKUP($K15,'FMIS+eServices'!$C$3:$EM$200,133,FALSE)","v":0}]
[15,"Ecuador","Jordan","India",null,null,"Mexico",null,null,15,"Finland",1,{"$f":"VLOOKUP($K16,'FMIS+eServices'!$C$3:$EM$200,2,FALSE)","v":"HIC"},"ECA",{"$f":"VLOOKUP($K16,'FMIS+eServices'!$C$3:$EM$200,133,FALSE)","v":1}]
[16,"Mexico","India",null,null,null,null,null,null,16,"France",2,{"$f":"VLOOKUP($K17,'FMIS+eServices'!$C$3:$EM$200,2,FALSE)","v":"HIC"},"ECA",{"$f":"VLOOKUP($K17,'FMIS+eServices'!$C$3:$EM$200,133,FALSE)","v":5}]
[17,"Morocco","Pakistan",null,null,null,null,null,null,17,"Germany",2,{"$f":"VLOOKUP($K18,'FMIS+eServices'!$C$3:$EM$200,2,FALSE)","v":"HIC"},"ECA",{"$f":"VLOOKUP($K18,'FMIS+eServices'!$C$3:$EM$200,133,FALSE)","v":6}]
[18,"India",null,null,null,null,null,null,null,18,"Guatemala",1,{"$f":"VLOOKUP($K19,'FMIS+eServices'!$C$3:$EM$200,2,FALSE)","v":"LMIC"},{"$f":"VLOOKUP($K19,'FMIS+eServices'!$C$3:$EM$200,114,FALSE)","v":0.14960000000000001},{"$f":"VLOOKUP($K19,'FMIS+eServices'!$C$3:$EM$200,133,FALSE)","v":0}]
[null,null,null,null,null,null,null,null,null,19,"India",4,{"$f":"VLOOKUP($K20,'FMIS+eServices'!$C$3:$EM$200,2,FALSE)","v":"LMIC"},{"$f":"VLOOKUP($K20,'FMIS+eServices'!$C$3:$EM$200,114,FALSE)","v":0.54330000000000001},{"$f":"VLOOKUP($K20,'FMIS+eServices'!$C$3:$EM$200,133,FALSE)","v":6}]
[null,{"$f":"COUNTA(B2:B20)","v":18},17,15,12,11,15,12,null,20,"Indonesia",{"$f":"COUNTIF($B$2:$H$19,K21)","v":1},{"$f":"VLOOKUP($K21,'FMIS+eServices'!$C$3:$EM$200,2,FALSE)","v":"LMIC"},{"$f":"VLOOKUP($K21,'FMIS+eServices'!$C$3:$EM$200,114,FALSE)","v":0.36220000000000002},{"$f":"VLOOKUP($K21,'FMIS+eServices'!$C$3:$EM$200,133,FALSE)","v":0}]
[null,null,null,null,null,null,null,{"$f":"SUM(B21:H21)","v":100},null,21,"Ireland",1,{"$f":"VLOOKUP($K22,'FMIS+eServices'!$C$3:$EM$200,2,FALSE)","v":"HIC"},"ECA",{"$f":"VLOOKUP($K22,'FMIS+eServices'!$C$3:$EM$200,133,FALSE)","v":0}]
[null,null,null,null,null,null,null,null,null,22,"Japan",1,{"$f":"VLOOKUP($K23,'FMIS+eServices'!$C$3:$EM$200,2,FALSE)","v":"HIC"},{"$f":"VLOOKUP($K23,'FMIS+eServices'!$C$3:$EM$200,114,FALSE)","v":0.94488000000000005},{"$f":"VLOOKUP($K23,'FMIS+eServices'!$C$3:$EM$200,133,FALSE)","v":2}]
[null,null,null,null,null,null,null,null,null,23,"Jordan",1,{"$f":"VLOOKUP($K24,'FMIS+eServices'!$C$3:$EM$200,2,FALSE)","v":"UMIC"},{"$f":"VLOOKUP($K24,'FMIS+eServices'!$C$3:$EM$200,114,FALSE)","v":0.51968000000000003},{"$f":"VLOOKUP($K24,'FMIS+eServices'!$C$3:$EM$200,133,FALSE)","v":0}]
[null,null,null,null,null,null,null,null,null,24,"Madagascar",1,{"$f":"VLOOKUP($K25,'FMIS+eServices'!$C$3:$EM$200,2,FALSE)","v":"LIC"},{"$f":"VLOOKUP($K25,'FMIS+eServices'!$C$3:$EM$200,114,FALSE)","v":0.24409},{"$f":"VLOOKUP($K25,'FMIS+eServices'!$C$3:$EM$200,133,FALSE)","v":0}]
[null,null,null,null,null,null,null,null,null,25,"Malaysia",1,{"$f":"VLOOKUP($K26,'FMIS+eServices'!$C$3:$EM$200,2,FALSE)","v":"UMIC"},{"$f":"VLOOKUP($K26,'FMIS+eServices'!$C$3:$EM$200,114,FALSE)","v":0.67715999999999998},{"$f":"VLOOKUP($K26,'FMIS+eServices'!$C$3:$EM$200,133,FALSE)","v":1}]
[null,null,null,null,null,null,null,null,null,26,"Mauritius",1,{"$f":"VLOOKUP($K27,'FMIS+eServices'!$C$3:$EM$200,2,FALSE)","v":"UMIC"},{"$f":"VLOOKUP($K27,'FMIS+eServices'!$C$3:$EM$200,114,FALSE)","v":0.47244000000000003},{"$f":"VLOOKUP($K27,'FMIS+eServices'!$C$3:$EM$200,133,FALSE)","v":0}]
[null,null,null,null,null,null,null,null,null,27,"Mexico",4,{"$f":"VLOOKUP($K28,'FMIS+eServices'!$C$3:$EM$200,2,FALSE)","v":"UMIC"},{"$f":"VLOOKUP($K28,'FMIS+eServices'!$C$3:$EM$200,114,FALSE)","v":0.66141000000000005},{"$f":"VLOOKUP($K28,'FMIS+eServices'!$C$3:$EM$200,133,FALSE)","v":0}]
[null,null,null,null,null,null,null,null,null,28,"Morocco",1,{"$f":"VLOOKUP($K29,'FMIS+eServices'!$C$3:$EM$200,2,FALSE)","v":"LMIC"},{"$f":"VLOOKUP($K29,'FMIS+eServices'!$C$3:$EM$200,114,FALSE)","v":0.69291000000000003},{"$f":"VLOOKUP($K29,'FMIS+eServices'!$C$3:$EM$200,133,FALSE)","v":0}]
[null,null,null,null,null,null,null,null,null,29,"Netherlands",2,{"$f":"VLOOKUP($K30,'FMIS+eServices'!$C$3:$EM$200,2,FALSE)","v":"HIC"},"ECA",{"$f":"VLOOKUP($K30,'FMIS+eServices'!$C$3:$EM$200,133,FALSE)","v":4}]
[null,null,null,null,null,null,null,null,null,30,"Nicaragua",2,{"$f":"VLOOKUP($K31,'FMIS+eServices'!$C$3:$EM$200,2,FALSE)","v":"LMIC"},{"$f":"VLOOKUP($K31,'FMIS+eServices'!$C$3:$EM$200,114,FALSE)","v":9.4479999999999995E-2},{"$f":"VLOOKUP($K31,'FMIS+eServices'!$C$3:$EM$200,133,FALSE)","v":0}]
[null,null,null,null,null,null,null,null,null,31,"New Zealand",2,{"$f":"VLOOKUP($K32,'FMIS+eServices'!$C$3:$EM$200,2,FALSE)","v":"HIC"},"EAP",{"$f":"VLOOKUP($K32,'FMIS+eServices'!$C$3:$EM$200,133,FALSE)","v":0}]
[null,null,null,null,null,null,null,null,null,32,"Norway",2,{"$f":"VLOOKUP($K33,'FMIS+eServices'!$C$3:$EM$200,2,FALSE)","v":"HIC"},"ECA",{"$f":"VLOOKUP($K33,'FMIS+eServices'!$C$3:$EM$200,133,FALSE)","v":2}]
[null,null,null,null,null,null,null,null,null,33,"Pakistan",1,{"$f":"VLOOKUP($K34,'FMIS+eServices'!$C$3:$EM$200,2,FALSE)","v":"LMIC"},{"$f":"VLOOKUP($K34,'FMIS+eServices'!$C$3:$EM$200,114,FALSE)","v":0.32283000000000001},{"$f":"VLOOKUP($K34,'FMIS+eServices'!$C$3:$EM$200,133,FALSE)","v":0}]
[null,null,null,null,null,null,null,null,null,34,"Paraguay",1,{"$f":"VLOOKUP($K35,'FMIS+eServices'!$C$3:$EM$200,2,FALSE)","v":"LMIC"},{"$f":"VLOOKUP($K35,'FMIS+eServices'!$C$3:$EM$200,114,FALSE)","v":0.22833999999999999},{"$f":"VLOOKUP($K35,'FMIS+eServices'!$C$3:$EM$200,133,FALSE)","v":0}]
[null,null,null,null,null,null,null,null,null,35,"Peru",1,{"$f":"VLOOKUP($K36,'FMIS+eServices'!$C$3:$EM$200,2,FALSE)","v":"UMIC"},{"$f":"VLOOKUP($K36,'FMIS+eServices'!$C$3:$EM$200,114,FALSE)","v":0.62992000000000004},{"$f":"VLOOKUP($K36,'FMIS+eServices'!$C$3:$EM$200,133,FALSE)","v":0}]
[null,null,null,null,null,null,null,null,null,36,"Philippines",2,{"$f":"VLOOKUP($K37,'FMIS+eServices'!$C$3:$EM$200,2,FALSE)","v":"LMIC"},{"$f":"VLOOKUP($K37,'FMIS+eServices'!$C$3:$EM$200,114,FALSE)","v":0.48031000000000001},{"$f":"VLOOKUP($K37,'FMIS+eServices'!$C$3:$EM$200,133,FALSE)","v":0}]
[null,null,null,null,null,null,null,null,null,37,"Korea, Rep.",6,{"$f":"VLOOKUP($K38,'FMIS+eServices'!$C$3:$EM$200,2,FALSE)","v":"HIC"},{"$f":"VLOOKUP($K38,'FMIS+eServices'!$C$3:$EM$200,114,FALSE)","v":0.97636999999999996},{"$f":"VLOOKUP($K38,'FMIS+eServices'!$C$3:$EM$200,133,FALSE)","v":0}]
[null,null,null,null,null,null,null,null,null,38,"Russian Federation",4,{"$f":"VLOOKUP($K39,'FMIS+eServices'!$C$3:$EM$200,2,FALSE)","v":"UMIC"},{"$f":"VLOOKUP($K39,'FMIS+eServices'!$C$3:$EM$200,114,FALSE)","v":0.70865999999999996},{"$f":"VLOOKUP($K39,'FMIS+eServices'!$C$3:$EM$200,133,FALSE)","v":0}]
[null,null,null,null,null,null,null,null,null,39,"Singapore",3,{"$f":"VLOOKUP($K40,'FMIS+eServices'!$C$3:$EM$200,2,FALSE)","v":"HIC"},{"$f":"VLOOKUP($K40,'FMIS+eServices'!$C$3:$EM$200,114,FALSE)","v":0.99212},{"$f":"VLOOKUP($K40,'FMIS+eServices'!$C$3:$EM$200,133,FALSE)","v":0}]
[null,null,null,null,null,null,null,null,null,40,"Slovenia",1,{"$f":"VLOOKUP($K41,'FMIS+eServices'!$C$3:$EM$200,2,FALSE)","v":"HIC"},{"$f":"VLOOKUP($K41,'FMIS+eServices'!$C$3:$EM$200,114,FALSE)","v":0.42519000000000001},{"$f":"VLOOKUP($K41,'FMIS+eServices'!$C$3:$EM$200,133,FALSE)","v":0}]
[null,null,null,null,null,null,null,null,null,41,"Spain",1,{"$f":"VLOOKUP($K42,'FMIS+eServices'!$C$3:$EM$200,2,FALSE)","v":"HIC"},"ECA",{"$f":"VLOOKUP($K42,'FMIS+eServices'!$C$3:$EM$200,133,FALSE)","v":13}]
[null,null,null,null,null,null,null,null,null,42,"Sweden",1,{"$f":"VLOOKUP($K43,'FMIS+eServices'!$C$3:$EM$200,2,FALSE)","v":"HIC"},"ECA",{"$f":"VLOOKUP($K43,'FMIS+eServices'!$C$3:$EM$200,133,FALSE)","v":0}]
[null,null,null,null,null,null,null,null,null,43,"Thailand",1,{"$f":"VLOOKUP($K44,'FMIS+eServices'!$C$3:$EM$200,2,FALSE)","v":"UMIC"},{"$f":"VLOOKUP($K44,'FMIS+eServices'!$C$3:$EM$200,114,FALSE)","v":0.44094},{"$f":"VLOOKUP($K44,'FMIS+eServices'!$C$3:$EM$200,133,FALSE)","v":1}]
[null,null,null,null,null,null,null,null,null,44,"Gambia",1,{"$f":"VLOOKUP($K45,'FMIS+eServices'!$C$3:$EM$200,2,FALSE)","v":"LIC"},{"$f":"VLOOKUP($K45,'FMIS+eServices'!$C$3:$EM$200,114,FALSE)","v":0.20472000000000001},{"$f":"VLOOKUP($K45,'FMIS+eServices'!$C$3:$EM$200,133,FALSE)","v":0}]
[null,null,null,null,null,null,null,null,null,45,"Timor-Leste",1,{"$f":"VLOOKUP($K46,'FMIS+eServices'!$C$3:$EM$200,2,FALSE)","v":"LIC"},{"$f":"VLOOKUP($K46,'FMIS+eServices'!$C$3:$EM$200,114,FALSE)","v":0.20472000000000001},{"$f":"VLOOKUP($K46,'FMIS+eServices'!$C$3:$EM$200,133,FALSE)","v":0}]
[null,null,null,null,null,null,null,null,null,46,"Turkey",3,{"$f":"VLOOKUP($K47,'FMIS+eServices'!$C$3:$EM$200,2,FALSE)","v":"UMIC"},{"$f":"VLOOKUP($K47,'FMIS+eServices'!$C$3:$EM$200,114,FALSE)","v":0.55905000000000005},{"$f":"VLOOKUP($K47,'FMIS+eServices'!$C$3:$EM$200,133,FALSE)","v":0}]
[null,null,null,null,null,null,null,null,null,47,"United Kingdom",3,{"$f":"VLOOKUP($K48,'FMIS+eServices'!$C$3:$EM$200,2,FALSE)","v":"HIC"},"ECA",{"$f":"VLOOKUP($K48,'FMIS+eServices'!$C$3:$EM$200,133,FALSE)","v":4}]
[null,null,null,null,null,null,null,null,null,48,"United States of America",1,{"$f":"VLOOKUP($K49,'FMIS+eServices'!$C$3:$EM$200,2,FALSE)","v":"HIC"},"LCR",{"$f":"VLOOKUP($K49,'FMIS+eServices'!$C$3:$EM$200,133,FALSE)","v":26}]
[null,null,null,null,null,null,null,null,null,49,"Uruguay",1,{"$f":"VLOOKUP($K50,'FMIS+eServices'!$C$3:$EM$200,2,FALSE)","v":"UMIC"},{"$f":"VLOOKUP($K50,'FMIS+eServices'!$C$3:$EM$200,114,FALSE)","v":0.85038999999999998},{"$f":"VLOOKUP($K50,'FMIS+eServices'!$C$3:$EM$200,133,FALSE)","v":1}]
[null,null,null,null,null,null,null,null,null,50,"Venezuela, RB",1,{"$f":"VLOOKUP($K51,'FMIS+eServices'!$C$3:$EM$200,2,FALSE)","v":"UMIC"},{"$f":"VLOOKUP($K51,'FMIS+eServices'!$C$3:$EM$200,114,FALSE)","v":0.55118},{"$f":"VLOOKUP($K51,'FMIS+eServices'!$C$3:$EM$200,133,FALSE)","v":0}]
[null,null,null,null,null,null,null,null,null,51,"Viet Nam",1,{"$f":"VLOOKUP($K52,'FMIS+eServices'!$C$3:$EM$200,2,FALSE)","v":{"$error":"#N/A"}},{"$f":"VLOOKUP($K52,'FMIS+eServices'!$C$3:$EM$200,114,FALSE)","v":{"$error":"#N/A"}},{"$f":"VLOOKUP($K52,'FMIS+eServices'!$C$3:$EM$200,133,FALSE)","v":{"$error":"#N/A"}}]
[null,null,null,null,null,null,null,null,null,52,"West Bank and Gaza",1,{"$f":"VLOOKUP($K53,'FMIS+eServices'!$C$3:$EM$200,2,FALSE)","v":"LIC"},{"$f":"VLOOKUP($K53,'FMIS+eServices'!$C$3:$EM$200,114,FALSE)","v":"-"},{"$f":"VLOOKUP($K53,'FMIS+eServices'!$C$3:$EM$200,133,FALSE)","v":0}]
[null,null,null,null,null,null,null,null,null,53,"Zambia",1,{"$f":"VLOOKUP($K54,'FMIS+eServices'!$C$3:$EM$200,2,FALSE)","v":"LMIC"},{"$f":"VLOOKUP($K54,'FMIS+eServices'!$C$3:$EM$200,114,FALSE)","v":0.14172999999999999},{"$f":"VLOOKUP($K54,'FMIS+eServices'!$C$3:$EM$200,133,FALSE)","v":0}]
[null,null,null,null,null,null,null,null,null,null,null,{"$f":"SUM(L2:L54)","v":100}]

{"sheet":"FMIS&OBD Verification","index":8,"n_rows":81,"n_cols":10,"rows_kept":81,"cut":false,"hidden":true,"merged":[[2,0,5,0],[8,0,14,0],[15,0,18,0],[21,0,23,0],[24,0,27,0],[54,0,55,0],[6,0,7,0],[50,0,51,0],[66,0,67,0],[71,0,75,0],[62,0,63,0],[64,0,65,0],[68,0,70,0],[52,0,53,0],[19,0,20,0],[56,0,61,0],[28,0,30,0],[31,0,34,0],[35,0,37,0],[38,0,49,0]]}
[{"$f":"INDIRECT(\"'FMIS and OBD'!C\"&J1+2)","v":{"$error":"#REF!"}},{"$f":"INDIRECT(\"'FMIS and OBD'!ED\"&$J$1+2)","v":{"$error":"#REF!"}},{"$f":"INDIRECT(\"'FMIS and OBD'!EE\"&$J$1+2)","v":{"$error":"#REF!"}},null,null,"Feedback provided by:",null,null,null,20]
["Questions","Q","Ind","Assessing the effects of FMIS on budget transparency","External assessment results","Confirm: Y/N","If No > Comments from feedback provider",null,null,"Val"]
["Q1.    Does the Finance Ministry/Dept have a web site or portal dedicated to publish Public Finance (PF) information?","Q1.1",null,"PF home page Uniform Resource Locator (URL)",{"$f":"IF(J3=\"-\",\" -\",\" \"&J3)","v":{"$error":"#REF!"}},null,null,null,null,{"$f":"INDIRECT(\"'FMIS and OBD'!H\"&$J$1+2)","v":{"$error":"#REF!"}}]
[null,"Q1.2",null,"Official Name of Finance Ministry / Department",{"$f":"\" \"&J4","v":{"$error":"#REF!"}},null,null,null,null,{"$f":"INDIRECT(\"'FMIS and OBD'!I\"&$J$1+2)","v":{"$error":"#REF!"}}]
[null,"Q1.3",1,"Is there a dedicated PF publication web site?\n    0 = No;        1 = Yes (but, not clearly visible from home page);\n    2 = Yes (easy access to PF data from the home page)",{"$f":"IF(J5=2,\" 2 = Yes (easy access to PF data)\",IF(J5=1,\" 1 = Yes (but, not clearly visible)\",\" 0 = No\"))","v":{"$error":"#REF!"}},null,null,null,null,{"$f":"INDIRECT(\"'FMIS and OBD'!J\"&$J$1+2)","v":{"$error":"#REF!"}}]
[null,"Q1.4",null,"If Yes to Q1.3 (1 or 2) > PF publication web link/URL",{"$f":"IF(J6=\"-\",\" -\",\" \"&J6)","v":{"$error":"#REF!"}},null,null,null,null,{"$f":"INDIRECT(\"'FMIS and OBD'!K\"&$J$1+2)","v":{"$error":"#REF!"}}]
["Q2.    Is there a web site or document describing the FMIS solution?","Q2.1",2,"Is there a web site / doc on FMIS solution?\n    0 = No;    1 = Yes (reference doc only);    2 = Yes (FMIS related web site)",{"$f":"IF(J7=2,\" 2 = Yes (FMIS web site)\",IF(J7=1,\" 1 = Yes (reference doc only)\",IF(J7=0,\" 0 = No\",\" -\")))","v":{"$error":"#REF!"}},null,null,null,null,{"$f":"INDIRECT(\"'FMIS and OBD'!L\"&$J$1+2)","v":{"$error":"#REF!"}}]
[null,"Q2.2",null,"If Yes to Q2.1 (1 or 2) > Related web link/URL",{"$f":"IF(J8=\"-\",\" -\",\" \"&J8)","v":{"$error":"#REF!"}},null,null,null,null,{"$f":"INDIRECT(\"'FMIS and OBD'!M\"&$J$1+2)","v":{"$error":"#REF!"}}]
["Q3.    What is the source 1 of information for publishing PF information? ","Q3.1",3,"What is the source of Public Finance data?\n    0 = No published PF data;        1 = Static (tables from unidentified sources);\n    2 = Dynamic (archived info/docs from systems);\n    3 = Dynamic (data/tables fm queries linked to FMIS DB/Data Warehouse)",{"$f":"IF(J9=3,\" 3 = Dynamic (data fm queries)\",IF(J9=2,\" 2 = Dynamic (archived info)\",IF(J9=1,\" 1 = Static (tables/docs)\",\" 0 = No published PF data\")))","v":{"$error":"#REF!"}},null,null,null,null,{"$f":"INDIRECT(\"'FMIS and OBD'!N\"&$J$1+2)","v":{"$error":"#REF!"}}]
[null,"Q3.2",null,"If Dynamic (2 or 3) > Related web link/URL",{"$f":"IF(J10=\"-\",\" -\",\" \"&J10)","v":{"$error":"#REF!"}},null,null,null,null,{"$f":"INDIRECT(\"'FMIS and OBD'!O\"&$J$1+2)","v":{"$error":"#REF!"}}]
[null,"Q3.3",4,"Presence of Open Data (online, editable, free):                         0 = No;    1 = Yes",{"$f":"IF(J11=1,\" 1 = Yes\",\" 0 = No\")","v":{"$error":"#REF!"}},null,null,null,null,{"$f":"INDIRECT(\"'FMIS and OBD'!P\"&$J$1+2)","v":{"$error":"#REF!"}}]
[null,"Q3.4",null,"If Yes to Open Data (1) > Related web link/URL",{"$f":"IF(J12=\"-\",\" -\",\" \"&J12)","v":{"$error":"#REF!"}},null,null,null,null,{"$f":"INDIRECT(\"'FMIS and OBD'!Q\"&$J$1+2)","v":{"$error":"#REF!"}}]
[null,"Q3.5",5,"Is System Name visible in reports?                                                    0 = No;   1 = Yes",{"$f":"IF(J13=1,\" 1 = Yes\",\" 0 = No\")","v":{"$error":"#REF!"}},null,null,null,null,{"$f":"INDIRECT(\"'FMIS and OBD'!R\"&$J$1+2)","v":{"$error":"#REF!"}}]
[null,"Q3.6",6,"Is System Time Stamp visible in reports?                                        0 = No;   1 = Yes",{"$f":"IF(J14=1,\" 1 = Yes\",\" 0 = No\")","v":{"$error":"#REF!"}},null,null,null,null,{"$f":"INDIRECT(\"'FMIS and OBD'!S\"&$J$1+2)","v":{"$error":"#REF!"}}]
[null,"Q3.7",null,"If Yes to Q3.5 or Q3.6 (1) > Related web link/URL",{"$f":"IF(J15=\"-\",\" -\",\" \"&J15)","v":{"$error":"#REF!"}},null,null,null,null,{"$f":"INDIRECT(\"'FMIS and OBD'!T\"&$J$1+2)","v":{"$error":"#REF!"}}]
["Q4.    Is the PF information meaningful to citizens or budget entities?","Q4.1",7,"What is the quality of PF data presentation? \n    0 = Below desired level (not informative);   1 = Partially acceptable (some\n    of the tables are useful);    2 = Good quality (informative and easy to read)",{"$f":"IF(J16=2,\" 2 = Good quality (informative)\",IF(J16=1,\" 1 = Partially acceptable\",\" 0 = Below desired level\"))","v":{"$error":"#REF!"}},null,null,null,null,{"$f":"INDIRECT(\"'FMIS and OBD'!U\"&$J$1+2)","v":{"$error":"#REF!"}}]
[null,"Q4.2",8,"Content > Is there sufficient level of detail?                                 0 = No;    1 = Yes",{"$f":"IF(J17=1,\" 1 = Yes\",\" 0 = No\")","v":{"$error":"#REF!"}},null,null,null,null,{"$f":"INDIRECT(\"'FMIS and OBD'!V\"&$J$1+2)","v":{"$error":"#REF!"}}]
[null,"Q4.3",9,"Citizen's Budget (CB) > Is there a web site for citizens presenting budget results in a meaningful format?\n    0 = No;    1 = Yes (basic info);    2 = Yes (comprehensive info/interactive)",{"$f":"IF(J18=2,\" 2 = Yes (comprehensive/interactive)\",IF(J18=1,\" 1 = Yes (archived info)\",\" 0 = No\"))","v":{"$error":"#REF!"}},null,null,null,null,{"$f":"INDIRECT(\"'FMIS and OBD'!W\"&$J$1+2)","v":{"$error":"#REF!"}}]
[null,"Q4.4",null,"If Yes to Q4.3 (1 or 2) > Related web link/URL",{"$f":"IF(J19=\"-\",\" -\",\" \"&J19)","v":{"$error":"#REF!"}},null,null,null,null,{"$f":"INDIRECT(\"'FMIS and OBD'!X\"&$J$1+2)","v":{"$error":"#REF!"}}]
["Q5.    Is the data structure / listing of budget classification (BC) / chart of accounts (CoA) published?","Q5.1",10,"Is BC/CoA published?                                                                             0 = No;    1 = Yes",{"$f":"IF(J20=1,\" 1 = Yes\",\" 0 = No\")","v":{"$error":"#REF!"}},null,null,null,null,{"$f":"INDIRECT(\"'FMIS and OBD'!Y\"&$J$1+2)","v":{"$error":"#REF!"}}]
[null,"Q5.2",null,"If Yes to Q5.1 (1) > Related web site/URL",{"$f":"IF(J21=\"-\",\" -\",\" \"&J21)","v":{"$error":"#REF!"}},null,null,null,null,{"$f":"INDIRECT(\"'FMIS and OBD'!Z\"&$J$1+2)","v":{"$error":"#REF!"}}]
["Q6.    Are documents associated with annual budget plans published?","Q6.1",11,"Approved annual budget published?                                              0 = No;    1 = Yes",{"$f":"IF(J22=1,\" 1 = Yes\",\" 0 = No\")","v":{"$error":"#REF!"}},null,null,null,null,{"$f":"INDIRECT(\"'FMIS and OBD'!AA\"&$J$1+2)","v":{"$error":"#REF!"}}]
[null,"Q6.2",12,"If Yes to Q6.1 (1) > Regularity of publication                                0 = Not regular; \n    1 = Annual budget plans published regularly (within the last 5-year period)",{"$f":"IF(J23=1,\" 1 = Budget plans regularly published\",IF(J23=0,\" 0 = Not regular\",\" -\"))","v":{"$error":"#REF!"}},null,null,null,null,{"$f":"INDIRECT(\"'FMIS and OBD'!AB\"&$J$1+2)","v":{"$error":"#REF!"}}]
[null,"Q6.3",null,"Since          Starting year of published annual budget data (regular/irregular)",{"$f":"IF(J24=\"-\",\" -\",\" \"&J24)","v":{"$error":"#REF!"}},null,null,null,null,{"$f":"INDIRECT(\"'FMIS and OBD'!AC\"&$J$1+2)","v":{"$error":"#REF!"}}]
["Q7.    Are documents associated with Medium-Term Expenditure Framework (MTEF) 2 published?","Q7.1",13,"MTEF documents published?                                                              0 = No;    1 = Yes",{"$f":"IF(J25=1,\" 1 = Yes\",\" 0 = No\")","v":{"$error":"#REF!"}},null,null,null,null,{"$f":"INDIRECT(\"'FMIS and OBD'!AD\"&$J$1+2)","v":{"$error":"#REF!"}}]
[null,"Q7.2",14,"If Yes to Q7.1 (1) > Regularity of publication                                 0 = Not regular;\n    1 = MTEF plans published regularly (within the last 5-year period)",{"$f":"IF(J26=1,\" 1 = MTEF plans regularly published\",IF(J26=0,\" 0 = Not regular\",\" -\"))","v":{"$error":"#REF!"}},null,null,null,null,{"$f":"INDIRECT(\"'FMIS and OBD'!AE\"&$J$1+2)","v":{"$error":"#REF!"}}]
[null,"Q7.3",null,"Period         Indicate the period (in years) of the MTEF (usually 3 yrs or more)",{"$f":"IF(OR(J27=\"-\",J27=0),\" -\",IF(J27=1,\" \"&J27&\" yr\",\" \"&J27&\" yrs\"))","v":{"$error":"#REF!"}},null,null,null,null,{"$f":"INDIRECT(\"'FMIS and OBD'!AF\"&$J$1+2)","v":{"$error":"#REF!"}}]
[null,"Q7.4",null,"Since            Starting year of published MTEF data (regular/irregular)",{"$f":"IF(J28=\"-\",\" -\",\" \"&J28)","v":{"$error":"#REF!"}},null,null,null,null,{"$f":"INDIRECT(\"'FMIS and OBD'!AG\"&$J$1+2)","v":{"$error":"#REF!"}}]
["Q8.    Are documents associated with public investment/capital budget plans 3 published?","Q8.1",15,"Public investment plans?                                                                      0 = No;    1 = Yes",{"$f":"IF(J29=1,\" 1 = Yes\",\" 0 = No\")","v":{"$error":"#REF!"}},null,null,null,null,{"$f":"INDIRECT(\"'FMIS and OBD'!AH\"&$J$1+2)","v":{"$error":"#REF!"}}]
[null,"Q8.2",16,"If Yes to Q8.1 (1) > Regularity of publication                                 0 = Not regular; \n    1 = Investment plans published regularly (within the last 5-year period)",{"$f":"IF(J30=1,\" 1 = Investment plans regularly pub.\",IF(J30=0,\" 0 = Not regular\",\" -\"))","v":{"$error":"#REF!"}},null,null,null,null,{"$f":"INDIRECT(\"'FMIS and OBD'!AI\"&$J$1+2)","v":{"$error":"#REF!"}}]
[null,"Q8.3",null,"Since            Starting year of published investment plans (regular/irregular)",{"$f":"IF(J31=\"-\",\" -\",\" \"&J31)","v":{"$error":"#REF!"}},null,null,null,null,{"$f":"INDIRECT(\"'FMIS and OBD'!AJ\"&$J$1+2)","v":{"$error":"#REF!"}}]
["Q9.    Are documents associated with budget execution published?","Q9.1",17,"Budget execution results?                                                                    0 = No;    1 = Yes",{"$f":"IF(J32=1,\" 1 = Yes\",\" 0 = No\")","v":{"$error":"#REF!"}},null,null,null,null,{"$f":"INDIRECT(\"'FMIS and OBD'!AK\"&$J$1+2)","v":{"$error":"#REF!"}}]
[null,"Q9.2",null,"If Yes to Q9.1 (1) > Frequency of publication:    (most frequently published)\n    1 = Weekly;    2 = Monthly;    3 = Quarterly;    4 = Annually",{"$f":"IF(J33=1,\" 1 = Weekly\",IF(J33=2,\" 2 = Monthly\",IF(J33=3,\" 3 = Quarterly\",IF(J33=4,\" 4 = Annually\",\" -\"))))","v":{"$error":"#REF!"}},null,null,null,null,{"$f":"INDIRECT(\"'FMIS and OBD'!AL\"&$J$1+2)","v":{"$error":"#REF!"}}]
[null,"Q9.3",18,"If Yes to Q9.1 (1) > Regularity of publication:                               0 = Not regular;\n    1 = Budget exec results published regularly (within the last 5-year period)",{"$f":"IF(J34=1,\" 1 = Budget exec results regularly pub.\",IF(J34=0,\" 0 = Not regular\",\" -\"))","v":{"$error":"#REF!"}},null,null,null,null,{"$f":"INDIRECT(\"'FMIS and OBD'!AM\"&$J$1+2)","v":{"$error":"#REF!"}}]
[null,"Q9.4",null,"Since           Starting year of published execution results (regular/irregular)",{"$f":"IF(J35=\"-\",\" -\",\" \"&J35)","v":{"$error":"#REF!"}},null,null,null,null,{"$f":"INDIRECT(\"'FMIS and OBD'!AN\"&$J$1+2)","v":{"$error":"#REF!"}}]
["Q10.    Are documents associated with external audit of central government budget operations published?","Q10.1",19,"External audit of central gov budget operations?                      0 = No;    1 = Yes",{"$f":"IF(J36=1,\" 1 = Yes\",\" 0 = No\")","v":{"$error":"#REF!"}},null,null,null,null,{"$f":"INDIRECT(\"'FMIS and OBD'!AO\"&$J$1+2)","v":{"$error":"#REF!"}}]
[null,"Q10.2",20,"If Yes to Q10.1 (1) > Regularity of publication:                             0 = Not regular;\n    1 = Budget audits published regularly (within the last 5-year period)",{"$f":"IF(J37=1,\" 1 = Budget audits regularly published\",IF(J37=0,\" 0 = Not regular\",\" -\"))","v":{"$error":"#REF!"}},null,null,null,null,{"$f":"INDIRECT(\"'FMIS and OBD'!AP\"&$J$1+2)","v":{"$error":"#REF!"}}]
[null,"Q10.3",null,"Since           Starting year of published budget audits (regular/irregular)",{"$f":"IF(J38=\"-\",\" -\",\" \"&J38)","v":{"$error":"#REF!"}},null,null,null,null,{"$f":"INDIRECT(\"'FMIS and OBD'!AQ\"&$J$1+2)","v":{"$error":"#REF!"}}]
["Q11.    What is the level of detail of the public expenditure / revenue information published online (plans versus actuals, sectoral or regional details, etc.)?","Q11.1",21,"Consolidated results for key budget users?                                  0 = No;    1 = Yes",{"$f":"IF(J39=1,\" 1 = Yes\",\" 0 = No\")","v":{"$error":"#REF!"}},null,null,null,null,{"$f":"INDIRECT(\"'FMIS and OBD'!AR\"&$J$1+2)","v":{"$error":"#REF!"}}]
[null,"Q11.2",22,"Sector analysis?                                                                                         0 = No;    1 = Yes",{"$error":"#REF!"},null,null,null,null,{"$f":"INDIRECT(\"'FMIS and OBD'!AS\"&$J$1+2)","v":{"$error":"#REF!"}}]
[null,"Q11.3",23,"Regional analysis?                                                                                    0 = No;    1 = Yes",{"$error":"#REF!"},null,null,null,null,{"$f":"INDIRECT(\"'FMIS and OBD'!AT\"&$J$1+2)","v":{"$error":"#REF!"}}]
[null,"Q11.4",24,"Gender analysis?                                                                                      0 = No;    1 = Yes",{"$error":"#REF!"},null,null,null,null,{"$f":"INDIRECT(\"'FMIS and OBD'!AU\"&$J$1+2)","v":{"$error":"#REF!"}}]
[null,"Q11.5",25,"Analysis of spending for Children?                                                   0 = No;    1 = Yes",{"$error":"#REF!"},null,null,null,null,{"$f":"INDIRECT(\"'FMIS and OBD'!AV\"&$J$1+2)","v":{"$error":"#REF!"}}]
[null,"Q11.6",26,"Debt data?                                                                                                   0 = No;    1 = Yes",{"$error":"#REF!"},null,null,null,null,{"$f":"INDIRECT(\"'FMIS and OBD'!AW\"&$J$1+2)","v":{"$error":"#REF!"}}]
[null,"Q11.7",27,"Foreign aid/grants?                                                                                 0 = No;    1 = Yes",{"$error":"#REF!"},null,null,null,null,{"$f":"INDIRECT(\"'FMIS and OBD'!AX\"&$J$1+2)","v":{"$error":"#REF!"}}]
[null,"Q11.8",28,"Fiscal data on sub-national gov/municipalities?                         0 = No;    1 = Yes",{"$error":"#REF!"},null,null,null,null,{"$f":"INDIRECT(\"'FMIS and OBD'!AY\"&$J$1+2)","v":{"$error":"#REF!"}}]
[null,"Q11.9",29,"Financial Statements?                                                                            0 = No;    1 = Yes",{"$error":"#REF!"},null,null,null,null,{"$f":"INDIRECT(\"'FMIS and OBD'!AZ\"&$J$1+2)","v":{"$error":"#REF!"}}]
[null,"Q11.10",30,"Public procurement and contracts?                                                  0 = No;    1 = Yes",{"$error":"#REF!"},null,null,null,null,{"$f":"INDIRECT(\"'FMIS and OBD'!BA\"&$J$1+2)","v":{"$error":"#REF!"}}]
[null,"Q11.11",null,"Other PF Data?                                                                                           0 = No;    1 = Yes",{"$error":"#REF!"},null,null,null,null,{"$f":"INDIRECT(\"'FMIS and OBD'!BB\"&$J$1+2)","v":{"$error":"#REF!"}}]
[null,"Q11.12",null,"If Yes to Q11.11 (1) > Related web link/URL",{"$f":"IF(J50=\"-\",\" -\",\" \"&J50)","v":{"$error":"#REF!"}},null,null,null,null,{"$f":"INDIRECT(\"'FMIS and OBD'!BC\"&$J$1+2)","v":{"$error":"#REF!"}}]
["Q12.    Is there a dedicated web site of Open Government / Open Budget initiatives?","Q12.1",31,"Open Government/Open Budget web site?                                 0 = No;    1 = Yes",{"$f":"IF(J51=1,\" 1 = Yes\",\" 0 = No\")","v":{"$error":"#REF!"}},null,null,null,null,{"$f":"INDIRECT(\"'FMIS and OBD'!BD\"&$J$1+2)","v":{"$error":"#REF!"}}]
[null,"Q12.2",null,"If Yes to Q12.1 (1) > Related web link/URL",{"$f":"IF(J52=\"-\",\" -\",\" \"&J52)","v":{"$error":"#REF!"}},null,null,null,null,{"$f":"INDIRECT(\"'FMIS and OBD'!BE\"&$J$1+2)","v":{"$error":"#REF!"}}]
["Q13.    Is there a web based application supporting the PFM needs of the state/local governments or municipalities as a part of FMIS solution?","Q13.1",32,"Does FMIS support the PFM needs of state/local governments or municipalities?                0 = No;    1 = Yes (only data collection/consolidation);\n    2 = Yes (support some of the SNG automation + data collection needs)",{"$f":"IF(J53=2,\" 2 = Yes (support SNG automation)\",IF(J53=1,\" 1 = Yes (only data collection)\",IF(J53=0,\" 0 = No\",\" -\")))","v":{"$error":"#REF!"}},null,null,null,null,{"$f":"INDIRECT(\"'FMIS and OBD'!BF\"&$J$1+2)","v":{"$error":"#REF!"}}]
[null,"Q13.2",null,"If Yes to Q13.1 (1 or 2) > Related web site/URL",{"$f":"IF(J54=\"-\",\" -\",\" \"&J54)","v":{"$error":"#REF!"}},null,null,null,null,{"$f":"INDIRECT(\"'FMIS and OBD'!BG\"&$J$1+2)","v":{"$error":"#REF!"}}]
["Q14.    Is there a harmonized public accounting system supporting all budget levels (unified chart of accounts and/or budget classification)?","Q14.1",33,"Is there a harmonized public accounting system for central + state/local governments and municipalities?                                                     0 = No;    1 = Yes",{"$f":"IF(J55=1,\" 1 = Yes\",\" 0 = No\")","v":{"$error":"#REF!"}},null,null,null,null,{"$f":"INDIRECT(\"'FMIS and OBD'!BH\"&$J$1+2)","v":{"$error":"#REF!"}}]
[null,"Q14.2",null,"If Yes to Q14.1 (1) > Related web link/URL",{"$f":"IF(J56=\"-\",\" -\",\" \"&J56)","v":{"$error":"#REF!"}},null,null,null,null,{"$f":"INDIRECT(\"'FMIS and OBD'!BI\"&$J$1+2)","v":{"$error":"#REF!"}}]
["Q15.    Are there other government web sites reporting budget results/performance (e.g. Office of Statistics)?","Q15.1",34,"Is PF data published on the Statistics web site?    Or another web site?\n    0 = Statistics web site with no PF data;  \n    1 = Statistics web site publishing PF data;   \n    2 = Other web site publishing PF data (no Stats web site for PF data);  \n    3 = Both Statistics and other web sites publish PF data",{"$f":"IF(J57=3,\" 3 = Both Stats + other web sites\",IF(J57=2,\" 2 = Other web sites (no PF data on Stats)\",IF(J57=1,\" 1 = Stats web site publishing PF data\",\" 0 = Stats web site with no PF data\")))","v":{"$error":"#REF!"}},null,null,null,null,{"$f":"INDIRECT(\"'FMIS and OBD'!BJ\"&$J$1+2)","v":{"$error":"#REF!"}}]
[null,"Q15.2",null,"If Q15.1 = 0 or 1 > URL of the Statistics Org web site",{"$f":"IF(J58=\"-\",\" -\",\" \"&J58)","v":{"$error":"#REF!"}},null,null,null,null,{"$f":"INDIRECT(\"'FMIS and OBD'!BK\"&$J$1+2)","v":{"$error":"#REF!"}}]
[null,"Q15.3",null,"Official Name of Statistical Organization",{"$f":"\" \"&J59","v":{"$error":"#REF!"}},null,null,null,null,{"$f":"INDIRECT(\"'FMIS and OBD'!BL\"&$J$1+2)","v":{"$error":"#REF!"}}]
[null,"Q15.4",null,"URL of the Central Bank",{"$f":"\" \"&J60","v":{"$error":"#REF!"}},null,null,null,null,{"$f":"INDIRECT(\"'FMIS and OBD'!BM\"&$J$1+2)","v":{"$error":"#REF!"}}]
[null,"Q15.5",null,"Official Name of Central Bank",{"$f":"\" \"&J61","v":{"$error":"#REF!"}},null,null,null,null,{"$f":"INDIRECT(\"'FMIS and OBD'!BN\"&$J$1+2)","v":{"$error":"#REF!"}}]
[null,"Q15.6",null,"If Q15.1 = 2 or 3 > URL of other major alternative PF publication web site",{"$f":"IF(J62=\"-\",\" -\",\" \"&J62)","v":{"$error":"#REF!"}},null,null,null,null,{"$f":"INDIRECT(\"'FMIS and OBD'!BO\"&$J$1+2)","v":{"$error":"#REF!"}}]
["Q16.    Is there a web page explaining the policy/regulations for access to PF information, web publishing standards or frequency of PF reporting?","Q16.1",35,"Access to information explained?                                                     0 = No;    1 = Yes",{"$f":"IF(J63=1,\" 1 = Yes\",\" 0 = No\")","v":{"$error":"#REF!"}},null,null,null,null,{"$f":"INDIRECT(\"'FMIS and OBD'!BP\"&$J$1+2)","v":{"$error":"#REF!"}}]
[null,"Q16.2",null,"If Yes to Q16.1 (1) > Related web site/URL",{"$f":"IF(J64=\"-\",\" -\",\" \"&J64)","v":{"$error":"#REF!"}},null,null,null,null,{"$f":"INDIRECT(\"'FMIS and OBD'!BQ\"&$J$1+2)","v":{"$error":"#REF!"}}]
["Q17.    Is there a web page with links to regulations 4 for clarifying the PFM roles and responsibilities?","Q17.1",36,"Clarity of PFM roles and responsibilities on the web site?    0 = No;    1 = Yes",{"$f":"IF(J65=1,\" 1 = Yes\",\" 0 = No\")","v":{"$error":"#REF!"}},null,null,null,null,{"$f":"INDIRECT(\"'FMIS and OBD'!BR\"&$J$1+2)","v":{"$error":"#REF!"}}]
[null,"Q17.2",null,"If Yes to Q17.1 (1) > Related web site/URL",{"$f":"IF(J66=\"-\",\" -\",\" \"&J66)","v":{"$error":"#REF!"}},null,null,null,null,{"$f":"INDIRECT(\"'FMIS and OBD'!BS\"&$J$1+2)","v":{"$error":"#REF!"}}]
["Q18.    Is published PF data compliant with the IMF GFS and/or UN COFOG standards?","Q18.1",37,"Compliance with specific int'l standards?                                     0 = National only;\n    1 = UN COFOG reports;    2 = IMF GFS reports (incl COFOG)",{"$f":"IF(J67=2,\" 2 = IMF GFS reports\",IF(J67=1,\" 1 = UN COFOG\",\" 0 = National only\"))","v":{"$error":"#REF!"}},null,null,null,null,{"$f":"INDIRECT(\"'FMIS and OBD'!BT\"&$J$1+2)","v":{"$error":"#REF!"}}]
[null,"Q18.2",null,"If Other > Please describe reporting formats",{"$f":"IF(J68=\"-\",\" -\",\" \"&J68)","v":{"$error":"#REF!"}},null,null,null,null,{"$f":"INDIRECT(\"'FMIS and OBD'!BU\"&$J$1+2)","v":{"$error":"#REF!"}}]
["Q19.    Is there a web page for receiving feedback on PF information/user satisfaction, or presenting web statistics?","Q19.1",38,"Web Statistics (e.g. visitors, freq visited web pages)?             0 = No;    1 = Yes",{"$f":"IF(J69=1,\" 1 = Yes\",\" 0 = No\")","v":{"$error":"#REF!"}},null,null,null,null,{"$f":"INDIRECT(\"'FMIS and OBD'!BV\"&$J$1+2)","v":{"$error":"#REF!"}}]
[null,"Q19.2",39,"Which platforms are available for feedback provision?          0 = Not available;\n    1 = Email / Specific forms;       2 = Telephone/Fax/Mail;       3 = All",{"$f":"IF(J70=3,\" 3 = All\",IF(J70=2,\" 2 = Telephone/Fax/Mail\",IF(J70=1,\" 1 = Email / Specific forms\",\" 0 = Not available\")))","v":{"$error":"#REF!"}},null,null,null,null,{"$f":"INDIRECT(\"'FMIS and OBD'!BW\"&$J$1+2)","v":{"$error":"#REF!"}}]
[null,"Q19.3",null,"If Other > Please describe other feedback mechanism in a few words",{"$f":"IF(J71=\"-\",\" -\",\" \"&J71)","v":{"$error":"#REF!"}},null,null,null,null,{"$f":"INDIRECT(\"'FMIS and OBD'!BX\"&$J$1+2)","v":{"$error":"#REF!"}}]
["Q20.    What languages are used to publish PF information online for external viewers?","Q20.1",40,"Native language?     Indicate native language code (ISO 639-2 Code alpha-3)",{"$f":"IF(J72=\"-\",\" -\",\" \"&J72)","v":{"$error":"#REF!"}},null,null,null,null,{"$f":"INDIRECT(\"'FMIS and OBD'!BY\"&$J$1+2)","v":{"$error":"#REF!"}}]
[null,"Q20.2",null,"Language #1 option?                                             Indicate other language #1 code:",{"$f":"IF(J73=\"-\",\" -\",\" \"&J73)","v":{"$error":"#REF!"}},null,null,null,null,{"$f":"INDIRECT(\"'FMIS and OBD'!BZ\"&$J$1+2)","v":{"$error":"#REF!"}}]
[null,"Q20.3",null,"Language #2 option?                                             Indicate other language #2 code:",{"$f":"IF(J74=\"-\",\" -\",\" \"&J74)","v":{"$error":"#REF!"}},null,null,null,null,{"$f":"INDIRECT(\"'FMIS and OBD'!CA\"&$J$1+2)","v":{"$error":"#REF!"}}]
[null,"Q20.4",null,"Language #3 option?                                             Indicate other language #3 code:",{"$f":"IF(J75=\"-\",\" -\",\" \"&J75)","v":{"$error":"#REF!"}},null,null,null,null,{"$f":"INDIRECT(\"'FMIS and OBD'!CB\"&$J$1+2)","v":{"$error":"#REF!"}}]
[null,"Q20.5",null,"Change of contents for PF data in different languages:\n    0 = Less detail;    1 = Same level of detail in different languages",{"$f":"IF(J76=0,\" 0 = Less detail in other lang\",IF(J76=1,\" 1 = Same level of detail\",\" -\"))","v":{"$error":"#REF!"}},null,null,null,null,{"$f":"INDIRECT(\"'FMIS and OBD'!CC\"&$J$1+2)","v":{"$error":"#REF!"}}]
[]
["1  Dynamic query provides options for the online submission of a user-defined query in order to generate specific PF reports  in various formats, from the FMIS databases or data warehouse."]
["2  MTEF consists of three stages: (i) Medium Term Fiscal Framework (MTFF), (ii) Medium Term Budget Framework (MTBF), and (iii) Medium Term Performance Framework (MTPF)"]
["3  This indicator is used to highlight the publication of investment plans published separately (not embedded in the annual budget or the national development plan/strategy)."]
["4  Online availability of regulations, organic budget law, procurement law, etc."]

{"sheet":"FMIS&OBD Points","index":9,"n_rows":41,"n_cols":6,"rows_kept":41,"cut":false,"hidden":true,"merged":[]}
["Ind","Que","Assessing the effects of FMIS on publishing reliable open budget data","Points","Max Pts",{"$f":"SUM(E2:E21)","v":26}]
[1,"Q1.3","Is there a dedicated PF publication web site?\n    0 = No;        1 = Yes (but, not clearly visible from home page);\n    2 = Yes (easy access to PF data from the home page)","0 … 2",2]
[2,"Q2.1","Is there a web page describing the FMIS platform / Data Warehouse?\n    0 = No;    1 = Yes (reference doc only);    2 = Yes (FMIS related web site)","0 .. 2",2]
[3,"Q3.1","Source of PF data:\n    0 = No published PF data;        1 = Static (tables from unidentified sources);\n    2 = Dynamic (archived info/docs from systems);\n    3 = Dynamic (data/tables fm queries linked to FMIS DB/Data Warehouse)","0 … 3",3]
[4,"Q3.3","Presence of Open Data (online, editable, free):                         0 = No;    1 = Yes","0 / 1",1]
[5,"Q3.5","System Name visible in dynamic/static reports:                          0 = No;   1 = Yes","0 / 1",1]
[6,"Q3.6","System Time Stamp visible in dynamic/static reports:              0 = No;   1 = Yes","0 / 1",1]
[7,"Q4.1","Quality of information (level of detail visible at first sight): \n    0 = Below desired level (not informative);   1 = Partially acceptable (some\n    of the tables are useful);    2 = Good quality (informative and easy to read)","0 … 2",2]
[8,"Q4.2","Content > Is there sufficient level of detail for users?              0 = No;    1 = Yes","0 / 1",1]
[9,"Q4.3","Citizen's Budget (CB) > Is there a web site for citizens presenting budget results in an easy to understand format?\n    0 = No;    1 = Yes (basic info);    2 = Yes (comprehensive info/interactive)","0 … 2",2]
[10,"Q5.1","BC/CoA published?                                                                                  0 = No;    1 = Yes","0 / 1",1]
[11,"Q6.1","Approved annual budget published?                                              0 = No;    1 = Yes","0 / 1",1]
[12,"Q6.2","If Yes > Regularity of publication:                                                     0 = Not regular; \n    1 = Annual budget plans published regularly (within the last 5-year period)","0 / 1",1]
[13,"Q7.1","MTEF documents published?                                                              0 = No;    1 = Yes","0 / 1",1]
[14,"Q7.2","If Yes > Regularity of publication:                                                      0 = Not regular;\n    1 = MTEF plans published regularly (within the last 5-year period)","0 / 1",1]
[15,"Q8.1","Public investment plans?                                                                      0 = No;    1 = Yes","0 / 1",1]
[16,"Q8.2","If Yes > Regularity of publication:                                                      0 = Not regular; \n    1 = Investment plans published regularly (within the last 5-year period)","0 / 1",1]
[17,"Q9.1","Budget execution results?                                                                    0 = No;    1 = Yes","0 / 1",1]
[18,"Q9.3","If Yes > Regularity of publication:                                                      0 = Not regular;\n    1 = Budget exec results published regularly (within the last 5-year period)","0 / 1",1]
[19,"Q10.1","External audit of central gov budget operations?                      0 = No;    1 = Yes","0 / 1",1]
[20,"Q10.2","If Yes > Regularity of publication:                                                      0 = Not regular;\n    1 = Budget audits published regularly (within the last 5-year period)","0 / 1",1]
[21,"Q11.1","Consolidated results for key budget users?                                  0 = No;    1 = Yes","0 / 1"]
[22,"Q11.2","Sector analysis?                                                                                         0 = No;    1 = Yes","0 / 1"]
[23,"Q11.3","Regional analysis?                                                                                    0 = No;    1 = Yes","0 / 1"]
[24,"Q11.4","Gender analysis?                                                                                      0 = No;    1 = Yes","0 / 1"]
[25,"Q11.5","Spending for Children?                                                                          0 = No;    1 = Yes","0 / 1"]
[26,"Q11.6","Debt data?                                                                                                   0 = No;    1 = Yes","0 / 1"]
[27,"Q11.7","Foreign aid/grants?                                                                                 0 = No;    1 = Yes","0 / 1"]
[28,"Q11.8","Fiscal data on sub-national gov/municipalities?                         0 = No;    1 = Yes","0 / 1"]
[29,"Q11.9","Financial Statements?                                                                            0 = No;    1 = Yes","0 / 1"]
[30,"Q11.10","Public procurement and contracts?                                                  0 = No;    1 = Yes","0 / 1"]
[31,"Q12.1","Open Government/Open Budget web site?                                 0 = No;    1 = Yes","0 / 1"]
[32,"Q13.1","Does FMIS support the PFM needs of state/local governments or municipalities?                0 = No;    1 = Yes (only data collection/consolidation);\n    2 = Yes (support some of the SNG automation + data collection needs)","0 … 2"]
[33,"Q14.1","Is there a harmonized public accounting system for central + state/local governments and municipalities?                                                     0 = No;    1 = Yes","0 / 1"]
[34,"Q15.1","Is PF data published on the Statistics web site?    Or another web site?\n    0 = Statistics web site with no PF data;  \n    1 = Statistics web site publishing PF data;   \n    2 = Other web site publishing PF data (no Stats web site for PF data);  \n    3 = Both Statistics and other web sites publish PF data","0 … 3"]
[35,"Q16.1","Access to information explained?                                                     0 = No;    1 = Yes","0 / 1"]
[36,"Q17.1","Clarity of PFM roles and responsibilities on the web site:     0 = No;    1 = Yes","0 / 1"]
[37,"Q18.1","Compliance with specific int'l standards?                                     0 = National only;\n    1 = UN COFOG reports;    2 = IMF GFS reports (incl COFOG)","0 / 1"]
[38,"Q19.1","Web Statistics (e.g. visitors, freq visited web pages)?            0 = No;    1 = Yes","0 / 1"]
[39,"Q19.2","Platforms for feedback provision:                                                    0 = Not available;\n    1 = Email / Specific forms;       2 = Telephone/Fax/Mail;       3 = All","0 … 3"]
[40,"Q20.1","Native language?     Indicate native language code (ISO 639-2 Code alpha-3)","-"]

{"sheet":"INET Codes","index":10,"n_rows":247,"n_cols":2,"rows_kept":247,"cut":false,"hidden":true,"merged":[]}
["Economy","INET Code"]
["Andorra","AD"]
["United Arab Emirates","AE"]
["Afghanistan","AF"]
["Antigua and Barbuda","AG"]
["Anguilla","AI"]
["Albania","AL"]
["Armenia","AM"]
["Netherlands Antilles","AN"]
["Angola","AO"]
["Antarctica","AQ"]
["Argentina","AR"]
["American Samoa","AS"]
["Austria","AT"]
["Australia","AU"]
["Aruba","AW"]
["Azerbaijan","AZ"]
["Bosnia and Herzegovina","BA"]
["Barbados","BB"]
["Bangladesh","BD"]
["Belgium","BE"]
["Burkina Faso","BF"]
["Bulgaria","BG"]
["Bahrain","BH"]
["Burundi","BI"]
["Benin","BJ"]
["Bermuda","BM"]
["Brunei Darussalam","BN"]
["Bolivia","BO"]
["Brazil","BR"]
["Bahamas","BS"]
["Bhutan","BT"]
["Bouvet Island","BV"]
["Botswana","BW"]
["Belarus","BY"]
["Belize","BZ"]
["Canada","CA"]
["Cocos Islands","CC"]
["Central African Republic","CF"]
["Congo","CG"]
["Congo, Dem. Rep.","CD"]
["Switzerland","CH"]
["Cote D'Ivoire","CI"]
["Cook Islands","CK"]
["Chile","CL"]
["Cameroon","CM"]
["China","CN"]
["Colombia","CO"]
["Costa Rica","CR"]
["Czech Republic","CS"]
["Cuba","CU"]
["Cape Verde","CV"]
["Christmas Island","CX"]
["Cyprus","CY"]
["Czech Republic","CZ"]
["Germany","DE"]
["Djibouti","DJ"]
["Denmark","DK"]
["Dominica","DM"]
["Dominican Republic","DO"]
["Algeria","DZ"]
["Ecuador","EC"]
["Estonia","EE"]
["Egypt","EG"]
["Western Sahara","EH"]
["Eritrea","ER"]
["Spain","ES"]
["Ethiopia","ET"]
["Finland","FI"]
["Fiji","FJ"]
["Falkland Islands","FK"]
["Micronesia","FM"]
["Faroe Islands","FO"]
["France","FR"]
["France, Metropolitan","FX"]
["Gabon","GA"]
["Great Britain","GB"]
["Grenada","GD"]
["Georgia","GE"]
["French Guiana","GF"]
["Ghana","GH"]
["Gibraltar","GI"]
["Greenland","GL"]
["Gambia","GM"]
["Guinea","GN"]
["Guadeloupe","GP"]
["Equatorial Guinea","GQ"]
["Greece","GR"]
["S. Georgia and S. Sandwich Isls.","GS"]
["Guatemala","GT"]
["Guam","GU"]
["Guinea-Bissau","GW"]
["Guyana","GY"]
["Hong Kong","HK"]
["Heard and McDonald Islands","HM"]
["Honduras","HN"]
["Croatia","HR"]
["Haiti","HT"]
["Hungary","HU"]
["Indonesia","ID"]
["Ireland","IE"]
["Israel","IL"]
["India","IN"]
["British Indian Ocean Territory","IO"]
["Iraq","IQ"]
["Iran","IR"]
["Iceland","IS"]
["Italy","IT"]
["Jamaica","JM"]
["Jordan","JO"]
["Japan","JP"]
["Kenya","KE"]
["Kyrgyz Republic","KG"]
["Cambodia","KH"]
["Kiribati","KI"]
["Comoros","KM"]
["Saint Kitts and Nevis","KN"]
["Korea, Dem. Rep.","KP"]
["Korea, Rep.","KR"]
["Kuwait","KW"]
["Cayman Islands","KY"]
["Kazakhstan","KZ"]
["Laos","LA"]
["Lebanon","LB"]
["Saint Lucia","LC"]
["Liechtenstein","LI"]
["Sri Lanka","LK"]
["Liberia","LR"]
["Lesotho","LS"]
["Lithuania","LT"]
["Luxembourg","LU"]
["Latvia","LV"]
["Libya","LY"]
["Morocco","MA"]
["Monaco","MC"]
["Moldova","MD"]
["Madagascar","MG"]
["Marshall Islands","MH"]
["Macedonia","MK"]
["Mali","ML"]
["Myanmar","MM"]
["Mongolia","MN"]
["Macau","MO"]
["Northern Mariana Islands","MP"]
["Martinique","MQ"]
["Mauritania","MR"]
["Montserrat","MS"]
["Malta","MT"]
["Mauritius","MU"]
["Maldives","MV"]
["Malawi","MW"]
["Mexico","MX"]
["Malaysia","MY"]
["Mozambique","MZ"]
["Namibia","NA"]
["New Caledonia","NC"]
["Niger","NE"]
["Network","NE"]
["Norfolk Island","NF"]
["Nigeria","NG"]
["Nicaragua","NI"]
["Netherlands","NL"]
["Norway","NO"]
["Nepal","NP"]
["Nauru","NR"]
["Neutral Zone","NT"]
["Niue","NU"]
["New Zealand","NZ"]
["Oman","OM"]
["Panama","PA"]
["Peru","PE"]
["French Polynesia","PF"]
["Papua New Guinea","PG"]
["Philippines","PH"]
["Pakistan","PK"]
["Poland","PL"]
["St. Pierre and Miquelon","PM"]
["Pitcairn","PN"]
["Puerto Rico","PR"]
["Portugal","PT"]
["Palau","PW"]
["Paraguay","PY"]
["Qatar","QA"]
["Reunion","RE"]
["Romania","RO"]
["Russian Federation","RU"]
["Rwanda","RW"]
["Saudi Arabia","SA"]
["Solomon Islands","Sb"]
["Seychelles","SC"]
["Sudan","SD"]
["Sweden","SE"]
["Singapore","SG"]
["St. Helena","SH"]
["Slovenia","SI"]
["Svalbard and Jan Mayen Islands","SJ"]
["Slovak Republic","SK"]
["Sierra Leone","SL"]
["San Marino","SM"]
["Senegal","SN"]
["Serbia","RS"]
["Somalia","SO"]
["Suriname","SR"]
["São Tomé and Principe","ST"]
["USSR","SU"]
["El Salvador","SV"]
["Syria","SY"]
["Swaziland","SZ"]
["Turks and Caicos Islands","TC"]
["Chad","TD"]
["French Southern Territories","TF"]
["Togo","TG"]
["Thailand","TH"]
["Tajikistan","TJ"]
["Tokelau","TK"]
["Turkmenistan","TM"]
["Tunisia","TN"]
["Tonga","TO"]
["Timor-Leste","TP"]
["Turkey","TR"]
["Trinidad and Tobago","TT"]
["Tuvalu","TV"]
["Taiwan","TW"]
["Tanzania","TZ"]
["Ukraine","UA"]
["Uganda","UG"]
["United Kingdom","UK"]
["US Minor Outlying Islands","UM"]
["United States of America","US"]
["Uruguay","UY"]
["Uzbekistan","UZ"]
["Vatican City State","VA"]
["Saint Vincent and the Grenadines","VC"]
["Venezuela, RB","VE"]
["Virgin Islands (British)","VG"]
["Virgin Islands (U.S.)","VI"]
["Viet Nam","VN"]
["Vanuatu","VU"]
["Wallis and Futuna Islands","WF"]
["Samoa","WS"]
["Yemen","YE"]
["Mayotte","YT"]
["Yugoslavia","YU"]
["South Africa","ZA"]
["Zambia","ZM"]
["Zaire","ZR"]
["Zimbabwe","ZW"]

{"sheet":"Metadata","index":11,"n_rows":247,"n_cols":18,"rows_kept":247,"cut":false,"hidden":false,"merged":[]}
["#","Col","FMIS & OBD Data Fields","Description","Type","Size","Format","Val #1","Value #1 Description","Val #2","Value #2 Description","Val #3","Value #3 Description","Val #4","Value #4 Description","Val #5","Value #5 Description","Source"]
[1,"A","#","Sequence","int",3,"000","1 … 198","Sequence number of alphabetical listing",null,null,null,null,null,null,null,null,"Reviewers"]
[2,"B","Flag","Flag","image","-","png","-",null,null,null,null,null,null,null,null,null,"Wikipedia"]
[3,"C","Economy","Name of economy (linked to Wikipedia web site)","char",64,"URL","-",null,null,null,null,null,null,null,null,null,"Wikipedia"]
[4,"D","Level","Income level","char",4,"-","-","Standard codes: HIC / UMIC / LMIC / LIC",null,null,null,null,null,null,null,null,"WBG Open Data"]
[5,"E","Population","Population in thousands (2011)","int",9,"#,##0","-",null,null,null,null,null,null,null,null,null,"WBG Open Data"]
[6,"F","GNI","Gross National Income 2011, Atlas method (millions of USD)","int",9,"#,##0","-",null,null,null,null,null,null,null,null,null,"WBG Open Data"]
[7,"G","GNIPC","Gross National Income Per Capita 2011, Atlas method and PPP (USD)","int",7,"#,##0","-",null,null,null,null,null,null,null,null,null,"WBG Open Data"]
[8,"H","Q1.1  MoF URL","PF home page (web link to main PF home page)","char",256,"URL","-",null,null,null,null,null,null,null,null,null,"WWW"]
[9,"I","Q1.2  Org Name","Official Name of Finance Ministry / Department","char",256,"-","-",null,null,null,null,null,null,null,null,null,"WWW"]
[10,"J","Q1.3","Is there a dedicated PF publication web site? ","int",1,0,0,"No",1,"Yes (but, not clearly visible from home page)",2,"Yes (easy access to PF data from the home page)",null,null,null,null,"Reviewers"]
[11,"K","Q1.4  PF Data URL","If Yes to Q1.3 (1 or 2) > PF publication web link","char",256,"URL","-",null,null,null,null,null,null,null,null,null,"WWW"]
[12,"L","Q2.1","Is there a web site / doc on FMIS solution?","int",1,0,0,"No",1,"Yes (reference doc only)",2,"Yes (FMIS related web site)",null,null,null,null,"Reviewers"]
[13,"M","Q2.2 FMIS URL","If Yes to Q2.1 (1 or 2) > Related web link","char",256,"URL","-",null,null,null,null,null,null,null,null,null,"WWW"]
[14,"N","Q3.1","What is the source of Public Finance data?","int",1,0,0,"No published PF data",1,"Static (tables from unidentified sources)",2,"Dynamic (archived info/docs from systems)",3,"Dynamic (data/tables fm queries linked to FMIS DB/Data Warehouse)",null,null,"Reviewers"]
[15,"O","Q3.2  Dynamic Q","If Dynamic (2 or 3) > Related web link","char",256,"URL","-",null,null,null,null,null,null,null,null,null,"WWW"]
[16,"P","Q3.3","Presence of Open Data (online, editable, free)","int",1,0,0,"No",1,"Yes",null,null,null,null,null,null,"Reviewers"]
[17,"Q","Q3.4  Open Data","If Yes to Open Data (1) > Related web link","char",256,"URL","-",null,null,null,null,null,null,null,null,null,"WWW"]
[18,"R","Q3.5","Is System Name visible in reports?","int",1,0,0,"No",1,"Yes",null,null,null,null,null,null,"Reviewers"]
[19,"S","Q3.6","Is System Time Stamp visible in reports?","int",1,0,0,"No",1,"Yes",null,null,null,null,null,null,"Reviewers"]
[20,"T","Q3.7  Reliability","If Yes to Q3.5 or Q3.6 (1) > Related web link","char",256,"URL","-",null,null,null,null,null,null,null,null,null,"WWW"]
[21,"U","Q4.1","What is the quality of PF data presentation?","int",1,0,0,"Below desired level (not informative)",1,"Partially acceptable (some of the tables are useful)",2,"Good quality (informative and easy to read)",null,null,null,null,"Reviewers"]
[22,"V","Q4.2","Content > Is there sufficient level of detail?","int",1,0,0,"No",1,"Yes",null,null,null,null,null,null,"Reviewers"]
[23,"W","Q4.3","Citizen's Budget (CB) > Is there a web site for citizens presenting budget results in a meaningful format?","int",1,0,0,"No",1,"Yes (basic info)",2,"Yes (comprehensive info/interactive)",null,null,null,null,"Reviewers"]
[24,"X","Q4.4  Ctz Budget","If Yes to Q4.3 (1 or 2) > Related web link","char",256,"URL","-",null,null,null,null,null,null,null,null,null,"WWW"]
[25,"Y","Q5.1","Is BC/CoA published?","int",1,0,0,"No",1,"Yes",null,null,null,null,null,null,"Reviewers"]
[26,"Z","Q5.2  BC/CoA","If Yes to Q5.1 (1) > Related web site/URL","char",256,"URL","-",null,null,null,null,null,null,null,null,null,"WWW"]
[27,"AA","Q6.1","Approved annual budget published?","int",1,0,0,"No",1,"Yes",null,null,null,null,null,null,"Reviewers"]
[28,"AB","Q6.2","If Yes to Q6.1 (1) > Regularity of publication","int",1,0,0,"Not regular",1,"Annual budget plans published regularly (within the last 5-year period)",null,null,null,null,null,null,"Reviewers"]
[29,"AC","Q6.3","Since > Starting year of published annual budget data (regular/irregular)","int",4,"YYYY","-",null,null,null,null,null,null,null,null,null,"WWW"]
[30,"AD","Q7.1","MTEF documents published?","int",1,0,0,"No",1,"Yes",null,null,null,null,null,null,"Reviewers"]
[31,"AE","Q7.2","If Yes to Q7.1 (1) > Regularity of publication","int",1,0,0,"Not regular",1,"MTEF plans published regularly (within the last 5-year period)",null,null,null,null,null,null,"Reviewers"]
[32,"AF","Q7.3","Period > Indicate the period (in years) of the MTEF (usually 3 yrs or more)","int",1,"Y","-",null,null,null,null,null,null,null,null,null,"Reviewers"]
[33,"AG","Q7.4","Since > Starting year of published MTEF data (regular/irregular)","int",4,"YYYY","-",null,null,null,null,null,null,null,null,null,"WWW"]
[34,"AH","Q8.1","Public investment plans?","int",1,0,0,"No",1,"Yes",null,null,null,null,null,null,"Reviewers"]
[35,"AI","Q8.2","If Yes to Q8.1 (1) > Regularity of publication","int",1,0,0,"Not regular",1,"Investment plans published regularly (within the last 5-year period)",null,null,null,null,null,null,"Reviewers"]
[36,"AJ","Q8.3","Since > Starting year of published investment plans (regular/irregular)","int",4,"YYYY","-",null,null,null,null,null,null,null,null,null,"WWW"]
[37,"AK","Q9.1","Budget execution results?","int",1,0,0,"No",1,"Yes",null,null,null,null,null,null,"Reviewers"]
[38,"AL","Q9.2","If Yes to Q9.1 (1) > Frequency of publication  (most frequently published)","int",1,0,1,"Weekly",2,"Monthly",3,"Quarterly",4,"Annually",null,null,"WWW"]
[39,"AM","Q9.3","If Yes to Q9.1 (1) > Regularity of publication","int",1,0,0,"Not regular",1,"Budget exec results published regularly (within the last 5-year period)",null,null,null,null,null,null,"Reviewers"]
[40,"AN","Q9.4","Since > Starting year of published execution results (regular/irregular)","int",4,"YYYY","-",null,null,null,null,null,null,null,null,null,"WWW"]
[41,"AO","Q10.1","External audit of central gov budget operations?","int",1,0,0,"No",1,"Yes",null,null,null,null,null,null,"Reviewers"]
[42,"AP","Q10.2","If Yes to Q10.1 (1) > Regularity of publication","int",1,0,0,"Not regular",1,"Budget audits published regularly (within the last 5-year period)",null,null,null,null,null,null,"Reviewers"]
[43,"AQ","Q10.3","Since > Starting year of published budget audits (regular/irregular)","int",4,"YYYY","-",null,null,null,null,null,null,null,null,null,"WWW"]
[44,"AR","Q11.1","Consolidated results for key budget users?","int",1,0,0,"No",1,"Yes",null,null,null,null,null,null,"Reviewers"]
[45,"AS","Q11.2","Sector analysis?","int",1,0,0,"No",1,"Yes",null,null,null,null,null,null,"Reviewers"]
[46,"AT","Q11.3","Regional analysis?","int",1,0,0,"No",1,"Yes",null,null,null,null,null,null,"Reviewers"]
[47,"AU","Q11.4","Gender analysis?","int",1,0,0,"No",1,"Yes",null,null,null,null,null,null,"Reviewers"]
[48,"AV","Q11.5","Analysis of spending for Children and Youth?","int",1,0,0,"No",1,"Yes",null,null,null,null,null,null,"Reviewers"]
[49,"AW","Q11.6","Debt data?","int",1,0,0,"No",1,"Yes",null,null,null,null,null,null,"Reviewers"]
[50,"AX","Q11.7","Foreign aid/grants?","int",1,0,0,"No",1,"Yes",null,null,null,null,null,null,"Reviewers"]
[51,"AY","Q11.8","Fiscal data on sub-national gov/municipalities?","int",1,0,0,"No",1,"Yes",null,null,null,null,null,null,"Reviewers"]
[52,"AZ","Q11.9","Financial Statements?","int",1,0,0,"No",1,"Yes",null,null,null,null,null,null,"Reviewers"]
[53,"BA","Q11.10","Public procurement and contracts?","int",1,0,0,"No",1,"Yes",null,null,null,null,null,null,"Reviewers"]
[54,"BB","Q11.11","Other PF Data?","int",1,0,0,"No",1,"Yes",null,null,null,null,null,null,"Reviewers"]
[55,"BC","Q11.12  Other","If Yes to Q11.11 (1) > Related web link","char",256,"URL","-",null,null,null,null,null,null,null,null,null,"WWW"]
[56,"BD","Q12.1","Open Government/Open Data web site?","int",1,0,0,"No",1,"Yes",null,null,null,null,null,null,"Reviewers"]
[57,"BE","Q12.2  Open Gov","If Yes to Q12.1 (1) > Related web link","char",256,"URL","-",null,null,null,null,null,null,null,null,null,"WWW"]
[58,"BF","Q13.1","Does FMIS support the PFM needs of state/local governments or municipalities?","int",1,0,0,"No",1,"Yes (only data collection/consolidation)",2,"Yes (support some of the SNG automation + data collection needs)",null,null,null,null,"Reviewers"]
[59,"BG","Q13.2  FMIS SNG","If Yes to Q13.1 (1 or 2) > Related web site","char",256,"URL","-",null,null,null,null,null,null,null,null,null,"WWW"]
[60,"BH","Q14.1","Is there a harmonized public accounting system for central + state/local governments and municipalities?","int",1,0,0,"No",1,"Yes",null,null,null,null,null,null,"Reviewers"]
[61,"BI","Q14.2  Acct SNG","If Yes to Q14.1 (1) > Related web link","char",256,"URL","-",null,null,null,null,null,null,null,null,null,"WWW"]
[62,"BJ","Q15.1","Is PF data published on the Statistics web site?    Or another web site?","int",1,0,0,"Statistics web site with no PF data",1,"Statistics web site publishing PF data",2,"Other web site publishing PF data (no Stats web site for PF data)",3,"Both Statistics and other web sites publish PF data",null,null,"Reviewers"]
[63,"BK","Q15.2  Stats URL","If Q15.1 = 0 or 1 > URL of the Statistics Org web site","char",256,"URL","-",null,null,null,null,null,null,null,null,null,"WWW"]
[64,"BL","Q15.3  Stats Org","Official Name of Statistical Organization","char",256,"-","-",null,null,null,null,null,null,null,null,null,"WWW"]
[65,"BM","Q15.4  CB URL","URL of the Central Bank","char",256,"URL","-",null,null,null,null,null,null,null,null,null,"WWW"]
[66,"BN","Q15.5  Cent Bank","Official Name of Central Bank","char",256,"-","-",null,null,null,null,null,null,null,null,null,"WWW"]
[67,"BO","Q15.6  Other URL","If Q15.1 = 2 or 3 > URL of other major alternative PF publication web site","char",256,"URL","-",null,null,null,null,null,null,null,null,null,"WWW"]
[68,"BP","Q16.1","Access to information explained?                                                     0 = No;    1 = Yes","int",1,0,0,"No",1,"Yes",null,null,null,null,null,null,"Reviewers"]
[69,"BQ","Q16.2  ATI","If Yes to Q16.1 (1) > Related web site","char",256,"URL","-",null,null,null,null,null,null,null,null,null,"WWW"]
[70,"BR","Q17.1","Clarity of PFM roles and responsibilities on the web site?    0 = No;    1 = Yes","int",1,0,0,"No",1,"Yes",null,null,null,null,null,null,"Reviewers"]
[71,"BS","Q17.2  PFM Reg","If Yes to Q17.1 (1) > Related web site","char",256,"URL","-",null,null,null,null,null,null,null,null,null,"WWW"]
[72,"BT","Q18.1","Compliance with specific int'l standards?","int",1,0,0,"National only",1,"UN COFOG reports",2,"IMF GFS reports (incl COFOG)",null,null,null,null,"Reviewers"]
[73,"BU","Q18.2  Other Rep","If Other > Please describe reporting formats","char",64,"-","-",null,null,null,null,null,null,null,null,null,"Reviewers"]
[74,"BV","Q19.1","Web Statistics (e.g. visitors, freq visited web pages)?             0 = No;    1 = Yes","int",1,0,0,"No",1,"Yes",null,null,null,null,null,null,"Reviewers"]
[75,"BW","Q19.2","Which platforms are available for feedback provision?","int",1,0,0,"Not available",1,"Email / Specific forms",2,"Telephone/Fax/Mail",3,"All",null,null,"Reviewers"]
[76,"BX","Q19.3  Feedback","If Other > Please describe other feedback mechanism in a few words","char",64,"-","-",null,null,null,null,null,null,null,null,null,"Reviewers"]
[77,"BY","Q20.1","Native language?  Indicate native language code (ISO 639-2 Code alpha-3)","char",3,"xxx","-",null,null,null,null,null,null,null,null,null,"WWW"]
[78,"BZ","Q20.2","Language #1 option?  Indicate other language #1 code","char",3,"xxx","-",null,null,null,null,null,null,null,null,null,"WWW"]
[79,"CA","Q20.3","Language #2 option?  Indicate other language #2 code","char",3,"xxx","-",null,null,null,null,null,null,null,null,null,"WWW"]
[80,"CB","Q20.4","Language #3 option?  Indicate other language #3 code","char",3,"xxx","-",null,null,null,null,null,null,null,null,null,"WWW"]
[81,"CC","Q20.5","Change of contents for PF data in different languages:","int",1,0,0,"Less detail",1,"Same level of detail in different languages",null,null,null,null,null,null,"Reviewers"]
[82,"CD","FMIS / TS","Abbreviation of the FMIS solution","char",64,"-",null,null,null,null,null,null,null,null,null,null,"WWW"]
[83,"CE","FMIS","Full name of the FMIS solution","char",256,"-",null,null,null,null,null,null,null,null,null,null,"WWW"]
[84,"CF","Tpl","PFM topology","char",1,"X","C","Centralized PFM operations","D","Decentralized PFM operations",null,null,null,null,null,null,"Reviewers, WWW"]
[85,"CG","Func","FMIS functional scope","char",1,"X","B","Budget Planning/Formulation (MTF, prog based budg, perf based budg)","T","Treasury (PEM)","F","FMIS (F=T+B; in some cases +O)","O","Other FMIS components (perf mgmt, HR, payroll)",null,null,"Reviewers, WWW"]
[86,"CH","Status","Status of T/F implementation","int",1,0,0,"T/F was not implemented or not operational",1,"Implementation in progress (expected year of go-live is indicated as a comment)",2,"T/F is operational for pilot or reduced scope implementation",3,"T/F is fully/partially operational",null,null,"Reviewers, WWW"]
[87,"CI","Op Yr","Year in which the TS/FMIS became operational","char",4,"YYYY","-",null,null,null,null,null,null,null,null,null,"WWW"]
[88,"CJ","Scope","Scope of T/F impl (coverage of budgets)","char",3,"XXX","C","Only central government","L","Local gov entities (districts)","C+L","Both central and district level",null,null,null,null,"Reviewers, WWW"]
[89,"CK","Type","Type of T/F solution developed","int",1,0,1,"T/F impl as a new system",2,"Expansion of existing T/F",3,"New T/F impl during the emergency TA",4,"Expansion of existing T/F impl via emergency TA",null,null,"Reviewers, WWW"]
[90,"CL","ASW","Type of Application Software solution","int",1,0,0,"Not identified yet",1,"Locally Developed Software (LDSW) / In-house developed solution",2,"Customized Commercial off-the-shelf Software (COTS)",null,null,null,null,"Reviewers, WWW"]
[91,"CM","ASW Solution","Name of T/F Application Software (ASW) solution","char",64,"-","COTS","Name of ASW package","LDSW","Name of Database used in developing ASW",null,null,null,null,null,null,"Reviewers, WWW"]
[92,"CN","Arch","Type of T/F Application Software (ASW)","char",3,"-","CS","(Client-Server) distributed system/decentralized operations","Web","(Web-Based) centralized system/decentralized operations",null,null,null,null,null,null,"Reviewers, WWW"]
[93,"CO","F_Comb","Combined FMIS maturity index","int",1,0,0,"No FMIS or FMIS implementation in progress",1,"T operational",2,"F (B+T) operational OR T+TSA operational",3,"F (B+T) + TSA operational",null,null,"Calculated"]
[94,"CP","PEFA Yr","Completion date (year) of the latest PEFA assessment (as of Oct 2012)","char",4,"YYYY","-",null,null,null,null,null,null,null,null,null,"www.pefa.org"]
[95,"CQ","Stat","Disclosure status (as of Oct 2012):","char",6,"-","Public","Publicly available","Final","Completed, but not publicly disclosed","Draft","Draft report completed, Disclosure status unknown.",null,null,null,null,"www.pefa.org"]
[96,"CR","Rep","Totasl number of PEFA repeat assessments","num",1,0,"-",null,null,null,null,null,null,null,null,null,"www.pefa.org"]
[97,"CS","PI-5","PI-5  Classification of the budget","char",1,"X","-",null,null,null,null,null,null,null,null,null,"www.pefa.org"]
[98,"CT","PI-6","PI-6  Comprehensiveness of information included in budget documentation","char",1,"X","-",null,null,null,null,null,null,null,null,null,"www.pefa.org"]
[99,"CU","PI-10","PI-10  Public access to key fiscal information","char",1,"X","-",null,null,null,null,null,null,null,null,null,"www.pefa.org"]
[100,"CV","PI-12","PI-12  Multi-year perspective in fiscal planning, expenditure policy and budgeting","char",1,"X","-",null,null,null,null,null,null,null,null,null,"www.pefa.org"]
[101,"CW","PI-22","PI-22  Timeliness and regularity of accounts reconciliation","char",1,"X","-",null,null,null,null,null,null,null,null,null,"www.pefa.org"]
[102,"CX","PI-23","PI-23  Availability of information on resources received by service delivery units","char",1,"X","-",null,null,null,null,null,null,null,null,null,"www.pefa.org"]
[103,"CY","PI-24","PI-24  Quality and timeliness of in-year budget reports","char",1,"X","-",null,null,null,null,null,null,null,null,null,"www.pefa.org"]
[104,"CZ","PI-25","PI-25  Quality and timeliness of annual financial statements","char",1,"X","-",null,null,null,null,null,null,null,null,null,"www.pefa.org"]
[105,"DA","PI-26","PI-26  Scope, nature and follow-up of external audit","char",1,"X","-",null,null,null,null,null,null,null,null,null,"www.pefa.org"]
[106,"DB","D-2","D-2  Financial information provided by donors for budgeting and reporting on project and program aid","char",1,"X","-",null,null,null,null,null,null,null,null,null,"www.pefa.org"]
[107,"DC","Avg10","Average of 10 PEFA indicators selected for a comparison with the FMIS & BT scores.","float",4.2,"0.00","-",null,null,null,null,null,null,null,null,null,"www.pefa.org"]
[108,"DD","Avg","Average of all 31 PEFA indicators. NR/NA/NU scores are excluded in avg calculations.","float",4.2,"0.00","-",null,null,null,null,null,null,null,null,null,"www.pefa.org"]
[109,"DE","OBI_12","2012 Open Budget Index (0 … 100) ","int",3,"000","-",null,null,null,null,null,null,null,null,null,"OBS"]
[110,"DF","OBI_10","2010 Open Budget Index (0 … 100)","int",3,"000","-",null,null,null,null,null,null,null,null,null,"OBS"]
[111,"DG","OGP","Status of participation in the Open Government Partnership initiative","int",1,0,0,"No",1,"Yes",null,null,null,null,null,null,"OGP"]
[112,"DH","MTEF","Status of Medium-Term Expenditure Framework (MTEF) implementation (as of 2010)","int",1,0,0,"No MTEF",1,"MTFF (Medium-Term Fiscal Framework)",2,"MTBF (Medium-Term Budget Framework)",3,"MTPF (Medium-Term Performance Framework)",null,null,"WBG / PRMPS"]
[113,"DI","eGov14","UN e-Government 2014 ranking (1 … 193)","int",3,"000","-",null,null,null,null,null,null,null,null,null,"UNPAN"]
[114,"DJ","eGov","UN 2014 e-Government index","float",4.2,"0.00","-",null,null,null,null,null,null,null,null,null,"UNPAN"]
[115,"DK","ePart","UN 2014 e-Participation index","float",4.2,"0.00","-",null,null,null,null,null,null,null,null,null,"UNPAN"]
[116,"DL","eOS","UN e-Government 2014 index - Online Services","float",4.2,"0.00","-",null,null,null,null,null,null,null,null,null,"UNPAN"]
[117,"DM","eTC","UN e-Government 2014 index - Telco infrastructure","float",4.2,"0.00","-",null,null,null,null,null,null,null,null,null,"UNPAN"]
[118,"DN","eHC","UN e-Government 2014 index - Human cap dev","float",4.2,"0.00","-",null,null,null,null,null,null,null,null,null,"UNPAN"]
[119,"DO","eGov12","UN e-Government 2012 ranking (1 … 190)","int",3,"000","-",null,null,null,null,null,null,null,null,null,"UNPAN"]
[120,"DP","eGov","UN 2012 e-Government index","float",4.2,"0.00","-",null,null,null,null,null,null,null,null,null,"UNPAN"]
[121,"DQ","eOS","UN e-Government 2012 index - Online Services","float",4.2,"0.00","-",null,null,null,null,null,null,null,null,null,"UNPAN"]
[122,"DR","eTC","UN e-Government 2012 index - Telco infrastructure","float",4.2,"0.00","-",null,null,null,null,null,null,null,null,null,"UNPAN"]
[123,"DS","eHC","UN e-Government 2012 index - Human cap dev","float",4.2,"0.00","-",null,null,null,null,null,null,null,null,null,"UNPAN"]
[124,"DT","Region","Mapping to the World Bank regions (abbreviation)","char",3,"XXX","-","AFR / EAP / ECA / LCR / MNA / SAR",null,null,null,null,null,null,null,null,"WBG Open Data"]
[125,"DU","Zone","Zone of various countries according to their membership in int'l organizations","char",3,"XXX","-","EU / EUR / AME / PAC / OTH",null,null,null,null,null,null,null,null,"WWW"]
[126,"DV","OECD","OECD membership ","char",4,"XXXX","OECD",null,null,null,null,null,null,null,null,null,"WWW"]
[127,"DW","APEC","APEC membership","char",4,"XXXX","APEC",null,null,null,null,null,null,null,null,null,"WWW"]
[128,"DX","Fragile","Fragile state status","char",1,"X","F",null,null,null,null,null,null,null,null,null,"WBG Open Data"]
[129,"DY","Economies","Name of economy ","char",64,"-","-",null,null,null,null,null,null,null,null,null,"WWW"]
[130,"DZ","OSS Gov","National Open Source Policies (in 66 economies)","int",3,"000","-",null,null,null,null,null,null,null,null,null,"CSIS"]
[131,"EA","R","OS Gov policies - Research & Development","int",2,"00","-",null,null,null,null,null,null,null,null,null,"CSIS"]
[132,"EB","A","OS Gov policies - Advisory","int",2,"00","-",null,null,null,null,null,null,null,null,null,"CSIS"]
[133,"EC","P","OS Gov policies - Proposed","int",2,"00","-",null,null,null,null,null,null,null,null,null,"CSIS"]
[134,"ED","M","OS Gov policies - Mandatory","int",2,"00","-",null,null,null,null,null,null,null,null,null,"CSIS"]
[135,"EE","OSS Loc","States / Provinces / Cities Open Source Policies (in 22 economies)","int",3,"000","-",null,null,null,null,null,null,null,null,null,"CSIS"]
[136,"EF","R","OS Gov policies - Research & Development","int",2,"00","-",null,null,null,null,null,null,null,null,null,"CSIS"]
[137,"EG","A","OS Gov policies - Advisory","int",2,"00","-",null,null,null,null,null,null,null,null,null,"CSIS"]
[138,"EH","P","OS Gov policies - Proposed","int",2,"00","-",null,null,null,null,null,null,null,null,null,"CSIS"]
[139,"EI","M","OS Gov policies - Mandatory","int",2,"00","-",null,null,null,null,null,null,null,null,null,"CSIS"]
[140,"EJ","Verif date","Date of verification by relevant gov officials","date",9,"dd-mmm-yy",null,null,null,null,null,null,null,null,null,null,"Reviewers"]
[141,"EK","Tot Pts","Total points for 20 key indicators","float",6.2,"000.00","-",null,null,null,null,null,null,null,null,null,"Calculated"]
[142,"EL","Score","Normalized FMIS & OBD score","float",6.2,"000.00","-",null,null,null,null,null,null,null,null,null,"Calculated"]
[143,"EM","Group","FMIS & OBD practice group (A to D)","char",1,"X","A","Highly visible","B","Visible","C","Limited visibility","D","Minimal visibility",null,null,"Calculated"]
[]
[]
["#","Col","e-Services Data Fields","Description","Type","Size","Format","Val #1","Value #1 Description","Val #2","Value #2 Description","Val #3","Value #3 Description","Val #4","Value #4 Description","Val #5","Value #5 Description","Source"]
[1,"EO","#","Sequence","int",3,"000","1 … 198","Sequence number of alphabetical listing",null,null,null,null,null,null,null,null,"Reviewers"]
[2,"EP","Economy","Name of economy (linked to Wikipedia web site)","char",64,"URL","-",null,null,null,null,null,null,null,null,null,"Wikipedia"]
[3,"EQ","Code","Country Code (ISO 3166-1 alpha-3 code)","char",3,"-","AAA","Code (3 char)",null,null,null,null,null,null,null,null,"Wikipedia"]
[4,"ER","AMP","Aid Management Platform (DG) > Since","int",4,"YYYY","Year","Operational year of AMP",null,null,null,null,null,null,null,null,"Development Gateway"]
[5,"ES","DAD","Development Assistance Database (DAD) > Implemented","char",3,"AAA","DAD","Countries using the DAD system",null,null,null,null,null,null,null,null,"Synergy International"]
[6,"ET","e-Government","e-Government Portal URL","char",64,"URL","-",null,null,null,null,null,null,null,null,null,"WWW"]
[7,"EU","eSrv","Type of e-Gov/e-Service portal","int",1,0,0,"Not available",1,"Mostly information/forms (G2C, G2B). ",2,"Online/transactional services (G2C, G2B, G2G, ...), mostly including single sign-on",null,null,null,null,"Reviewers"]
[8,"EV","e-Services","e-Services Portal URL","char",64,"URL","-",null,null,null,null,null,null,null,null,null,"WWW"]
[9,"EW","eOSI","UNPAN eGov Online Service Index (2014)","float",4.2,"0.00","-",null,null,null,null,null,null,null,null,null,"UNDP"]
[10,"EX","Stg-1","Stage 1: Emerging Information Services (mainly info)","int",3,"000","-","Percentage",null,null,null,null,null,null,null,null,"UNDP"]
[11,"EY","Stg-2","Stage 2: Enhanced Information Services (info+forms)","int",3,"000","-","Percentage",null,null,null,null,null,null,null,null,"UNDP"]
[12,"EZ","Stg-3","Stage 3: Transactional Services (info+forms+online transactions)","int",3,"000","-","Percentage",null,null,null,null,null,null,null,null,"UNDP"]
[13,"FA","Stg-4","Stage 4: Connected Services (integrated services)","int",3,"000","-","Percentage",null,null,null,null,null,null,null,null,"UNDP"]
[14,"FB","Tot","Total score (percentage)","int",3,"000","-","Percentage",null,null,null,null,null,null,null,null,"UNDP"]
[15,"FC","e-Gov Org URL","Dedicated e-Gov Institution website (URL)","char",64,"URL","-",null,null,null,null,null,null,null,null,null,"WWW"]
[16,"FD","e-Gov Yr","e-Gov organization has been established in (year)","char",4,"YYYY","-",null,null,null,null,null,null,null,null,null,"Reviewers"]
[17,"FE","e-Gov Entity","Name of the government entity managing e-Gov activities","char",256,"-","-",null,null,null,null,null,null,null,null,null,"WWW"]
[18,"FF","eG Org","Institutional responsibility for e-Gov","int",1,0,1,"Ministry of Finance",2,"Ministry of ICT",3,"Ministry of Interior/Home Affairs",4,"Autonomous entity under Pres/PM",5,"Other","Reviewers"]
[19,"FG","Treasury website","Dedicated Treasury website (URL)","char",64,"URL","-",null,null,null,null,null,null,null,null,null,"WWW"]
[20,"FH","Tre Yr","Treasury organization has been established in (year)","char",4,"YYYY","-",null,null,null,null,null,null,null,null,null,"Reviewers"]
[21,"FI","TSA website","Treasury Single Account (TSA) website (URL)","char",64,"URL","-",null,null,null,null,null,null,null,null,null,"WWW"]
[22,"FJ","TSA Yr","TSA operations have been initiated in (year)","char",4,"YYYY","-",null,null,null,null,null,null,null,null,null,"Reviewers"]
[23,"FK","TSA Type","Type of TSA architecture","int",1,0,0,"No TSA yet",1,"TSA implementation planned or initiated",2,"TSA is operational - Mostly decentralized accounts, or zero balanced accounts (in some cases linked with FMIS)",3,"TSA is fully operational - Centralized TSA using Central Bank (mostly linked with FMIS)",null,null,"Reviewers"]
[24,"FL","TSA Scope","Scope of TSA in capturing Revenue (R) and Expenditure (E) transactions:","int",1,0,0,"No TSA yet",1,"R+E below 25%",2,"R+E 25-50 %",3,"R+E 50-75 %",4,"R+E above 75%","Reviewers"]
[25,"FM","Duration","Average duration of government payments through TSA and FMIS platforms (hours)","int",3,"000","-",null,null,null,null,null,null,null,null,null,"Reviewers"]
[26,"FN","TSA Benefits","Web site containing info/doc on TSA benefits","char",64,"URL","-",null,null,null,null,null,null,null,null,null,"WWW"]
[27,"FO","TSA Savings","Reported TSA savings in USD millions per year (avg)","int",4,"0000","-",null,null,null,null,null,null,null,null,null,"Reviewers"]
[28,"FP","Sav Yr","Reporting year of the TSA savings (latest)","char",4,"YYYY","-",null,null,null,null,null,null,null,null,null,"Reviewers"]
[29,"FQ","Tax Adm URL","Tax Administration website","char",64,"URL","-",null,null,null,null,null,null,null,null,null,"WWW"]
[30,"FR","Tax Yr","Tax Admin has been established in (year)","char",4,"YYYY","-",null,null,null,null,null,null,null,null,null,"Reviewers"]
[31,"FS","TMIS Abbr","Abbreviation of Tax MIS solution","char",64,"-",null,null,null,null,null,null,null,null,null,null,"WWW"]
[32,"FT","TMIS Name","Full name of TMIS solution","char",256,"-",null,null,null,null,null,null,null,null,null,null,"WWW"]
[33,"FU","TMIS","TMIS Application Software solution","int",1,0,0,"No TMIS solution yet",1,"LDSW : Locally developed software",2,"COTS : Commercial off the shelf",null,null,null,null,"Reviewers"]
[34,"FV","TMIS Soln","TMIS Application Software solution name","char",64,"-","LDSW","Locally developed software (and the database platform used)","COTS","Commercial off the shelf (name of software package)","System","Specific system name",null,null,null,null,"Reviewers"]
[35,"FW","Tax System URL","Integrated Tax Management Information System URL","char",64,"URL","-",null,null,null,null,null,null,null,null,null,"WWW"]
[36,"FX","TMIS Yr","Year in which the TMIS became operational","char",4,"YYYY","-",null,null,null,null,null,null,null,null,null,"Reviewers"]
[37,"FY","TMIS Sta","Tax System implementation status","int",1,0,0,"No TMIS yet",1,"Planned (commitment)",2,"In progress (implementation)",3,"Fully operational",null,null,"Reviewers"]
[38,"FZ","Tax Srv","Tax System services/functionality","int",1,0,1,"Information services/forms",2,"Transactional services ",3,"Connected services (Single Window / integrated with other systems)",null,null,null,null,"Reviewers"]
[39,"GA","Customs URL","Customs Administration website","char",64,"URL","-",null,null,null,null,null,null,null,null,null,"WWW"]
[40,"GB","Cust Yr","Customs Admin has been established in (year)","char",4,"YYYY","-",null,null,null,null,null,null,null,null,null,"Reviewers"]
[41,"GC","WCO Acc","WCO accession (year)","char",4,"YYYY","-",null,null,null,null,null,null,null,null,null,"World Customs Organization"]
[42,"GD","Acc Sta","Status of Adoption WCO Data Model","int",1,0,0,"Information regarding conformance  with the WCO Data Model is not available",1,"A \"My Information Package\" has been published by the Member.",2,"Mappings of data elements national Information Sytems with the WCO Data Model have been produced and (in some cases) shared with the WCO Secretariat",3,"Projects involving the use of the WCO Data Model are underway or have been completed",4,"Information systems used by the Member have been checked for  conformance. Tables showing conformance  with the WCO Data Model have been shared with the WCO Secretariat","World Customs Organization"]
[43,"GE","Customs Abbr","Abbreviation of Customs MIS solution","char",64,"-",null,null,null,null,null,null,null,null,null,null,"WWW"]
[44,"GF","Customs Name","Full name of Customs System solution","char",256,"-",null,null,null,null,null,null,null,null,null,null,"WWW"]
[45,"GG","CMIS","CMIS Application Software solution","int",1,0,0,"No CMIS solution yet",1,"LDSW : Locally developed software",2,"COTS : Commercial off the shelf",null,null,null,null,"Reviewers"]
[46,"GH","CMIS Soln","CMIS Application Software solution name","char",64,"-","LDSW","Locally developed software (and the database platform used)","COTS","Commercial off the shelf (name of software package)","System","Specific system name",null,null,null,null,"Reviewers"]
[47,"GI","Customs Sys URL","Integrated Customs Management Information System URL","char",64,"URL","-",null,null,null,null,null,null,null,null,null,"WWW"]
[48,"GJ","CMIS Yr","Year in which the CMIS became operational","char",4,"YYYY","-",null,null,null,null,null,null,null,null,null,"Reviewers"]
[49,"GK","Cust Sta","Customs System implementation status","int",1,0,0,"No CMIS yet",1,"Planned (commitment)",2,"In progress (implementation)",3,"Fully operational",null,null,"Reviewers"]
[50,"GL","Cust Srv","Customs System services/functionality","int",1,0,1,"Information services/forms",2,"Transactional services ",3,"Connected services (Single Window / integrated with other systems)",null,null,null,null,"Reviewers"]
[51,"GM","e-Sub","Is electronic submission and processing allowed?","int",1,0,0,"No",1,"Yes","-","Unknown",null,null,null,null,"WBG Doing Business"]
[52,"GN","SW","Is there a single window that links some of the relevant gov agencies?","int",1,0,0,"No",1,"Yes","-","Unknown",null,null,null,null,"WBG Doing Business"]
[53,"GO","e-Filing URL","e-Filing platform URL","char",64,"URL","-",null,null,null,null,null,null,null,null,null,"WWW"]
[54,"GP","eFil Yr","e-Filing is operational since (year)","char",4,"YYYY","-",null,null,null,null,null,null,null,null,null,"Reviewers"]
[55,"GQ","eFil Srv","e-Filing services provided online:","int",1,0,0,"Not available yet",1,"Provide information only",2,"Online e-Filing services for citizens and/or businesses",3,"Online e-Filing and payment options",null,null,"Reviewers"]
[56,"GR","eFiling","Is electronic filing and payment available and used by majority of firms?","int",1,0,0,"No",1,"Yes","-","Unknown",null,null,null,null,"WBG Doing Business"]
[57,"GS","ePayment","ePayment website (mainly for collections from citizens and businesses)","char",64,"URL","-",null,null,null,null,null,null,null,null,null,"WWW"]
[58,"GT","ePay Yr","ePayment system is operational since (year)","char",4,"YYYY","-",null,null,null,null,null,null,null,null,null,"Reviewers"]
[59,"GU","ePay Srv","Type of Government ePayment service","int",1,0,0,"No Government ePayment solution (mainly public sector solutions)",1,"Fragmented systems (multiple platforms)",2,"Centralized/shared platform",null,null,null,null,"Reviewers"]
[60,"GV","Digital Sign URL","Website containing info/doc on digital signature usage.","char",64,"URL","-",null,null,null,null,null,null,null,null,null,"WWW"]
[61,"GW","Dsign Yr","Digital Signature is being used since (year)","char",4,"YYYY","-",null,null,null,null,null,null,null,null,null,"Reviewers"]
[62,"GX","Dsign Sta","Digital Signature implementation status","int",1,0,0,"No Digital Signature",1,"Legislation approved; no Infrastructure yet (PKI, CA, etc.)",2,"Legislation and infrastructure in place",3,"Used in practice for e-Services",null,null,"Reviewers"]
[63,"GY","Public Emp","Total number of public employees (staff/workers/consultants) paid from the state budget) ","int",9,"#,##0","-",null,null,null,null,null,null,null,null,null,"Reviewers"]
[64,"GZ","PE Scope","Scope of Public Employment data","int",1,0,0,"Not visible from Gov web sites",1,"Central Gov only",2,"Central and other gov levels",null,null,null,null,"Reviewers"]
[65,"HA","Pub Emp URL","Weblink to PS personnel size","char",64,"URL","-",null,null,null,null,null,null,null,null,null,"WWW"]
[66,"HB","PE Yr","Indicate the year in which the total number of Public Employees is reported?","char",4,"YYYY","-",null,null,null,null,null,null,null,null,null,"Reviewers"]
[67,"HC","HRMIS Abbr","HRMIS: System name abbreviation","char",64,"-",null,null,null,null,null,null,null,null,null,null,"Reviewers"]
[68,"HD","HRMIS System","HRMIS: System full name","char",256,"-",null,null,null,null,null,null,null,null,null,null,"Reviewers"]
[69,"HE","HRM","HRMIS Application Software solution (centralized):","int",1,0,0,"No centralized HRMIS / Unknown",1,"LDSW : Locally developed software",2,"COTS : Commercial off the shelf",null,null,null,null,"Reviewers"]
[70,"HF","HRMIS Soln","HRMIS Application Software solution name","char",64,"-","LDSW","Locally developed software (and the database platform used)","COTS","Commercial off the shelf (name of software package)","System","Specific system name",null,null,null,null,"Reviewers"]
[71,"HG","HRMIS URL","Website containing info/doc on Human Resources Management Information System (HRMIS) platform (URL)","char",64,"URL","-",null,null,null,null,null,null,null,null,null,"WWW"]
[72,"HH","HRM Yr","HRMIS system is operational since (year)","char",4,"YYYY","-",null,null,null,null,null,null,null,null,null,"Reviewers"]
[73,"HI","HRM Sta","HRMIS operational status for centralized (shared) platforms:","int",1,0,0,"No HRMIS / Status unknown",1,"Planned",2,"Implementation in progress",3,"Fully operational",null,null,"Reviewers"]
[74,"HJ","HRM Srv","Topology of the HRMIS solution:","int",1,0,0,"No HRMIS / Unknown",1,"Fragmented HRMIS solutions (line ministries having separate systems)",2,"Centralized HRMIS platform (shared platform for all civil ministries)",null,null,null,null,"Reviewers"]
[75,"HK","Payroll Abbr","Payroll System name abbreviation","char",64,"-",null,null,null,null,null,null,null,null,null,null,"Reviewers"]
[76,"HL","Payroll System","Payroll System full name","char",256,"-",null,null,null,null,null,null,null,null,null,null,"Reviewers"]
[77,"HM","Payr","Payroll System solution","int",1,0,0,"No centralized Payroll system / Unknown",1,"LDSW : Locally developed software",2,"COTS : Commercial off the shelf",null,null,null,null,"Reviewers"]
[78,"HN","Payr Soln","Payroll System solution name","char",64,"-","LDSW","Locally developed software (and the database platform used)","COTS","Commercial off the shelf (name of software package)","System","Specific system name",null,null,null,null,"Reviewers"]
[79,"HO","Payroll URL","Website containing info/doc on Payroll System/Registry","char",64,"URL","-",null,null,null,null,null,null,null,null,null,"WWW"]
[80,"HP","Payr Yr","Payroll system (automated) is operational since (year)","char",4,"YYYY","-",null,null,null,null,null,null,null,null,null,"Reviewers"]
[81,"HQ","Payr Sta","HRMIS operational status for centralized (shared) platforms:","int",1,0,0,"No Payroll System / Status unknown",1,"Planned",2,"Implementation in progress",3,"Fully operational",null,null,"Reviewers"]
[82,"HR","Payr Srv","Topology of the Payroll System","int",1,0,0,"No Payrol System / Unknown",1,"Fragmented Payroll solutions (line ministries having separate systems)",2,"Centralized Payroll System (shared platform for all civil ministries)",null,null,null,null,"Reviewers"]
[83,"HS","PI-19","PEFA PI-19: Competition, value for money and controls in procurement","char",1,"A","-",null,null,null,null,null,null,null,null,null,"PEFA"]
[84,"HT","eProc System","eProcurement system name","char",64,"-",null,null,null,null,null,null,null,null,null,null,"Reviewers"]
[85,"HU","eProcurement","Website providing access to eProcurement platform (announcement of tenders, selection process, contract awards, suppliers, complaint tracking, etc.)","char",64,"URL","-",null,null,null,null,null,null,null,null,null,"WWW"]
[86,"HV","ePrc Yr","eProcurement system is operational since (year)","char",4,"YYYY","-",null,null,null,null,null,null,null,null,null,"Reviewers"]
[87,"HW","ePrc Sta","Status/scope of e-Procurement portal","int",1,0,0,"No e-Procurement site",1,"eProcurement platform under development",2,"Only tenders are published",3,"Tenders + Contracts",null,null,"Reviewers"]
[88,"HX","ePr Srv","e-Procurement System services/functionality:","int",1,0,0,"No e-Proc system yet / Inadequate information",1,"Information on services/forms",2,"Transactional services (including connected services, if any)",null,null,null,null,"Reviewers"]
[89,"HY","Contr Monitoring","Contract publishing and monitoring web site (including execution of signed contracts in some cases)","char",64,"URL","-",null,null,null,null,null,null,null,null,null,"WWW"]
[90,"HZ","Debt Org / URL","Debt Mgmt Organization website","char",64,"URL","-",null,null,null,null,null,null,null,null,null,"WWW"]
[91,"IA","DMS","Debt Mgmt System solution","int",1,0,0,"No centralized Payroll system / Unknown",1,"LDSW : Locally developed software",2,"COTS : Commercial off the shelf",null,null,null,null,"Reviewers"]
[92,"IB","DMS Soln","Debt Mgmt System solution name","char",64,"-","LDSW","Locally developed software (and the database platform used)","COTS","Commercial off the shelf (name of software package)","System","Specific system name",null,null,null,null,"Reviewers"]
[93,"IC","DMS URL","Website containing info/doc on Debt Mgmt System","char",64,"URL","-",null,null,null,null,null,null,null,null,null,"WWW"]
[94,"ID","DMS Yr","Debt Mgmt System is operational since (year)","char",4,"YYYY","-",null,null,null,null,null,null,null,null,null,"Reviewers"]
[95,"IE","DMS Sta","DMS operational status for centralized (shared) platforms:","int",1,0,0,"No DMS / Status unknown",1,"Planned",2,"Implementation in progress",3,"Fully operational",null,null,"Reviewers"]
[96,"IF","DM Inst","Debt Management Institution","int",1,0,1,"MoF : Ministry of Finance",2,"CB : Central Bank",3,"CRD : Council for Reconstruction and Development",4,"SDMO : Separate Debt Management Office",5,"Other","Reviewers"]
[97,"IG","DM OpSt","DMS operational stage (functional)","int",1,0,0,"N/A = System no longer in use or not yet in use",1,"System installed but not (or not fully) operational",2,"Database regularly kept up to date",3,"System used for monitoring and internal reporting",4,"System used for external reporting/statistics","Reviewers"]
[98,"IH","Tot Pts","Total points for 16 key indicators","float",6.2,"000.00","-",null,null,null,null,null,null,null,null,null,"Calculated"]
[99,"II","Score","Normalized e-Services score","float",6.2,"000.00","-",null,null,null,null,null,null,null,null,null,"Calculated"]
[100,"IJ","Group","e-Services visibility (A to D)","char",1,"X","A","Highly visible","B","Visible","C","Limited visibility","D","Minimal visibility","D","Minimal visibility","Calculated"]

{"sheet":"Index","index":12,"n_rows":33,"n_cols":16,"rows_kept":33,"cut":false,"hidden":true,"merged":[]}
["#","Index Calculation","Points",null,null,"Q3.1","Func","Status","TSA Type","F_Comb","Tax Srv","eFil Srv","Cust Srv","HRM Srv","Payr Srv","ePr Srv"]
[1,"C // economy/country name","-",null,null,"dyqusrv","fmisfun","fmissta","tsasrv","fmissrv","tmissrv","efilsrv","ecstsrv","hrmssrv","payrsrv","eprcsrv"]
[2,"N // FMIS dynamic query options",3,null,null,"0=No PF dataset","T (1): Treasury/Bud Exec","0 : No T/F solution yet","0:  No TSA yet","0 : No FMIS","0 = Not available","0= Not available yet","0 = Not available","0: No HRMIS","0: No Payroll","0 = Not available"]
[3,"CI // FMIS operational year","-",null,null,"1=Static ","F (2): FMIS=T + Bud Form","1 : Impl in progress","1: Planned or initiated","1 : T operational","1= Informational","1= Provide information only","1= Informational","1: Fragmented ","1: Fragmented ","1= Informational"]
[4,"CO // Combined FMIS maturity index",3,null,null,"2=Dynamic (predefined)",null,"2 : T/F is operational (pilot/limited)","2: TSA is oper - Decentralized","2 : F (B+T) operational  OR  T+TSA operational","2= Transactional","2= Online e-Filing for G2C/G2B","2= Transactional","2: Centralized ","2: Centralized ","2= Transactional"]
[5,"EU // Scope of e-Services ","-",null,null,"3=Dynamic (user-defined)",null,"3 : T/F is fully/partially operational","3: TSA is oper - Centralized ","3:  F + TSA operational","3= Connected ","3= Online e-Filing and payments","3= Connected ",null,null,"3= Connected "]
[6,"FF // TSA operational year","-"]
[7,"FG // Scope of TSA","-"]
[8,"FT // TMIS operational year","-"]
[9,"FU // TMIS Status","-",null,null,"Brad's index calculation model"]
[10,"FV // TMIS Services",3,null,null,"indicator",null,"variable                        points","weights (ind / index)"]
[11,"GF // e-customs operational year","-",null,null,"FMIS","budget execution","fmissrv                          0        1","0.167          0.033","status not captured here"]
[12,"GG // e-customs status","-",null,null,null,"budget formulation","fmissrv                          0        1","0.167          0.033","status not captured here"]
[13,"GH // e-customs functionality",3,null,null,null,"TSA","tsasrv                             0        1","0.167          0.033","status captured in indicator"]
[14,"GL // e-filing operational year","-",null,null,null,"dynamic query (PF data)","dyqusrv                        0         3","0.5               0.10","status captured in indicator"]
[15,"GM // e-filing services",3,null,null,"e-Tax","e-Tax services","tmissrv                         0         3","0.5               0.10","status captured in indicator"]
[16,"GP // e-payment operational year","-",null,null,null,"e-Filing functions","efilsrv                           0         3","0.5               0.10","status captured in indicator"]
[17,"GQ // e-payment services","-",null,null,"e-Customs","e-Customs services","ecstsrv                          0         3","1.0               0.20","status captured in indicator"]
[18,"GS // Digital Sign operational year","-",null,null,"HRMIS","HRMIS scope/func","hrmsrv                          0         2","0.5               0.10","status captured in indicator"]
[19,"GT // Digital Sign services","-",null,null,"Payroll","Payroll scope/func","paysrv                           0         2","0.5               0.10","status captured in indicator"]
[20,"HD // HRMIS operational year","-",null,null,"e-Procurement","e-Proc services","erpcsrv                         0         3","1.0               0.20","status captured in indicator"]
[21,"HE // HRMIS status","-"]
[22,"HF // HRMIS services",2,null,null,"Alternative index calculation model",null,">>> 8 different indicators and equal weights"]
[23,"HL // Payroll operational year","-",null,null,"indicator",null,"variable                        points","relative weights (index)"]
[24,"HM // Payroll status","-",null,null,"FMIS","combined (F_Comb)","fmissrv                          0        3",{"$f":"3/22","v":0.13636363636363635},"use combined indicator without any fragmentation"]
[25,"HN / Payroll services",2,null,null,null,"dynamic query (PF data)","dyqusrv                        0         3",{"$f":"3/22","v":0.13636363636363635}]
[26,"HR // e-Procure operational year","-",null,null,"e-Tax","e-Tax services","tmissrv                         0         3",{"$f":"3/22","v":0.13636363636363635}]
[27,"HS // e-Procure status","-",null,null,null,"e-Filing functions","efilsrv                           0         3",{"$f":"3/22","v":0.13636363636363635}]
[28,"HT // e-Procure services",3,null,null,"e-Customs","e-Customs services","ecstsrv                          0         3",{"$f":"3/22","v":0.13636363636363635}]
[null,null,null,null,null,"HRMIS","HRMIS scope/func","hrmsrv                          0         2",{"$f":"2/22","v":9.0909090909090912E-2}]
[null,null,null,null,null,null,"Payroll scope/func","paysrv                           0         2",{"$f":"2/22","v":9.0909090909090912E-2}]
[null,"Max score > ",{"$f":"SUM(C2:C29)","v":22},null,null,"e-Procurement","e-Proc services","erpcsrv                         0         3",{"$f":"3/22","v":0.13636363636363635}]
[null,null,null,null,null,null,null,"max 22 points"]

{"sheet":"IDI","index":13,"n_rows":167,"n_cols":28,"rows_kept":167,"cut":false,"hidden":false,"merged":[]}
["#","Economy ","Rank 2013 ","IDI 2013","Rank 2012","IDI 2012","Index",null,"Economy ","Rank 2013 ","IDI-A 2013","Rank 2012","IDI-A 2012","Index",null,"Economy ","Rank 2013 ","IDI-U 2013","Rank 2012","IDI-U 2012","Index",null,"Economy ","Rank 2013 ","IDI-S 2013","Rank 2012","IDI-S 2012","Index"]
[1,"Denmark",1,8.86,2,8.7799999999999994,{"$f":"VLOOKUP(B2,'FMIS+eServices'!$EP$3:$IJ$200,86,FALSE)/100","v":0.03},null,"Luxembourg","1","9.46","1","9.40",{"$f":"VLOOKUP(I2,'FMIS+eServices'!$EP$3:$IJ$200,86,FALSE)/100","v":0.03},null,"Denmark","1","8.71","1","8.47",{"$f":"VLOOKUP(P2,'FMIS+eServices'!$EP$3:$IJ$200,86,FALSE)/100","v":0.03},null,"Greece","1","9.90","1","9.90",{"$f":"VLOOKUP(W2,'FMIS+eServices'!$EP$3:$IJ$200,86,FALSE)/100","v":0.03}]
[2,"Korea, Rep.",2,8.85,1,8.81,{"$f":"VLOOKUP(B3,'FMIS+eServices'!$EP$3:$IJ$200,86,FALSE)/100","v":0.03},null,"Switzerland","2","9.36","3","9.30",{"$f":"VLOOKUP(I3,'FMIS+eServices'!$EP$3:$IJ$200,86,FALSE)/100","v":0.03},null,"Sweden","2","8.29","2","8.22",{"$f":"VLOOKUP(P3,'FMIS+eServices'!$EP$3:$IJ$200,86,FALSE)/100","v":0.03},null,"Korea, Rep.","2","9.81","2","9.81",{"$f":"VLOOKUP(W3,'FMIS+eServices'!$EP$3:$IJ$200,86,FALSE)/100","v":0.03}]
[3,"Sweden",3,8.67,3,8.68,{"$f":"VLOOKUP(B4,'FMIS+eServices'!$EP$3:$IJ$200,86,FALSE)/100","v":0.03},null,"Iceland","3","9.28","2","9.31",{"$f":"VLOOKUP(I4,'FMIS+eServices'!$EP$3:$IJ$200,86,FALSE)/100","v":0.03},null,"Korea, Rep.","3","8.26","3","8.20",{"$f":"VLOOKUP(P4,'FMIS+eServices'!$EP$3:$IJ$200,86,FALSE)/100","v":0.03},null,"Finland","3","9.75","3","9.75",{"$f":"VLOOKUP(W4,'FMIS+eServices'!$EP$3:$IJ$200,86,FALSE)/100","v":0.03}]
[4,"Iceland",4,8.64,4,8.58,{"$f":"VLOOKUP(B5,'FMIS+eServices'!$EP$3:$IJ$200,86,FALSE)/100","v":0.03},null,"Hong Kong SAR, China","4","9.24","4","9.16",{"$f":"VLOOKUP(I5,'FMIS+eServices'!$EP$3:$IJ$200,86,FALSE)/100","v":0.03},null,"Finland","4","8.09","4","8.01",{"$f":"VLOOKUP(P5,'FMIS+eServices'!$EP$3:$IJ$200,86,FALSE)/100","v":0.03},null,"Belarus","4","9.69","4","9.69",{"$f":"VLOOKUP(W5,'FMIS+eServices'!$EP$3:$IJ$200,86,FALSE)/100","v":0.03}]
[5,"United Kingdom",5,8.5,7,8.2799999999999994,{"$f":"VLOOKUP(B6,'FMIS+eServices'!$EP$3:$IJ$200,86,FALSE)/100","v":0.03},null,"Germany","5","9.19","7","8.99",{"$f":"VLOOKUP(I6,'FMIS+eServices'!$EP$3:$IJ$200,86,FALSE)/100","v":0.03},null,"Norway","5","8.07","5","7.99",{"$f":"VLOOKUP(P6,'FMIS+eServices'!$EP$3:$IJ$200,86,FALSE)/100","v":0.03},null,"United States of America","5","9.56","5","9.56",{"$f":"VLOOKUP(W6,'FMIS+eServices'!$EP$3:$IJ$200,86,FALSE)/100","v":0.03}]
[6,"Norway",6,8.39,6,8.35,{"$f":"VLOOKUP(B7,'FMIS+eServices'!$EP$3:$IJ$200,86,FALSE)/100","v":0.03},null,"United Kingdom","6","9.18","5","9.10",{"$f":"VLOOKUP(I7,'FMIS+eServices'!$EP$3:$IJ$200,86,FALSE)/100","v":0.03},null,"United Kingdom","6","7.88","9","7.39",{"$f":"VLOOKUP(P7,'FMIS+eServices'!$EP$3:$IJ$200,86,FALSE)/100","v":0.03},null,"Australia","6","9.50","6","9.50",{"$f":"VLOOKUP(W7,'FMIS+eServices'!$EP$3:$IJ$200,86,FALSE)/100","v":0.03}]
[7,"Netherlands",7,8.3800000000000008,5,8.36,{"$f":"VLOOKUP(B8,'FMIS+eServices'!$EP$3:$IJ$200,86,FALSE)/100","v":0.03},null,"Malta","7","8.98","10","8.88",{"$f":"VLOOKUP(I8,'FMIS+eServices'!$EP$3:$IJ$200,86,FALSE)/100","v":0.03},null,"Japan","7","7.80","6","7.78",{"$f":"VLOOKUP(P8,'FMIS+eServices'!$EP$3:$IJ$200,86,FALSE)/100","v":0.03},null,"Slovenia","7","9.43","7","9.43",{"$f":"VLOOKUP(W8,'FMIS+eServices'!$EP$3:$IJ$200,86,FALSE)/100","v":0.03}]
[8,"Finland",8,8.31,8,8.27,{"$f":"VLOOKUP(B9,'FMIS+eServices'!$EP$3:$IJ$200,86,FALSE)/100","v":0.03},null,"Korea, Rep.","8","8.94","9","8.91",{"$f":"VLOOKUP(I9,'FMIS+eServices'!$EP$3:$IJ$200,86,FALSE)/100","v":0.03},null,"Luxembourg","8","7.66","7","7.54",{"$f":"VLOOKUP(P9,'FMIS+eServices'!$EP$3:$IJ$200,86,FALSE)/100","v":0.03},null,"Andorra","8","9.41","8","9.41",{"$f":"VLOOKUP(W9,'FMIS+eServices'!$EP$3:$IJ$200,86,FALSE)/100","v":0}]
[9,"Hong Kong SAR, China",9,8.2799999999999994,11,8.08,{"$f":"VLOOKUP(B10,'FMIS+eServices'!$EP$3:$IJ$200,86,FALSE)/100","v":0.03},null,"Sweden","9","8.93","6","9.02",{"$f":"VLOOKUP(I10,'FMIS+eServices'!$EP$3:$IJ$200,86,FALSE)/100","v":0.03},null,"Iceland","9","7.65","8","7.47",{"$f":"VLOOKUP(P10,'FMIS+eServices'!$EP$3:$IJ$200,86,FALSE)/100","v":0.03},null,"Spain","9","9.41","9","9.41",{"$f":"VLOOKUP(W10,'FMIS+eServices'!$EP$3:$IJ$200,86,FALSE)/100","v":0.03}]
[10,"Luxembourg",10,8.26,9,8.19,{"$f":"VLOOKUP(B11,'FMIS+eServices'!$EP$3:$IJ$200,86,FALSE)/100","v":0.03},null,"Netherlands","10","8.93","8","8.95",{"$f":"VLOOKUP(I11,'FMIS+eServices'!$EP$3:$IJ$200,86,FALSE)/100","v":0.03},null,"United States of America","10","7.50","11","7.21",{"$f":"VLOOKUP(P11,'FMIS+eServices'!$EP$3:$IJ$200,86,FALSE)/100","v":0.03},null,"Iceland","10","9.32","10","9.32",{"$f":"VLOOKUP(W11,'FMIS+eServices'!$EP$3:$IJ$200,86,FALSE)/100","v":0.03}]
[11,"Japan",11,8.2200000000000006,10,8.15,{"$f":"VLOOKUP(B12,'FMIS+eServices'!$EP$3:$IJ$200,86,FALSE)/100","v":0.03},null,"Denmark","11","8.80","11","8.83",{"$f":"VLOOKUP(I12,'FMIS+eServices'!$EP$3:$IJ$200,86,FALSE)/100","v":0.03},null,"Australia","11","7.48","12","7.19",{"$f":"VLOOKUP(P12,'FMIS+eServices'!$EP$3:$IJ$200,86,FALSE)/100","v":0.03},null,"New Zealand","11","9.28","11","9.28",{"$f":"VLOOKUP(W12,'FMIS+eServices'!$EP$3:$IJ$200,86,FALSE)/100","v":0.03}]
[12,"Australia",12,8.18,12,8.0299999999999994,{"$f":"VLOOKUP(B13,'FMIS+eServices'!$EP$3:$IJ$200,86,FALSE)/100","v":0.03},null,"France","12","8.65","13","8.52",{"$f":"VLOOKUP(I13,'FMIS+eServices'!$EP$3:$IJ$200,86,FALSE)/100","v":0.03},null,"Netherlands","12","7.43","10","7.34",{"$f":"VLOOKUP(P13,'FMIS+eServices'!$EP$3:$IJ$200,86,FALSE)/100","v":0.03},null,"Denmark","12","9.28","12","9.28",{"$f":"VLOOKUP(W13,'FMIS+eServices'!$EP$3:$IJ$200,86,FALSE)/100","v":0.03}]
[13,"Switzerland",13,8.11,13,7.94,{"$f":"VLOOKUP(B14,'FMIS+eServices'!$EP$3:$IJ$200,86,FALSE)/100","v":0.03},null,"Singapore","13","8.61","12","8.53",{"$f":"VLOOKUP(I14,'FMIS+eServices'!$EP$3:$IJ$200,86,FALSE)/100","v":0.03},null,"Hong Kong SAR, China","13","7.36","14","6.93",{"$f":"VLOOKUP(P14,'FMIS+eServices'!$EP$3:$IJ$200,86,FALSE)/100","v":0.03},null,"Ukraine","13","9.23","13","9.23",{"$f":"VLOOKUP(W14,'FMIS+eServices'!$EP$3:$IJ$200,86,FALSE)/100","v":0.03}]
[14,"United States of America",14,8.02,14,7.9,{"$f":"VLOOKUP(B15,'FMIS+eServices'!$EP$3:$IJ$200,86,FALSE)/100","v":0.03},null,"Japan","14","8.40","15","8.26",{"$f":"VLOOKUP(I15,'FMIS+eServices'!$EP$3:$IJ$200,86,FALSE)/100","v":0.03},null,"Monaco","14","7.29","15","6.89",{"$f":"VLOOKUP(P15,'FMIS+eServices'!$EP$3:$IJ$200,86,FALSE)/100","v":0},null,"Estonia","14","9.21","14","9.21",{"$f":"VLOOKUP(W15,'FMIS+eServices'!$EP$3:$IJ$200,86,FALSE)/100","v":0.03}]
[15,"Monaco",15,7.93,17,7.72,{"$f":"VLOOKUP(B16,'FMIS+eServices'!$EP$3:$IJ$200,86,FALSE)/100","v":0},null,"Norway","15","8.36","14","8.33",{"$f":"VLOOKUP(I16,'FMIS+eServices'!$EP$3:$IJ$200,86,FALSE)/100","v":0.03},null,"Singapore","15","7.19","13","7.14",{"$f":"VLOOKUP(P16,'FMIS+eServices'!$EP$3:$IJ$200,86,FALSE)/100","v":0.03},null,"Netherlands","15","9.20","15","9.20",{"$f":"VLOOKUP(W16,'FMIS+eServices'!$EP$3:$IJ$200,86,FALSE)/100","v":0.03}]
[16,"Singapore",16,7.9,15,7.85,{"$f":"VLOOKUP(B17,'FMIS+eServices'!$EP$3:$IJ$200,86,FALSE)/100","v":0.03},null,"Israel","16","8.31","18","8.21",{"$f":"VLOOKUP(I17,'FMIS+eServices'!$EP$3:$IJ$200,86,FALSE)/100","v":0.03},null,"New Zealand","16","7.10","20","6.47",{"$f":"VLOOKUP(P17,'FMIS+eServices'!$EP$3:$IJ$200,86,FALSE)/100","v":0.03},null,"Lithuania","16","9.12","16","9.12",{"$f":"VLOOKUP(W17,'FMIS+eServices'!$EP$3:$IJ$200,86,FALSE)/100","v":0.03}]
[17,"Germany",17,7.9,18,7.72,{"$f":"VLOOKUP(B18,'FMIS+eServices'!$EP$3:$IJ$200,86,FALSE)/100","v":0.03},null,"Monaco","17","8.31","20","8.19",{"$f":"VLOOKUP(I18,'FMIS+eServices'!$EP$3:$IJ$200,86,FALSE)/100","v":0},null,"Bahrain","17","7.06","17","6.70",{"$f":"VLOOKUP(P18,'FMIS+eServices'!$EP$3:$IJ$200,86,FALSE)/100","v":0.03},null,"Norway","17","9.09","17","9.09",{"$f":"VLOOKUP(W18,'FMIS+eServices'!$EP$3:$IJ$200,86,FALSE)/100","v":0.03}]
[18,"France",18,7.87,16,7.73,{"$f":"VLOOKUP(B19,'FMIS+eServices'!$EP$3:$IJ$200,86,FALSE)/100","v":0.03},null,"Austria","18","8.28","16","8.23",{"$f":"VLOOKUP(I19,'FMIS+eServices'!$EP$3:$IJ$200,86,FALSE)/100","v":0.03},null,"Macao SAR, China","18","7.01","16","6.81",{"$f":"VLOOKUP(P19,'FMIS+eServices'!$EP$3:$IJ$200,86,FALSE)/100","v":0.01},null,"Russian Federation","18","9.03","18","9.03",{"$f":"VLOOKUP(W19,'FMIS+eServices'!$EP$3:$IJ$200,86,FALSE)/100","v":0.03}]
[19,"New Zealand",19,7.82,19,7.62,{"$f":"VLOOKUP(B20,'FMIS+eServices'!$EP$3:$IJ$200,86,FALSE)/100","v":0.03},null,"Belgium","19","8.26","19","8.20",{"$f":"VLOOKUP(I20,'FMIS+eServices'!$EP$3:$IJ$200,86,FALSE)/100","v":0.03},null,"Andorra","19","6.79","22","6.12",{"$f":"VLOOKUP(P20,'FMIS+eServices'!$EP$3:$IJ$200,86,FALSE)/100","v":0},null,"Poland","19","9.01","19","9.01",{"$f":"VLOOKUP(W20,'FMIS+eServices'!$EP$3:$IJ$200,86,FALSE)/100","v":0.03}]
[20,"Andorra",20,7.73,24,7.41,{"$f":"VLOOKUP(B21,'FMIS+eServices'!$EP$3:$IJ$200,86,FALSE)/100","v":0},null,"Ireland","20","8.24","17","8.22",{"$f":"VLOOKUP(I21,'FMIS+eServices'!$EP$3:$IJ$200,86,FALSE)/100","v":0.03},null,"Estonia","20","6.77","18","6.58",{"$f":"VLOOKUP(P21,'FMIS+eServices'!$EP$3:$IJ$200,86,FALSE)/100","v":0.03},null,"Belgium","20","8.99","20","8.99",{"$f":"VLOOKUP(W21,'FMIS+eServices'!$EP$3:$IJ$200,86,FALSE)/100","v":0.03}]
[21,"Estonia",21,7.68,21,7.54,{"$f":"VLOOKUP(B22,'FMIS+eServices'!$EP$3:$IJ$200,86,FALSE)/100","v":0.03},null,"Australia","21","8.23","21","8.14",{"$f":"VLOOKUP(I22,'FMIS+eServices'!$EP$3:$IJ$200,86,FALSE)/100","v":0.03},null,"Switzerland","21","6.75","21","6.38",{"$f":"VLOOKUP(P22,'FMIS+eServices'!$EP$3:$IJ$200,86,FALSE)/100","v":0.03},null,"Austria","21","8.96","21","8.96",{"$f":"VLOOKUP(W22,'FMIS+eServices'!$EP$3:$IJ$200,86,FALSE)/100","v":0.03}]
[22,"Macao SAR, China",22,7.66,20,7.59,{"$f":"VLOOKUP(B23,'FMIS+eServices'!$EP$3:$IJ$200,86,FALSE)/100","v":0.01},null,"Qatar","22","8.09","28","7.80",{"$f":"VLOOKUP(I23,'FMIS+eServices'!$EP$3:$IJ$200,86,FALSE)/100","v":0.03},null,"France","22","6.74","19","6.52",{"$f":"VLOOKUP(P23,'FMIS+eServices'!$EP$3:$IJ$200,86,FALSE)/100","v":0.03},null,"Argentina","22","8.94","22","8.94",{"$f":"VLOOKUP(W23,'FMIS+eServices'!$EP$3:$IJ$200,86,FALSE)/100","v":0.03}]
[23,"Canada",23,7.62,25,7.37,{"$f":"VLOOKUP(B24,'FMIS+eServices'!$EP$3:$IJ$200,86,FALSE)/100","v":0.03},null,"Canada","23","8.01","22","8.04",{"$f":"VLOOKUP(I24,'FMIS+eServices'!$EP$3:$IJ$200,86,FALSE)/100","v":0.03},null,"Canada","23","6.63","24","5.97",{"$f":"VLOOKUP(P24,'FMIS+eServices'!$EP$3:$IJ$200,86,FALSE)/100","v":0.03},null,"Ireland","23","8.92","23","8.92",{"$f":"VLOOKUP(W24,'FMIS+eServices'!$EP$3:$IJ$200,86,FALSE)/100","v":0.03}]
[24,"Austria",24,7.62,23,7.46,{"$f":"VLOOKUP(B25,'FMIS+eServices'!$EP$3:$IJ$200,86,FALSE)/100","v":0.03},null,"Slovenia","24","7.91","26","7.84",{"$f":"VLOOKUP(I25,'FMIS+eServices'!$EP$3:$IJ$200,86,FALSE)/100","v":0.03},null,"United Arab Emirates","24","6.51","36","4.90",{"$f":"VLOOKUP(P25,'FMIS+eServices'!$EP$3:$IJ$200,86,FALSE)/100","v":0.02},null,"Sweden","24","8.90","24","8.90",{"$f":"VLOOKUP(W25,'FMIS+eServices'!$EP$3:$IJ$200,86,FALSE)/100","v":0.03}]
[25,"Belgium",25,7.57,26,7.33,{"$f":"VLOOKUP(B26,'FMIS+eServices'!$EP$3:$IJ$200,86,FALSE)/100","v":0.03},null,"Macao SAR, China","25","7.88","24","7.90",{"$f":"VLOOKUP(I26,'FMIS+eServices'!$EP$3:$IJ$200,86,FALSE)/100","v":0.01},null,"Austria","25","6.28","26","5.93",{"$f":"VLOOKUP(P26,'FMIS+eServices'!$EP$3:$IJ$200,86,FALSE)/100","v":0.03},null,"Canada","25","8.85","25","8.85",{"$f":"VLOOKUP(W26,'FMIS+eServices'!$EP$3:$IJ$200,86,FALSE)/100","v":0.03}]
[26,"Ireland",26,7.57,22,7.48,{"$f":"VLOOKUP(B27,'FMIS+eServices'!$EP$3:$IJ$200,86,FALSE)/100","v":0.03},null,"Barbados","26","7.86","25","7.89",{"$f":"VLOOKUP(I27,'FMIS+eServices'!$EP$3:$IJ$200,86,FALSE)/100","v":0.01},null,"Ireland","26","6.24","23","6.02",{"$f":"VLOOKUP(P27,'FMIS+eServices'!$EP$3:$IJ$200,86,FALSE)/100","v":0.03},null,"Israel","26","8.78","26","8.78",{"$f":"VLOOKUP(W27,'FMIS+eServices'!$EP$3:$IJ$200,86,FALSE)/100","v":0.03}]
[27,"Bahrain",27,7.4,28,7.22,{"$f":"VLOOKUP(B28,'FMIS+eServices'!$EP$3:$IJ$200,86,FALSE)/100","v":0.03},null,"Andorra","27","7.84","30","7.69",{"$f":"VLOOKUP(I28,'FMIS+eServices'!$EP$3:$IJ$200,86,FALSE)/100","v":0},null,"Germany","27","6.21","25","5.97",{"$f":"VLOOKUP(P28,'FMIS+eServices'!$EP$3:$IJ$200,86,FALSE)/100","v":0.03},null,"Portugal","27","8.77","27","8.77",{"$f":"VLOOKUP(W28,'FMIS+eServices'!$EP$3:$IJ$200,86,FALSE)/100","v":0.03}]
[28,"Spain",28,7.38,29,7.14,{"$f":"VLOOKUP(B29,'FMIS+eServices'!$EP$3:$IJ$200,86,FALSE)/100","v":0.03},null,"Estonia","28","7.82","33","7.67",{"$f":"VLOOKUP(I29,'FMIS+eServices'!$EP$3:$IJ$200,86,FALSE)/100","v":0.03},null,"Belgium","28","6.18","28","5.63",{"$f":"VLOOKUP(P29,'FMIS+eServices'!$EP$3:$IJ$200,86,FALSE)/100","v":0.03},null,"Latvia","28","8.75","28","8.75",{"$f":"VLOOKUP(W29,'FMIS+eServices'!$EP$3:$IJ$200,86,FALSE)/100","v":0.03}]
[29,"Israel",29,7.29,27,7.25,{"$f":"VLOOKUP(B30,'FMIS+eServices'!$EP$3:$IJ$200,86,FALSE)/100","v":0.03},null,"Finland","29","7.80","27","7.80",{"$f":"VLOOKUP(I30,'FMIS+eServices'!$EP$3:$IJ$200,86,FALSE)/100","v":0.03},null,"Spain","29","6.04","30","5.46",{"$f":"VLOOKUP(P30,'FMIS+eServices'!$EP$3:$IJ$200,86,FALSE)/100","v":0.03},null,"Chile","29","8.72","29","8.72",{"$f":"VLOOKUP(W30,'FMIS+eServices'!$EP$3:$IJ$200,86,FALSE)/100","v":0.03}]
[30,"Malta",30,7.25,30,7.08,{"$f":"VLOOKUP(B31,'FMIS+eServices'!$EP$3:$IJ$200,86,FALSE)/100","v":0.03},null,"New Zealand","30","7.79","23","7.94",{"$f":"VLOOKUP(I31,'FMIS+eServices'!$EP$3:$IJ$200,86,FALSE)/100","v":0.03},null,"Qatar","30","5.95","38","4.86",{"$f":"VLOOKUP(P31,'FMIS+eServices'!$EP$3:$IJ$200,86,FALSE)/100","v":0.03},null,"Italy","30","8.71","30","8.71",{"$f":"VLOOKUP(W31,'FMIS+eServices'!$EP$3:$IJ$200,86,FALSE)/100","v":0.03}]
[31,"Slovenia",31,7.13,31,6.96,{"$f":"VLOOKUP(B32,'FMIS+eServices'!$EP$3:$IJ$200,86,FALSE)/100","v":0.03},null,"United States of America","31","7.78","29","7.75",{"$f":"VLOOKUP(I32,'FMIS+eServices'!$EP$3:$IJ$200,86,FALSE)/100","v":0.03},null,"Latvia","31","5.91","27","5.67",{"$f":"VLOOKUP(P32,'FMIS+eServices'!$EP$3:$IJ$200,86,FALSE)/100","v":0.03},null,"Germany","31","8.68","31","8.68",{"$f":"VLOOKUP(W32,'FMIS+eServices'!$EP$3:$IJ$200,86,FALSE)/100","v":0.03}]
[32,"United Arab Emirates",32,7.03,46,6.27,{"$f":"VLOOKUP(B33,'FMIS+eServices'!$EP$3:$IJ$200,86,FALSE)/100","v":0.02},null,"Bahrain","32","7.72","34","7.64",{"$f":"VLOOKUP(I33,'FMIS+eServices'!$EP$3:$IJ$200,86,FALSE)/100","v":0.03},null,"Croatia","32","5.62","34","5.00",{"$f":"VLOOKUP(P33,'FMIS+eServices'!$EP$3:$IJ$200,86,FALSE)/100","v":0.02},null,"Japan","32","8.67","32","8.67",{"$f":"VLOOKUP(W33,'FMIS+eServices'!$EP$3:$IJ$200,86,FALSE)/100","v":0.03}]
[33,"Latvia",33,7.03,33,6.84,{"$f":"VLOOKUP(B34,'FMIS+eServices'!$EP$3:$IJ$200,86,FALSE)/100","v":0.03},null,"Spain","33","7.70","31","7.69",{"$f":"VLOOKUP(I34,'FMIS+eServices'!$EP$3:$IJ$200,86,FALSE)/100","v":0.03},null,"Israel","33","5.53","29","5.53",{"$f":"VLOOKUP(P34,'FMIS+eServices'!$EP$3:$IJ$200,86,FALSE)/100","v":0.03},null,"Barbados","33","8.65","33","8.65",{"$f":"VLOOKUP(W34,'FMIS+eServices'!$EP$3:$IJ$200,86,FALSE)/100","v":0.01}]
[34,"Qatar",34,7.01,42,6.46,{"$f":"VLOOKUP(B35,'FMIS+eServices'!$EP$3:$IJ$200,86,FALSE)/100","v":0.03},null,"Portugal","34","7.67","32","7.68",{"$f":"VLOOKUP(I35,'FMIS+eServices'!$EP$3:$IJ$200,86,FALSE)/100","v":0.03},null,"Malta","34","5.48","31","5.16",{"$f":"VLOOKUP(P35,'FMIS+eServices'!$EP$3:$IJ$200,86,FALSE)/100","v":0.03},null,"Czech Republic","34","8.65","34","8.65",{"$f":"VLOOKUP(W35,'FMIS+eServices'!$EP$3:$IJ$200,86,FALSE)/100","v":0.03}]
[35,"Barbados",35,6.95,32,6.87,{"$f":"VLOOKUP(B36,'FMIS+eServices'!$EP$3:$IJ$200,86,FALSE)/100","v":0.01},null,"United Arab Emirates","35","7.67","38","7.39",{"$f":"VLOOKUP(I36,'FMIS+eServices'!$EP$3:$IJ$200,86,FALSE)/100","v":0.02},null,"Italy","35","5.38","37","4.87",{"$f":"VLOOKUP(P36,'FMIS+eServices'!$EP$3:$IJ$200,86,FALSE)/100","v":0.03},null,"Mongolia","35","8.64","35","8.64",{"$f":"VLOOKUP(W36,'FMIS+eServices'!$EP$3:$IJ$200,86,FALSE)/100","v":0.03}]
[36,"Italy",36,6.94,36,6.66,{"$f":"VLOOKUP(B37,'FMIS+eServices'!$EP$3:$IJ$200,86,FALSE)/100","v":0.03},null,"Italy","36","7.62","36","7.44",{"$f":"VLOOKUP(I37,'FMIS+eServices'!$EP$3:$IJ$200,86,FALSE)/100","v":0.03},null,"Lithuania","36","5.29","40","4.79",{"$f":"VLOOKUP(P37,'FMIS+eServices'!$EP$3:$IJ$200,86,FALSE)/100","v":0.03},null,"Croatia","36","8.63","36","8.63",{"$f":"VLOOKUP(W37,'FMIS+eServices'!$EP$3:$IJ$200,86,FALSE)/100","v":0.02}]
[37,"Croatia",37,6.9,34,6.7,{"$f":"VLOOKUP(B38,'FMIS+eServices'!$EP$3:$IJ$200,86,FALSE)/100","v":0.02},null,"Greece","37","7.53","35","7.48",{"$f":"VLOOKUP(I38,'FMIS+eServices'!$EP$3:$IJ$200,86,FALSE)/100","v":0.03},null,"Slovak Republic","37","5.28","41","4.69",{"$f":"VLOOKUP(P38,'FMIS+eServices'!$EP$3:$IJ$200,86,FALSE)/100","v":0.03},null,"Hungary","37","8.62","37","8.62",{"$f":"VLOOKUP(W38,'FMIS+eServices'!$EP$3:$IJ$200,86,FALSE)/100","v":0.03}]
[38,"Belarus",38,6.89,43,6.45,{"$f":"VLOOKUP(B39,'FMIS+eServices'!$EP$3:$IJ$200,86,FALSE)/100","v":0.03},null,"Belarus","38","7.39","42","7.12",{"$f":"VLOOKUP(I39,'FMIS+eServices'!$EP$3:$IJ$200,86,FALSE)/100","v":0.03},null,"Czech Republic","38","5.22","32","5.09",{"$f":"VLOOKUP(P39,'FMIS+eServices'!$EP$3:$IJ$200,86,FALSE)/100","v":0.03},null,"Venezuela, RB","38","8.62","38","8.62",{"$f":"VLOOKUP(W39,'FMIS+eServices'!$EP$3:$IJ$200,86,FALSE)/100","v":0.01}]
[39,"Greece",39,6.85,35,6.7,{"$f":"VLOOKUP(B40,'FMIS+eServices'!$EP$3:$IJ$200,86,FALSE)/100","v":0.03},null,"Hungary","39","7.32","41","7.15",{"$f":"VLOOKUP(I40,'FMIS+eServices'!$EP$3:$IJ$200,86,FALSE)/100","v":0.03},null,"Slovenia","39","5.21","39","4.85",{"$f":"VLOOKUP(P40,'FMIS+eServices'!$EP$3:$IJ$200,86,FALSE)/100","v":0.03},null,"France","39","8.57","39","8.57",{"$f":"VLOOKUP(W40,'FMIS+eServices'!$EP$3:$IJ$200,86,FALSE)/100","v":0.03}]
[40,"Lithuania",40,6.74,40,6.5,{"$f":"VLOOKUP(B41,'FMIS+eServices'!$EP$3:$IJ$200,86,FALSE)/100","v":0.03},null,"Croatia","40","7.31","37","7.43",{"$f":"VLOOKUP(I41,'FMIS+eServices'!$EP$3:$IJ$200,86,FALSE)/100","v":0.02},null,"Barbados","40","5.20","35","4.95",{"$f":"VLOOKUP(P41,'FMIS+eServices'!$EP$3:$IJ$200,86,FALSE)/100","v":0.01},null,"Macao SAR, China","40","8.53","40","8.53",{"$f":"VLOOKUP(W41,'FMIS+eServices'!$EP$3:$IJ$200,86,FALSE)/100","v":0.01}]
[41,"Czech Republic",41,6.72,38,6.57,{"$f":"VLOOKUP(B42,'FMIS+eServices'!$EP$3:$IJ$200,86,FALSE)/100","v":0.03},null,"St. Kitts and Nevis","41","7.29","40","7.22",{"$f":"VLOOKUP(I42,'FMIS+eServices'!$EP$3:$IJ$200,86,FALSE)/100","v":0},null,"Belarus","41","4.99","48","4.16",{"$f":"VLOOKUP(P42,'FMIS+eServices'!$EP$3:$IJ$200,86,FALSE)/100","v":0.03},null,"Bulgaria","41","8.46","41","8.46",{"$f":"VLOOKUP(W42,'FMIS+eServices'!$EP$3:$IJ$200,86,FALSE)/100","v":0.02}]
[42,"Russian Federation",42,6.7,41,6.48,{"$f":"VLOOKUP(B43,'FMIS+eServices'!$EP$3:$IJ$200,86,FALSE)/100","v":0.03},null,"Latvia","42","7.29","44","7.06",{"$f":"VLOOKUP(I43,'FMIS+eServices'!$EP$3:$IJ$200,86,FALSE)/100","v":0.03},null,"Russian Federation","42","4.97","42","4.69",{"$f":"VLOOKUP(P43,'FMIS+eServices'!$EP$3:$IJ$200,86,FALSE)/100","v":0.03},null,"Monaco","42","8.45","42","8.45",{"$f":"VLOOKUP(W43,'FMIS+eServices'!$EP$3:$IJ$200,86,FALSE)/100","v":0}]
[43,"Portugal",43,6.67,39,6.57,{"$f":"VLOOKUP(B44,'FMIS+eServices'!$EP$3:$IJ$200,86,FALSE)/100","v":0.03},null,"Czech Republic","43","7.26","46","7.02",{"$f":"VLOOKUP(I44,'FMIS+eServices'!$EP$3:$IJ$200,86,FALSE)/100","v":0.03},null,"Poland","43","4.94","33","5.06",{"$f":"VLOOKUP(P44,'FMIS+eServices'!$EP$3:$IJ$200,86,FALSE)/100","v":0.03},null,"United Kingdom","43","8.41","43","8.41",{"$f":"VLOOKUP(W44,'FMIS+eServices'!$EP$3:$IJ$200,86,FALSE)/100","v":0.03}]
[44,"Poland",44,6.6,37,6.63,{"$f":"VLOOKUP(B45,'FMIS+eServices'!$EP$3:$IJ$200,86,FALSE)/100","v":0.03},null,"Russian Federation","44","7.25","48","7.01",{"$f":"VLOOKUP(I45,'FMIS+eServices'!$EP$3:$IJ$200,86,FALSE)/100","v":0.03},null,"Saudi Arabia","44","4.77","49","4.13",{"$f":"VLOOKUP(P45,'FMIS+eServices'!$EP$3:$IJ$200,86,FALSE)/100","v":0},null,"Cuba","44","8.41","44","8.41",{"$f":"VLOOKUP(W45,'FMIS+eServices'!$EP$3:$IJ$200,86,FALSE)/100","v":0}]
[45,"Slovak Republic",45,6.58,45,6.3,{"$f":"VLOOKUP(B46,'FMIS+eServices'!$EP$3:$IJ$200,86,FALSE)/100","v":0.03},null,"Brunei Darussalam","45","7.24","39","7.22",{"$f":"VLOOKUP(I46,'FMIS+eServices'!$EP$3:$IJ$200,86,FALSE)/100","v":0},null,"Bulgaria","45","4.77","45","4.34",{"$f":"VLOOKUP(P46,'FMIS+eServices'!$EP$3:$IJ$200,86,FALSE)/100","v":0.02},null,"Uruguay","45","8.39","45","8.39",{"$f":"VLOOKUP(W46,'FMIS+eServices'!$EP$3:$IJ$200,86,FALSE)/100","v":0.03}]
[46,"Hungary",46,6.52,44,6.35,{"$f":"VLOOKUP(B47,'FMIS+eServices'!$EP$3:$IJ$200,86,FALSE)/100","v":0.03},null,"Serbia","46","7.22","43","7.09",{"$f":"VLOOKUP(I47,'FMIS+eServices'!$EP$3:$IJ$200,86,FALSE)/100","v":0.03},null,"Hungary","46","4.67","43","4.42",{"$f":"VLOOKUP(P47,'FMIS+eServices'!$EP$3:$IJ$200,86,FALSE)/100","v":0.03},null,"Grenada","46","8.38","46","8.38",{"$f":"VLOOKUP(W47,'FMIS+eServices'!$EP$3:$IJ$200,86,FALSE)/100","v":0.01}]
[47,"Saudi Arabia",47,6.36,50,6.01,{"$f":"VLOOKUP(B48,'FMIS+eServices'!$EP$3:$IJ$200,86,FALSE)/100","v":0},null,"Oman","47","7.12","63","6.28",{"$f":"VLOOKUP(I48,'FMIS+eServices'!$EP$3:$IJ$200,86,FALSE)/100","v":0.02},null,"Oman","47","4.65","54","3.81",{"$f":"VLOOKUP(P48,'FMIS+eServices'!$EP$3:$IJ$200,86,FALSE)/100","v":0.02},null,"Switzerland","47","8.34","47","8.34",{"$f":"VLOOKUP(W48,'FMIS+eServices'!$EP$3:$IJ$200,86,FALSE)/100","v":0.03}]
[48,"Uruguay",48,6.32,51,5.92,{"$f":"VLOOKUP(B49,'FMIS+eServices'!$EP$3:$IJ$200,86,FALSE)/100","v":0.03},null,"Uruguay","48","7.05","52","6.80",{"$f":"VLOOKUP(I49,'FMIS+eServices'!$EP$3:$IJ$200,86,FALSE)/100","v":0.03},null,"Greece","48","4.65","46","4.32",{"$f":"VLOOKUP(P49,'FMIS+eServices'!$EP$3:$IJ$200,86,FALSE)/100","v":0.03},null,"Turkey","48","8.34","48","8.34",{"$f":"VLOOKUP(W49,'FMIS+eServices'!$EP$3:$IJ$200,86,FALSE)/100","v":0.03}]
[49,"Bulgaria",49,6.31,47,6.12,{"$f":"VLOOKUP(B50,'FMIS+eServices'!$EP$3:$IJ$200,86,FALSE)/100","v":0.02},null,"Poland","49","7.04","49","7.00",{"$f":"VLOOKUP(I50,'FMIS+eServices'!$EP$3:$IJ$200,86,FALSE)/100","v":0.03},null,"Portugal","49","4.61","44","4.35",{"$f":"VLOOKUP(P50,'FMIS+eServices'!$EP$3:$IJ$200,86,FALSE)/100","v":0.03},null,"Slovak Republic","49","8.28","49","8.28",{"$f":"VLOOKUP(W50,'FMIS+eServices'!$EP$3:$IJ$200,86,FALSE)/100","v":0.03}]
[50,"Serbia",50,6.24,49,6.07,{"$f":"VLOOKUP(B51,'FMIS+eServices'!$EP$3:$IJ$200,86,FALSE)/100","v":0.03},null,"Saudi Arabia","50","7.04","53","6.80",{"$f":"VLOOKUP(I51,'FMIS+eServices'!$EP$3:$IJ$200,86,FALSE)/100","v":0},null,"Uruguay","50","4.56","53","3.81",{"$f":"VLOOKUP(P51,'FMIS+eServices'!$EP$3:$IJ$200,86,FALSE)/100","v":0.03},null,"Hong Kong SAR, China","50","8.24","50","8.24",{"$f":"VLOOKUP(W51,'FMIS+eServices'!$EP$3:$IJ$200,86,FALSE)/100","v":0.03}]
[51,"Cyprus",51,6.11,48,6.09,{"$f":"VLOOKUP(B52,'FMIS+eServices'!$EP$3:$IJ$200,86,FALSE)/100","v":0.03},null,"Slovak Republic","51","7.03","50","6.93",{"$f":"VLOOKUP(I52,'FMIS+eServices'!$EP$3:$IJ$200,86,FALSE)/100","v":0.03},null,"Costa Rica","51","4.48","52","3.92",{"$f":"VLOOKUP(P52,'FMIS+eServices'!$EP$3:$IJ$200,86,FALSE)/100","v":0.03},null,"Saudi Arabia","51","8.17","51","8.17",{"$f":"VLOOKUP(W52,'FMIS+eServices'!$EP$3:$IJ$200,86,FALSE)/100","v":0}]
[52,"Oman",52,6.1,61,5.43,{"$f":"VLOOKUP(B53,'FMIS+eServices'!$EP$3:$IJ$200,86,FALSE)/100","v":0.02},null,"Antigua and Barbuda","52","7.02","45","7.02",{"$f":"VLOOKUP(I53,'FMIS+eServices'!$EP$3:$IJ$200,86,FALSE)/100","v":0},null,"Azerbaijan","52","4.40","58","3.55",{"$f":"VLOOKUP(P53,'FMIS+eServices'!$EP$3:$IJ$200,86,FALSE)/100","v":0.03},null,"Romania","52","8.17","52","8.17",{"$f":"VLOOKUP(W53,'FMIS+eServices'!$EP$3:$IJ$200,86,FALSE)/100","v":0.03}]
[53,"Kazakhstan",53,6.08,53,5.8,{"$f":"VLOOKUP(B54,'FMIS+eServices'!$EP$3:$IJ$200,86,FALSE)/100","v":0.03},null,"Lithuania","53","7.00","51","6.91",{"$f":"VLOOKUP(I54,'FMIS+eServices'!$EP$3:$IJ$200,86,FALSE)/100","v":0.03},null,"Serbia","53","4.34","50","4.05",{"$f":"VLOOKUP(P54,'FMIS+eServices'!$EP$3:$IJ$200,86,FALSE)/100","v":0.03},null,"Montenegro","53","8.15","53","8.15",{"$f":"VLOOKUP(W54,'FMIS+eServices'!$EP$3:$IJ$200,86,FALSE)/100","v":0.03}]
[54,"St. Kitts and Nevis",54,6.01,52,5.89,{"$f":"VLOOKUP(B55,'FMIS+eServices'!$EP$3:$IJ$200,86,FALSE)/100","v":0},null,"Cyprus","54","6.93","47","7.02",{"$f":"VLOOKUP(I55,'FMIS+eServices'!$EP$3:$IJ$200,86,FALSE)/100","v":0.03},null,"Cyprus","54","4.34","47","4.22",{"$f":"VLOOKUP(P55,'FMIS+eServices'!$EP$3:$IJ$200,86,FALSE)/100","v":0.03},null,"Costa Rica","54","8.13","54","8.13",{"$f":"VLOOKUP(W55,'FMIS+eServices'!$EP$3:$IJ$200,86,FALSE)/100","v":0.03}]
[55,"Costa Rica",55,5.92,55,5.64,{"$f":"VLOOKUP(B56,'FMIS+eServices'!$EP$3:$IJ$200,86,FALSE)/100","v":0.03},null,"St. Vincent and the Grenadines","55","6.85","56","6.72",{"$f":"VLOOKUP(I56,'FMIS+eServices'!$EP$3:$IJ$200,86,FALSE)/100","v":0.01},null,"Lebanon","55","4.33","59","3.52",{"$f":"VLOOKUP(P56,'FMIS+eServices'!$EP$3:$IJ$200,86,FALSE)/100","v":0.01},null,"Serbia","55","8.07","55","8.07",{"$f":"VLOOKUP(W56,'FMIS+eServices'!$EP$3:$IJ$200,86,FALSE)/100","v":0.03}]
[56,"Chile",56,5.92,54,5.68,{"$f":"VLOOKUP(B57,'FMIS+eServices'!$EP$3:$IJ$200,86,FALSE)/100","v":0.03},null,"Kazakhstan","56","6.84","54","6.73",{"$f":"VLOOKUP(I57,'FMIS+eServices'!$EP$3:$IJ$200,86,FALSE)/100","v":0.03},null,"Kazakhstan","56","4.33","55","3.73",{"$f":"VLOOKUP(P57,'FMIS+eServices'!$EP$3:$IJ$200,86,FALSE)/100","v":0.03},null,"Kazakhstan","56","8.06","56","8.06",{"$f":"VLOOKUP(W57,'FMIS+eServices'!$EP$3:$IJ$200,86,FALSE)/100","v":0.03}]
[57,"Antigua and Barbuda",57,5.89,59,5.49,{"$f":"VLOOKUP(B58,'FMIS+eServices'!$EP$3:$IJ$200,86,FALSE)/100","v":0},null,"Bulgaria","57","6.77","55","6.72",{"$f":"VLOOKUP(I58,'FMIS+eServices'!$EP$3:$IJ$200,86,FALSE)/100","v":0.02},null,"Macedonia","57","4.22","60","3.51",{"$f":"VLOOKUP(P58,'FMIS+eServices'!$EP$3:$IJ$200,86,FALSE)/100","v":0.03},null,"Armenia","57","8.04","57","8.04",{"$f":"VLOOKUP(W58,'FMIS+eServices'!$EP$3:$IJ$200,86,FALSE)/100","v":0.03}]
[58,"Romania",58,5.83,58,5.52,{"$f":"VLOOKUP(B59,'FMIS+eServices'!$EP$3:$IJ$200,86,FALSE)/100","v":0.03},null,"Montenegro","58","6.74","57","6.66",{"$f":"VLOOKUP(I59,'FMIS+eServices'!$EP$3:$IJ$200,86,FALSE)/100","v":0.03},null,"St. Kitts and Nevis","58","4.21","51","3.99",{"$f":"VLOOKUP(P59,'FMIS+eServices'!$EP$3:$IJ$200,86,FALSE)/100","v":0},null,"Cyprus","58","7.99","58","7.99",{"$f":"VLOOKUP(W59,'FMIS+eServices'!$EP$3:$IJ$200,86,FALSE)/100","v":0.03}]
[59,"Argentina",59,5.8,56,5.58,{"$f":"VLOOKUP(B60,'FMIS+eServices'!$EP$3:$IJ$200,86,FALSE)/100","v":0.03},null,"Romania","59","6.62","60","6.40",{"$f":"VLOOKUP(I60,'FMIS+eServices'!$EP$3:$IJ$200,86,FALSE)/100","v":0.03},null,"Chile","59","4.08","56","3.67",{"$f":"VLOOKUP(P60,'FMIS+eServices'!$EP$3:$IJ$200,86,FALSE)/100","v":0.03},null,"Singapore","59","7.90","59","7.90",{"$f":"VLOOKUP(W60,'FMIS+eServices'!$EP$3:$IJ$200,86,FALSE)/100","v":0.03}]
[60,"Macedonia",60,5.77,62,5.42,{"$f":"VLOOKUP(B61,'FMIS+eServices'!$EP$3:$IJ$200,86,FALSE)/100","v":0.03},null,"Argentina","60","6.62","61","6.38",{"$f":"VLOOKUP(I61,'FMIS+eServices'!$EP$3:$IJ$200,86,FALSE)/100","v":0.03},null,"Brazil","60","4.01","62","3.25",{"$f":"VLOOKUP(P61,'FMIS+eServices'!$EP$3:$IJ$200,86,FALSE)/100","v":0.03},null,"Albania","60","7.82","61","7.82",{"$f":"VLOOKUP(W61,'FMIS+eServices'!$EP$3:$IJ$200,86,FALSE)/100","v":0.03}]
[61,"Moldova",61,5.72,60,5.44,{"$f":"VLOOKUP(B62,'FMIS+eServices'!$EP$3:$IJ$200,86,FALSE)/100","v":0.03},null,"Malaysia","61","6.58","58","6.59",{"$f":"VLOOKUP(I62,'FMIS+eServices'!$EP$3:$IJ$200,86,FALSE)/100","v":0.03},null,"Antigua and Barbuda","61","3.99","68","2.99",{"$f":"VLOOKUP(P62,'FMIS+eServices'!$EP$3:$IJ$200,86,FALSE)/100","v":0},null,"Thailand","61","7.81","60","7.82",{"$f":"VLOOKUP(W62,'FMIS+eServices'!$EP$3:$IJ$200,86,FALSE)/100","v":0.03}]
[62,"Lebanon",62,5.71,64,5.32,{"$f":"VLOOKUP(B63,'FMIS+eServices'!$EP$3:$IJ$200,86,FALSE)/100","v":0.01},null,"Moldova","62","6.56","64","6.26",{"$f":"VLOOKUP(I63,'FMIS+eServices'!$EP$3:$IJ$200,86,FALSE)/100","v":0.03},null,"Moldova","62","3.94","57","3.56",{"$f":"VLOOKUP(P63,'FMIS+eServices'!$EP$3:$IJ$200,86,FALSE)/100","v":0.03},null,"Jordan","62","7.74","62","7.74",{"$f":"VLOOKUP(W63,'FMIS+eServices'!$EP$3:$IJ$200,86,FALSE)/100","v":0.02}]
[63,"Montenegro",63,5.67,57,5.52,{"$f":"VLOOKUP(B64,'FMIS+eServices'!$EP$3:$IJ$200,86,FALSE)/100","v":0.03},null,"Macedonia","63","6.55","59","6.40",{"$f":"VLOOKUP(I64,'FMIS+eServices'!$EP$3:$IJ$200,86,FALSE)/100","v":0.03},null,"Romania","63","3.87","61","3.33",{"$f":"VLOOKUP(P64,'FMIS+eServices'!$EP$3:$IJ$200,86,FALSE)/100","v":0.03},null,"Colombia","63","7.71","63","7.71",{"$f":"VLOOKUP(W64,'FMIS+eServices'!$EP$3:$IJ$200,86,FALSE)/100","v":0.03}]
[64,"Azerbaijan",64,5.65,65,5.22,{"$f":"VLOOKUP(B65,'FMIS+eServices'!$EP$3:$IJ$200,86,FALSE)/100","v":0.03},null,"Seychelles","64","6.46","69","6.06",{"$f":"VLOOKUP(I65,'FMIS+eServices'!$EP$3:$IJ$200,86,FALSE)/100","v":0.03},null,"Bosnia and Herzegovina","64","3.71","63","3.17",{"$f":"VLOOKUP(P65,'FMIS+eServices'!$EP$3:$IJ$200,86,FALSE)/100","v":0.03},null,"Kyrgyz Republic","64","7.62","64","7.62",{"$f":"VLOOKUP(W65,'FMIS+eServices'!$EP$3:$IJ$200,86,FALSE)/100","v":0.03}]
[65,"Brazil",65,5.5,67,5.16,{"$f":"VLOOKUP(B66,'FMIS+eServices'!$EP$3:$IJ$200,86,FALSE)/100","v":0.03},null,"Lebanon","65","6.45","62","6.29",{"$f":"VLOOKUP(I66,'FMIS+eServices'!$EP$3:$IJ$200,86,FALSE)/100","v":0.01},null,"Trinidad and Tobago","65","3.60","67","3.03",{"$f":"VLOOKUP(P66,'FMIS+eServices'!$EP$3:$IJ$200,86,FALSE)/100","v":0.03},null,"West Bank and Gaza","65","7.59","65","7.59",{"$f":"VLOOKUP(W66,'FMIS+eServices'!$EP$3:$IJ$200,86,FALSE)/100","v":0.02}]
[66,"Brunei Darussalam",66,5.43,63,5.36,{"$f":"VLOOKUP(B67,'FMIS+eServices'!$EP$3:$IJ$200,86,FALSE)/100","v":0},null,"Trinidad and Tobago","66","6.36","65","6.18",{"$f":"VLOOKUP(I67,'FMIS+eServices'!$EP$3:$IJ$200,86,FALSE)/100","v":0.03},null,"Argentina","66","3.42","65","3.10",{"$f":"VLOOKUP(P67,'FMIS+eServices'!$EP$3:$IJ$200,86,FALSE)/100","v":0.03},null,"Moldova","66","7.57","66","7.57",{"$f":"VLOOKUP(W67,'FMIS+eServices'!$EP$3:$IJ$200,86,FALSE)/100","v":0.03}]
[67,"Trinidad and Tobago",67,5.29,70,4.99,{"$f":"VLOOKUP(B68,'FMIS+eServices'!$EP$3:$IJ$200,86,FALSE)/100","v":0.03},null,"Chile","67","6.35","66","6.17",{"$f":"VLOOKUP(I68,'FMIS+eServices'!$EP$3:$IJ$200,86,FALSE)/100","v":0.03},null,"Montenegro","67","3.37","66","3.08",{"$f":"VLOOKUP(P68,'FMIS+eServices'!$EP$3:$IJ$200,86,FALSE)/100","v":0.03},null,"Peru","67","7.53","67","7.53",{"$f":"VLOOKUP(W68,'FMIS+eServices'!$EP$3:$IJ$200,86,FALSE)/100","v":0.03}]
[68,"Turkey",68,5.29,68,5.12,{"$f":"VLOOKUP(B69,'FMIS+eServices'!$EP$3:$IJ$200,86,FALSE)/100","v":0.03},null,"Mauritius","68","6.32","68","6.07",{"$f":"VLOOKUP(I69,'FMIS+eServices'!$EP$3:$IJ$200,86,FALSE)/100","v":0.02},null,"Albania","68","3.26","71","2.73",{"$f":"VLOOKUP(P69,'FMIS+eServices'!$EP$3:$IJ$200,86,FALSE)/100","v":0.03},null,"Iran","68","7.52","68","7.52",{"$f":"VLOOKUP(W69,'FMIS+eServices'!$EP$3:$IJ$200,86,FALSE)/100","v":0.02}]
[69,"Bosnia and Herzegovina",69,5.23,74,4.8899999999999997,{"$f":"VLOOKUP(B70,'FMIS+eServices'!$EP$3:$IJ$200,86,FALSE)/100","v":0.03},null,"Costa Rica","69","6.27","67","6.11",{"$f":"VLOOKUP(I70,'FMIS+eServices'!$EP$3:$IJ$200,86,FALSE)/100","v":0.03},null,"Turkey","69","3.24","69","2.98",{"$f":"VLOOKUP(P70,'FMIS+eServices'!$EP$3:$IJ$200,86,FALSE)/100","v":0.03},null,"Mauritius","69","7.51","69","7.51",{"$f":"VLOOKUP(W70,'FMIS+eServices'!$EP$3:$IJ$200,86,FALSE)/100","v":0.02}]
[70,"Mauritius",70,5.22,72,4.96,{"$f":"VLOOKUP(B71,'FMIS+eServices'!$EP$3:$IJ$200,86,FALSE)/100","v":0.02},null,"Ukraine","70","6.16","71","6.01",{"$f":"VLOOKUP(I71,'FMIS+eServices'!$EP$3:$IJ$200,86,FALSE)/100","v":0.03},null,"Malaysia","70","3.16","64","3.10",{"$f":"VLOOKUP(P71,'FMIS+eServices'!$EP$3:$IJ$200,86,FALSE)/100","v":0.03},null,"Bosnia and Herzegovina","70","7.50","70","7.50",{"$f":"VLOOKUP(W71,'FMIS+eServices'!$EP$3:$IJ$200,86,FALSE)/100","v":0.03}]
[71,"Malaysia",71,5.2,66,5.18,{"$f":"VLOOKUP(B72,'FMIS+eServices'!$EP$3:$IJ$200,86,FALSE)/100","v":0.03},null,"Brazil","71","6.14","70","6.03",{"$f":"VLOOKUP(I72,'FMIS+eServices'!$EP$3:$IJ$200,86,FALSE)/100","v":0.03},null,"Thailand","71","3.12","105","1.61",{"$f":"VLOOKUP(P72,'FMIS+eServices'!$EP$3:$IJ$200,86,FALSE)/100","v":0.03},null,"Bahrain","71","7.44","71","7.44",{"$f":"VLOOKUP(W72,'FMIS+eServices'!$EP$3:$IJ$200,86,FALSE)/100","v":0.03}]
[72,"St. Vincent and the Grenadines",72,5.17,69,5.04,{"$f":"VLOOKUP(B73,'FMIS+eServices'!$EP$3:$IJ$200,86,FALSE)/100","v":0.01},null,"Grenada","72","6.07","72","5.96",{"$f":"VLOOKUP(I73,'FMIS+eServices'!$EP$3:$IJ$200,86,FALSE)/100","v":0.01},null,"Fiji","72","3.08","96","1.99",{"$f":"VLOOKUP(P73,'FMIS+eServices'!$EP$3:$IJ$200,86,FALSE)/100","v":0.02},null,"Antigua and Barbuda","72","7.41","72","7.41",{"$f":"VLOOKUP(W73,'FMIS+eServices'!$EP$3:$IJ$200,86,FALSE)/100","v":0}]
[73,"Ukraine",73,5.15,71,4.97,{"$f":"VLOOKUP(B74,'FMIS+eServices'!$EP$3:$IJ$200,86,FALSE)/100","v":0.03},null,"Azerbaijan","73","6.07","73","5.83",{"$f":"VLOOKUP(I74,'FMIS+eServices'!$EP$3:$IJ$200,86,FALSE)/100","v":0.03},null,"Colombia","73","3.07","75","2.58",{"$f":"VLOOKUP(P74,'FMIS+eServices'!$EP$3:$IJ$200,86,FALSE)/100","v":0.03},null,"Azerbaijan","73","7.33","73","7.33",{"$f":"VLOOKUP(W74,'FMIS+eServices'!$EP$3:$IJ$200,86,FALSE)/100","v":0.03}]
[74,"Armenia",74,5.08,73,4.8899999999999997,{"$f":"VLOOKUP(B75,'FMIS+eServices'!$EP$3:$IJ$200,86,FALSE)/100","v":0.03},null,"Maldives","74","6.05","76","5.75",{"$f":"VLOOKUP(I75,'FMIS+eServices'!$EP$3:$IJ$200,86,FALSE)/100","v":0.02},null,"Botswana","74","3.03","70","2.93",{"$f":"VLOOKUP(P75,'FMIS+eServices'!$EP$3:$IJ$200,86,FALSE)/100","v":0.03},null,"Panama","74","7.32","74","7.32",{"$f":"VLOOKUP(W75,'FMIS+eServices'!$EP$3:$IJ$200,86,FALSE)/100","v":0.03}]
[75,"Seychelles",75,4.97,76,4.7,{"$f":"VLOOKUP(B76,'FMIS+eServices'!$EP$3:$IJ$200,86,FALSE)/100","v":0.03},null,"Georgia","75","5.99","78","5.61",{"$f":"VLOOKUP(I76,'FMIS+eServices'!$EP$3:$IJ$200,86,FALSE)/100","v":0.03},null,"St. Lucia","75","3.02","78","2.55",{"$f":"VLOOKUP(P76,'FMIS+eServices'!$EP$3:$IJ$200,86,FALSE)/100","v":0.01},null,"Malta","75","7.32","75","7.32",{"$f":"VLOOKUP(W76,'FMIS+eServices'!$EP$3:$IJ$200,86,FALSE)/100","v":0.03}]
[76,"Grenada",76,4.96,75,4.83,{"$f":"VLOOKUP(B77,'FMIS+eServices'!$EP$3:$IJ$200,86,FALSE)/100","v":0.01},null,"Dominica","76","5.86","74","5.79",{"$f":"VLOOKUP(I77,'FMIS+eServices'!$EP$3:$IJ$200,86,FALSE)/100","v":0.01},null,"Armenia","76","3.02","73","2.66",{"$f":"VLOOKUP(P77,'FMIS+eServices'!$EP$3:$IJ$200,86,FALSE)/100","v":0.03},null,"Brunei Darussalam","76","7.32","76","7.32",{"$f":"VLOOKUP(W77,'FMIS+eServices'!$EP$3:$IJ$200,86,FALSE)/100","v":0}]
[77,"Colombia",77,4.95,80,4.6100000000000003,{"$f":"VLOOKUP(B78,'FMIS+eServices'!$EP$3:$IJ$200,86,FALSE)/100","v":0.03},null,"Turkey","77","5.83","77","5.66",{"$f":"VLOOKUP(I78,'FMIS+eServices'!$EP$3:$IJ$200,86,FALSE)/100","v":0.03},null,"China","77","2.99","72","2.68",{"$f":"VLOOKUP(P78,'FMIS+eServices'!$EP$3:$IJ$200,86,FALSE)/100","v":0.03},null,"Ecuador","77","7.29","78","7.24",{"$f":"VLOOKUP(W78,'FMIS+eServices'!$EP$3:$IJ$200,86,FALSE)/100","v":0.03}]
[78,"Georgia",78,4.8600000000000003,83,4.4800000000000004,{"$f":"VLOOKUP(B79,'FMIS+eServices'!$EP$3:$IJ$200,86,FALSE)/100","v":0.03},null,"St. Lucia","78","5.68","75","5.77",{"$f":"VLOOKUP(I79,'FMIS+eServices'!$EP$3:$IJ$200,86,FALSE)/100","v":0.01},null,"Mauritius","78","2.97","76","2.57",{"$f":"VLOOKUP(P79,'FMIS+eServices'!$EP$3:$IJ$200,86,FALSE)/100","v":0.02},null,"Macedonia","78","7.29","77","7.29",{"$f":"VLOOKUP(W79,'FMIS+eServices'!$EP$3:$IJ$200,86,FALSE)/100","v":0.03}]
[79,"St. Lucia",79,4.8099999999999996,79,4.66,{"$f":"VLOOKUP(B80,'FMIS+eServices'!$EP$3:$IJ$200,86,FALSE)/100","v":0.01},null,"Armenia","79","5.64","79","5.55",{"$f":"VLOOKUP(I80,'FMIS+eServices'!$EP$3:$IJ$200,86,FALSE)/100","v":0.03},null,"Cape Verde","79","2.90","91","2.15",{"$f":"VLOOKUP(P80,'FMIS+eServices'!$EP$3:$IJ$200,86,FALSE)/100","v":0.03},null,"St. Vincent and the Grenadines","79","7.23","79","7.23",{"$f":"VLOOKUP(W80,'FMIS+eServices'!$EP$3:$IJ$200,86,FALSE)/100","v":0.01}]
[80,"Venezuela, RB",80,4.8099999999999996,78,4.68,{"$f":"VLOOKUP(B81,'FMIS+eServices'!$EP$3:$IJ$200,86,FALSE)/100","v":0.01},null,"Morocco","80","5.63","82","5.39",{"$f":"VLOOKUP(I81,'FMIS+eServices'!$EP$3:$IJ$200,86,FALSE)/100","v":0.03},null,"Egypt","80","2.87","77","2.55",{"$f":"VLOOKUP(P81,'FMIS+eServices'!$EP$3:$IJ$200,86,FALSE)/100","v":0.03},null,"Brazil","80","7.22","80","7.22",{"$f":"VLOOKUP(W81,'FMIS+eServices'!$EP$3:$IJ$200,86,FALSE)/100","v":0.03}]
[81,"Thailand",81,4.76,91,4.09,{"$f":"VLOOKUP(B82,'FMIS+eServices'!$EP$3:$IJ$200,86,FALSE)/100","v":0.03},null,"Bosnia and Herzegovina","81","5.63","83","5.31",{"$f":"VLOOKUP(I82,'FMIS+eServices'!$EP$3:$IJ$200,86,FALSE)/100","v":0.03},null,"Dominica","81","2.79","80","2.50",{"$f":"VLOOKUP(P82,'FMIS+eServices'!$EP$3:$IJ$200,86,FALSE)/100","v":0.01},null,"Georgia","81","7.14","81","7.14",{"$f":"VLOOKUP(W82,'FMIS+eServices'!$EP$3:$IJ$200,86,FALSE)/100","v":0.03}]
[82,"Panama",82,4.75,77,4.6900000000000004,{"$f":"VLOOKUP(B83,'FMIS+eServices'!$EP$3:$IJ$200,86,FALSE)/100","v":0.03},null,"Iran","82","5.53","85","5.11",{"$f":"VLOOKUP(I83,'FMIS+eServices'!$EP$3:$IJ$200,86,FALSE)/100","v":0.02},null,"South Africa","82","2.75","83","2.32",{"$f":"VLOOKUP(P83,'FMIS+eServices'!$EP$3:$IJ$200,86,FALSE)/100","v":0.03},null,"Luxembourg","82","7.08","82","7.08",{"$f":"VLOOKUP(W83,'FMIS+eServices'!$EP$3:$IJ$200,86,FALSE)/100","v":0.03}]
[83,"Dominica",83,4.72,81,4.58,{"$f":"VLOOKUP(B84,'FMIS+eServices'!$EP$3:$IJ$200,86,FALSE)/100","v":0.01},null,"Panama","83","5.53","80","5.46",{"$f":"VLOOKUP(I84,'FMIS+eServices'!$EP$3:$IJ$200,86,FALSE)/100","v":0.03},null,"Seychelles","83","2.74","81","2.47",{"$f":"VLOOKUP(P84,'FMIS+eServices'!$EP$3:$IJ$200,86,FALSE)/100","v":0.03},null,"St. Kitts and Nevis","83","7.03","83","7.03",{"$f":"VLOOKUP(W84,'FMIS+eServices'!$EP$3:$IJ$200,86,FALSE)/100","v":0}]
[84,"Albania",84,4.72,85,4.42,{"$f":"VLOOKUP(B85,'FMIS+eServices'!$EP$3:$IJ$200,86,FALSE)/100","v":0.03},null,"Jordan","84","5.47","81","5.43",{"$f":"VLOOKUP(I85,'FMIS+eServices'!$EP$3:$IJ$200,86,FALSE)/100","v":0.02},null,"Panama","84","2.70","74","2.61",{"$f":"VLOOKUP(P85,'FMIS+eServices'!$EP$3:$IJ$200,86,FALSE)/100","v":0.03},null,"China","84","7.02","84","7.02",{"$f":"VLOOKUP(W85,'FMIS+eServices'!$EP$3:$IJ$200,86,FALSE)/100","v":0.03}]
[85,"Maldives",85,4.71,82,4.5,{"$f":"VLOOKUP(B86,'FMIS+eServices'!$EP$3:$IJ$200,86,FALSE)/100","v":0.02},null,"Colombia","85","5.44","86","5.08",{"$f":"VLOOKUP(I86,'FMIS+eServices'!$EP$3:$IJ$200,86,FALSE)/100","v":0.03},null,"Brunei Darussalam","85","2.68","79","2.53",{"$f":"VLOOKUP(P86,'FMIS+eServices'!$EP$3:$IJ$200,86,FALSE)/100","v":0},null,"Lebanon","85","6.99","85","6.99",{"$f":"VLOOKUP(W86,'FMIS+eServices'!$EP$3:$IJ$200,86,FALSE)/100","v":0.01}]
[86,"China",86,4.6399999999999997,86,4.3899999999999997,{"$f":"VLOOKUP(B87,'FMIS+eServices'!$EP$3:$IJ$200,86,FALSE)/100","v":0.03},null,"Suriname","86","5.38","87","5.05",{"$f":"VLOOKUP(I87,'FMIS+eServices'!$EP$3:$IJ$200,86,FALSE)/100","v":0.02},null,"Maldives","86","2.66","82","2.43",{"$f":"VLOOKUP(P87,'FMIS+eServices'!$EP$3:$IJ$200,86,FALSE)/100","v":0.02},null,"South Africa","86","6.98","86","6.98",{"$f":"VLOOKUP(W87,'FMIS+eServices'!$EP$3:$IJ$200,86,FALSE)/100","v":0.03}]
[87,"Jordan",87,4.62,84,4.4800000000000004,{"$f":"VLOOKUP(B88,'FMIS+eServices'!$EP$3:$IJ$200,86,FALSE)/100","v":0.02},null,"Venezuela, RB","87","5.36","84","5.23",{"$f":"VLOOKUP(I88,'FMIS+eServices'!$EP$3:$IJ$200,86,FALSE)/100","v":0.01},null,"Dominican Republic","87","2.65","92","2.13",{"$f":"VLOOKUP(P88,'FMIS+eServices'!$EP$3:$IJ$200,86,FALSE)/100","v":0.03},null,"Bolivia","87","6.97","87","6.97",{"$f":"VLOOKUP(W88,'FMIS+eServices'!$EP$3:$IJ$200,86,FALSE)/100","v":0.03}]
[88,"Ecuador",88,4.5599999999999996,88,4.28,{"$f":"VLOOKUP(B89,'FMIS+eServices'!$EP$3:$IJ$200,86,FALSE)/100","v":0.03},null,"Ecuador","88","5.16","89","4.89",{"$f":"VLOOKUP(I89,'FMIS+eServices'!$EP$3:$IJ$200,86,FALSE)/100","v":0.03},null,"Jamaica","88","2.62","94","2.13",{"$f":"VLOOKUP(P89,'FMIS+eServices'!$EP$3:$IJ$200,86,FALSE)/100","v":0.02},null,"Mexico","88","6.96","88","6.96",{"$f":"VLOOKUP(W89,'FMIS+eServices'!$EP$3:$IJ$200,86,FALSE)/100","v":0.03}]
[89,"Egypt",89,4.45,87,4.28,{"$f":"VLOOKUP(B90,'FMIS+eServices'!$EP$3:$IJ$200,86,FALSE)/100","v":0.03},null,"China","89","5.10","91","4.78",{"$f":"VLOOKUP(I90,'FMIS+eServices'!$EP$3:$IJ$200,86,FALSE)/100","v":0.03},null,"Tunisia","89","2.59","88","2.18",{"$f":"VLOOKUP(P90,'FMIS+eServices'!$EP$3:$IJ$200,86,FALSE)/100","v":0.02},null,"Qatar","89","6.95","89","6.95",{"$f":"VLOOKUP(W90,'FMIS+eServices'!$EP$3:$IJ$200,86,FALSE)/100","v":0.03}]
[90,"South Africa",90,4.42,89,4.1900000000000004,{"$f":"VLOOKUP(B91,'FMIS+eServices'!$EP$3:$IJ$200,86,FALSE)/100","v":0.03},null,"Egypt","90","5.09","88","4.99",{"$f":"VLOOKUP(I91,'FMIS+eServices'!$EP$3:$IJ$200,86,FALSE)/100","v":0.03},null,"Georgia","90","2.58","95","2.03",{"$f":"VLOOKUP(P91,'FMIS+eServices'!$EP$3:$IJ$200,86,FALSE)/100","v":0.03},null,"Oman","90","6.95","90","6.95",{"$f":"VLOOKUP(W91,'FMIS+eServices'!$EP$3:$IJ$200,86,FALSE)/100","v":0.02}]
[91,"Fiji",91,4.4000000000000004,103,3.9,{"$f":"VLOOKUP(B92,'FMIS+eServices'!$EP$3:$IJ$200,86,FALSE)/100","v":0.02},null,"Thailand","91","4.88","92","4.71",{"$f":"VLOOKUP(I92,'FMIS+eServices'!$EP$3:$IJ$200,86,FALSE)/100","v":0.03},null,"Ecuador","91","2.58","87","2.18",{"$f":"VLOOKUP(P92,'FMIS+eServices'!$EP$3:$IJ$200,86,FALSE)/100","v":0.03},null,"Uzbekistan","91","6.94","91","6.94",{"$f":"VLOOKUP(W92,'FMIS+eServices'!$EP$3:$IJ$200,86,FALSE)/100","v":0.02}]
[92,"Mongolia",92,4.32,90,4.1900000000000004,{"$f":"VLOOKUP(B93,'FMIS+eServices'!$EP$3:$IJ$200,86,FALSE)/100","v":0.03},null,"South Africa","92","4.82","94","4.66",{"$f":"VLOOKUP(I93,'FMIS+eServices'!$EP$3:$IJ$200,86,FALSE)/100","v":0.03},null,"Morocco","92","2.50","84","2.30",{"$f":"VLOOKUP(P93,'FMIS+eServices'!$EP$3:$IJ$200,86,FALSE)/100","v":0.03},null,"Philippines","92","6.93","92","6.93",{"$f":"VLOOKUP(W93,'FMIS+eServices'!$EP$3:$IJ$200,86,FALSE)/100","v":0.03}]
[93,"Cape Verde",93,4.3,104,3.86,{"$f":"VLOOKUP(B94,'FMIS+eServices'!$EP$3:$IJ$200,86,FALSE)/100","v":0.03},null,"Mexico","93","4.80","97","4.54",{"$f":"VLOOKUP(I94,'FMIS+eServices'!$EP$3:$IJ$200,86,FALSE)/100","v":0.03},null,"Vietnam","93","2.50","86","2.21",{"$f":"VLOOKUP(P94,'FMIS+eServices'!$EP$3:$IJ$200,86,FALSE)/100","v":0.03},null,"Sri Lanka","93","6.91","93","6.91",{"$f":"VLOOKUP(W94,'FMIS+eServices'!$EP$3:$IJ$200,86,FALSE)/100","v":0.01}]
[94,"Iran",94,4.29,97,4.0199999999999996,{"$f":"VLOOKUP(B95,'FMIS+eServices'!$EP$3:$IJ$200,86,FALSE)/100","v":0.02},null,"Mongolia","94","4.79","90","4.78",{"$f":"VLOOKUP(I95,'FMIS+eServices'!$EP$3:$IJ$200,86,FALSE)/100","v":0.03},null,"St. Vincent and the Grenadines","94","2.47","85","2.27",{"$f":"VLOOKUP(P95,'FMIS+eServices'!$EP$3:$IJ$200,86,FALSE)/100","v":0.01},null,"Jamaica","94","6.89","94","6.89",{"$f":"VLOOKUP(W95,'FMIS+eServices'!$EP$3:$IJ$200,86,FALSE)/100","v":0.02}]
[95,"Mexico",95,4.29,94,4.07,{"$f":"VLOOKUP(B96,'FMIS+eServices'!$EP$3:$IJ$200,86,FALSE)/100","v":0.03},null,"West Bank and Gaza","95","4.77","93","4.67",{"$f":"VLOOKUP(I96,'FMIS+eServices'!$EP$3:$IJ$200,86,FALSE)/100","v":0.02},null,"Mexico","95","2.45","90","2.17",{"$f":"VLOOKUP(P96,'FMIS+eServices'!$EP$3:$IJ$200,86,FALSE)/100","v":0.03},null,"Indonesia","95","6.89","95","6.89",{"$f":"VLOOKUP(W96,'FMIS+eServices'!$EP$3:$IJ$200,86,FALSE)/100","v":0.03}]
[96,"Morocco",96,4.2699999999999996,92,4.09,{"$f":"VLOOKUP(B97,'FMIS+eServices'!$EP$3:$IJ$200,86,FALSE)/100","v":0.03},null,"El Salvador","96","4.76","95","4.61",{"$f":"VLOOKUP(I97,'FMIS+eServices'!$EP$3:$IJ$200,86,FALSE)/100","v":0.03},null,"Venezuela, RB","96","2.36","89","2.17",{"$f":"VLOOKUP(P97,'FMIS+eServices'!$EP$3:$IJ$200,86,FALSE)/100","v":0.01},null,"Tunisia","96","6.86","96","6.86",{"$f":"VLOOKUP(W97,'FMIS+eServices'!$EP$3:$IJ$200,86,FALSE)/100","v":0.02}]
[97,"Jamaica",97,4.26,98,4.01,{"$f":"VLOOKUP(B98,'FMIS+eServices'!$EP$3:$IJ$200,86,FALSE)/100","v":0.02},null,"Albania","97","4.62","101","4.42",{"$f":"VLOOKUP(I98,'FMIS+eServices'!$EP$3:$IJ$200,86,FALSE)/100","v":0.03},null,"Philippines","97","2.28","93","2.13",{"$f":"VLOOKUP(P98,'FMIS+eServices'!$EP$3:$IJ$200,86,FALSE)/100","v":0.03},null,"United Arab Emirates","97","6.79","97","6.79",{"$f":"VLOOKUP(W98,'FMIS+eServices'!$EP$3:$IJ$200,86,FALSE)/100","v":0.02}]
[98,"Suriname",98,4.26,93,4.08,{"$f":"VLOOKUP(B99,'FMIS+eServices'!$EP$3:$IJ$200,86,FALSE)/100","v":0.02},null,"Fiji","98","4.60","100","4.44",{"$f":"VLOOKUP(I99,'FMIS+eServices'!$EP$3:$IJ$200,86,FALSE)/100","v":0.02},null,"Jordan","98","2.22","100","1.90",{"$f":"VLOOKUP(P99,'FMIS+eServices'!$EP$3:$IJ$200,86,FALSE)/100","v":0.02},null,"Algeria","98","6.72","98","6.72",{"$f":"VLOOKUP(W99,'FMIS+eServices'!$EP$3:$IJ$200,86,FALSE)/100","v":0.01}]
[99,"Tunisia",99,4.2300000000000004,96,4.07,{"$f":"VLOOKUP(B100,'FMIS+eServices'!$EP$3:$IJ$200,86,FALSE)/100","v":0.02},null,"Jamaica","99","4.58","99","4.46",{"$f":"VLOOKUP(I100,'FMIS+eServices'!$EP$3:$IJ$200,86,FALSE)/100","v":0.02},null,"Grenada","99","2.14","99","1.91",{"$f":"VLOOKUP(P100,'FMIS+eServices'!$EP$3:$IJ$200,86,FALSE)/100","v":0.01},null,"Dominican Republic","99","6.69","100","6.67",{"$f":"VLOOKUP(W100,'FMIS+eServices'!$EP$3:$IJ$200,86,FALSE)/100","v":0.03}]
[100,"West Bank and Gaza",100,4.16,95,4.07,{"$f":"VLOOKUP(B101,'FMIS+eServices'!$EP$3:$IJ$200,86,FALSE)/100","v":0.02},null,"Tunisia","100","4.56","96","4.56",{"$f":"VLOOKUP(I101,'FMIS+eServices'!$EP$3:$IJ$200,86,FALSE)/100","v":0.02},null,"Ukraine","100","2.11","101","1.80",{"$f":"VLOOKUP(P101,'FMIS+eServices'!$EP$3:$IJ$200,86,FALSE)/100","v":0.03},null,"St. Lucia","100","6.67","99","6.67",{"$f":"VLOOKUP(W101,'FMIS+eServices'!$EP$3:$IJ$200,86,FALSE)/100","v":0.01}]
[101,"Vietnam",101,4.09,99,3.94,{"$f":"VLOOKUP(B102,'FMIS+eServices'!$EP$3:$IJ$200,86,FALSE)/100","v":0.03},null,"Cape Verde","101","4.55","108","4.19",{"$f":"VLOOKUP(I102,'FMIS+eServices'!$EP$3:$IJ$200,86,FALSE)/100","v":0.03},null,"Uzbekistan","101","2.09","98","1.94",{"$f":"VLOOKUP(P102,'FMIS+eServices'!$EP$3:$IJ$200,86,FALSE)/100","v":0.02},null,"Fiji","101","6.64","101","6.64",{"$f":"VLOOKUP(W102,'FMIS+eServices'!$EP$3:$IJ$200,86,FALSE)/100","v":0.02}]
[102,"Dominican Republic",102,4.0599999999999996,105,3.78,{"$f":"VLOOKUP(B103,'FMIS+eServices'!$EP$3:$IJ$200,86,FALSE)/100","v":0.03},null,"Peru","102","4.54","102","4.41",{"$f":"VLOOKUP(I103,'FMIS+eServices'!$EP$3:$IJ$200,86,FALSE)/100","v":0.03},null,"Suriname","102","2.06","97","1.96",{"$f":"VLOOKUP(P103,'FMIS+eServices'!$EP$3:$IJ$200,86,FALSE)/100","v":0.02},null,"Cape Verde","102","6.62","102","6.62",{"$f":"VLOOKUP(W103,'FMIS+eServices'!$EP$3:$IJ$200,86,FALSE)/100","v":0.03}]
[103,"Philippines",103,4.0199999999999996,102,3.91,{"$f":"VLOOKUP(B104,'FMIS+eServices'!$EP$3:$IJ$200,86,FALSE)/100","v":0.03},null,"Syrian Arab Republic","103","4.50","98","4.47",{"$f":"VLOOKUP(I104,'FMIS+eServices'!$EP$3:$IJ$200,86,FALSE)/100","v":0},null,"Zimbabwe","103","1.92","108","1.53",{"$f":"VLOOKUP(P104,'FMIS+eServices'!$EP$3:$IJ$200,86,FALSE)/100","v":0},null,"Paraguay","103","6.59","103","6.59",{"$f":"VLOOKUP(W104,'FMIS+eServices'!$EP$3:$IJ$200,86,FALSE)/100","v":0.03}]
[104,"Botswana",104,4.01,100,3.94,{"$f":"VLOOKUP(B105,'FMIS+eServices'!$EP$3:$IJ$200,86,FALSE)/100","v":0.03},null,"Paraguay","104","4.49","104","4.36",{"$f":"VLOOKUP(I105,'FMIS+eServices'!$EP$3:$IJ$200,86,FALSE)/100","v":0.03},null,"Bolivia","104","1.86","109","1.46",{"$f":"VLOOKUP(P105,'FMIS+eServices'!$EP$3:$IJ$200,86,FALSE)/100","v":0.03},null,"Guyana","104","6.59","104","6.59",{"$f":"VLOOKUP(W105,'FMIS+eServices'!$EP$3:$IJ$200,86,FALSE)/100","v":0.01}]
[105,"Peru",105,4,101,3.92,{"$f":"VLOOKUP(B106,'FMIS+eServices'!$EP$3:$IJ$200,86,FALSE)/100","v":0.03},null,"Vietnam","105","4.48","103","4.39",{"$f":"VLOOKUP(I106,'FMIS+eServices'!$EP$3:$IJ$200,86,FALSE)/100","v":0.03},null,"West Bank and Gaza","105","1.84","102","1.72",{"$f":"VLOOKUP(P106,'FMIS+eServices'!$EP$3:$IJ$200,86,FALSE)/100","v":0.02},null,"Malaysia","105","6.54","105","6.54",{"$f":"VLOOKUP(W106,'FMIS+eServices'!$EP$3:$IJ$200,86,FALSE)/100","v":0.03}]
[106,"Indonesia",106,3.83,106,3.7,{"$f":"VLOOKUP(B107,'FMIS+eServices'!$EP$3:$IJ$200,86,FALSE)/100","v":0.03},null,"Ghana","106","4.47","106","4.30",{"$f":"VLOOKUP(I107,'FMIS+eServices'!$EP$3:$IJ$200,86,FALSE)/100","v":0.03},null,"Indonesia","106","1.80","104","1.61",{"$f":"VLOOKUP(P107,'FMIS+eServices'!$EP$3:$IJ$200,86,FALSE)/100","v":0.03},null,"Trinidad and Tobago","106","6.54","106","6.54",{"$f":"VLOOKUP(W107,'FMIS+eServices'!$EP$3:$IJ$200,86,FALSE)/100","v":0.03}]
[107,"Bolivia",107,3.78,109,3.52,{"$f":"VLOOKUP(B108,'FMIS+eServices'!$EP$3:$IJ$200,86,FALSE)/100","v":0.03},null,"Algeria","107","4.46","107","4.22",{"$f":"VLOOKUP(I108,'FMIS+eServices'!$EP$3:$IJ$200,86,FALSE)/100","v":0.01},null,"Ghana","107","1.76","107","1.55",{"$f":"VLOOKUP(P108,'FMIS+eServices'!$EP$3:$IJ$200,86,FALSE)/100","v":0.03},null,"Vietnam","107","6.50","107","6.50",{"$f":"VLOOKUP(W108,'FMIS+eServices'!$EP$3:$IJ$200,86,FALSE)/100","v":0.03}]
[108,"Kyrgyz Republic",108,3.78,107,3.69,{"$f":"VLOOKUP(B109,'FMIS+eServices'!$EP$3:$IJ$200,86,FALSE)/100","v":0.03},null,"Guatemala","108","4.35","105","4.32",{"$f":"VLOOKUP(I109,'FMIS+eServices'!$EP$3:$IJ$200,86,FALSE)/100","v":0.03},null,"Peru","108","1.69","103","1.62",{"$f":"VLOOKUP(P109,'FMIS+eServices'!$EP$3:$IJ$200,86,FALSE)/100","v":0.03},null,"Seychelles","108","6.44","108","6.44",{"$f":"VLOOKUP(W109,'FMIS+eServices'!$EP$3:$IJ$200,86,FALSE)/100","v":0.03}]
[109,"Paraguay",109,3.71,108,3.56,{"$f":"VLOOKUP(B110,'FMIS+eServices'!$EP$3:$IJ$200,86,FALSE)/100","v":0.03},null,"Indonesia","109","4.32","109","4.19",{"$f":"VLOOKUP(I110,'FMIS+eServices'!$EP$3:$IJ$200,86,FALSE)/100","v":0.03},null,"Mongolia","109","1.69","112","1.37",{"$f":"VLOOKUP(P110,'FMIS+eServices'!$EP$3:$IJ$200,86,FALSE)/100","v":0.03},null,"Suriname","109","6.40","109","6.40",{"$f":"VLOOKUP(W110,'FMIS+eServices'!$EP$3:$IJ$200,86,FALSE)/100","v":0.02}]
[110,"El Salvador",110,3.61,110,3.47,{"$f":"VLOOKUP(B111,'FMIS+eServices'!$EP$3:$IJ$200,86,FALSE)/100","v":0.03},null,"Philippines","110","4.30","110","4.17",{"$f":"VLOOKUP(I111,'FMIS+eServices'!$EP$3:$IJ$200,86,FALSE)/100","v":0.03},null,"Namibia","110","1.67","106","1.60",{"$f":"VLOOKUP(P111,'FMIS+eServices'!$EP$3:$IJ$200,86,FALSE)/100","v":0.02},null,"Egypt","110","6.33","110","6.33",{"$f":"VLOOKUP(W111,'FMIS+eServices'!$EP$3:$IJ$200,86,FALSE)/100","v":0.03}]
[111,"Guyana",111,3.48,111,3.44,{"$f":"VLOOKUP(B112,'FMIS+eServices'!$EP$3:$IJ$200,86,FALSE)/100","v":0.01},null,"Dominican Republic","111","4.15","114","3.97",{"$f":"VLOOKUP(I112,'FMIS+eServices'!$EP$3:$IJ$200,86,FALSE)/100","v":0.03},null,"Bhutan","111","1.67","119","1.06",{"$f":"VLOOKUP(P112,'FMIS+eServices'!$EP$3:$IJ$200,86,FALSE)/100","v":0.01},null,"Dominica","111","6.31","111","6.31",{"$f":"VLOOKUP(W112,'FMIS+eServices'!$EP$3:$IJ$200,86,FALSE)/100","v":0.01}]
[112,"Syrian Arab Republic",112,3.46,112,3.39,{"$f":"VLOOKUP(B113,'FMIS+eServices'!$EP$3:$IJ$200,86,FALSE)/100","v":0},null,"Bolivia","112","4.11","116","3.85",{"$f":"VLOOKUP(I113,'FMIS+eServices'!$EP$3:$IJ$200,86,FALSE)/100","v":0.03},null,"Sudan","112","1.65","111","1.39",{"$f":"VLOOKUP(P113,'FMIS+eServices'!$EP$3:$IJ$200,86,FALSE)/100","v":0},null,"Syrian Arab Republic","112","6.17","112","6.17",{"$f":"VLOOKUP(W113,'FMIS+eServices'!$EP$3:$IJ$200,86,FALSE)/100","v":0}]
[113,"Ghana",113,3.46,115,3.29,{"$f":"VLOOKUP(B114,'FMIS+eServices'!$EP$3:$IJ$200,86,FALSE)/100","v":0.03},null,"Botswana","113","4.06","113","3.99",{"$f":"VLOOKUP(I114,'FMIS+eServices'!$EP$3:$IJ$200,86,FALSE)/100","v":0.03},null,"Nigeria","113","1.60","113","1.32",{"$f":"VLOOKUP(P114,'FMIS+eServices'!$EP$3:$IJ$200,86,FALSE)/100","v":0.03},null,"Maldives","113","6.12","113","6.12",{"$f":"VLOOKUP(W114,'FMIS+eServices'!$EP$3:$IJ$200,86,FALSE)/100","v":0.02}]
[114,"Algeria",114,3.42,114,3.3,{"$f":"VLOOKUP(B115,'FMIS+eServices'!$EP$3:$IJ$200,86,FALSE)/100","v":0.01},null,"Kyrgyz Republic","114","4.05","111","4.01",{"$f":"VLOOKUP(I115,'FMIS+eServices'!$EP$3:$IJ$200,86,FALSE)/100","v":0.03},null,"Kyrgyz Republic","114","1.59","110","1.41",{"$f":"VLOOKUP(P115,'FMIS+eServices'!$EP$3:$IJ$200,86,FALSE)/100","v":0.03},null,"El Salvador","114","6.00","114","6.00",{"$f":"VLOOKUP(W115,'FMIS+eServices'!$EP$3:$IJ$200,86,FALSE)/100","v":0.03}]
[115,"Uzbekistan",115,3.4,116,3.27,{"$f":"VLOOKUP(B116,'FMIS+eServices'!$EP$3:$IJ$200,86,FALSE)/100","v":0.02},null,"Guyana","115","4.04","112","3.99",{"$f":"VLOOKUP(I116,'FMIS+eServices'!$EP$3:$IJ$200,86,FALSE)/100","v":0.01},null,"Paraguay","115","1.50","115","1.24",{"$f":"VLOOKUP(P116,'FMIS+eServices'!$EP$3:$IJ$200,86,FALSE)/100","v":0.03},null,"Honduras","115","5.96","115","5.96",{"$f":"VLOOKUP(W116,'FMIS+eServices'!$EP$3:$IJ$200,86,FALSE)/100","v":0.03}]
[116,"Sri Lanka",116,3.36,113,3.31,{"$f":"VLOOKUP(B117,'FMIS+eServices'!$EP$3:$IJ$200,86,FALSE)/100","v":0.01},null,"Nicaragua","116","3.98","119","3.63",{"$f":"VLOOKUP(I117,'FMIS+eServices'!$EP$3:$IJ$200,86,FALSE)/100","v":0.03},null,"Iran","116","1.44","116","1.18",{"$f":"VLOOKUP(P117,'FMIS+eServices'!$EP$3:$IJ$200,86,FALSE)/100","v":0.02},null,"Botswana","116","5.86","116","5.86",{"$f":"VLOOKUP(W117,'FMIS+eServices'!$EP$3:$IJ$200,86,FALSE)/100","v":0.03}]
[117,"Namibia",117,3.24,118,3.08,{"$f":"VLOOKUP(B118,'FMIS+eServices'!$EP$3:$IJ$200,86,FALSE)/100","v":0.02},null,"Honduras","117","3.94","120","3.62",{"$f":"VLOOKUP(I118,'FMIS+eServices'!$EP$3:$IJ$200,86,FALSE)/100","v":0.03},null,"Kenya","117","1.41","117","1.15",{"$f":"VLOOKUP(P118,'FMIS+eServices'!$EP$3:$IJ$200,86,FALSE)/100","v":0.03},null,"Nicaragua","117","5.49","117","5.49",{"$f":"VLOOKUP(W118,'FMIS+eServices'!$EP$3:$IJ$200,86,FALSE)/100","v":0.03}]
[118,"Guatemala",118,3.2,117,3.11,{"$f":"VLOOKUP(B119,'FMIS+eServices'!$EP$3:$IJ$200,86,FALSE)/100","v":0.03},null,"Namibia","118","3.93","121","3.59",{"$f":"VLOOKUP(I119,'FMIS+eServices'!$EP$3:$IJ$200,86,FALSE)/100","v":0.02},null,"Guyana","118","1.36","114","1.31",{"$f":"VLOOKUP(P119,'FMIS+eServices'!$EP$3:$IJ$200,86,FALSE)/100","v":0.01},null,"Solomon Islands","118","5.44","118","5.44",{"$f":"VLOOKUP(W119,'FMIS+eServices'!$EP$3:$IJ$200,86,FALSE)/100","v":0.03}]
[119,"Honduras",119,3.18,119,3.01,{"$f":"VLOOKUP(B120,'FMIS+eServices'!$EP$3:$IJ$200,86,FALSE)/100","v":0.03},null,"Gabon","119","3.88","117","3.81",{"$f":"VLOOKUP(I120,'FMIS+eServices'!$EP$3:$IJ$200,86,FALSE)/100","v":0.03},null,"El Salvador","119","1.27","118","1.07",{"$f":"VLOOKUP(P120,'FMIS+eServices'!$EP$3:$IJ$200,86,FALSE)/100","v":0.03},null,"Guatemala","119","5.37","119","5.37",{"$f":"VLOOKUP(W120,'FMIS+eServices'!$EP$3:$IJ$200,86,FALSE)/100","v":0.03}]
[120,"Nicaragua",120,2.96,120,2.78,{"$f":"VLOOKUP(B121,'FMIS+eServices'!$EP$3:$IJ$200,86,FALSE)/100","v":0.03},null,"Sri Lanka","120","3.85","115","3.86",{"$f":"VLOOKUP(I121,'FMIS+eServices'!$EP$3:$IJ$200,86,FALSE)/100","v":0.01},null,"Senegal","120","1.25","126","0.80",{"$f":"VLOOKUP(P121,'FMIS+eServices'!$EP$3:$IJ$200,86,FALSE)/100","v":0.03},null,"Myanmar","120","5.22","120","5.22",{"$f":"VLOOKUP(W121,'FMIS+eServices'!$EP$3:$IJ$200,86,FALSE)/100","v":0}]
[121,"Zimbabwe",121,2.89,123,2.68,{"$f":"VLOOKUP(B122,'FMIS+eServices'!$EP$3:$IJ$200,86,FALSE)/100","v":0},null,"Cambodia","121","3.73","118","3.70",{"$f":"VLOOKUP(I122,'FMIS+eServices'!$EP$3:$IJ$200,86,FALSE)/100","v":0.02},null,"Sri Lanka","121","1.10","120","0.96",{"$f":"VLOOKUP(P122,'FMIS+eServices'!$EP$3:$IJ$200,86,FALSE)/100","v":0.01},null,"India","121","5.20","121","5.20",{"$f":"VLOOKUP(W122,'FMIS+eServices'!$EP$3:$IJ$200,86,FALSE)/100","v":0.03}]
[122,"Sudan",122,2.88,121,2.69,{"$f":"VLOOKUP(B123,'FMIS+eServices'!$EP$3:$IJ$200,86,FALSE)/100","v":0},null,"Mali","122","3.55","126","3.13",{"$f":"VLOOKUP(I123,'FMIS+eServices'!$EP$3:$IJ$200,86,FALSE)/100","v":0.03},null,"Syrian Arab Republic","122","1.07","122","0.93",{"$f":"VLOOKUP(P123,'FMIS+eServices'!$EP$3:$IJ$200,86,FALSE)/100","v":0},null,"Morocco","122","5.07","122","5.07",{"$f":"VLOOKUP(W123,'FMIS+eServices'!$EP$3:$IJ$200,86,FALSE)/100","v":0.03}]
[123,"Bhutan",123,2.85,126,2.58,{"$f":"VLOOKUP(B124,'FMIS+eServices'!$EP$3:$IJ$200,86,FALSE)/100","v":0.01},null,"Sudan","123","3.46","122","3.24",{"$f":"VLOOKUP(I124,'FMIS+eServices'!$EP$3:$IJ$200,86,FALSE)/100","v":0},null,"Angola","123","1.06","124","0.82",{"$f":"VLOOKUP(P124,'FMIS+eServices'!$EP$3:$IJ$200,86,FALSE)/100","v":0.02},null,"Namibia","123","5.02","123","5.02",{"$f":"VLOOKUP(W124,'FMIS+eServices'!$EP$3:$IJ$200,86,FALSE)/100","v":0.02}]
[124,"Kenya",124,2.79,124,2.62,{"$f":"VLOOKUP(B125,'FMIS+eServices'!$EP$3:$IJ$200,86,FALSE)/100","v":0.03},null,"Gambia","124","3.39","131","2.95",{"$f":"VLOOKUP(I125,'FMIS+eServices'!$EP$3:$IJ$200,86,FALSE)/100","v":0.01},null,"Honduras","124","1.03","121","0.93",{"$f":"VLOOKUP(P125,'FMIS+eServices'!$EP$3:$IJ$200,86,FALSE)/100","v":0.03},null,"Swaziland","124","4.96","124","4.96",{"$f":"VLOOKUP(W125,'FMIS+eServices'!$EP$3:$IJ$200,86,FALSE)/100","v":0.01}]
[125,"Cuba",125,2.77,122,2.69,{"$f":"VLOOKUP(B126,'FMIS+eServices'!$EP$3:$IJ$200,86,FALSE)/100","v":0},null,"Kenya","125","3.29","124","3.14",{"$f":"VLOOKUP(I126,'FMIS+eServices'!$EP$3:$IJ$200,86,FALSE)/100","v":0.03},null,"Swaziland","125","0.99","125","0.82",{"$f":"VLOOKUP(P126,'FMIS+eServices'!$EP$3:$IJ$200,86,FALSE)/100","v":0.01},null,"Djibouti","125","4.84","127","4.76",{"$f":"VLOOKUP(W126,'FMIS+eServices'!$EP$3:$IJ$200,86,FALSE)/100","v":0}]
[126,"Gabon",126,2.66,125,2.61,{"$f":"VLOOKUP(B127,'FMIS+eServices'!$EP$3:$IJ$200,86,FALSE)/100","v":0.03},null,"Senegal","126","3.23","128","3.03",{"$f":"VLOOKUP(I127,'FMIS+eServices'!$EP$3:$IJ$200,86,FALSE)/100","v":0.03},null,"Guatemala","126","0.96","127","0.78",{"$f":"VLOOKUP(P127,'FMIS+eServices'!$EP$3:$IJ$200,86,FALSE)/100","v":0.03},null,"Ghana","126","4.82","128","4.72",{"$f":"VLOOKUP(W127,'FMIS+eServices'!$EP$3:$IJ$200,86,FALSE)/100","v":0.03}]
[127,"Cambodia",127,2.61,127,2.54,{"$f":"VLOOKUP(B128,'FMIS+eServices'!$EP$3:$IJ$200,86,FALSE)/100","v":0.02},null,"Côte d'Ivoire","127","3.19","127","3.07",{"$f":"VLOOKUP(I128,'FMIS+eServices'!$EP$3:$IJ$200,86,FALSE)/100","v":0.03},null,"Nepal","127","0.92","128","0.77",{"$f":"VLOOKUP(P128,'FMIS+eServices'!$EP$3:$IJ$200,86,FALSE)/100","v":0.03},null,"Gabon","127","4.82","125","4.82",{"$f":"VLOOKUP(W128,'FMIS+eServices'!$EP$3:$IJ$200,86,FALSE)/100","v":0.03}]
[128,"Swaziland",128,2.6,128,2.4300000000000002,{"$f":"VLOOKUP(B129,'FMIS+eServices'!$EP$3:$IJ$200,86,FALSE)/100","v":0.01},null,"Bhutan","128","3.18","125","3.13",{"$f":"VLOOKUP(I129,'FMIS+eServices'!$EP$3:$IJ$200,86,FALSE)/100","v":0.01},null,"Cuba","128","0.86","123","0.86",{"$f":"VLOOKUP(P129,'FMIS+eServices'!$EP$3:$IJ$200,86,FALSE)/100","v":0},null,"Congo, Rep.","128","4.77","126","4.77",{"$f":"VLOOKUP(W129,'FMIS+eServices'!$EP$3:$IJ$200,86,FALSE)/100","v":0.03}]
[129,"India",129,2.5299999999999998,129,2.42,{"$f":"VLOOKUP(B130,'FMIS+eServices'!$EP$3:$IJ$200,86,FALSE)/100","v":0.03},null,"Zimbabwe","129","3.12","129","2.99",{"$f":"VLOOKUP(I130,'FMIS+eServices'!$EP$3:$IJ$200,86,FALSE)/100","v":0},null,"Uganda","129","0.83","129","0.74",{"$f":"VLOOKUP(P130,'FMIS+eServices'!$EP$3:$IJ$200,86,FALSE)/100","v":0.03},null,"Lesotho","129","4.66","129","4.66",{"$f":"VLOOKUP(W130,'FMIS+eServices'!$EP$3:$IJ$200,86,FALSE)/100","v":0}]
[130,"Senegal",130,2.46,133,2.2000000000000002,{"$f":"VLOOKUP(B131,'FMIS+eServices'!$EP$3:$IJ$200,86,FALSE)/100","v":0.03},null,"Lao PDR","130","3.10","132","2.93",{"$f":"VLOOKUP(I131,'FMIS+eServices'!$EP$3:$IJ$200,86,FALSE)/100","v":0.01},null,"Yemen","130","0.73","131","0.63",{"$f":"VLOOKUP(P131,'FMIS+eServices'!$EP$3:$IJ$200,86,FALSE)/100","v":0.01},null,"Nepal","130","4.61","130","4.58",{"$f":"VLOOKUP(W131,'FMIS+eServices'!$EP$3:$IJ$200,86,FALSE)/100","v":0.03}]
[131,"Nepal",131,2.37,134,2.2000000000000002,{"$f":"VLOOKUP(B132,'FMIS+eServices'!$EP$3:$IJ$200,86,FALSE)/100","v":0.03},null,"Mauritania","131","3.08","123","3.15",{"$f":"VLOOKUP(I132,'FMIS+eServices'!$EP$3:$IJ$200,86,FALSE)/100","v":0.02},null,"Algeria","131","0.73","130","0.67",{"$f":"VLOOKUP(P132,'FMIS+eServices'!$EP$3:$IJ$200,86,FALSE)/100","v":0.01},null,"Kenya","131","4.54","131","4.54",{"$f":"VLOOKUP(W132,'FMIS+eServices'!$EP$3:$IJ$200,86,FALSE)/100","v":0.03}]
[132,"Lesotho",132,2.36,131,2.2200000000000002,{"$f":"VLOOKUP(B133,'FMIS+eServices'!$EP$3:$IJ$200,86,FALSE)/100","v":0},null,"India","132","3.05","133","2.89",{"$f":"VLOOKUP(I133,'FMIS+eServices'!$EP$3:$IJ$200,86,FALSE)/100","v":0.03},null,"Nicaragua","132","0.68","132","0.58",{"$f":"VLOOKUP(P133,'FMIS+eServices'!$EP$3:$IJ$200,86,FALSE)/100","v":0.03},null,"Bhutan","132","4.54","132","4.54",{"$f":"VLOOKUP(W133,'FMIS+eServices'!$EP$3:$IJ$200,86,FALSE)/100","v":0.01}]
[133,"Nigeria",133,2.35,135,2.14,{"$f":"VLOOKUP(B134,'FMIS+eServices'!$EP$3:$IJ$200,86,FALSE)/100","v":0.03},null,"Pakistan","133","3.03","130","2.95",{"$f":"VLOOKUP(I134,'FMIS+eServices'!$EP$3:$IJ$200,86,FALSE)/100","v":0.03},null,"India","133","0.68","133","0.57",{"$f":"VLOOKUP(P134,'FMIS+eServices'!$EP$3:$IJ$200,86,FALSE)/100","v":0.03},null,"Lao PDR","133","4.53","133","4.53",{"$f":"VLOOKUP(W134,'FMIS+eServices'!$EP$3:$IJ$200,86,FALSE)/100","v":0.01}]
[134,"Lao PDR",134,2.35,130,2.25,{"$f":"VLOOKUP(B135,'FMIS+eServices'!$EP$3:$IJ$200,86,FALSE)/100","v":0.01},null,"Lesotho","134","3.02","134","2.82",{"$f":"VLOOKUP(I135,'FMIS+eServices'!$EP$3:$IJ$200,86,FALSE)/100","v":0},null,"Congo, Rep.","134","0.57","145","0.27",{"$f":"VLOOKUP(P135,'FMIS+eServices'!$EP$3:$IJ$200,86,FALSE)/100","v":0.03},null,"Cambodia","134","4.49","134","4.49",{"$f":"VLOOKUP(W135,'FMIS+eServices'!$EP$3:$IJ$200,86,FALSE)/100","v":0.02}]
[135,"Gambia",135,2.31,136,2.12,{"$f":"VLOOKUP(B136,'FMIS+eServices'!$EP$3:$IJ$200,86,FALSE)/100","v":0.01},null,"Swaziland","135","3.02","135","2.78",{"$f":"VLOOKUP(I136,'FMIS+eServices'!$EP$3:$IJ$200,86,FALSE)/100","v":0.01},null,"Lesotho","135","0.55","138","0.41",{"$f":"VLOOKUP(P136,'FMIS+eServices'!$EP$3:$IJ$200,86,FALSE)/100","v":0},null,"Cameroon","135","4.45","135","4.45",{"$f":"VLOOKUP(W136,'FMIS+eServices'!$EP$3:$IJ$200,86,FALSE)/100","v":0.03}]
[136,"Solomon Islands",136,2.29,132,2.2200000000000002,{"$f":"VLOOKUP(B137,'FMIS+eServices'!$EP$3:$IJ$200,86,FALSE)/100","v":0.03},null,"Uzbekistan","136","2.95","136","2.78",{"$f":"VLOOKUP(I137,'FMIS+eServices'!$EP$3:$IJ$200,86,FALSE)/100","v":0.02},null,"Solomon Islands","136","0.55","135","0.47",{"$f":"VLOOKUP(P137,'FMIS+eServices'!$EP$3:$IJ$200,86,FALSE)/100","v":0.03},null,"Zimbabwe","136","4.36","136","4.36",{"$f":"VLOOKUP(W137,'FMIS+eServices'!$EP$3:$IJ$200,86,FALSE)/100","v":0}]
[137,"Congo, Rep.",137,2.2400000000000002,137,2.09,{"$f":"VLOOKUP(B138,'FMIS+eServices'!$EP$3:$IJ$200,86,FALSE)/100","v":0.03},null,"Benin","137","2.94","137","2.72",{"$f":"VLOOKUP(I138,'FMIS+eServices'!$EP$3:$IJ$200,86,FALSE)/100","v":0.01},null,"Cambodia","137","0.55","139","0.40",{"$f":"VLOOKUP(P138,'FMIS+eServices'!$EP$3:$IJ$200,86,FALSE)/100","v":0.02},null,"Bangladesh","137","4.18","137","4.18",{"$f":"VLOOKUP(W138,'FMIS+eServices'!$EP$3:$IJ$200,86,FALSE)/100","v":0.03}]
[138,"Yemen",138,2.1800000000000002,138,2.0699999999999998,{"$f":"VLOOKUP(B139,'FMIS+eServices'!$EP$3:$IJ$200,86,FALSE)/100","v":0.01},null,"Cameroon","138","2.75","140","2.53",{"$f":"VLOOKUP(I139,'FMIS+eServices'!$EP$3:$IJ$200,86,FALSE)/100","v":0.03},null,"Zambia","138","0.54","134","0.48",{"$f":"VLOOKUP(P139,'FMIS+eServices'!$EP$3:$IJ$200,86,FALSE)/100","v":0.01},null,"Sudan","138","4.18","138","4.18",{"$f":"VLOOKUP(W139,'FMIS+eServices'!$EP$3:$IJ$200,86,FALSE)/100","v":0}]
[139,"Angola",139,2.17,139,2.06,{"$f":"VLOOKUP(B140,'FMIS+eServices'!$EP$3:$IJ$200,86,FALSE)/100","v":0.02},null,"Nepal","139","2.70","143","2.44",{"$f":"VLOOKUP(I140,'FMIS+eServices'!$EP$3:$IJ$200,86,FALSE)/100","v":0.03},null,"Gambia","139","0.51","136","0.46",{"$f":"VLOOKUP(P140,'FMIS+eServices'!$EP$3:$IJ$200,86,FALSE)/100","v":0.01},null,"Yemen","139","4.11","139","4.11",{"$f":"VLOOKUP(W140,'FMIS+eServices'!$EP$3:$IJ$200,86,FALSE)/100","v":0.01}]
[140,"Cameroon",140,2.1,142,1.98,{"$f":"VLOOKUP(B141,'FMIS+eServices'!$EP$3:$IJ$200,86,FALSE)/100","v":0.03},null,"Zambia","140","2.68","138","2.63",{"$f":"VLOOKUP(I141,'FMIS+eServices'!$EP$3:$IJ$200,86,FALSE)/100","v":0.01},null,"Lao PDR","140","0.50","137","0.43",{"$f":"VLOOKUP(P141,'FMIS+eServices'!$EP$3:$IJ$200,86,FALSE)/100","v":0.01},null,"Gambia","140","3.76","140","3.76",{"$f":"VLOOKUP(W141,'FMIS+eServices'!$EP$3:$IJ$200,86,FALSE)/100","v":0.01}]
[141,"Djibouti",141,2.08,140,2.0099999999999998,{"$f":"VLOOKUP(B142,'FMIS+eServices'!$EP$3:$IJ$200,86,FALSE)/100","v":0},null,"Yemen","141","2.66","142","2.49",{"$f":"VLOOKUP(I142,'FMIS+eServices'!$EP$3:$IJ$200,86,FALSE)/100","v":0.01},null,"Rwanda","141","0.49","141","0.38",{"$f":"VLOOKUP(P142,'FMIS+eServices'!$EP$3:$IJ$200,86,FALSE)/100","v":0.02},null,"Congo, Dem. Rep.","141","3.76","141","3.76",{"$f":"VLOOKUP(W142,'FMIS+eServices'!$EP$3:$IJ$200,86,FALSE)/100","v":0.03}]
[142,"Pakistan",142,2.0499999999999998,141,2.0099999999999998,{"$f":"VLOOKUP(B143,'FMIS+eServices'!$EP$3:$IJ$200,86,FALSE)/100","v":0.03},null,"Congo, Rep.","142","2.65","139","2.55",{"$f":"VLOOKUP(I143,'FMIS+eServices'!$EP$3:$IJ$200,86,FALSE)/100","v":0.03},null,"Burkina Faso","142","0.45","155","0.13",{"$f":"VLOOKUP(P143,'FMIS+eServices'!$EP$3:$IJ$200,86,FALSE)/100","v":0.03},null,"Uganda","142","3.66","142","3.66",{"$f":"VLOOKUP(W143,'FMIS+eServices'!$EP$3:$IJ$200,86,FALSE)/100","v":0.03}]
[143,"Mali",143,2.04,147,1.86,{"$f":"VLOOKUP(B144,'FMIS+eServices'!$EP$3:$IJ$200,86,FALSE)/100","v":0.03},null,"Bangladesh","143","2.57","144","2.42",{"$f":"VLOOKUP(I144,'FMIS+eServices'!$EP$3:$IJ$200,86,FALSE)/100","v":0.03},null,"Djibouti","143","0.43","142","0.37",{"$f":"VLOOKUP(P144,'FMIS+eServices'!$EP$3:$IJ$200,86,FALSE)/100","v":0},null,"Angola","143","3.65","143","3.65",{"$f":"VLOOKUP(W144,'FMIS+eServices'!$EP$3:$IJ$200,86,FALSE)/100","v":0.02}]
[144,"Zambia",144,2.02,143,1.97,{"$f":"VLOOKUP(B145,'FMIS+eServices'!$EP$3:$IJ$200,86,FALSE)/100","v":0.01},null,"Nigeria","144","2.53","148","2.29",{"$f":"VLOOKUP(I145,'FMIS+eServices'!$EP$3:$IJ$200,86,FALSE)/100","v":0.03},null,"Pakistan","144","0.42","140","0.38",{"$f":"VLOOKUP(P145,'FMIS+eServices'!$EP$3:$IJ$200,86,FALSE)/100","v":0.03},null,"Zambia","144","3.64","144","3.64",{"$f":"VLOOKUP(W145,'FMIS+eServices'!$EP$3:$IJ$200,86,FALSE)/100","v":0.01}]
[145,"Bangladesh",145,1.97,146,1.9,{"$f":"VLOOKUP(B146,'FMIS+eServices'!$EP$3:$IJ$200,86,FALSE)/100","v":0.03},null,"Angola","145","2.52","141","2.51",{"$f":"VLOOKUP(I146,'FMIS+eServices'!$EP$3:$IJ$200,86,FALSE)/100","v":0.02},null,"Mauritania","145","0.40","143","0.31",{"$f":"VLOOKUP(P146,'FMIS+eServices'!$EP$3:$IJ$200,86,FALSE)/100","v":0.02},null,"Madagascar","145","3.55","145","3.55",{"$f":"VLOOKUP(W146,'FMIS+eServices'!$EP$3:$IJ$200,86,FALSE)/100","v":0.03}]
[146,"Uganda",146,1.94,144,1.9,{"$f":"VLOOKUP(B147,'FMIS+eServices'!$EP$3:$IJ$200,86,FALSE)/100","v":0.03},null,"Guinea-Bissau","146","2.50","146","2.33",{"$f":"VLOOKUP(I147,'FMIS+eServices'!$EP$3:$IJ$200,86,FALSE)/100","v":0},null,"Gabon","146","0.35","144","0.30",{"$f":"VLOOKUP(P147,'FMIS+eServices'!$EP$3:$IJ$200,86,FALSE)/100","v":0.03},null,"Tanzania","146","3.55","146","3.55",{"$f":"VLOOKUP(W147,'FMIS+eServices'!$EP$3:$IJ$200,86,FALSE)/100","v":0.03}]
[147,"Mauritania",147,1.91,145,1.9,{"$f":"VLOOKUP(B148,'FMIS+eServices'!$EP$3:$IJ$200,86,FALSE)/100","v":0.02},null,"Burkina Faso","147","2.46",150,2,{"$f":"VLOOKUP(I148,'FMIS+eServices'!$EP$3:$IJ$200,86,FALSE)/100","v":0.03},null,"Malawi","147","0.31","146","0.26",{"$f":"VLOOKUP(P148,'FMIS+eServices'!$EP$3:$IJ$200,86,FALSE)/100","v":0.03},null,"Nigeria","147","3.51","147","3.51",{"$f":"VLOOKUP(W148,'FMIS+eServices'!$EP$3:$IJ$200,86,FALSE)/100","v":0.03}]
[148,"Rwanda",148,1.86,151,1.74,{"$f":"VLOOKUP(B149,'FMIS+eServices'!$EP$3:$IJ$200,86,FALSE)/100","v":0.02},null,"Solomon Islands","148","2.45","145","2.36",{"$f":"VLOOKUP(I149,'FMIS+eServices'!$EP$3:$IJ$200,86,FALSE)/100","v":0.03},null,"Congo, Dem. Rep.","148","0.30","147","0.25",{"$f":"VLOOKUP(P149,'FMIS+eServices'!$EP$3:$IJ$200,86,FALSE)/100","v":0.03},null,"Rwanda","148","3.49","148","3.49",{"$f":"VLOOKUP(W149,'FMIS+eServices'!$EP$3:$IJ$200,86,FALSE)/100","v":0.02}]
[149,"Benin",149,1.84,149,1.75,{"$f":"VLOOKUP(B150,'FMIS+eServices'!$EP$3:$IJ$200,86,FALSE)/100","v":0.01},null,"Afghanistan","149","2.44","151","2.23",{"$f":"VLOOKUP(I150,'FMIS+eServices'!$EP$3:$IJ$200,86,FALSE)/100","v":0.03},null,"Cameroon","149","0.28","153","0.19",{"$f":"VLOOKUP(P150,'FMIS+eServices'!$EP$3:$IJ$200,86,FALSE)/100","v":0.03},null,"Eritrea","149","3.41","149","3.41",{"$f":"VLOOKUP(W150,'FMIS+eServices'!$EP$3:$IJ$200,86,FALSE)/100","v":0}]
[150,"Myanmar",150,1.82,148,1.75,{"$f":"VLOOKUP(B151,'FMIS+eServices'!$EP$3:$IJ$200,86,FALSE)/100","v":0},null,"Rwanda","150","2.43","152","2.23",{"$f":"VLOOKUP(I151,'FMIS+eServices'!$EP$3:$IJ$200,86,FALSE)/100","v":0.02},null,"Bangladesh","150","0.27","148","0.23",{"$f":"VLOOKUP(P151,'FMIS+eServices'!$EP$3:$IJ$200,86,FALSE)/100","v":0.03},null,"Pakistan","150","3.36","150","3.36",{"$f":"VLOOKUP(W151,'FMIS+eServices'!$EP$3:$IJ$200,86,FALSE)/100","v":0.03}]
[151,"Côte d'Ivoire",151,1.8,150,1.74,{"$f":"VLOOKUP(B152,'FMIS+eServices'!$EP$3:$IJ$200,86,FALSE)/100","v":0.03},null,"Tanzania","151","2.37","147","2.31",{"$f":"VLOOKUP(I152,'FMIS+eServices'!$EP$3:$IJ$200,86,FALSE)/100","v":0.03},null,"Tanzania","151","0.24","150","0.21",{"$f":"VLOOKUP(P152,'FMIS+eServices'!$EP$3:$IJ$200,86,FALSE)/100","v":0.03},null,"Senegal","151","3.35","151","3.35",{"$f":"VLOOKUP(W152,'FMIS+eServices'!$EP$3:$IJ$200,86,FALSE)/100","v":0.03}]
[152,"Tanzania",152,1.76,152,1.72,{"$f":"VLOOKUP(B153,'FMIS+eServices'!$EP$3:$IJ$200,86,FALSE)/100","v":0.03},null,"Djibouti","152","2.36","149","2.28",{"$f":"VLOOKUP(I153,'FMIS+eServices'!$EP$3:$IJ$200,86,FALSE)/100","v":0},null,"Mozambique","152","0.24","149","0.23",{"$f":"VLOOKUP(P153,'FMIS+eServices'!$EP$3:$IJ$200,86,FALSE)/100","v":0.01},null,"Liberia","152","3.32","152","3.32",{"$f":"VLOOKUP(W153,'FMIS+eServices'!$EP$3:$IJ$200,86,FALSE)/100","v":0.03}]
[153,"Liberia",153,1.7,154,1.57,{"$f":"VLOOKUP(B154,'FMIS+eServices'!$EP$3:$IJ$200,86,FALSE)/100","v":0.03},null,"Liberia","153","2.36","154","2.14",{"$f":"VLOOKUP(I154,'FMIS+eServices'!$EP$3:$IJ$200,86,FALSE)/100","v":0.03},null,"Ethiopia","153","0.24","151","0.20",{"$f":"VLOOKUP(P154,'FMIS+eServices'!$EP$3:$IJ$200,86,FALSE)/100","v":0.03},null,"Malawi","153","3.21","153","3.21",{"$f":"VLOOKUP(W154,'FMIS+eServices'!$EP$3:$IJ$200,86,FALSE)/100","v":0.03}]
[154,"Guinea-Bissau",154,1.67,153,1.6,{"$f":"VLOOKUP(B155,'FMIS+eServices'!$EP$3:$IJ$200,86,FALSE)/100","v":0},null,"Guinea","154","2.28","155","2.00",{"$f":"VLOOKUP(I155,'FMIS+eServices'!$EP$3:$IJ$200,86,FALSE)/100","v":0.01},null,"Afghanistan","154","0.24","152","0.20",{"$f":"VLOOKUP(P155,'FMIS+eServices'!$EP$3:$IJ$200,86,FALSE)/100","v":0.03},null,"Guinea-Bissau","154","3.12","154","3.12",{"$f":"VLOOKUP(W155,'FMIS+eServices'!$EP$3:$IJ$200,86,FALSE)/100","v":0}]
[155,"Afghanistan",155,1.67,155,1.57,{"$f":"VLOOKUP(B156,'FMIS+eServices'!$EP$3:$IJ$200,86,FALSE)/100","v":0.03},null,"Mozambique","155","2.21","156","1.93",{"$f":"VLOOKUP(I156,'FMIS+eServices'!$EP$3:$IJ$200,86,FALSE)/100","v":0.01},null,"Liberia","155","0.21","156","0.13",{"$f":"VLOOKUP(P156,'FMIS+eServices'!$EP$3:$IJ$200,86,FALSE)/100","v":0.03},null,"Afghanistan","155","2.98","155","2.98",{"$f":"VLOOKUP(W156,'FMIS+eServices'!$EP$3:$IJ$200,86,FALSE)/100","v":0.03}]
[156,"Burkina Faso",156,1.56,160,1.35,{"$f":"VLOOKUP(B157,'FMIS+eServices'!$EP$3:$IJ$200,86,FALSE)/100","v":0.03},null,"Uganda","156","2.18","153","2.19",{"$f":"VLOOKUP(I157,'FMIS+eServices'!$EP$3:$IJ$200,86,FALSE)/100","v":0.03},null,"Benin","156","0.18","154","0.16",{"$f":"VLOOKUP(P157,'FMIS+eServices'!$EP$3:$IJ$200,86,FALSE)/100","v":0.01},null,"Benin","156","2.96","156","2.96",{"$f":"VLOOKUP(W157,'FMIS+eServices'!$EP$3:$IJ$200,86,FALSE)/100","v":0.01}]
[157,"Congo, Dem. Rep.",157,1.56,157,1.47,{"$f":"VLOOKUP(B158,'FMIS+eServices'!$EP$3:$IJ$200,86,FALSE)/100","v":0.03},null,"Niger","157","1.95","158","1.81",{"$f":"VLOOKUP(I158,'FMIS+eServices'!$EP$3:$IJ$200,86,FALSE)/100","v":0.03},null,"Côte d'Ivoire","157","0.16","157","0.13",{"$f":"VLOOKUP(P158,'FMIS+eServices'!$EP$3:$IJ$200,86,FALSE)/100","v":0.03},null,"Mali","157","2.85","157","2.85",{"$f":"VLOOKUP(W158,'FMIS+eServices'!$EP$3:$IJ$200,86,FALSE)/100","v":0.03}]
[158,"Malawi",158,1.52,156,1.5,{"$f":"VLOOKUP(B159,'FMIS+eServices'!$EP$3:$IJ$200,86,FALSE)/100","v":0.03},null,"Malawi","158","1.89","157","1.90",{"$f":"VLOOKUP(I159,'FMIS+eServices'!$EP$3:$IJ$200,86,FALSE)/100","v":0.03},null,"Mali","158","0.14","159","0.10",{"$f":"VLOOKUP(P159,'FMIS+eServices'!$EP$3:$IJ$200,86,FALSE)/100","v":0.03},null,"Mozambique","158","2.71","158","2.71",{"$f":"VLOOKUP(W159,'FMIS+eServices'!$EP$3:$IJ$200,86,FALSE)/100","v":0.01}]
[159,"Mozambique",159,1.52,159,1.4,{"$f":"VLOOKUP(B160,'FMIS+eServices'!$EP$3:$IJ$200,86,FALSE)/100","v":0.01},null,"Ethiopia","159","1.87","159","1.73",{"$f":"VLOOKUP(I160,'FMIS+eServices'!$EP$3:$IJ$200,86,FALSE)/100","v":0.03},null,"Central African Republic","159","0.12","158","0.10",{"$f":"VLOOKUP(P160,'FMIS+eServices'!$EP$3:$IJ$200,86,FALSE)/100","v":0},null,"Mauritania","159","2.58","159","2.58",{"$f":"VLOOKUP(W160,'FMIS+eServices'!$EP$3:$IJ$200,86,FALSE)/100","v":0.02}]
[160,"Madagascar",160,1.42,158,1.43,{"$f":"VLOOKUP(B161,'FMIS+eServices'!$EP$3:$IJ$200,86,FALSE)/100","v":0.03},null,"Cuba","160","1.87","162","1.66",{"$f":"VLOOKUP(I161,'FMIS+eServices'!$EP$3:$IJ$200,86,FALSE)/100","v":0},null,"Guinea-Bissau","160","0.10","160","0.10",{"$f":"VLOOKUP(P161,'FMIS+eServices'!$EP$3:$IJ$200,86,FALSE)/100","v":0},null,"Guinea","160","2.44","160","2.44",{"$f":"VLOOKUP(W161,'FMIS+eServices'!$EP$3:$IJ$200,86,FALSE)/100","v":0.01}]
[161,"Guinea",161,1.42,161,1.31,{"$f":"VLOOKUP(B162,'FMIS+eServices'!$EP$3:$IJ$200,86,FALSE)/100","v":0.01},null,"Myanmar","161","1.85","161","1.72",{"$f":"VLOOKUP(I162,'FMIS+eServices'!$EP$3:$IJ$200,86,FALSE)/100","v":0},null,"Madagascar","161","0.09","161","0.08",{"$f":"VLOOKUP(P162,'FMIS+eServices'!$EP$3:$IJ$200,86,FALSE)/100","v":0.03},null,"Ethiopia","161","2.35","161","2.35",{"$f":"VLOOKUP(W162,'FMIS+eServices'!$EP$3:$IJ$200,86,FALSE)/100","v":0.03}]
[162,"Ethiopia",162,1.31,162,1.24,{"$f":"VLOOKUP(B163,'FMIS+eServices'!$EP$3:$IJ$200,86,FALSE)/100","v":0.03},null,"Congo, Dem. Rep.","162","1.72","164","1.54",{"$f":"VLOOKUP(I163,'FMIS+eServices'!$EP$3:$IJ$200,86,FALSE)/100","v":0.03},null,"Niger","162","0.09","163","0.07",{"$f":"VLOOKUP(P163,'FMIS+eServices'!$EP$3:$IJ$200,86,FALSE)/100","v":0.03},null,"Côte d'Ivoire","162","2.32","162","2.32",{"$f":"VLOOKUP(W163,'FMIS+eServices'!$EP$3:$IJ$200,86,FALSE)/100","v":0.03}]
[163,"Eritrea",163,1.2,163,1.18,{"$f":"VLOOKUP(B164,'FMIS+eServices'!$EP$3:$IJ$200,86,FALSE)/100","v":0},null,"Madagascar","163","1.68","160","1.72",{"$f":"VLOOKUP(I164,'FMIS+eServices'!$EP$3:$IJ$200,86,FALSE)/100","v":0.03},null,"Myanmar","163","0.08","165","0.04",{"$f":"VLOOKUP(P164,'FMIS+eServices'!$EP$3:$IJ$200,86,FALSE)/100","v":0},null,"Chad","163","2.08","163","2.08",{"$f":"VLOOKUP(W164,'FMIS+eServices'!$EP$3:$IJ$200,86,FALSE)/100","v":0.02}]
[164,"Chad",164,1.1100000000000001,164,1.0900000000000001,{"$f":"VLOOKUP(B165,'FMIS+eServices'!$EP$3:$IJ$200,86,FALSE)/100","v":0.02},null,"Chad","164","1.65","163","1.61",{"$f":"VLOOKUP(I165,'FMIS+eServices'!$EP$3:$IJ$200,86,FALSE)/100","v":0.02},null,"Chad","164","0.08","162","0.08",{"$f":"VLOOKUP(P165,'FMIS+eServices'!$EP$3:$IJ$200,86,FALSE)/100","v":0.02},null,"Burkina Faso","Faso","164","1.97","164 1.",{"$f":"VLOOKUP(W165,'FMIS+eServices'!$EP$3:$IJ$200,86,FALSE)/100","v":0.03}]
[165,"Niger",165,1.03,165,0.97,{"$f":"VLOOKUP(B166,'FMIS+eServices'!$EP$3:$IJ$200,86,FALSE)/100","v":0.03},null,"Central African Republic","165","1.32","165","1.28",{"$f":"VLOOKUP(I166,'FMIS+eServices'!$EP$3:$IJ$200,86,FALSE)/100","v":0},null,"Guinea","165","0.05","164","0.05",{"$f":"VLOOKUP(P166,'FMIS+eServices'!$EP$3:$IJ$200,86,FALSE)/100","v":0.01},null,"Central African Republic","165","1.91","165","1.91",{"$f":"VLOOKUP(W166,'FMIS+eServices'!$EP$3:$IJ$200,86,FALSE)/100","v":0}]
[166,"Central African Republic",166,0.96,166,0.93,{"$f":"VLOOKUP(B167,'FMIS+eServices'!$EP$3:$IJ$200,86,FALSE)/100","v":0},null,"Eritrea","166","1.27","166","1.22",{"$f":"VLOOKUP(I167,'FMIS+eServices'!$EP$3:$IJ$200,86,FALSE)/100","v":0},null,"Eritrea","166","0.03","166","0.03",{"$f":"VLOOKUP(P167,'FMIS+eServices'!$EP$3:$IJ$200,86,FALSE)/100","v":0},null,"Niger","166","1.10","166","1.10",{"$f":"VLOOKUP(W167,'FMIS+eServices'!$EP$3:$IJ$200,86,FALSE)/100","v":0.03}]

{"sheet":"Polity","index":14,"n_rows":191,"n_cols":10,"rows_kept":191,"cut":false,"hidden":false,"merged":[]}
["#","Economy","Polity","Polity 2",null,"#","Economy","Polity","Polity2","Index (C)"]
[1,"Afghanistan",-6,0,null,1,"Afghanistan",-6,0,0.5]
[2,"Albania",9,9,null,2,"Albania",9,9,0.68181818181818177]
[3,"Algeria",2,2,null,3,"Algeria",2,2,0.63636363636363635]
[4,"Angola",-2,0,null,5,"Angola",-2,0,0.59090909090909094]
[5,"Argentina",8,8,null,7,"Argentina",8,8,0.90909090909090906]
[6,"Armenia",7,7,null,8,"Armenia",7,7,0.63636363636363635]
[7,"Australia",10,10,null,9,"Australia",10,10,0.77272727272727271]
[8,"Austria",10,10,null,10,"Austria",10,10,0.72727272727272729]
[9,"Azerbaijan",1,1,null,11,"Azerbaijan",1,1,0.72727272727272729]
[10,"Baden",-4,-4,null,13,"Bahrain",-5,-5,0.40909090909090912]
[11,"Bahrain",-5,-5,null,14,"Bangladesh",8,8,0.5]
[12,"Bangladesh",8,8,null,16,"Belarus",7,7,0.63636363636363635]
[13,"Bavaria",-7,-7,null,17,"Belgium",10,10,0.72727272727272729]
[14,"Belarus",7,7,null,19,"Benin",7,7,0.36363636363636365]
[15,"Belgium",10,10,null,20,"Bhutan",5,5,0.63636363636363635]
[16,"Benin",7,7,null,21,"Bolivia",9,9,0.72727272727272729]
[17,"Bhutan",5,5,null,22,"Bosnia and Herzegovina",-6,0,0.72727272727272729]
[18,"Bolivia",9,9,null,23,"Botswana",8,8,0.68181818181818177]
[19,"Bosnia",-66,0,null,24,"Brazil",8,8,0.86363636363636365]
[20,"Botswana",8,8,null,26,"Bulgaria",9,9,0.68181818181818177]
[21,"Brazil",8,8,null,27,"Burkina Faso",5,5,0.59090909090909094]
[22,"Bulgaria",9,9,null,28,"Burundi",6,6,0.54545454545454541]
[23,"Burkina Faso",5,5,null,29,"Cambodia",2,2,0.54545454545454541]
[24,"Burundi",6,6,null,30,"Cameroon",-4,-4,0.54545454545454541]
[25,"Cambodia",2,2,null,31,"Canada",10,10,0.81818181818181823]
[26,"Cameroon",-4,-4,null,32,"Cape Verde",10,10,0.63636363636363635]
[27,"Canada",10,10,null,33,"Central African Republic",5,5,0.27272727272727271]
[28,"Cape Verde",10,10,null,34,"Chad",-2,0,0.45454545454545453]
[29,"Central African Republic",5,5,null,35,"Chile",10,10,0.90909090909090906]
[30,"Chad",-2,0,null,36,"China",2,2,0.77272727272727271]
[31,"Chile",10,10,null,37,"Colombia",9,9,0.95454545454545459]
[32,"China",2,2,null,38,"Comoros",9,9,0.45454545454545453]
[33,"Colombia",9,9,null,39,"Congo, Rep.",5,5,0.40909090909090912]
[34,"Comoros",9,9,null,40,"Congo, Dem. Rep.",5,5,0.5]
[35,"Congo, Rep.",5,5,null,41,"Costa Rica",10,10,0.77272727272727271]
[36,"Congo, Dem. Rep.",5,5,null,42,"Côte d'Ivoire",4,4,0.5]
[37,"Costa Rica",10,10,null,43,"Croatia",9,9,0.68181818181818177]
[38,"Croatia",9,9,null,44,"Cuba",3,3,0.31818181818181818]
[39,"Cuba",3,3,null,45,"Cyprus",10,10,0.72727272727272729]
[40,"Cyprus",10,10,null,46,"Czech Republic",10,10,0.72727272727272729]
[41,"Czech Republic",10,10,null,47,"Denmark",10,10,0.90909090909090906]
[43,"Denmark",10,10,null,48,"Djibouti",4,4,0.5]
[44,"Djibouti",4,4,null,50,"Dominican Republic",8,8,0.77272727272727271]
[46,"Dominican Republic",8,8,null,51,"Ecuador",9,9,0.81818181818181823]
[47,"East Timor",7,7,null,52,"Egypt",4,4,0.72727272727272729]
[48,"Ecuador",9,9,null,53,"El Salvador",8,8,0.81818181818181823]
[49,"Egypt",4,4,null,54,"Equatorial Guinea",2,2,0]
[50,"El Salvador",8,8,null,55,"Eritrea",-6,-6,9.0909090909090912E-2]
[51,"Equatorial Guinea",2,2,null,56,"Estonia",10,10,0.86363636363636365]
[52,"Eritrea",-6,-6,null,57,"Ethiopia",4,4,0.63636363636363635]
[53,"Estonia",10,10,null,58,"Fiji",9,9,0.59090909090909094]
[54,"Ethiopia",4,4,null,59,"Finland",10,10,0.81818181818181823]
[55,"Fiji",9,9,null,60,"France",10,10,0.86363636363636365]
[56,"Finland",10,10,null,61,"Gabon",3,3,0.31818181818181818]
[57,"France",10,10,null,62,"Gambia",8,8,0.5]
[58,"Gabon",3,3,null,63,"Georgia",7,7,0.81818181818181823]
[59,"Gambia",8,8,null,64,"Germany",10,10,0.90909090909090906]
[60,"Georgia",7,7,null,65,"Ghana",8,8,0.63636363636363635]
[61,"Germany",10,10,null,66,"Greece",10,10,0.63636363636363635]
[64,"Ghana",8,8,null,68,"Guatemala",8,8,0.77272727272727271]
[65,"Gran Colombia",-1,-1,null,69,"Guinea",4,4,0.45454545454545453]
[66,"Greece",10,10,null,70,"Guinea-Bissau",6,6,0.5]
[67,"Guatemala",8,8,null,71,"Guyana",6,6,0.54545454545454541]
[68,"Guinea",4,4,null,72,"Haiti",7,7,0.45454545454545453]
[69,"Guinea-Bissau",6,6,null,73,"Honduras",7,7,0.72727272727272729]
[70,"Guyana",6,6,null,75,"Hungary",10,10,0.72727272727272729]
[71,"Haiti",7,7,null,77,"India",9,9,0.68181818181818177]
[72,"Honduras",7,7,null,78,"Indonesia",8,8,0.68181818181818177]
[73,"Hungary",10,10,null,79,"Iran",3,3,0.40909090909090912]
[74,"India",9,9,null,80,"Iraq",3,3,0.22727272727272727]
[75,"Indonesia",8,8,null,81,"Ireland",10,10,0.77272727272727271]
[76,"Iran",3,3,null,82,"Israel",10,10,0.77272727272727271]
[77,"Iraq",3,3,null,83,"Italy",10,10,0.72727272727272729]
[78,"Ireland",10,10,null,84,"Jamaica",10,10,0.59090909090909094]
[79,"Israel",10,10,null,85,"Japan",10,10,0.86363636363636365]
[80,"Italy",10,10,null,86,"Jordan",-1,-1,0.72727272727272729]
[81,"Côte d'Ivoire",4,4,null,87,"Kazakhstan",-3,-3,0.72727272727272729]
[82,"Jamaica",10,10,null,88,"Kenya",9,9,0.63636363636363635]
[83,"Japan",10,10,null,90,"Korea, DPR",-7,-7,0]
[84,"Jordan",-1,-1,null,91,"Korea, Rep.",8,8,1]
[85,"Kazakhstan",-3,-3,null,92,"Kosovo",8,8,0.63636363636363635]
[86,"Kenya",9,9,null,93,"Kuwait",-7,-7,0.40909090909090912]
[87,"Korea",1,1,null,94,"Kyrgyz Republic",7,7,0.63636363636363635]
[88,"Korea, DPR",-7,-7,null,95,"Lao PDR",8,8,0.45454545454545453]
[89,"Korea, Rep.",8,8,null,96,"Latvia",8,8,0.68181818181818177]
[90,"Kosovo",8,8,null,97,"Lebanon",6,6,0.54545454545454541]
[91,"Kuwait",-7,-7,null,98,"Lesotho",9,9,0.45454545454545453]
[92,"Kyrgyz Republic",7,7,null,99,"Liberia",6,6,0.54545454545454541]
[93,"Lao PDR",8,8,null,100,"Libya",-7,0,0.27272727272727271]
[94,"Latvia",8,8,null,102,"Lithuania",10,10,0.72727272727272729]
[95,"Lebanon",6,6,null,103,"Luxembourg",10,10,0.72727272727272729]
[96,"Lesotho",9,9,null,105,"Macedonia",9,9,0.72727272727272729]
[97,"Liberia",6,6,null,106,"Madagascar",9,9,0.63636363636363635]
[98,"Libya",-7,0,null,107,"Malawi",6,6,0.68181818181818177]
[99,"Lithuania",10,10,null,108,"Malaysia",10,10,0.86363636363636365]
[100,"Luxembourg",10,10,null,110,"Mali",7,7,0.5]
[101,"Macedonia",9,9,null,113,"Mauritania",4,4,0.5]
[102,"Madagascar",9,9,null,114,"Mauritius",10,10,0.68181818181818177]
[103,"Malawi",6,6,null,115,"Mexico",8,8,0.90909090909090906]
[104,"Malaysia",10,10,null,117,"Moldova",9,9,0.63636363636363635]
[105,"Mali",7,7,null,119,"Mongolia",10,10,0.72727272727272729]
[106,"Mauritania",4,4,null,120,"Montenegro",9,9,0.63636363636363635]
[107,"Mauritius",10,10,null,121,"Morocco",-3,-3,0.68181818181818177]
[108,"Mexico",8,8,null,122,"Mozambique",5,5,0.59090909090909094]
[109,"Modena",-10,-10,null,123,"Myanmar",8,8,0.45454545454545453]
[110,"Moldova",9,9,null,124,"Namibia",6,6,0.45454545454545453]
[111,"Mongolia",10,10,null,126,"Nepal",6,6,0.68181818181818177]
[112,"Montenegro",9,9,null,127,"Netherlands",10,10,0.81818181818181823]
[113,"Morocco",-3,-3,null,128,"New Zealand",10,10,0.72727272727272729]
[114,"Mozambique",5,5,null,129,"Nicaragua",9,9,0.81818181818181823]
[115,"Myanmar",8,8,null,130,"Niger",8,8,0.36363636363636365]
[116,"Namibia",6,6,null,131,"Nigeria",8,8,0.59090909090909094]
[117,"Nepal",6,6,null,132,"Norway",10,10,0.81818181818181823]
[118,"Netherlands",10,10,null,133,"Oman",-6,-6,0.59090909090909094]
[119,"New Zealand",10,10,null,134,"Pakistan",8,8,0.77272727272727271]
[120,"Nicaragua",9,9,null,136,"Panama",9,9,0.72727272727272729]
[121,"Niger",8,8,null,137,"Papua New Guinea",5,5,0.59090909090909094]
[122,"Nigeria",8,8,null,138,"Paraguay",9,9,0.77272727272727271]
[123,"Norway",10,10,null,139,"Peru",9,9,0.90909090909090906]
[124,"Oman",-6,-6,null,140,"Philippines",8,8,0.68181818181818177]
[125,"Orange Free State",4,4,null,141,"Poland",10,10,0.86363636363636365]
[126,"Pakistan",8,8,null,142,"Portugal",10,10,0.86363636363636365]
[127,"Panama",9,9,null,143,"Qatar",-10,-10,0.5]
[128,"Papal States",-9,-9,null,144,"Romania",9,9,0.77272727272727271]
[129,"Papua New Guinea",5,5,null,145,"Russian Federation",6,6,0.86363636363636365]
[130,"Paraguay",9,9,null,146,"Rwanda",-3,-3,0.68181818181818177]
[131,"Parma",-10,-10,null,153,"Saudi Arabia",-10,-10,0.59090909090909094]
[132,"Peru",9,9,null,154,"Senegal",8,8,0.59090909090909094]
[133,"Philippines",8,8,null,155,"Serbia",8,8,0.72727272727272729]
[134,"Poland",10,10,null,157,"Sierra Leone",7,7,0.54545454545454541]
[135,"Portugal",10,10,null,158,"Singapore",7,7,0.95454545454545459]
[136,"Prussia",-7,-6,null,159,"Slovak Republic",10,10,0.72727272727272729]
[137,"Qatar",-10,-10,null,160,"Slovenia",10,10,0.72727272727272729]
[138,"Romania",9,9,null,161,"Solomon Islands",8,8,0.54545454545454541]
[139,"Russia",6,6,null,162,"Somalia",7,7,0.31818181818181818]
[140,"Rwanda",-3,-3,null,163,"South Africa",9,9,0.72727272727272729]
[141,"Sardinia",-7,-7,null,164,"South Sudan",0,0,0.40909090909090912]
[142,"Saudi Arabia",-10,-10,null,165,"Spain",10,10,0.72727272727272729]
[143,"Saxony",-7,-7,null,166,"Sri Lanka",8,8,0.63636363636363635]
[144,"Senegal",8,8,null,167,"Sudan",8,8,0.31818181818181818]
[145,"Serbia",8,8,null,168,"Suriname",5,5,0.59090909090909094]
[146,"Serbia and Montenegro",6,6,null,169,"Swaziland",0,0,0.54545454545454541]
[147,"Sierra Leone",7,7,null,170,"Sweden",10,10,0.86363636363636365]
[148,"Singapore",7,7,null,171,"Switzerland",10,10,0.77272727272727271]
[149,"Slovak Republic",10,10,null,172,"Syrian Arab Republic",7,7,0.27272727272727271]
[150,"Slovenia",10,10,null,173,"Taiwan, China",10,10,0.86363636363636365]
[151,"Solomon Islands",8,8,null,174,"Tajikistan",-1,-1,0.54545454545454541]
[152,"Somalia",7,7,null,175,"Tanzania",-1,-1,0.63636363636363635]
[153,"South Africa",9,9,null,176,"Thailand",9,9,0.81818181818181823]
[154,"South Sudan",0,0,null,177,"Timor-Leste",7,7,0.68181818181818177]
[155,"Spain",10,10,null,178,"Togo",-2,-2,0.31818181818181818]
[156,"Sri Lanka",8,8,null,180,"Trinidad and Tobago",10,10,0.68181818181818177]
[157,"Sudan",8,8,null,181,"Tunisia",-3,-3,0.68181818181818177]
[158,"Sudan-North",-4,-4,null,182,"Turkey",9,9,0.90909090909090906]
[159,"Suriname",5,5,null,183,"Turkmenistan",-8,-8,0.13636363636363635]
[160,"Swaziland",0,0,null,185,"Uganda",7,7,0.72727272727272729]
[161,"Sweden",10,10,null,186,"Ukraine",7,7,0.63636363636363635]
[162,"Switzerland",10,10,null,187,"United Arab Emirates",-8,-8,0.68181818181818177]
[163,"Syria",7,7,null,188,"United Kingdom",10,10,0.81818181818181823]
[164,"Taiwan",10,10,null,189,"United States of America",10,10,0.90909090909090906]
[165,"Tajikistan",-1,-1,null,190,"Uruguay",10,10,0.81818181818181823]
[166,"Tanzania",-1,-1,null,191,"Uzbekistan",-9,-9,0.59090909090909094]
[167,"Thailand",9,9,null,193,"Venezuela, RB",9,9,0.59090909090909094]
[168,"Togo",-2,-2,null,194,"Vietnam",-7,-7,0.59090909090909094]
[169,"Trinidad and Tobago",10,10,null,196,"Yemen",3,3,0.45454545454545453]
[170,"Tunisia",-3,-3,null,197,"Zambia",7,7,0.68181818181818177]
[171,"Turkey",9,9,null,198,"Zimbabwe",4,4,0.40909090909090912]
[172,"Turkmenistan",-8,-8]
[173,"Tuscany",-7,-7]
[174,"Two Sicilies",-6,-6]
[175,"United Arab Emirates",-8,-8]
[176,"Uganda",7,7]
[177,"Ukraine",7,7]
[178,"United Kingdom",10,10]
[179,"United Province CA",2,2]
[180,"United States",10,10]
[181,"Uruguay",10,10]
[182,"USSR",0,0]
[183,"Uzbekistan",-9,-9]
[184,"Venezuela",9,9]
[185,"Vietnam",-7,-7]
[186,"Vietnam North",-7,-7]
[187,"Vietnam South",-3,-3]
[188,"Wuerttemburg",-4,-4]
[189,"Yemen",3,3]
[190,"Yemen North",0,0]
[191,"Yemen South",-5,-5]
[192,"Yugoslavia",7,7]
[193,"Zambia",7,7]
[194,"Zimbabwe",4,4]